Workbook

Sheet classi
B2: Data
B5: Ordine di partenza
B9: Start Nr. | C9: Nome | D9: Cognome | G9: Cane
B11: HTM 1 | C11: Giorno
B12: HTM1_1
B13: HTM1_2
B14: HTM1_3
B15: HTM1_4
B16: HTM1_5
B17: HTM1_6
B18: HTM0_1
B19: HTM0_2
B20: -
B21: -
B22: -
B23: -
... B31: -
B32: Start Nr. | C32: Nome | D32: Cognome | G32: Cane
B34: HTM 2 | C34: Giorno
B35: HTM2_1
B36: HTM2_2
B37: HTM2_3
B38: -
B39: -
B40: -
B41: -
B42: -
B43: -
B44: -
B45: -
B46: -
... B54: -
B55: Start Nr. | C55: Nome | D55: Cognome | G55: Cane
B57: HTM 3 | C57: Giorno
B58: HTM3_1
B59: -
B60: -
B61: -
B62: -
B63: -
B64: -
B65: -
B66: -
B67: -
B68: -
B69: -
... B77: -
B78: Start Nr. | C78: Nome | D78: Cognome | G78: Cane
B80: HTM Senior | C80: -
B81: -
B82: -
B83: -
B84: -
B85: -
B86: -
B87: -
B88: -
B89: -
B90: -
B91: -
B92: -
... B99: -
B100: Start Nr. | C100: Nome | D100: Cognome | G100: Cane
B101: FS 0
C102: Giorno
B103: FS0_1
B104: FS0_2
B105: FS0_3
B106: FS0_4
B107: -
B108: -
B109: -
B110: -
B111: -
B112: -
B113: -
B114: -
... B123: -
B124: Start Nr. | C124: Nome | D124: Cognome | G124: Cane
B125: FS 1
C126: Giorno
B127: FS1_1
B128: FS1_2
B129: FS1_3
B130: FS1_4
B131: FS1_5
B132: FS1_6
B133: FS1_7
B134: FS1_8
B135: FS1_9
B136: FS1_10
B137: FS1_11
B138: -
... B146: -
B147: Start Nr. | C147: Nome | D147: Cognome | G147: Cane
B148: FS 2
C149: Giorno
B150: FS2_1
B151: FS2_2
B152: FS2_3
...

Sheet HTM 0
D2: Heelwork to Music 1 | L2: Artistic | AF2: Tecnic | AZ2: Sum | BA2: Penalty | DI2: Results | EA2: Check
D3: Start Nr. | F3: Nome | G3: Cognome | H3: Cane | L3: Teamwork | Q3: Dynamics | V3: Concept | AA3: Choreography | AF3: Flow | AK3: Execution | AP3: Content | AU3: Difficulty | AZ3: Artistic/Tecnic | BA3: Vocalisation | BF3: Health of dog | BK3: Incorrect use of props | BP3: Time | BU3: Misconduct in the ring | BZ3: Active touching during routine | CE3: Leaving the ring | CI3: Use of training aids | CM3: Too many props | CQ3: Soiling in the ring | CU3: Unfair treatment of the dog | CY3: Help from outside | DC3: Interruption | DD3: Penalty for judge | DH3: Total penalty | DI3: Points | DJ3: Position | DK3: Teamwork | DL3: Hilfspunkte Teamwork | DM3: Posizione | DN3: Fluidità | DO3: Hilfspunkte Teamwork e Fluidità | DP3: Posizione | DQ3: Dinamicità | DR3: Hilfspunkte Teamwork, Fluidità e Dinamicità | DS3: Posizione | DT3: Esecuzione | DU3: Hilfspunkte Teamwork, Fluidità, Dinamicità e Esecuzione | DV3: Classifica finale | DW3: Classifica T F D E e Dis/Abbruch (fortlaufende Platzierung) | DX3: =LARGE(DI4:DI23,1) -> 149.33333 | DY3: Dis/Abbruch | EA3: Judge 1 | EB3: Judge 2 | EC3: Judge 3
D4: HTM 0_1 | F4: ELISA | G4: DOMENICHINI | H4: NUMA | L4: 18 | M4: 18 | N4: 19 | P4: =AVERAGE(L4:N4) -> 18.333333 | Q4: 19 | R4: 18 | S4: 21 | U4: =AVERAGE(Q4:S4) -> 19.333333 | V4: 20 | W4: 18 | X4: 20 | Z4: =AVERAGE(V4:X4) -> 19.333333 | AA4: 18 | AB4: 19 | AC4: 18 | AE4: =AVERAGE(AA4:AC4) -> 18.333333 | AF4: 18 | AG4: 17 | AH4: 17 | AJ4: =AVERAGE(AF4:AH4) -> 17.333333 | AK4: 18 | AL4: 15 | AM4: 16 | AO4: =AVERAGE(AK4:AM4) -> 16.333333 | AP4: 18 | AQ4: 16 | AR4: 17 | AT4: =AVERAGE(AP4:AR4) -> 17 | AU4: 17 | AV4: 17 | AW4: 16 | AY4: =AVERAGE(AU4:AW4) -> 16.666667 | AZ4: =P4+U4+Z4+AE4+AJ4+AO4+AT4+AY4 -> 142.66667 | BA4: 0.4 | BB4: 0.5 | BC4: 0.1 | BE4: =AVERAGE(BA4:BD4) -> 0.33333333 | BF4: 0 | BG4: 0 | BH4: 0 | BJ4: =AVERAGE(BF4:BI4) -> 0 | BK4: 0 | BL4: 0 | BM4: 0 | BO4: =AVERAGE(BK4:BN4) -> 0 | BP4: 0 | BQ4: 0 | BR4: 0 | BT4: =AVERAGE(BP4:BS4) -> 0 | BU4: 0 | BV4: 0 | BW4: 0 | BY4: =AVERAGE(BU4:BX4) -> 0 | BZ4: 0 | CA4: 0 | CB4: 0 | CD4: =AVERAGE(BZ4:CC4) -> 0 | DD4: =SUM(BA4,BF4,BK4,BP4,BU4,BZ4) -> 0.4 | DE4: =SUM(BB4,BG4,BL4,BQ4,BV4,CA4) -> 0.5 | DF4: =SUM(BC4+BH4+BM4+BR4+BW4+CB4) -> 0.1 | DH4: =BE4+BJ4+BT4+BO4+BY4+CD4 -> 0.33333333 | DI4: =AZ4-DH4 -> 142.33333 | DJ4: =RANK(DI4,$DI$4:$DI$23,0) -> 2 | DK4: =P4 -> 18.333333 | DL4: =DI4*10^3+DK4 -> 142351.67 | DM4: =RANK(DL4,$DL$4:$DL$23,0) -> 2 | DN4: =AJ4 -> 17.333333 | DO4: =(DI4*10^3+DK4)*10^3+DN4 -> 142351684 | DP4: =RANK(DO4,$DO$4:$DO$23,0) -> 2 | DQ4: =U4 -> 19.333333 | DR4: =((DI4*10^3+DK4)*10^3+DN4)*10^3+DQ4 -> 1.4235168e+11 | DS4: =RANK(DR4,$DR$4:$DR$23,0) -> 2 | DT4: =AO4 -> 16.333333 | DU4: =(((DI4*10^3+DK4)*10^3+DN4)*10^3+DQ4)*10^3+DT4 -> 1.4235168e+14 | DV4: =IF(F4>0,RANK(DU4,$DU$4:$DU$23,0),20) -> 2 | DW4: =IF(DV4<>20,RANK(DV4,$DV$4:$DV$23,1)+COUNTIF(DV$4:DV4,DV4)-1,20) -> 2 | DX4: =DI4/$DX$3 -> 0.953125 | DY4: =IF(COUNTIF(CE4:DB4,"x")>0,"Dis",IF(COUNTIF(DC4,"x")>0,"Abbruch","-")) -> - | EA4: =L4+Q4+V4+AA4+AF4+AK4+AP4+AU4-DD4 -> 145.6 | EB4: =M4+R4+W4+AB4+AG4+AL4+AQ4+AV4-DE4 -> 137.5 | EC4: =N4+S4+X4+AC4+AH4+AM4+AR4+AW4-DF4 -> 143.9
D5: HTM 0_2 | F5: DANIELA | G5: MORSIANI | H5: KORI | L5: 19 | M5: 20 | N5: 20 | P5: =AVERAGE(L5:N5) -> 19.666667 | Q5: 19 | R5: 18 | S5: 20 | U5: =AVERAGE(Q5:S5) -> 19 | V5: 20 | W5: 19 | X5: 19 | Z5: =AVERAGE(V5:X5) -> 19.333333 | AA5: 19 | AB5: 19 | AC5: 19 | AE5: =AVERAGE(AA5:AC5) -> 19 | AF5: 19 | AG5: 18 | AH5: 18 | AJ5: =AVERAGE(AF5:AH5) -> 18.333333 | AK5: 18 | AL5: 17 | AM5: 17 | AO5: =AVERAGE(AK5:AM5) -> 17.333333 | AP5: 19 | AQ5: 20 | AR5: 17 | AT5: =AVERAGE(AP5:AR5) -> 18.666667 | AU5: 18 | AV5: 20 | AW5: 16 | AY5: =AVERAGE(AU5:AW5) -> 18 | AZ5: =P5+U5+Z5+AE5+AJ5+AO5+AT5+AY5 -> 149.33333 | BA5: 0 | BB5: 0 | BC5: 0 | BE5: =AVERAGE(BA5:BD5) -> 0 | BF5: 0 | BG5: 0 | BH5: 0 | BJ5: =AVERAGE(BF5:BI5) -> 0 | BK5: 0 | BL5: 0 | BM5: 0 | BO5: =AVERAGE(BK5:BN5) -> 0 | BP5: 0 | BQ5: 0 | BR5: 0 | BT5: =AVERAGE(BP5:BS5) -> 0 | BU5: 0 | BV5: 0 | BW5: 0 | BY5: =AVERAGE(BU5:BX5) -> 0 | BZ5: 0 | CA5: 0 | CB5: 0 | CD5: =AVERAGE(BZ5:CC5) -> 0 | DD5: 0 | DE5: 0 | DF5: =SUM(BC5+BH5+BM5+BR5+BW5+CB5) -> 0 | DH5: =BE5+BJ5+BT5+BO5+BY5+CD5 -> 0 | DI5: =AZ5-DH5 -> 149.33333 | DJ5: =RANK(DI5,$DI$4:$DI$23,0) -> 1 | DK5: =P5 -> 19.666667 | DL5: =DI5*10^3+DK5 -> 149353 | DM5: =RANK(DL5,$DL$4:$DL$23,0) -> 1 | DN5: =AJ5 -> 18.333333 | DO5: =(DI5*10^3+DK5)*10^3+DN5 -> 1.4935302e+08 | DP5: =RANK(DO5,$DO$4:$DO$23,0) -> 1 | DQ5: =U5 -> 19 | DR5: =((DI5*10^3+DK5)*10^3+DN5)*10^3+DQ5 -> 1.4935302e+11 | DS5: =RANK(DR5,$DR$4:$DR$23,0) -> 1 | DT5: =AO5 -> 17.333333 | DU5: =(((DI5*10^3+DK5)*10^3+DN5)*10^3+DQ5)*10^3+DT5 -> 1.4935302e+14 | DV5: =IF(F5>0,RANK(DU5,$DU$4:$DU$23,0),20) -> 1 | DW5: =IF(DV5<>20,RANK(DV5,$DV$4:$DV$23,1)+COUNTIF(DV$4:DV5,DV5)-1,20) -> 1 | DX5: =DI5/$DX$3 -> 1 | DY5: =IF(COUNTIF(CE5:DB5,"x")>0,"Dis",IF(COUNTIF(DC5,"x")>0,"Abbruch","-")) -> - | EA5: =L5+Q5+V5+AA5+AF5+AK5+AP5+AU5-DD5 -> 151 | EB5: =M5+R5+W5+AB5+AG5+AL5+AQ5+AV5-DE5 -> 151 | EC5: =N5+S5+X5+AC5+AH5+AM5+AR5+AW5-DF5 -> 146
D6: =classi!B20 -> - | F6: =classi!C14 -> 0 | G6: =classi!D14 -> 0 | H6: =classi!G14 -> 0 | L6: 0 | M6: 0 | N6: 0 | P6: =AVERAGE(L6:N6) -> 0 | Q6: 0 | R6: 0 | S6: 0 | U6: =AVERAGE(Q6:S6) -> 0 | V6: 0 | W6: 0 | X6: 0 | Z6: =AVERAGE(V6:X6) -> 0 | AA6: 0 | AB6: 0 | AC6: 0 | AE6: =AVERAGE(AA6:AC6) -> 0 | AF6: 0 | AG6: 0 | AH6: 0 | AJ6: =AVERAGE(AF6:AH6) -> 0 | AK6: 0 | AL6: 0 | AM6: 0 | AO6: =AVERAGE(AK6:AM6) -> 0 | AP6: 0 | AQ6: 0 | AR6: 0 | AT6: =AVERAGE(AP6:AR6) -> 0 | AU6: 0 | AV6: 0 | AW6: 0 | AY6: =AVERAGE(AU6:AW6) -> 0 | AZ6: =P6+U6+Z6+AE6+AJ6+AO6+AT6+AY6 -> 0 | BA6: 0 | BB6: 0 | BC6: 0 | BE6: =AVERAGE(BA6:BD6) -> 0 | BF6: 0 | BG6: 0 | BH6: 0 | BJ6: =AVERAGE(BF6:BI6) -> 0 | BK6: 0 | BL6: 0 | BM6: 0 | BO6: =AVERAGE(BK6:BN6) -> 0 | BP6: 0 | BQ6: 0 | BR6: 0 | BT6: =AVERAGE(BP6:BS6) -> 0 | BU6: 0 | BV6: 0 | BW6: 0 | BY6: =AVERAGE(BU6:BX6) -> 0 | BZ6: 0 | CA6: 0 | CB6: 0 | CD6: =AVERAGE(BZ6:CC6) -> 0 | DD6: =SUM(BA6,BF6,BK6,BP6,BU6,BZ6) -> 0 | DE6: =SUM(BB6,BG6,BL6,BQ6,BV6,CA6) -> 0 | DF6: =SUM(BC6+BH6+BM6+BR6+BW6+CB6) -> 0 | DH6: =BE6+BJ6+BT6+BO6+BY6+CD6 -> 0 | DI6: =AZ6-DH6 -> 0 | DJ6: =RANK(DI6,$DI$4:$DI$23,0) -> 3 | DK6: =P6 -> 0 | DL6: =DI6*10^3+DK6 -> 0 | DM6: =RANK(DL6,$DL$4:$DL$23,0) -> 3 | DN6: =AJ6 -> 0 | DO6: =(DI6*10^3+DK6)*10^3+DN6 -> 0 | DP6: =RANK(DO6,$DO$4:$DO$23,0) -> 3 | DQ6: =U6 -> 0 | DR6: =((DI6*10^3+DK6)*10^3+DN6)*10^3+DQ6 -> 0 | DS6: =RANK(DR6,$DR$4:$DR$23,0) -> 3 | DT6: =AO6 -> 0 | DU6: =(((DI6*10^3+DK6)*10^3+DN6)*10^3+DQ6)*10^3+DT6 -> 0 | DV6: =IF(F6>0,RANK(DU6,$DU$4:$DU$23,0),20) -> 20 | DW6: =IF(DV6<>20,RANK(DV6,$DV$4:$DV$23,1)+COUNTIF(DV$4:DV6,DV6)-1,20) -> 20 | DX6: =DI6/$DX$3 -> 0 | DY6: =IF(COUNTIF(CE6:DB6,"x")>0,"Dis",IF(COUNTIF(DC6,"x")>0,"Abbruch","-")) -> - | EA6: =L6+Q6+V6+AA6+AF6+AK6+AP6+AU6-DD6 -> 0 | EB6: =M6+R6+W6+AB6+AG6+AL6+AQ6+AV6-DE6 -> 0 | EC6: =N6+S6+X6+AC6+AH6+AM6+AR6+AW6-DF6 -> 0
D7: =classi!B21 -> - | F7: =classi!C15 -> 0 | G7: =classi!D15 -> 0 | H7: =classi!G15 -> 0 | L7: 0 | M7: 0 | N7: 0 | P7: =AVERAGE(L7:N7) -> 0 | Q7: 0 | R7: 0 | S7: 0 | U7: =AVERAGE(Q7:S7) -> 0 | V7: 0 | W7: 0 | X7: 0 | Z7: =AVERAGE(V7:X7) -> 0 | AA7: 0 | AB7: 0 | AC7: 0 | AE7: =AVERAGE(AA7:AC7) -> 0 | AF7: 0 | AG7: 0 | AH7: 0 | AJ7: =AVERAGE(AF7:AH7) -> 0 | AK7: 0 | AL7: 0 | AM7: 0 | AO7: =AVERAGE(AK7:AM7) -> 0 | AP7: 0 | AQ7: 0 | AR7: 0 | AT7: =AVERAGE(AP7:AR7) -> 0 | AU7: 0 | AV7: 0 | AW7: 0 | AY7: =AVERAGE(AU7:AW7) -> 0 | AZ7: =P7+U7+Z7+AE7+AJ7+AO7+AT7+AY7 -> 0 | BA7: 0 | BB7: 0 | BC7: 0 | BE7: =AVERAGE(BA7:BD7) -> 0 | BF7: 0 | BG7: 0 | BH7: 0 | BJ7: =AVERAGE(BF7:BI7) -> 0 | BK7: 0 | BL7: 0 | BM7: 0 | BO7: =AVERAGE(BK7:BN7) -> 0 | BP7: 0 | BQ7: 0 | BR7: 0 | BT7: =AVERAGE(BP7:BS7) -> 0 | BU7: 0 | BV7: 0 | BW7: 0 | BY7: =AVERAGE(BU7:BX7) -> 0 | BZ7: 0 | CA7: 0 | CB7: 0 | CD7: =AVERAGE(BZ7:CC7) -> 0 | DD7: =SUM(BA7,BF7,BK7,BP7,BU7,BZ7) -> 0 | DE7: =SUM(BB7,BG7,BL7,BQ7,BV7,CA7) -> 0 | DF7: =SUM(BC7+BH7+BM7+BR7+BW7+CB7) -> 0 | DH7: =BE7+BJ7+BT7+BO7+BY7+CD7 -> 0 | DI7: =AZ7-DH7 -> 0 | DJ7: =RANK(DI7,$DI$4:$DI$23,0) -> 3 | DK7: =P7 -> 0 | DL7: =DI7*10^3+DK7 -> 0 | DM7: =RANK(DL7,$DL$4:$DL$23,0) -> 3 | DN7: =AJ7 -> 0 | DO7: =(DI7*10^3+DK7)*10^3+DN7 -> 0 | DP7: =RANK(DO7,$DO$4:$DO$23,0) -> 3 | DQ7: =U7 -> 0 | DR7: =((DI7*10^3+DK7)*10^3+DN7)*10^3+DQ7 -> 0 | DS7: =RANK(DR7,$DR$4:$DR$23,0) -> 3 | DT7: =AO7 -> 0 | DU7: =(((DI7*10^3+DK7)*10^3+DN7)*10^3+DQ7)*10^3+DT7 -> 0 | DV7: =IF(F7>0,RANK(DU7,$DU$4:$DU$23,0),20) -> 20 | DW7: =IF(DV7<>20,RANK(DV7,$DV$4:$DV$23,1)+COUNTIF(DV$4:DV7,DV7)-1,20) -> 20 | DX7: =DI7/$DX$3 -> 0 | DY7: =IF(COUNTIF(CE7:DB7,"x")>0,"Dis",IF(COUNTIF(DC7,"x")>0,"Abbruch","-")) -> - | EA7: =L7+Q7+V7+AA7+AF7+AK7+AP7+AU7-DD7 -> 0 | EB7: =M7+R7+W7+AB7+AG7+AL7+AQ7+AV7-DE7 -> 0 | EC7: =N7+S7+X7+AC7+AH7+AM7+AR7+AW7-DF7 -> 0
D8: =classi!B22 -> - | F8: =classi!C16 -> 0 | G8: =classi!D16 -> 0 | H8: =classi!G16 -> 0 | L8: 0 | M8: 0 | N8: 0 | P8: =AVERAGE(L8:N8) -> 0 | Q8: 0 | R8: 0 | S8: 0 | U8: =AVERAGE(Q8:S8) -> 0 | V8: 0 | W8: 0 | X8: 0 | Z8: =AVERAGE(V8:X8) -> 0 | AA8: 0 | AB8: 0 | AC8: 0 | AE8: =AVERAGE(AA8:AC8) -> 0 | AF8: 0 | AG8: 0 | AH8: 0 | AJ8: =AVERAGE(AF8:AH8) -> 0 | AK8: 0 | AL8: 0 | AM8: 0 | AO8: =AVERAGE(AK8:AM8) -> 0 | AP8: 0 | AQ8: 0 | AR8: 0 | AT8: =AVERAGE(AP8:AR8) -> 0 | AU8: 0 | AV8: 0 | AW8: 0 | AY8: =AVERAGE(AU8:AW8) -> 0 | AZ8: =P8+U8+Z8+AE8+AJ8+AO8+AT8+AY8 -> 0 | BA8: 0 | BB8: 0 | BC8: 0 | BE8: =AVERAGE(BA8:BD8) -> 0 | BF8: 0 | BG8: 0 | BH8: 0 | BJ8: =AVERAGE(BF8:BI8) -> 0 | BK8: 0 | BL8: 0 | BM8: 0 | BO8: =AVERAGE(BK8:BN8) -> 0 | BP8: 0 | BQ8: 0 | BR8: 0 | BT8: =AVERAGE(BP8:BS8) -> 0 | BU8: 0 | BV8: 0 | BW8: 0 | BY8: =AVERAGE(BU8:BX8) -> 0 | BZ8: 0 | CA8: 0 | CB8: 0 | CD8: =AVERAGE(BZ8:CC8) -> 0 | DD8: =SUM(BA8,BF8,BK8,BP8,BU8,BZ8) -> 0 | DE8: =SUM(BB8,BG8,BL8,BQ8,BV8,CA8) -> 0 | DF8: =SUM(BC8+BH8+BM8+BR8+BW8+CB8) -> 0 | DH8: =BE8+BJ8+BT8+BO8+BY8+CD8 -> 0 | DI8: =AZ8-DH8 -> 0 | DJ8: =RANK(DI8,$DI$4:$DI$23,0) -> 3 | DK8: =P8 -> 0 | DL8: =DI8*10^3+DK8 -> 0 | DM8: =RANK(DL8,$DL$4:$DL$23,0) -> 3 | DN8: =AJ8 -> 0 | DO8: =(DI8*10^3+DK8)*10^3+DN8 -> 0 | DP8: =RANK(DO8,$DO$4:$DO$23,0) -> 3 | DQ8: =U8 -> 0 | DR8: =((DI8*10^3+DK8)*10^3+DN8)*10^3+DQ8 -> 0 | DS8: =RANK(DR8,$DR$4:$DR$23,0) -> 3 | DT8: =AO8 -> 0 | DU8: =(((DI8*10^3+DK8)*10^3+DN8)*10^3+DQ8)*10^3+DT8 -> 0 | DV8: =IF(F8>0,RANK(DU8,$DU$4:$DU$23,0),20) -> 20 | DW8: =IF(DV8<>20,RANK(DV8,$DV$4:$DV$23,1)+COUNTIF(DV$4:DV8,DV8)-1,20) -> 20 | DX8: =DI8/$DX$3 -> 0 | DY8: =IF(COUNTIF(CE8:DB8,"x")>0,"Dis",IF(COUNTIF(DC8,"x")>0,"Abbruch","-")) -> - | EA8: =L8+Q8+V8+AA8+AF8+AK8+AP8+AU8-DD8 -> 0 | EB8: =M8+R8+W8+AB8+AG8+AL8+AQ8+AV8-DE8 -> 0 | EC8: =N8+S8+X8+AC8+AH8+AM8+AR8+AW8-DF8 -> 0
D9: =classi!B23 -> - | F9: =classi!C17 -> 0 | G9: =classi!D17 -> 0 | H9: =classi!G17 -> 0 | L9: 0 | M9: 0 | N9: 0 | P9: =AVERAGE(L9:N9) -> 0 | Q9: 0 | R9: 0 | S9: 0 | U9: =AVERAGE(Q9:S9) -> 0 | V9: 0 | W9: 0 | X9: 0 | Z9: =AVERAGE(V9:X9) -> 0 | AA9: 0 | AB9: 0 | AC9: 0 | AE9: =AVERAGE(AA9:AC9) -> 0 | AF9: 0 | AG9: 0 | AH9: 0 | AJ9: =AVERAGE(AF9:AH9) -> 0 | AK9: 0 | AL9: 0 | AM9: 0 | AO9: =AVERAGE(AK9:AM9) -> 0 | AP9: 0 | AQ9: 0 | AR9: 0 | AT9: =AVERAGE(AP9:AR9) -> 0 | AU9: 0 | AV9: 0 | AW9: 0 | AY9: =AVERAGE(AU9:AW9) -> 0 | AZ9: =P9+U9+Z9+AE9+AJ9+AO9+AT9+AY9 -> 0 | BA9: 0 | BB9: 0 | BC9: 0 | BE9: =AVERAGE(BA9:BD9) -> 0 | BF9: 0 | BG9: 0 | BH9: 0 | BJ9: =AVERAGE(BF9:BI9) -> 0 | BK9: 0 | BL9: 0 | BM9: 0 | BO9: =AVERAGE(BK9:BN9) -> 0 | BP9: 0 | BQ9: 0 | BR9: 0 | BT9: =AVERAGE(BP9:BS9) -> 0 | BU9: 0 | BV9: 0 | BW9: 0 | BY9: =AVERAGE(BU9:BX9) -> 0 | BZ9: 0 | CA9: 0 | CB9: 0 | CD9: =AVERAGE(BZ9:CC9) -> 0 | DD9: =SUM(BA9,BF9,BK9,BP9,BU9,BZ9) -> 0 | DE9: 0 | DF9: =SUM(BC9+BH9+BM9+BR9+BW9+CB9) -> 0 | DH9: =BE9+BJ9+BT9+BO9+BY9+CD9 -> 0 | DI9: =AZ9-DH9 -> 0 | DJ9: =RANK(DI9,$DI$4:$DI$23,0) -> 3 | DK9: =P9 -> 0 | DL9: =DI9*10^3+DK9 -> 0 | DM9: =RANK(DL9,$DL$4:$DL$23,0) -> 3 | DN9: =AJ9 -> 0 | DO9: =(DI9*10^3+DK9)*10^3+DN9 -> 0 | DP9: =RANK(DO9,$DO$4:$DO$23,0) -> 3 | DQ9: =U9 -> 0 | DR9: =((DI9*10^3+DK9)*10^3+DN9)*10^3+DQ9 -> 0 | DS9: =RANK(DR9,$DR$4:$DR$23,0) -> 3 | DT9: =AO9 -> 0 | DU9: =(((DI9*10^3+DK9)*10^3+DN9)*10^3+DQ9)*10^3+DT9 -> 0 | DV9: =IF(F9>0,RANK(DU9,$DU$4:$DU$23,0),20) -> 20 | DW9: =IF(DV9<>20,RANK(DV9,$DV$4:$DV$23,1)+COUNTIF(DV$4:DV9,DV9)-1,20) -> 20 | DX9: =DI9/$DX$3 -> 0 | DY9: =IF(COUNTIF(CE9:DB9,"x")>0,"Dis",IF(COUNTIF(DC9,"x")>0,"Abbruch","-")) -> - | EA9: =L9+Q9+V9+AA9+AF9+AK9+AP9+AU9-DD9 -> 0 | EB9: =M9+R9+W9+AB9+AG9+AL9+AQ9+AV9-DE9 -> 0 | EC9: =N9+S9+X9+AC9+AH9+AM9+AR9+AW9-DF9 -> 0
D10: =classi!B24 -> - | F10: =classi!C18 -> 0 | G10: =classi!D18 -> 0 | H10: =classi!G18 -> 0 | L10: 0 | M10: 0 | N10: 0 | P10: =AVERAGE(L10:N10) -> 0 | Q10: 0 | R10: 0 | S10: =0 -> 0 | U10: =AVERAGE(Q10:S10) -> 0 | V10: 0 | W10: 0 | X10: 0 | Z10: =AVERAGE(V10:X10) -> 0 | AA10: 0 | AB10: 0 | AC10: 0 | AE10: =AVERAGE(AA10:AC10) -> 0 | AF10: 0 | AG10: 0 | AH10: 0 | AJ10: =AVERAGE(AF10:AH10) -> 0 | AK10: 0 | AL10: 0 | AM10: 0 | AO10: =AVERAGE(AK10:AM10) -> 0 | AP10: 0 | AQ10: 0 | AR10: 0 | AT10: =AVERAGE(AP10:AR10) -> 0 | AU10: 0 | AV10: 0 | AW10: 0 | AY10: =AVERAGE(AU10:AW10) -> 0 | AZ10: =P10+U10+Z10+AE10+AJ10+AO10+AT10+AY10 -> 0 | BA10: 0 | BB10: 0 | BC10: 0 | BE10: =AVERAGE(BA10:BD10) -> 0 | BF10: 0 | BG10: 0 | BH10: 0 | BJ10: =AVERAGE(BF10:BI10) -> 0 | BK10: 0 | BL10: 0 | BM10: 0 | BO10: =AVERAGE(BK10:BN10) -> 0 | BP10: 0 | BQ10: 0 | BR10: 0 | BT10: =AVERAGE(BP10:BS10) -> 0 | BU10: 0 | BV10: 0 | BW10: 0 | BY10: =AVERAGE(BU10:BX10) -> 0 | BZ10: 0 | CA10: 0 | CB10: 0 | CD10: =AVERAGE(BZ10:CC10) -> 0 | DD10: =SUM(BA10,BF10,BK10,BP10,BU10,BZ10) -> 0 | DE10: =SUM(BB10,BG10,BL10,BQ10,BV10,CA10) -> 0 | DF10: =SUM(BC10+BH10+BM10+BR10+BW10+CB10) -> 0 | DH10: =BE10+BJ10+BT10+BO10+BY10+CD10 -> 0 | DI10: =AZ10-DH10 -> 0 | DJ10: =RANK(DI10,$DI$4:$DI$23,0) -> 3 | DK10: =P10 -> 0 | DL10: =DI10*10^3+DK10 -> 0 | DM10: =RANK(DL10,$DL$4:$DL$23,0) -> 3 | DN10: =AJ10 -> 0 | DO10: =(DI10*10^3+DK10)*10^3+DN10 -> 0 | DP10: =RANK(DO10,$DO$4:$DO$23,0) -> 3 | DQ10: =U10 -> 0 | DR10: =((DI10*10^3+DK10)*10^3+DN10)*10^3+DQ10 -> 0 | DS10: =RANK(DR10,$DR$4:$DR$23,0) -> 3 | DT10: =AO10 -> 0 | DU10: =(((DI10*10^3+DK10)*10^3+DN10)*10^3+DQ10)*10^3+DT10 -> 0 | DV10: =IF(F10>0,RANK(DU10,$DU$4:$DU$23,0),20) -> 20 | DW10: =IF(DV10<>20,RANK(DV10,$DV$4:$DV$23,1)+COUNTIF(DV$4:DV10,DV10)-1,20) -> 20 | DX10: =DI10/$DX$3 -> 0 | DY10: =IF(COUNTIF(CE10:DB10,"x")>0,"Dis",IF(COUNTIF(DC10,"x")>0,"Abbruch","-")) -> - | EA10: =L10+Q10+V10+AA10+AF10+AK10+AP10+AU10-DD10 -> 0 | EB10: =M10+R10+W10+AB10+AG10+AL10+AQ10+AV10-DE10 -> 0 | EC10: =N10+S10+X10+AC10+AH10+AM10+AR10+AW10-DF10 -> 0
D11: =classi!B25 -> - | F11: =classi!C19 -> 0 | G11: =classi!D19 -> 0 | H11: =classi!G19 -> 0 | L11: 0 | M11: 0 | N11: 0 | P11: =AVERAGE(L11:N11) -> 0 | Q11: 0 | R11: 0 | S11: =0 -> 0 | U11: =AVERAGE(Q11:S11) -> 0 | V11: 0 | W11: 0 | X11: 0 | Z11: =AVERAGE(V11:X11) -> 0 | AA11: 0 | AB11: 0 | AC11: 0 | AE11: =AVERAGE(AA11:AC11) -> 0 | AF11: 0 | AG11: 0 | AH11: 0 | AJ11: =AVERAGE(AF11:AH11) -> 0 | AK11: 0 | AL11: 0 | AM11: 0 | AO11: =AVERAGE(AK11:AM11) -> 0 | AP11: 0 | AQ11: 0 | AR11: 0 | AT11: =AVERAGE(AP11:AR11) -> 0 | AU11: 0 | AV11: 0 | AW11: 0 | AY11: =AVERAGE(AU11:AW11) -> 0 | AZ11: =P11+U11+Z11+AE11+AJ11+AO11+AT11+AY11 -> 0 | BA11: 0 | BB11: 0 | BC11: 0 | BE11: =AVERAGE(BA11:BD11) -> 0 | BF11: 0 | BG11: 0 | BH11: 0 | BJ11: =AVERAGE(BF11:BI11) -> 0 | BK11: 0 | BL11: 0 | BM11: 0 | BO11: =AVERAGE(BK11:BN11) -> 0 | BP11: 0 | BQ11: 0 | BR11: 0 | BT11: =AVERAGE(BP11:BS11) -> 0 | BU11: 0 | BV11: 0 | BW11: 0 | BY11: =AVERAGE(BU11:BX11) -> 0 | BZ11: 0 | CA11: 0 | CB11: 0 | CD11: =AVERAGE(BZ11:CC11) -> 0 | DD11: =SUM(BA11,BF11,BK11,BP11,BU11,BZ11) -> 0 | DE11: =SUM(BB11,BG11,BL11,BQ11,BV11,CA11) -> 0 | DF11: =SUM(BC11+BH11+BM11+BR11+BW11+CB11) -> 0 | DH11: =BE11+BJ11+BT11+BO11+BY11+CD11 -> 0 | DI11: =AZ11-DH11 -> 0 | DJ11: =RANK(DI11,$DI$4:$DI$23,0) -> 3 | DK11: =P11 -> 0 | DL11: =DI11*10^3+DK11 -> 0 | DM11: =RANK(DL11,$DL$4:$DL$23,0) -> 3 | DN11: =AJ11 -> 0 | DO11: =(DI11*10^3+DK11)*10^3+DN11 -> 0 | DP11: =RANK(DO11,$DO$4:$DO$23,0) -> 3 | DQ11: =U11 -> 0 | DR11: =((DI11*10^3+DK11)*10^3+DN11)*10^3+DQ11 -> 0 | DS11: =RANK(DR11,$DR$4:$DR$23,0) -> 3 | DT11: =AO11 -> 0 | DU11: =(((DI11*10^3+DK11)*10^3+DN11)*10^3+DQ11)*10^3+DT11 -> 0 | DV11: =IF(F11>0,RANK(DU11,$DU$4:$DU$23,0),20) -> 20 | DW11: =IF(DV11<>20,RANK(DV11,$DV$4:$DV$23,1)+COUNTIF(DV$4:DV11,DV11)-1,20) -> 20 | DX11: =DI11/$DX$3 -> 0 | DY11: =IF(COUNTIF(CE11:DB11,"x")>0,"Dis",IF(COUNTIF(DC11,"x")>0,"Abbruch","-")) -> - | EA11: =L11+Q11+V11+AA11+AF11+AK11+AP11+AU11-DD11 -> 0 | EB11: =M11+R11+W11+AB11+AG11+AL11+AQ11+AV11-DE11 -> 0 | EC11: =N11+S11+X11+AC11+AH11+AM11+AR11+AW11-DF11 -> 0
D12: =classi!B20 -> - | F12: =classi!C20 -> 0 | G12: =classi!D20 -> 0 | H12: =classi!G20 -> 0 | L12: 0 | M12: 0 | N12: 0 | P12: =AVERAGE(L12:N12) -> 0 | Q12: 0 | R12: 0 | S12: =0 -> 0 | U12: =AVERAGE(Q12:S12) -> 0 | V12: 0 | W12: 0 | X12: 0 | Z12: =AVERAGE(V12:X12) -> 0 | AA12: 0 | AB12: 0 | AC12: 0 | AE12: =AVERAGE(AA12:AC12) -> 0 | AF12: 0 | AG12: 0 | AH12: 0 | AJ12: =AVERAGE(AF12:AH12) -> 0 | AK12: 0 | AL12: 0 | AM12: 0 | AO12: =AVERAGE(AK12:AM12) -> 0 | AP12: 0 | AQ12: 0 | AR12: 0 | AT12: =AVERAGE(AP12:AR12) -> 0 | AU12: 0 | AV12: 0 | AW12: 0 | AY12: =AVERAGE(AU12:AW12) -> 0 | AZ12: =P12+U12+Z12+AE12+AJ12+AO12+AT12+AY12 -> 0 | BA12: 0 | BB12: 0 | BC12: 0 | BE12: =AVERAGE(BA12:BD12) -> 0 | BF12: 0 | BG12: 0 | BH12: 0 | BJ12: =AVERAGE(BF12:BI12) -> 0 | BK12: 0 | BL12: 0 | BM12: 0 | BO12: =AVERAGE(BK12:BN12) -> 0 | BP12: 0 | BQ12: 0 | BR12: 0 | BT12: =AVERAGE(BP12:BS12) -> 0 | BU12: 0 | BV12: 0 | BW12: 0 | BY12: =AVERAGE(BU12:BX12) -> 0 | BZ12: 0 | CA12: 0 | CB12: 0 | CD12: =AVERAGE(BZ12:CC12) -> 0 | DD12: =SUM(BA12,BF12,BK12,BP12,BU12,BZ12) -> 0 | DE12: =SUM(BB12,BG12,BL12,BQ12,BV12,CA12) -> 0 | DF12: =SUM(BC12+BH12+BM12+BR12+BW12+CB12) -> 0 | DH12: =BE12+BJ12+BT12+BO12+BY12+CD12 -> 0 | DI12: =AZ12-DH12 -> 0 | DJ12: =RANK(DI12,$DI$4:$DI$23,0) -> 3 | DK12: =P12 -> 0 | DL12: =DI12*10^3+DK12 -> 0 | DM12: =RANK(DL12,$DL$4:$DL$23,0) -> 3 | DN12: =AJ12 -> 0 | DO12: =(DI12*10^3+DK12)*10^3+DN12 -> 0 | DP12: =RANK(DO12,$DO$4:$DO$23,0) -> 3 | DQ12: =U12 -> 0 | DR12: =((DI12*10^3+DK12)*10^3+DN12)*10^3+DQ12 -> 0 | DS12: =RANK(DR12,$DR$4:$DR$23,0) -> 3 | DT12: =AO12 -> 0 | DU12: =(((DI12*10^3+DK12)*10^3+DN12)*10^3+DQ12)*10^3+DT12 -> 0 | DV12: =IF(F12>0,RANK(DU12,$DU$4:$DU$23,0),20) -> 20 | DW12: =IF(DV12<>20,RANK(DV12,$DV$4:$DV$23,1)+COUNTIF(DV$4:DV12,DV12)-1,20) -> 20 | DX12: =DI12/$DX$3 -> 0 | DY12: =IF(COUNTIF(CE12:DB12,"x")>0,"Dis",IF(COUNTIF(DC12,"x")>0,"Abbruch","-")) -> - | EA12: =L12+Q12+V12+AA12+AF12+AK12+AP12+AU12-DD12 -> 0 | EB12: =M12+R12+W12+AB12+AG12+AL12+AQ12+AV12-DE12 -> 0 | EC12: =N12+S12+X12+AC12+AH12+AM12+AR12+AW12-DF12 -> 0
D13: =classi!B21 -> - | F13: =classi!C21 -> 0 | G13: =classi!D21 -> 0 | H13: =classi!G21 -> 0 | L13: 0 | M13: 0 | N13: 0 | P13: =AVERAGE(L13:N13) -> 0 | Q13: 0 | R13: 0 | S13: =0 -> 0 | U13: =AVERAGE(Q13:S13) -> 0 | V13: 0 | W13: 0 | X13: 0 | Z13: =AVERAGE(V13:X13) -> 0 | AA13: 0 | AB13: 0 | AC13: 0 | AE13: =AVERAGE(AA13:AC13) -> 0 | AF13: 0 | AG13: 0 | AH13: 0 | AJ13: =AVERAGE(AF13:AH13) -> 0 | AK13: 0 | AL13: 0 | AM13: 0 | AO13: =AVERAGE(AK13:AM13) -> 0 | AP13: 0 | AQ13: 0 | AR13: 0 | AT13: =AVERAGE(AP13:AR13) -> 0 | AU13: 0 | AV13: 0 | AW13: 0 | AY13: =AVERAGE(AU13:AW13) -> 0 | AZ13: =P13+U13+Z13+AE13+AJ13+AO13+AT13+AY13 -> 0 | BA13: 0 | BB13: 0 | BC13: 0 | BE13: =AVERAGE(BA13:BD13) -> 0 | BF13: 0 | BG13: 0 | BH13: 0 | BJ13: =AVERAGE(BF13:BI13) -> 0 | BK13: 0 | BL13: 0 | BM13: 0 | BO13: =AVERAGE(BK13:BN13) -> 0 | BP13: 0 | BQ13: 0 | BR13: 0 | BT13: =AVERAGE(BP13:BS13) -> 0 | BU13: 0 | BV13: 0 | BW13: 0 | BY13: =AVERAGE(BU13:BX13) -> 0 | BZ13: 0 | CA13: 0 | CB13: 0 | CD13: =AVERAGE(BZ13:CC13) -> 0 | DD13: =SUM(BA13,BF13,BK13,BP13,BU13,BZ13) -> 0 | DE13: =SUM(BB13,BG13,BL13,BQ13,BV13,CA13) -> 0 | DF13: =SUM(BC13+BH13+BM13+BR13+BW13+CB13) -> 0 | DH13: =BE13+BJ13+BT13+BO13+BY13+CD13 -> 0 | DI13: =AZ13-DH13 -> 0 | DJ13: =RANK(DI13,$DI$4:$DI$23,0) -> 3 | DK13: =P13 -> 0 | DL13: =DI13*10^3+DK13 -> 0 | DM13: =RANK(DL13,$DL$4:$DL$23,0) -> 3 | DN13: =AJ13 -> 0 | DO13: =(DI13*10^3+DK13)*10^3+DN13 -> 0 | DP13: =RANK(DO13,$DO$4:$DO$23,0) -> 3 | DQ13: =U13 -> 0 | DR13: =((DI13*10^3+DK13)*10^3+DN13)*10^3+DQ13 -> 0 | DS13: =RANK(DR13,$DR$4:$DR$23,0) -> 3 | DT13: =AO13 -> 0 | DU13: =(((DI13*10^3+DK13)*10^3+DN13)*10^3+DQ13)*10^3+DT13 -> 0 | DV13: =IF(F13>0,RANK(DU13,$DU$4:$DU$23,0),20) -> 20 | DW13: =IF(DV13<>20,RANK(DV13,$DV$4:$DV$23,1)+COUNTIF(DV$4:DV13,DV13)-1,20) -> 20 | DX13: =DI13/$DX$3 -> 0 | DY13: =IF(COUNTIF(CE13:DB13,"x")>0,"Dis",IF(COUNTIF(DC13,"x")>0,"Abbruch","-")) -> - | EA13: =L13+Q13+V13+AA13+AF13+AK13+AP13+AU13-DD13 -> 0 | EB13: =M13+R13+W13+AB13+AG13+AL13+AQ13+AV13-DE13 -> 0 | EC13: =N13+S13+X13+AC13+AH13+AM13+AR13+AW13-DF13 -> 0
D14: =classi!B22 -> - | F14: =classi!C22 -> 0 | G14: =classi!D22 -> 0 | H14: =classi!G22 -> 0 | L14: 0 | M14: 0 | N14: 0 | P14: =AVERAGE(L14:N14) -> 0 | Q14: 0 | R14: 0 | S14: =0 -> 0 | U14: =AVERAGE(Q14:S14) -> 0 | V14: 0 | W14: 0 | X14: 0 | Z14: =AVERAGE(V14:X14) -> 0 | AA14: 0 | AB14: 0 | AC14: 0 | AE14: =AVERAGE(AA14:AC14) -> 0 | AF14: 0 | AG14: 0 | AH14: 0 | AJ14: =AVERAGE(AF14:AH14) -> 0 | AK14: 0 | AL14: 0 | AM14: 0 | AO14: =AVERAGE(AK14:AM14) -> 0 | AP14: 0 | AQ14: 0 | AR14: 0 | AT14: =AVERAGE(AP14:AR14) -> 0 | AU14: 0 | AV14: 0 | AW14: 0 | AY14: =AVERAGE(AU14:AW14) -> 0 | AZ14: =P14+U14+Z14+AE14+AJ14+AO14+AT14+AY14 -> 0 | BA14: 0 | BB14: 0 | BC14: 0 | BE14: =AVERAGE(BA14:BD14) -> 0 | BF14: 0 | BG14: 0 | BH14: 0 | BJ14: =AVERAGE(BF14:BI14) -> 0 | BK14: 0 | BL14: 0 | BM14: 0 | BO14: =AVERAGE(BK14:BN14) -> 0 | BP14: 0 | BQ14: 0 | BR14: 0 | BT14: =AVERAGE(BP14:BS14) -> 0 | BU14: 0 | BV14: 0 | BW14: 0 | BY14: =AVERAGE(BU14:BX14) -> 0 | BZ14: 0 | CA14: 0 | CB14: 0 | CD14: =AVERAGE(BZ14:CC14) -> 0 | DD14: =SUM(BA14,BF14,BK14,BP14,BU14,BZ14) -> 0 | DE14: =SUM(BB14,BG14,BL14,BQ14,BV14,CA14) -> 0 | DF14: =SUM(BC14+BH14+BM14+BR14+BW14+CB14) -> 0 | DH14: =BE14+BJ14+BT14+BO14+BY14+CD14 -> 0 | DI14: =AZ14-DH14 -> 0 | DJ14: =RANK(DI14,$DI$4:$DI$23,0) -> 3 | DK14: =P14 -> 0 | DL14: =DI14*10^3+DK14 -> 0 | DM14: =RANK(DL14,$DL$4:$DL$23,0) -> 3 | DN14: =AJ14 -> 0 | DO14: =(DI14*10^3+DK14)*10^3+DN14 -> 0 | DP14: =RANK(DO14,$DO$4:$DO$23,0) -> 3 | DQ14: =U14 -> 0 | DR14: =((DI14*10^3+DK14)*10^3+DN14)*10^3+DQ14 -> 0 | DS14: =RANK(DR14,$DR$4:$DR$23,0) -> 3 | DT14: =AO14 -> 0 | DU14: =(((DI14*10^3+DK14)*10^3+DN14)*10^3+DQ14)*10^3+DT14 -> 0 | DV14: =IF(F14>0,RANK(DU14,$DU$4:$DU$23,0),20) -> 20 | DW14: =IF(DV14<>20,RANK(DV14,$DV$4:$DV$23,1)+COUNTIF(DV$4:DV14,DV14)-1,20) -> 20 | DX14: =DI14/$DX$3 -> 0 | DY14: =IF(COUNTIF(CE14:DB14,"x")>0,"Dis",IF(COUNTIF(DC14,"x")>0,"Abbruch","-")) -> - | EA14: =L14+Q14+V14+AA14+AF14+AK14+AP14+AU14-DD14 -> 0 | EB14: =M14+R14+W14+AB14+AG14+AL14+AQ14+AV14-DE14 -> 0 | EC14: =N14+S14+X14+AC14+AH14+AM14+AR14+AW14-DF14 -> 0
D15: =classi!B23 -> - | F15: =classi!C23 -> 0 | G15: =classi!D23 -> 0 | H15: =classi!G23 -> 0 | L15: 0 | M15: 0 | N15: 0 | P15: =AVERAGE(L15:N15) -> 0 | Q15: 0 | R15: 0 | S15: =0 -> 0 | U15: =AVERAGE(Q15:S15) -> 0 | V15: 0 | W15: 0 | X15: 0 | Z15: =AVERAGE(V15:X15) -> 0 | AA15: 0 | AB15: 0 | AC15: 0 | AE15: =AVERAGE(AA15:AC15) -> 0 | AF15: 0 | AG15: 0 | AH15: 0 | AJ15: =AVERAGE(AF15:AH15) -> 0 | AK15: 0 | AL15: 0 | AM15: 0 | AO15: =AVERAGE(AK15:AM15) -> 0 | AP15: 0 | AQ15: 0 | AR15: 0 | AT15: =AVERAGE(AP15:AR15) -> 0 | AU15: 0 | AV15: 0 | AW15: 0 | AY15: =AVERAGE(AU15:AW15) -> 0 | AZ15: =P15+U15+Z15+AE15+AJ15+AO15+AT15+AY15 -> 0 | BA15: 0 | BB15: 0 | BC15: 0 | BE15: =AVERAGE(BA15:BD15) -> 0 | BF15: 0 | BG15: 0 | BH15: 0 | BJ15: =AVERAGE(BF15:BI15) -> 0 | BK15: 0 | BL15: 0 | BM15: 0 | BO15: =AVERAGE(BK15:BN15) -> 0 | BP15: 0 | BQ15: 0 | BR15: 0 | BT15: =AVERAGE(BP15:BS15) -> 0 | BU15: 0 | BV15: 0 | BW15: 0 | BY15: =AVERAGE(BU15:BX15) -> 0 | BZ15: 0 | CA15: 0 | CB15: 0 | CD15: =AVERAGE(BZ15:CC15) -> 0 | DD15: =SUM(BA15,BF15,BK15,BP15,BU15,BZ15) -> 0 | DE15: =SUM(BB15,BG15,BL15,BQ15,BV15,CA15) -> 0 | DF15: =SUM(BC15+BH15+BM15+BR15+BW15+CB15) -> 0 | DH15: =BE15+BJ15+BT15+BO15+BY15+CD15 -> 0 | DI15: =AZ15-DH15 -> 0 | DJ15: =RANK(DI15,$DI$4:$DI$23,0) -> 3 | DK15: =P15 -> 0 | DL15: =DI15*10^3+DK15 -> 0 | DM15: =RANK(DL15,$DL$4:$DL$23,0) -> 3 | DN15: =AJ15 -> 0 | DO15: =(DI15*10^3+DK15)*10^3+DN15 -> 0 | DP15: =RANK(DO15,$DO$4:$DO$23,0) -> 3 | DQ15: =U15 -> 0 | DR15: =((DI15*10^3+DK15)*10^3+DN15)*10^3+DQ15 -> 0 | DS15: =RANK(DR15,$DR$4:$DR$23,0) -> 3 | DT15: =AO15 -> 0 | DU15: =(((DI15*10^3+DK15)*10^3+DN15)*10^3+DQ15)*10^3+DT15 -> 0 | DV15: =IF(F15>0,RANK(DU15,$DU$4:$DU$23,0),20) -> 20 | DW15: =IF(DV15<>20,RANK(DV15,$DV$4:$DV$23,1)+COUNTIF(DV$4:DV15,DV15)-1,20) -> 20 | DX15: =DI15/$DX$3 -> 0 | DY15: =IF(COUNTIF(CE15:DB15,"x")>0,"Dis",IF(COUNTIF(DC15,"x")>0,"Abbruch","-")) -> - | EA15: =L15+Q15+V15+AA15+AF15+AK15+AP15+AU15-DD15 -> 0 | EB15: =M15+R15+W15+AB15+AG15+AL15+AQ15+AV15-DE15 -> 0 | EC15: =N15+S15+X15+AC15+AH15+AM15+AR15+AW15-DF15 -> 0
D16: =classi!B24 -> - | F16: =classi!C24 -> 0 | G16: =classi!D24 -> 0 | H16: =classi!G24 -> 0 | L16: 0 | M16: 0 | N16: 0 | P16: =AVERAGE(L16:N16) -> 0 | Q16: 0 | R16: 0 | S16: =0 -> 0 | U16: =AVERAGE(Q16:S16) -> 0 | V16: 0 | W16: 0 | X16: 0 | Z16: =AVERAGE(V16:X16) -> 0 | AA16: 0 | AB16: 0 | AC16: 0 | AE16: =AVERAGE(AA16:AC16) -> 0 | AF16: 0 | AG16: 0 | AH16: 0 | AJ16: =AVERAGE(AF16:AH16) -> 0 | AK16: 0 | AL16: 0 | AM16: 0 | AO16: =AVERAGE(AK16:AM16) -> 0 | AP16: 0 | AQ16: 0 | AR16: 0 | AT16: =AVERAGE(AP16:AR16) -> 0 | AU16: 0 | AV16: 0 | AW16: 0 | AY16: =AVERAGE(AU16:AW16) -> 0 | AZ16: =P16+U16+Z16+AE16+AJ16+AO16+AT16+AY16 -> 0 | BA16: 0 | BB16: 0 | BC16: 0 | BE16: =AVERAGE(BA16:BD16) -> 0 | BF16: 0 | BG16: 0 | BH16: 0 | BJ16: =AVERAGE(BF16:BI16) -> 0 | BK16: 0 | BL16: 0 | BM16: 0 | BO16: =AVERAGE(BK16:BN16) -> 0 | BP16: 0 | BQ16: 0 | BR16: 0 | BT16: =AVERAGE(BP16:BS16) -> 0 | BU16: 0 | BV16: 0 | BW16: 0 | BY16: =AVERAGE(BU16:BX16) -> 0 | BZ16: 0 | CA16: 0 | CB16: 0 | CD16: =AVERAGE(BZ16:CC16) -> 0 | DD16: =SUM(BA16,BF16,BK16,BP16,BU16,BZ16) -> 0 | DE16: =SUM(BB16,BG16,BL16,BQ16,BV16,CA16) -> 0 | DF16: =SUM(BC16+BH16+BM16+BR16+BW16+CB16) -> 0 | DH16: =BE16+BJ16+BT16+BO16+BY16+CD16 -> 0 | DI16: =AZ16-DH16 -> 0 | DJ16: =RANK(DI16,$DI$4:$DI$23,0) -> 3 | DK16: =P16 -> 0 | DL16: =DI16*10^3+DK16 -> 0 | DM16: =RANK(DL16,$DL$4:$DL$23,0) -> 3 | DN16: =AJ16 -> 0 | DO16: =(DI16*10^3+DK16)*10^3+DN16 -> 0 | DP16: =RANK(DO16,$DO$4:$DO$23,0) -> 3 | DQ16: =U16 -> 0 | DR16: =((DI16*10^3+DK16)*10^3+DN16)*10^3+DQ16 -> 0 | DS16: =RANK(DR16,$DR$4:$DR$23,0) -> 3 | DT16: =AO16 -> 0 | DU16: =(((DI16*10^3+DK16)*10^3+DN16)*10^3+DQ16)*10^3+DT16 -> 0 | DV16: =IF(F16>0,RANK(DU16,$DU$4:$DU$23,0),20) -> 20 | DW16: =IF(DV16<>20,RANK(DV16,$DV$4:$DV$23,1)+COUNTIF(DV$4:DV16,DV16)-1,20) -> 20 | DX16: =DI16/$DX$3 -> 0 | DY16: =IF(COUNTIF(CE16:DB16,"x")>0,"Dis",IF(COUNTIF(DC16,"x")>0,"Abbruch","-")) -> - | EA16: =L16+Q16+V16+AA16+AF16+AK16+AP16+AU16-DD16 -> 0 | EB16: =M16+R16+W16+AB16+AG16+AL16+AQ16+AV16-DE16 -> 0 | EC16: =N16+S16+X16+AC16+AH16+AM16+AR16+AW16-DF16 -> 0
D17: =classi!B25 -> - | F17: =classi!C25 -> 0 | G17: =classi!D25 -> 0 | H17: =classi!G25 -> 0 | L17: 0 | M17: 0 | N17: 0 | P17: =AVERAGE(L17:N17) -> 0 | Q17: 0 | R17: 0 | S17: =0 -> 0 | U17: =AVERAGE(Q17:S17) -> 0 | V17: 0 | W17: 0 | X17: 0 | Z17: =AVERAGE(V17:X17) -> 0 | AA17: 0 | AB17: 0 | AC17: 0 | AE17: =AVERAGE(AA17:AC17) -> 0 | AF17: 0 | AG17: 0 | AH17: 0 | AJ17: =AVERAGE(AF17:AH17) -> 0 | AK17: 0 | AL17: 0 | AM17: 0 | AO17: =AVERAGE(AK17:AM17) -> 0 | AP17: 0 | AQ17: 0 | AR17: 0 | AT17: =AVERAGE(AP17:AR17) -> 0 | AU17: 0 | AV17: 0 | AW17: 0 | AY17: =AVERAGE(AU17:AW17) -> 0 | AZ17: =P17+U17+Z17+AE17+AJ17+AO17+AT17+AY17 -> 0 | BA17: 0 | BB17: 0 | BC17: 0 | BE17: =AVERAGE(BA17:BD17) -> 0 | BF17: 0 | BG17: 0 | BH17: 0 | BJ17: =AVERAGE(BF17:BI17) -> 0 | BK17: 0 | BL17: 0 | BM17: 0 | BO17: =AVERAGE(BK17:BN17) -> 0 | BP17: 0 | BQ17: 0 | BR17: 0 | BT17: =AVERAGE(BP17:BS17) -> 0 | BU17: 0 | BV17: 0 | BW17: 0 | BY17: =AVERAGE(BU17:BX17) -> 0 | BZ17: 0 | CA17: 0 | CB17: 0 | CD17: =AVERAGE(BZ17:CC17) -> 0 | DD17: =SUM(BA17,BF17,BK17,BP17,BU17,BZ17) -> 0 | DE17: =SUM(BB17,BG17,BL17,BQ17,BV17,CA17) -> 0 | DF17: =SUM(BC17+BH17+BM17+BR17+BW17+CB17) -> 0 | DH17: =BE17+BJ17+BT17+BO17+BY17+CD17 -> 0 | DI17: =AZ17-DH17 -> 0 | DJ17: =RANK(DI17,$DI$4:$DI$23,0) -> 3 | DK17: =P17 -> 0 | DL17: =DI17*10^3+DK17 -> 0 | DM17: =RANK(DL17,$DL$4:$DL$23,0) -> 3 | DN17: =AJ17 -> 0 | DO17: =(DI17*10^3+DK17)*10^3+DN17 -> 0 | DP17: =RANK(DO17,$DO$4:$DO$23,0) -> 3 | DQ17: =U17 -> 0 | DR17: =((DI17*10^3+DK17)*10^3+DN17)*10^3+DQ17 -> 0 | DS17: =RANK(DR17,$DR$4:$DR$23,0) -> 3 | DT17: =AO17 -> 0 | DU17: =(((DI17*10^3+DK17)*10^3+DN17)*10^3+DQ17)*10^3+DT17 -> 0 | DV17: =IF(F17>0,RANK(DU17,$DU$4:$DU$23,0),20) -> 20 | DW17: =IF(DV17<>20,RANK(DV17,$DV$4:$DV$23,1)+COUNTIF(DV$4:DV17,DV17)-1,20) -> 20 | DX17: =DI17/$DX$3 -> 0 | DY17: =IF(COUNTIF(CE17:DB17,"x")>0,"Dis",IF(COUNTIF(DC17,"x")>0,"Abbruch","-")) -> - | EA17: =L17+Q17+V17+AA17+AF17+AK17+AP17+AU17-DD17 -> 0 | EB17: =M17+R17+W17+AB17+AG17+AL17+AQ17+AV17-DE17 -> 0 | EC17: =N17+S17+X17+AC17+AH17+AM17+AR17+AW17-DF17 -> 0
D18: =classi!B26 -> - | F18: =classi!C26 -> 0 | G18: =classi!D26 -> 0 | H18: =classi!G26 -> 0 | L18: 0 | M18: 0 | N18: 0 | P18: =AVERAGE(L18:N18) -> 0 | Q18: 0 | R18: 0 | S18: =0 -> 0 | U18: =AVERAGE(Q18:S18) -> 0 | V18: 0 | W18: 0 | X18: 0 | Z18: =AVERAGE(V18:X18) -> 0 | AA18: 0 | AB18: 0 | AC18: 0 | AE18: =AVERAGE(AA18:AC18) -> 0 | AF18: 0 | AG18: 0 | AH18: 0 | AJ18: =AVERAGE(AF18:AH18) -> 0 | AK18: 0 | AL18: 0 | AM18: 0 | AO18: =AVERAGE(AK18:AM18) -> 0 | AP18: 0 | AQ18: 0 | AR18: 0 | AT18: =AVERAGE(AP18:AR18) -> 0 | AU18: 0 | AV18: 0 | AW18: 0 | AY18: =AVERAGE(AU18:AW18) -> 0 | AZ18: =P18+U18+Z18+AE18+AJ18+AO18+AT18+AY18 -> 0 | BA18: 0 | BB18: 0 | BC18: 0 | BE18: =AVERAGE(BA18:BD18) -> 0 | BF18: 0 | BG18: 0 | BH18: 0 | BJ18: =AVERAGE(BF18:BI18) -> 0 | BK18: 0 | BL18: 0 | BM18: 0 | BO18: =AVERAGE(BK18:BN18) -> 0 | BP18: 0 | BQ18: 0 | BR18: 0 | BT18: =AVERAGE(BP18:BS18) -> 0 | BU18: 0 | BV18: 0 | BW18: 0 | BY18: =AVERAGE(BU18:BX18) -> 0 | BZ18: 0 | CA18: 0 | CB18: 0 | CD18: =AVERAGE(BZ18:CC18) -> 0 | DD18: =SUM(BA18,BF18,BK18,BP18,BU18,BZ18) -> 0 | DE18: =SUM(BB18,BG18,BL18,BQ18,BV18,CA18) -> 0 | DF18: =SUM(BC18+BH18+BM18+BR18+BW18+CB18) -> 0 | DH18: =BE18+BJ18+BT18+BO18+BY18+CD18 -> 0 | DI18: =AZ18-DH18 -> 0 | DJ18: =RANK(DI18,$DI$4:$DI$23,0) -> 3 | DK18: =P18 -> 0 | DL18: =DI18*10^3+DK18 -> 0 | DM18: =RANK(DL18,$DL$4:$DL$23,0) -> 3 | DN18: =AJ18 -> 0 | DO18: =(DI18*10^3+DK18)*10^3+DN18 -> 0 | DP18: =RANK(DO18,$DO$4:$DO$23,0) -> 3 | DQ18: =U18 -> 0 | DR18: =((DI18*10^3+DK18)*10^3+DN18)*10^3+DQ18 -> 0 | DS18: =RANK(DR18,$DR$4:$DR$23,0) -> 3 | DT18: =AO18 -> 0 | DU18: =(((DI18*10^3+DK18)*10^3+DN18)*10^3+DQ18)*10^3+DT18 -> 0 | DV18: =IF(F18>0,RANK(DU18,$DU$4:$DU$23,0),20) -> 20 | DW18: =IF(DV18<>20,RANK(DV18,$DV$4:$DV$23,1)+COUNTIF(DV$4:DV18,DV18)-1,20) -> 20 | DX18: =DI18/$DX$3 -> 0 | DY18: =IF(COUNTIF(CE18:DB18,"x")>0,"Dis",IF(COUNTIF(DC18,"x")>0,"Abbruch","-")) -> - | EA18: =L18+Q18+V18+AA18+AF18+AK18+AP18+AU18-DD18 -> 0 | EB18: =M18+R18+W18+AB18+AG18+AL18+AQ18+AV18-DE18 -> 0 | EC18: =N18+S18+X18+AC18+AH18+AM18+AR18+AW18-DF18 -> 0
D19: =classi!B27 -> - | F19: =classi!C27 -> 0 | G19: =classi!D27 -> 0 | H19: =classi!G27 -> 0 | L19: 0 | M19: 0 | N19: 0 | P19: =AVERAGE(L19:N19) -> 0 | Q19: 0 | R19: 0 | S19: =0 -> 0 | U19: =AVERAGE(Q19:S19) -> 0 | V19: 0 | W19: 0 | X19: 0 | Z19: =AVERAGE(V19:X19) -> 0 | AA19: 0 | AB19: 0 | AC19: 0 | AE19: =AVERAGE(AA19:AC19) -> 0 | AF19: 0 | AG19: 0 | AH19: 0 | AJ19: =AVERAGE(AF19:AH19) -> 0 | AK19: 0 | AL19: 0 | AM19: 0 | AO19: =AVERAGE(AK19:AM19) -> 0 | AP19: 0 | AQ19: 0 | AR19: 0 | AT19: =AVERAGE(AP19:AR19) -> 0 | AU19: 0 | AV19: 0 | AW19: 0 | AY19: =AVERAGE(AU19:AW19) -> 0 | AZ19: =P19+U19+Z19+AE19+AJ19+AO19+AT19+AY19 -> 0 | BA19: 0 | BB19: 0 | BC19: 0 | BE19: =AVERAGE(BA19:BD19) -> 0 | BF19: 0 | BG19: 0 | BH19: 0 | BJ19: =AVERAGE(BF19:BI19) -> 0 | BK19: 0 | BL19: 0 | BM19: 0 | BO19: =AVERAGE(BK19:BN19) -> 0 | BP19: 0 | BQ19: 0 | BR19: 0 | BT19: =AVERAGE(BP19:BS19) -> 0 | BU19: 0 | BV19: 0 | BW19: 0 | BY19: =AVERAGE(BU19:BX19) -> 0 | BZ19: 0 | CA19: 0 | CB19: 0 | CD19: =AVERAGE(BZ19:CC19) -> 0 | DD19: =SUM(BA19,BF19,BK19,BP19,BU19,BZ19) -> 0 | DE19: =SUM(BB19,BG19,BL19,BQ19,BV19,CA19) -> 0 | DF19: =SUM(BC19+BH19+BM19+BR19+BW19+CB19) -> 0 | DH19: =BE19+BJ19+BT19+BO19+BY19+CD19 -> 0 | DI19: =AZ19-DH19 -> 0 | DJ19: =RANK(DI19,$DI$4:$DI$23,0) -> 3 | DK19: =P19 -> 0 | DL19: =DI19*10^3+DK19 -> 0 | DM19: =RANK(DL19,$DL$4:$DL$23,0) -> 3 | DN19: =AJ19 -> 0 | DO19: =(DI19*10^3+DK19)*10^3+DN19 -> 0 | DP19: =RANK(DO19,$DO$4:$DO$23,0) -> 3 | DQ19: =U19 -> 0 | DR19: =((DI19*10^3+DK19)*10^3+DN19)*10^3+DQ19 -> 0 | DS19: =RANK(DR19,$DR$4:$DR$23,0) -> 3 | DT19: =AO19 -> 0 | DU19: =(((DI19*10^3+DK19)*10^3+DN19)*10^3+DQ19)*10^3+DT19 -> 0 | DV19: =IF(F19>0,RANK(DU19,$DU$4:$DU$23,0),20) -> 20 | DW19: =IF(DV19<>20,RANK(DV19,$DV$4:$DV$23,1)+COUNTIF(DV$4:DV19,DV19)-1,20) -> 20 | DX19: =DI19/$DX$3 -> 0 | DY19: =IF(COUNTIF(CE19:DB19,"x")>0,"Dis",IF(COUNTIF(DC19,"x")>0,"Abbruch","-")) -> - | EA19: =L19+Q19+V19+AA19+AF19+AK19+AP19+AU19-DD19 -> 0 | EB19: =M19+R19+W19+AB19+AG19+AL19+AQ19+AV19-DE19 -> 0 | EC19: =N19+S19+X19+AC19+AH19+AM19+AR19+AW19-DF19 -> 0
D20: =classi!B28 -> - | F20: =classi!C28 -> 0 | G20: =classi!D28 -> 0 | H20: =classi!G28 -> 0 | L20: 0 | M20: 0 | N20: 0 | P20: =AVERAGE(L20:N20) -> 0 | Q20: 0 | R20: 0 | S20: =0 -> 0 | U20: =AVERAGE(Q20:S20) -> 0 | V20: 0 | W20: 0 | X20: 0 | Z20: =AVERAGE(V20:X20) -> 0 | AA20: 0 | AB20: 0 | AC20: 0 | AE20: =AVERAGE(AA20:AC20) -> 0 | AF20: 0 | AG20: 0 | AH20: 0 | AJ20: =AVERAGE(AF20:AH20) -> 0 | AK20: 0 | AL20: 0 | AM20: 0 | AO20: =AVERAGE(AK20:AM20) -> 0 | AP20: 0 | AQ20: 0 | AR20: 0 | AT20: =AVERAGE(AP20:AR20) -> 0 | AU20: 0 | AV20: 0 | AW20: 0 | AY20: =AVERAGE(AU20:AW20) -> 0 | AZ20: =P20+U20+Z20+AE20+AJ20+AO20+AT20+AY20 -> 0 | BA20: 0 | BB20: 0 | BC20: 0 | BE20: =AVERAGE(BA20:BD20) -> 0 | BF20: 0 | BG20: 0 | BH20: 0 | BJ20: =AVERAGE(BF20:BI20) -> 0 | BK20: 0 | BL20: 0 | BM20: 0 | BO20: =AVERAGE(BK20:BN20) -> 0 | BP20: 0 | BQ20: 0 | BR20: 0 | BT20: =AVERAGE(BP20:BS20) -> 0 | BU20: 0 | BV20: 0 | BW20: 0 | BY20: =AVERAGE(BU20:BX20) -> 0 | BZ20: 0 | CA20: 0 | CB20: 0 | CD20: =AVERAGE(BZ20:CC20) -> 0 | DD20: =SUM(BA20,BF20,BK20,BP20,BU20,BZ20) -> 0 | DE20: =SUM(BB20,BG20,BL20,BQ20,BV20,CA20) -> 0 | DF20: =SUM(BC20+BH20+BM20+BR20+BW20+CB20) -> 0 | DH20: =BE20+BJ20+BT20+BO20+BY20+CD20 -> 0 | DI20: =AZ20-DH20 -> 0 | DJ20: =RANK(DI20,$DI$4:$DI$23,0) -> 3 | DK20: =P20 -> 0 | DL20: =DI20*10^3+DK20 -> 0 | DM20: =RANK(DL20,$DL$4:$DL$23,0) -> 3 | DN20: =AJ20 -> 0 | DO20: =(DI20*10^3+DK20)*10^3+DN20 -> 0 | DP20: =RANK(DO20,$DO$4:$DO$23,0) -> 3 | DQ20: =U20 -> 0 | DR20: =((DI20*10^3+DK20)*10^3+DN20)*10^3+DQ20 -> 0 | DS20: =RANK(DR20,$DR$4:$DR$23,0) -> 3 | DT20: =AO20 -> 0 | DU20: =(((DI20*10^3+DK20)*10^3+DN20)*10^3+DQ20)*10^3+DT20 -> 0 | DV20: =IF(F20>0,RANK(DU20,$DU$4:$DU$23,0),20) -> 20 | DW20: =IF(DV20<>20,RANK(DV20,$DV$4:$DV$23,1)+COUNTIF(DV$4:DV20,DV20)-1,20) -> 20 | DX20: =DI20/$DX$3 -> 0 | DY20: =IF(COUNTIF(CE20:DB20,"x")>0,"Dis",IF(COUNTIF(DC20,"x")>0,"Abbruch","-")) -> - | EA20: =L20+Q20+V20+AA20+AF20+AK20+AP20+AU20-DD20 -> 0 | EB20: =M20+R20+W20+AB20+AG20+AL20+AQ20+AV20-DE20 -> 0 | EC20: =N20+S20+X20+AC20+AH20+AM20+AR20+AW20-DF20 -> 0
D21: =classi!B29 -> - | F21: =classi!C29 -> 0 | G21: =classi!D29 -> 0 | H21: =classi!G29 -> 0 | L21: 0 | M21: 0 | N21: 0 | P21: =AVERAGE(L21:N21) -> 0 | Q21: 0 | R21: 0 | S21: =0 -> 0 | U21: =AVERAGE(Q21:S21) -> 0 | V21: 0 | W21: 0 | X21: 0 | Z21: =AVERAGE(V21:X21) -> 0 | AA21: 0 | AB21: 0 | AC21: 0 | AE21: =AVERAGE(AA21:AC21) -> 0 | AF21: 0 | AG21: 0 | AH21: 0 | AJ21: =AVERAGE(AF21:AH21) -> 0 | AK21: 0 | AL21: 0 | AM21: 0 | AO21: =AVERAGE(AK21:AM21) -> 0 | AP21: 0 | AQ21: 0 | AR21: 0 | AT21: =AVERAGE(AP21:AR21) -> 0 | AU21: 0 | AV21: 0 | AW21: 0 | AY21: =AVERAGE(AU21:AW21) -> 0 | AZ21: =P21+U21+Z21+AE21+AJ21+AO21+AT21+AY21 -> 0 | BA21: 0 | BB21: 0 | BC21: 0 | BE21: =AVERAGE(BA21:BD21) -> 0 | BF21: 0 | BG21: 0 | BH21: 0 | BJ21: =AVERAGE(BF21:BI21) -> 0 | BK21: 0 | BL21: 0 | BM21: 0 | BO21: =AVERAGE(BK21:BN21) -> 0 | BP21: 0 | BQ21: 0 | BR21: 0 | BT21: =AVERAGE(BP21:BS21) -> 0 | BU21: 0 | BV21: 0 | BW21: 0 | BY21: =AVERAGE(BU21:BX21) -> 0 | BZ21: 0 | CA21: 0 | CB21: 0 | CD21: =AVERAGE(BZ21:CC21) -> 0 | DD21: =SUM(BA21,BF21,BK21,BP21,BU21,BZ21) -> 0 | DE21: =SUM(BB21,BG21,BL21,BQ21,BV21,CA21) -> 0 | DF21: =SUM(BC21+BH21+BM21+BR21+BW21+CB21) -> 0 | DH21: =BE21+BJ21+BT21+BO21+BY21+CD21 -> 0 | DI21: =AZ21-DH21 -> 0 | DJ21: =RANK(DI21,$DI$4:$DI$23,0) -> 3 | DK21: =P21 -> 0 | DL21: =DI21*10^3+DK21 -> 0 | DM21: =RANK(DL21,$DL$4:$DL$23,0) -> 3 | DN21: =AJ21 -> 0 | DO21: =(DI21*10^3+DK21)*10^3+DN21 -> 0 | DP21: =RANK(DO21,$DO$4:$DO$23,0) -> 3 | DQ21: =U21 -> 0 | DR21: =((DI21*10^3+DK21)*10^3+DN21)*10^3+DQ21 -> 0 | DS21: =RANK(DR21,$DR$4:$DR$23,0) -> 3 | DT21: =AO21 -> 0 | DU21: =(((DI21*10^3+DK21)*10^3+DN21)*10^3+DQ21)*10^3+DT21 -> 0 | DV21: =IF(F21>0,RANK(DU21,$DU$4:$DU$23,0),20) -> 20 | DW21: =IF(DV21<>20,RANK(DV21,$DV$4:$DV$23,1)+COUNTIF(DV$4:DV21,DV21)-1,20) -> 20 | DX21: =DI21/$DX$3 -> 0 | DY21: =IF(COUNTIF(CE21:DB21,"x")>0,"Dis",IF(COUNTIF(DC21,"x")>0,"Abbruch","-")) -> - | EA21: =L21+Q21+V21+AA21+AF21+AK21+AP21+AU21-DD21 -> 0 | EB21: =M21+R21+W21+AB21+AG21+AL21+AQ21+AV21-DE21 -> 0 | EC21: =N21+S21+X21+AC21+AH21+AM21+AR21+AW21-DF21 -> 0
D22: =classi!B30 -> - | F22: =classi!C30 -> 0 | G22: =classi!D30 -> 0 | H22: =classi!G30 -> 0 | L22: 0 | M22: 0 | N22: 0 | P22: =AVERAGE(L22:N22) -> 0 | Q22: 0 | R22: 0 | S22: =0 -> 0 | U22: =AVERAGE(Q22:S22) -> 0 | V22: 0 | W22: 0 | X22: 0 | Z22: =AVERAGE(V22:X22) -> 0 | AA22: 0 | AB22: 0 | AC22: 0 | AE22: =AVERAGE(AA22:AC22) -> 0 | AF22: 0 | AG22: 0 | AH22: 0 | AJ22: =AVERAGE(AF22:AH22) -> 0 | AK22: 0 | AL22: 0 | AM22: 0 | AO22: =AVERAGE(AK22:AM22) -> 0 | AP22: 0 | AQ22: 0 | AR22: 0 | AT22: =AVERAGE(AP22:AR22) -> 0 | AU22: 0 | AV22: 0 | AW22: 0 | AY22: =AVERAGE(AU22:AW22) -> 0 | AZ22: =P22+U22+Z22+AE22+AJ22+AO22+AT22+AY22 -> 0 | BA22: 0 | BB22: 0 | BC22: 0 | BE22: =AVERAGE(BA22:BD22) -> 0 | BF22: 0 | BG22: 0 | BH22: 0 | BJ22: =AVERAGE(BF22:BI22) -> 0 | BK22: 0 | BL22: 0 | BM22: 0 | BO22: =AVERAGE(BK22:BN22) -> 0 | BP22: 0 | BQ22: 0 | BR22: 0 | BT22: =AVERAGE(BP22:BS22) -> 0 | BU22: 0 | BV22: 0 | BW22: 0 | BY22: =AVERAGE(BU22:BX22) -> 0 | BZ22: 0 | CA22: 0 | CB22: 0 | CD22: =AVERAGE(BZ22:CC22) -> 0 | DD22: =SUM(BA22,BF22,BK22,BP22,BU22,BZ22) -> 0 | DE22: =SUM(BB22,BG22,BL22,BQ22,BV22,CA22) -> 0 | DF22: =SUM(BC22+BH22+BM22+BR22+BW22+CB22) -> 0 | DH22: =BE22+BJ22+BT22+BO22+BY22+CD22 -> 0 | DI22: =AZ22-DH22 -> 0 | DJ22: =RANK(DI22,$DI$4:$DI$23,0) -> 3 | DK22: =P22 -> 0 | DL22: =DI22*10^3+DK22 -> 0 | DM22: =RANK(DL22,$DL$4:$DL$23,0) -> 3 | DN22: =AJ22 -> 0 | DO22: =(DI22*10^3+DK22)*10^3+DN22 -> 0 | DP22: =RANK(DO22,$DO$4:$DO$23,0) -> 3 | DQ22: =U22 -> 0 | DR22: =((DI22*10^3+DK22)*10^3+DN22)*10^3+DQ22 -> 0 | DS22: =RANK(DR22,$DR$4:$DR$23,0) -> 3 | DT22: =AO22 -> 0 | DU22: =(((DI22*10^3+DK22)*10^3+DN22)*10^3+DQ22)*10^3+DT22 -> 0 | DV22: =IF(F22>0,RANK(DU22,$DU$4:$DU$23,0),20) -> 20 | DW22: =IF(DV22<>20,RANK(DV22,$DV$4:$DV$23,1)+COUNTIF(DV$4:DV22,DV22)-1,20) -> 20 | DX22: =DI22/$DX$3 -> 0 | DY22: =IF(COUNTIF(CE22:DB22,"x")>0,"Dis",IF(COUNTIF(DC22,"x")>0,"Abbruch","-")) -> - | EA22: =L22+Q22+V22+AA22+AF22+AK22+AP22+AU22-DD22 -> 0 | EB22: =M22+R22+W22+AB22+AG22+AL22+AQ22+AV22-DE22 -> 0 | EC22: =N22+S22+X22+AC22+AH22+AM22+AR22+AW22-DF22 -> 0
D23: =classi!B31 -> - | F23: =classi!C31 -> 0 | G23: =classi!D31 -> 0 | H23: =classi!G31 -> 0 | L23: 0 | M23: 0 | N23: 0 | P23: =AVERAGE(L23:N23) -> 0 | Q23: 0 | R23: 0 | S23: =0 -> 0 | U23: =AVERAGE(Q23:S23) -> 0 | V23: 0 | W23: 0 | X23: 0 | Z23: =AVERAGE(V23:X23) -> 0 | AA23: 0 | AB23: 0 | AC23: 0 | AE23: =AVERAGE(AA23:AC23) -> 0 | AF23: 0 | AG23: 0 | AH23: 0 | AJ23: =AVERAGE(AF23:AH23) -> 0 | AK23: 0 | AL23: 0 | AM23: 0 | AO23: =AVERAGE(AK23:AM23) -> 0 | AP23: 0 | AQ23: 0 | AR23: 0 | AT23: =AVERAGE(AP23:AR23) -> 0 | AU23: 0 | AV23: 0 | AW23: 0 | AY23: =AVERAGE(AU23:AW23) -> 0 | AZ23: =P23+U23+Z23+AE23+AJ23+AO23+AT23+AY23 -> 0 | BA23: 0 | BB23: 0 | BC23: 0 | BE23: =AVERAGE(BA23:BD23) -> 0 | BF23: 0 | BG23: 0 | BH23: 0 | BJ23: =AVERAGE(BF23:BI23) -> 0 | BK23: 0 | BL23: 0 | BM23: 0 | BO23: =AVERAGE(BK23:BN23) -> 0 | BP23: 0 | BQ23: 0 | BR23: 0 | BT23: =AVERAGE(BP23:BS23) -> 0 | BU23: 0 | BV23: 0 | BW23: 0 | BY23: =AVERAGE(BU23:BX23) -> 0 | BZ23: 0 | CA23: 0 | CB23: 0 | CD23: =AVERAGE(BZ23:CC23) -> 0 | DD23: =SUM(BA23,BF23,BK23,BP23,BU23,BZ23) -> 0 | DE23: =SUM(BB23,BG23,BL23,BQ23,BV23,CA23) -> 0 | DF23: =SUM(BC23+BH23+BM23+BR23+BW23+CB23) -> 0 | DH23: =BE23+BJ23+BT23+BO23+BY23+CD23 -> 0 | DI23: =AZ23-DH23 -> 0 | DJ23: =RANK(DI23,$DI$4:$DI$23,0) -> 3 | DK23: =P23 -> 0 | DL23: =DI23*10^3+DK23 -> 0 | DM23: =RANK(DL23,$DL$4:$DL$23,0) -> 3 | DN23: =AJ23 -> 0 | DO23: =(DI23*10^3+DK23)*10^3+DN23 -> 0 | DP23: =RANK(DO23,$DO$4:$DO$23,0) -> 3 | DQ23: =U23 -> 0 | DR23: =((DI23*10^3+DK23)*10^3+DN23)*10^3+DQ23 -> 0 | DS23: =RANK(DR23,$DR$4:$DR$23,0) -> 3 | DT23: =AO23 -> 0 | DU23: =(((DI23*10^3+DK23)*10^3+DN23)*10^3+DQ23)*10^3+DT23 -> 0 | DV23: =IF(F23>0,RANK(DU23,$DU$4:$DU$23,0),20) -> 20 | DW23: =IF(DV23<>20,RANK(DV23,$DV$4:$DV$23,1)+COUNTIF(DV$4:DV23,DV23)-1,20) -> 20 | DX23: =DI23/$DX$3 -> 0 | DY23: =IF(COUNTIF(CE23:DB23,"x")>0,"Dis",IF(COUNTIF(DC23,"x")>0,"Abbruch","-")) -> - | EA23: =L23+Q23+V23+AA23+AF23+AK23+AP23+AU23-DD23 -> 0 | EB23: =M23+R23+W23+AB23+AG23+AL23+AQ23+AV23-DE23 -> 0 | EC23: =N23+S23+X23+AC23+AH23+AM23+AR23+AW23-DF23 -> 0
D24: =((DI24*10^3+DK24)*10^3+DN24)*10^3+DQ24 -> 0
D27: =D2 -> Heelwork to Music 1 | L27: Artistic | P27: Tecnic | U27: Penalty | AC27: Results
D28: Posizione | F28: Nome | G28: Cognome | H28: Cane | L28: Teamwork | M28: Dynamics | N28: Concept | O28: Choreography | P28: Flow | Q28: Execution | R28: Content | S28: Difficulty | T28: Total artistic/technic | U28: Vocalisation | V28: Health of dog | W28: Incorrect use of props | X28: Time | Y28: Misconduct in the ring | Z28: Active touching | AA28: x Disqualification | AB28: Somma penalty | AC28: Points | AD28: Start Nr. | AE28: % | AF28: Point
C29: 1 | D29: =IF(AA29="-",INDEX(DV$1:DV$23,MATCH(C29,$DW$1:$DW$23,0)),AA29) -> 1 | F29: =INDEX(F$1:F$23,MATCH(C29,$DW$1:$DW$23,0)) -> DANIELA | G29: =INDEX(G$1:G$23,MATCH(C29,$DW$1:$DW$23,0)) -> MORSIANI | H29: =INDEX(H$1:H$23,MATCH(C29,$DW$1:$DW$23,0)) -> KORI | L29: =INDEX(P$1:P$23,MATCH(C29,$DW$1:$DW$23,0)) -> 19.666667 | M29: =INDEX(U$1:U$23,MATCH(C29,$DW$1:$DW$23,0)) -> 19 | N29: =INDEX(Z$1:Z$23,MATCH(C29,$DW$1:$DW$23,0)) -> 19.333333 | O29: =INDEX(AE$1:AE$23,MATCH(C29,$DW$1:$DW$23,0)) -> 19 | P29: =INDEX(AJ$1:AJ$23,MATCH(C29,$DW$1:$DW$23,0)) -> 18.333333 | Q29: =INDEX(AO$1:AO$23,MATCH(C29,$DW$1:$DW$23,0)) -> 17.333333 | R29: =INDEX(AT$1:AT$23,MATCH(C29,$DW$1:$DW$23,0)) -> 18.666667 | S29: =INDEX(AY$1:AY$23,MATCH(C29,$DW$1:$DW$23,0)) -> 18 | T29: =INDEX(AZ$1:AZ$23,MATCH(C29,$DW$1:$DW$23,0)) -> 149.33333 | U29: =INDEX(BE$1:BE$23,MATCH(C29,$DW$1:$DW$23,0)) -> 0 | V29: =INDEX(BJ$1:BJ$23,MATCH(C29,$DW$1:$DW$23,0)) -> 0 | W29: =INDEX(BO$1:BO$23,MATCH(C29,$DW$1:$DW$23,0)) -> 0 | X29: =INDEX(BT$1:BT$23,MATCH(C29,$DW$1:$DW$23,0)) -> 0 | Y29: =INDEX(BY$1:BY$23,MATCH(C29,$DW$1:$DW$23,0)) -> 0 | Z29: =INDEX(CD$1:CD$23,MATCH(C29,$DW$1:$DW$23,0)) -> 0 | AA29: =INDEX(DY$1:DY$23,MATCH(C29,$DW$1:$DW$23,0)) -> - | AB29: =INDEX(DH$1:DH$23,MATCH(C29,$DW$1:$DW$23,0)) -> 0 | AC29: =INDEX(DI$1:DI$23,MATCH(C29,$DW$1:$DW$23,0)) -> 149.33333 | AD29: =INDEX(D$1:D$23,MATCH(C29,$DW$1:$DW$23,0)) -> HTM 0_2 | AE29: =INDEX(DX$1:DX$23,MATCH(C29,$DW$1:$DW$23,0)) -> 1 | AF29: =IF(AC29>=150,"Point","-") -> -
C30: 2 | D30: =IF(AA30="-",INDEX(DV$1:DV$23,MATCH(C30,$DW$1:$DW$23,0)),AA30) -> 2 | F30: =INDEX(F$1:F$23,MATCH(C30,$DW$1:$DW$23,0)) -> ELISA | G30: =INDEX(G$1:G$23,MATCH(C30,$DW$1:$DW$23,0)) -> DOMENICHINI | H30: =INDEX(H$1:H$23,MATCH(C30,$DW$1:$DW$23,0)) -> NUMA | L30: =INDEX(P$1:P$23,MATCH(C30,$DW$1:$DW$23,0)) -> 18.333333 | M30: =INDEX(U$1:U$23,MATCH(C30,$DW$1:$DW$23,0)) -> 19.333333 | N30: =INDEX(Z$1:Z$23,MATCH(C30,$DW$1:$DW$23,0)) -> 19.333333 | O30: =INDEX(AE$1:AE$23,MATCH(C30,$DW$1:$DW$23,0)) -> 18.333333 | P30: =INDEX(AJ$1:AJ$23,MATCH(C30,$DW$1:$DW$23,0)) -> 17.333333 | Q30: =INDEX(AO$1:AO$23,MATCH(C30,$DW$1:$DW$23,0)) -> 16.333333 | R30: =INDEX(AT$1:AT$23,MATCH(C30,$DW$1:$DW$23,0)) -> 17 | S30: =INDEX(AY$1:AY$23,MATCH(C30,$DW$1:$DW$23,0)) -> 16.666667 | T30: =INDEX(AZ$1:AZ$23,MATCH(C30,$DW$1:$DW$23,0)) -> 142.66667 | U30: =INDEX(BE$1:BE$23,MATCH(C30,$DW$1:$DW$23,0)) -> 0.33333333 | V30: =INDEX(BJ1:BJ40,MATCH(C30,$DW1:$DW40,0)) -> 0 | W30: =INDEX(BO$1:BO$23,MATCH(C30,$DW$1:$DW$23,0)) -> 0 | X30: =INDEX(BT$1:BT$23,MATCH(C30,$DW$1:$DW$23,0)) -> 0 | Y30: =INDEX(BY$1:BY$23,MATCH(C30,$DW$1:$DW$23,0)) -> 0 | Z30: =INDEX(CD$1:CD$23,MATCH(C30,$DW$1:$DW$23,0)) -> 0 | AA30: =INDEX(DY$1:DY$23,MATCH(C30,$DW$1:$DW$23,0)) -> - | AB30: =INDEX(DH$1:DH$23,MATCH(C30,$DW$1:$DW$23,0)) -> 0.33333333 | AC30: =INDEX(DI$1:DI$23,MATCH(C30,$DW$1:$DW$23,0)) -> 142.33333 | AD30: =INDEX(D$1:D$23,MATCH(C30,$DW$1:$DW$23,0)) -> HTM 0_1 | AE30: =INDEX(DX$1:DX$23,MATCH(C30,$DW$1:$DW$23,0)) -> 0.953125 | AF30: =IF(AC30>=150,"Point","-") -> -
C31: 3 | D31: =IF(AA31="-",INDEX(DV$1:DV$23,MATCH(C31,$DW$1:$DW$23,0)),AA31) -> #N/A | F31: =INDEX(F$1:F$23,MATCH(C31,$DW$1:$DW$23,0)) -> #N/A | G31: =INDEX(G$1:G$23,MATCH(C31,$DW$1:$DW$23,0)) -> #N/A | H31: =INDEX(H$1:H$23,MATCH(C31,$DW$1:$DW$23,0)) -> #N/A | L31: =INDEX(P$1:P$23,MATCH(C31,$DW$1:$DW$23,0)) -> #N/A | M31: =INDEX(U$1:U$23,MATCH(C31,$DW$1:$DW$23,0)) -> #N/A | N31: =INDEX(Z$1:Z$23,MATCH(C31,$DW$1:$DW$23,0)) -> #N/A | O31: =INDEX(AE$1:AE$23,MATCH(C31,$DW$1:$DW$23,0)) -> #N/A | P31: =INDEX(AJ$1:AJ$23,MATCH(C31,$DW$1:$DW$23,0)) -> #N/A | Q31: =INDEX(AO$1:AO$23,MATCH(C31,$DW$1:$DW$23,0)) -> #N/A | R31: =INDEX(AT$1:AT$23,MATCH(C31,$DW$1:$DW$23,0)) -> #N/A | S31: =INDEX(AY$1:AY$23,MATCH(C31,$DW$1:$DW$23,0)) -> #N/A | T31: =INDEX(AZ$1:AZ$23,MATCH(C31,$DW$1:$DW$23,0)) -> #N/A | U31: =INDEX(BE$1:BE$23,MATCH(C31,$DW$1:$DW$23,0)) -> #N/A | V31: =INDEX(BJ1:BJ40,MATCH(C31,$DW1:$DW40,0)) -> #N/A | W31: =INDEX(BO$1:BO$23,MATCH(C31,$DW$1:$DW$23,0)) -> #N/A | X31: =INDEX(BT$1:BT$23,MATCH(C31,$DW$1:$DW$23,0)) -> #N/A | Y31: =INDEX(BY$1:BY$23,MATCH(C31,$DW$1:$DW$23,0)) -> #N/A | Z31: =INDEX(CD$1:CD$23,MATCH(C31,$DW$1:$DW$23,0)) -> #N/A | AA31: =INDEX(DY$1:DY$23,MATCH(C31,$DW$1:$DW$23,0)) -> #N/A | AB31: =INDEX(DH$1:DH$23,MATCH(C31,$DW$1:$DW$23,0)) -> #N/A | AC31: =INDEX(DI$1:DI$23,MATCH(C31,$DW$1:$DW$23,0)) -> #N/A | AD31: =INDEX(D$1:D$23,MATCH(C31,$DW$1:$DW$23,0)) -> #N/A | AE31: =INDEX(DX$1:DX$23,MATCH(C31,$DW$1:$DW$23,0)) -> #N/A | AF31: =IF(AC31>=150,"Point","-") -> #N/A
C32: 4 | D32: =IF(AA32="-",INDEX(DV$1:DV$23,MATCH(C32,$DW$1:$DW$23,0)),AA32) -> #N/A | F32: =INDEX(F$1:F$23,MATCH(C32,$DW$1:$DW$23,0)) -> #N/A | G32: =INDEX(G$1:G$23,MATCH(C32,$DW$1:$DW$23,0)) -> #N/A | H32: =INDEX(H$1:H$23,MATCH(C32,$DW$1:$DW$23,0)) -> #N/A | L32: =INDEX(P$1:P$23,MATCH(C32,$DW$1:$DW$23,0)) -> #N/A | M32: =INDEX(U$1:U$23,MATCH(C32,$DW$1:$DW$23,0)) -> #N/A | N32: =INDEX(Z$1:Z$23,MATCH(C32,$DW$1:$DW$23,0)) -> #N/A | O32: =INDEX(AE$1:AE$23,MATCH(C32,$DW$1:$DW$23,0)) -> #N/A | P32: =INDEX(AJ$1:AJ$23,MATCH(C32,$DW$1:$DW$23,0)) -> #N/A | Q32: =INDEX(AO$1:AO$23,MATCH(C32,$DW$1:$DW$23,0)) -> #N/A | R32: =INDEX(AT$1:AT$23,MATCH(C32,$DW$1:$DW$23,0)) -> #N/A | S32: =INDEX(AY$1:AY$23,MATCH(C32,$DW$1:$DW$23,0)) -> #N/A | T32: =INDEX(AZ$1:AZ$23,MATCH(C32,$DW$1:$DW$23,0)) -> #N/A | U32: =INDEX(BE$1:BE$23,MATCH(C32,$DW$1:$DW$23,0)) -> #N/A | V32: =INDEX(BJ1:BJ40,MATCH(C32,$DW1:$DW40,0)) -> #N/A | W32: =INDEX(BO$1:BO$23,MATCH(C32,$DW$1:$DW$23,0)) -> #N/A | X32: =INDEX(BT$1:BT$23,MATCH(C32,$DW$1:$DW$23,0)) -> #N/A | Y32: =INDEX(BY$1:BY$23,MATCH(C32,$DW$1:$DW$23,0)) -> #N/A | Z32: =INDEX(CD$1:CD$23,MATCH(C32,$DW$1:$DW$23,0)) -> #N/A | AA32: =INDEX(DY$1:DY$23,MATCH(C32,$DW$1:$DW$23,0)) -> #N/A | AB32: =INDEX(DH$1:DH$23,MATCH(C32,$DW$1:$DW$23,0)) -> #N/A | AC32: =INDEX(DI$1:DI$23,MATCH(C32,$DW$1:$DW$23,0)) -> #N/A | AD32: =INDEX(D$1:D$23,MATCH(C32,$DW$1:$DW$23,0)) -> #N/A | AE32: =INDEX(DX$1:DX$23,MATCH(C32,$DW$1:$DW$23,0)) -> #N/A | AF32: =IF(AC32>=150,"Point","-") -> #N/A
C33: 5 | D33: =IF(AA33="-",INDEX(DV$1:DV$23,MATCH(C33,$DW$1:$DW$23,0)),AA33) -> #N/A | F33: =INDEX(F$1:F$23,MATCH(C33,$DW$1:$DW$23,0)) -> #N/A | G33: =INDEX(G$1:G$23,MATCH(C33,$DW$1:$DW$23,0)) -> #N/A | H33: =INDEX(H$1:H$23,MATCH(C33,$DW$1:$DW$23,0)) -> #N/A | L33: =INDEX(P$1:P$23,MATCH(C33,$DW$1:$DW$23,0)) -> #N/A | M33: =INDEX(U$1:U$23,MATCH(C33,$DW$1:$DW$23,0)) -> #N/A | N33: =INDEX(Z$1:Z$23,MATCH(C33,$DW$1:$DW$23,0)) -> #N/A | O33: =INDEX(AE$1:AE$23,MATCH(C33,$DW$1:$DW$23,0)) -> #N/A | P33: =INDEX(AJ$1:AJ$23,MATCH(C33,$DW$1:$DW$23,0)) -> #N/A | Q33: =INDEX(AO$1:AO$23,MATCH(C33,$DW$1:$DW$23,0)) -> #N/A | R33: =INDEX(AT$1:AT$23,MATCH(C33,$DW$1:$DW$23,0)) -> #N/A | S33: =INDEX(AY$1:AY$23,MATCH(C33,$DW$1:$DW$23,0)) -> #N/A | T33: =INDEX(AZ$1:AZ$23,MATCH(C33,$DW$1:$DW$23,0)) -> #N/A | U33: =INDEX(BE$1:BE$23,MATCH(C33,$DW$1:$DW$23,0)) -> #N/A | V33: =INDEX(BJ1:BJ40,MATCH(C33,$DW1:$DW40,0)) -> #N/A | W33: =INDEX(BO$1:BO$23,MATCH(C33,$DW$1:$DW$23,0)) -> #N/A | X33: =INDEX(BT$1:BT$23,MATCH(C33,$DW$1:$DW$23,0)) -> #N/A | Y33: =INDEX(BY$1:BY$23,MATCH(C33,$DW$1:$DW$23,0)) -> #N/A | Z33: =INDEX(CD$1:CD$23,MATCH(C33,$DW$1:$DW$23,0)) -> #N/A | AA33: =INDEX(DY$1:DY$23,MATCH(C33,$DW$1:$DW$23,0)) -> #N/A | AB33: =INDEX(DH$1:DH$23,MATCH(C33,$DW$1:$DW$23,0)) -> #N/A | AC33: =INDEX(DI$1:DI$23,MATCH(C33,$DW$1:$DW$23,0)) -> #N/A | AD33: =INDEX(D$1:D$23,MATCH(C33,$DW$1:$DW$23,0)) -> #N/A | AE33: =INDEX(DX$1:DX$23,MATCH(C33,$DW$1:$DW$23,0)) -> #N/A | AF33: =IF(AC33>=150,"Point","-") -> #N/A
C34: 6 | D34: =IF(AA34="-",INDEX(DV$1:DV$23,MATCH(C34,$DW$1:$DW$23,0)),AA34) -> #N/A | F34: =INDEX(F$1:F$23,MATCH(C34,$DW$1:$DW$23,0)) -> #N/A | G34: =INDEX(G$1:G$23,MATCH(C34,$DW$1:$DW$23,0)) -> #N/A | H34: =INDEX(H$1:H$23,MATCH(C34,$DW$1:$DW$23,0)) -> #N/A | L34: =INDEX(P$1:P$23,MATCH(C34,$DW$1:$DW$23,0)) -> #N/A | M34: =INDEX(U$1:U$23,MATCH(C34,$DW$1:$DW$23,0)) -> #N/A | N34: =INDEX(Z$1:Z$23,MATCH(C34,$DW$1:$DW$23,0)) -> #N/A | O34: =INDEX(AE$1:AE$23,MATCH(C34,$DW$1:$DW$23,0)) -> #N/A | P34: =INDEX(AJ$1:AJ$23,MATCH(C34,$DW$1:$DW$23,0)) -> #N/A | Q34: =INDEX(AO$1:AO$23,MATCH(C34,$DW$1:$DW$23,0)) -> #N/A | R34: =INDEX(AT$1:AT$23,MATCH(C34,$DW$1:$DW$23,0)) -> #N/A | S34: =INDEX(AY$1:AY$23,MATCH(C34,$DW$1:$DW$23,0)) -> #N/A | T34: =INDEX(AZ$1:AZ$23,MATCH(C34,$DW$1:$DW$23,0)) -> #N/A | U34: =INDEX(BE$1:BE$23,MATCH(C34,$DW$1:$DW$23,0)) -> #N/A | V34: =INDEX(BJ1:BJ40,MATCH(C34,$DW1:$DW40,0)) -> #N/A | W34: =INDEX(BO$1:BO$23,MATCH(C34,$DW$1:$DW$23,0)) -> #N/A | X34: =INDEX(BT$1:BT$23,MATCH(C34,$DW$1:$DW$23,0)) -> #N/A | Y34: =INDEX(BY$1:BY$23,MATCH(C34,$DW$1:$DW$23,0)) -> #N/A | Z34: =INDEX(CD$1:CD$23,MATCH(C34,$DW$1:$DW$23,0)) -> #N/A | AA34: =INDEX(DY$1:DY$23,MATCH(C34,$DW$1:$DW$23,0)) -> #N/A | AB34: =INDEX(DH$1:DH$23,MATCH(C34,$DW$1:$DW$23,0)) -> #N/A | AC34: =INDEX(DI$1:DI$23,MATCH(C34,$DW$1:$DW$23,0)) -> #N/A | AD34: =INDEX(D$1:D$23,MATCH(C34,$DW$1:$DW$23,0)) -> #N/A | AE34: =INDEX(DX$1:DX$23,MATCH(C34,$DW$1:$DW$23,0)) -> #N/A | AF34: =IF(AC34>=150,"Point","-") -> #N/A
C35: 7 | D35: =IF(AA35="-",INDEX(DV$1:DV$23,MATCH(C35,$DW$1:$DW$23,0)),AA35) -> #N/A | F35: =INDEX(F$1:F$23,MATCH(C35,$DW$1:$DW$23,0)) -> #N/A | G35: =INDEX(G$1:G$23,MATCH(C35,$DW$1:$DW$23,0)) -> #N/A | H35: =INDEX(H$1:H$23,MATCH(C35,$DW$1:$DW$23,0)) -> #N/A | L35: =INDEX(P$1:P$23,MATCH(C35,$DW$1:$DW$23,0)) -> #N/A | M35: =INDEX(U$1:U$23,MATCH(C35,$DW$1:$DW$23,0)) -> #N/A | N35: =INDEX(Z$1:Z$23,MATCH(C35,$DW$1:$DW$23,0)) -> #N/A | O35: =INDEX(AE$1:AE$23,MATCH(C35,$DW$1:$DW$23,0)) -> #N/A | P35: =INDEX(AJ$1:AJ$23,MATCH(C35,$DW$1:$DW$23,0)) -> #N/A | Q35: =INDEX(AO$1:AO$23,MATCH(C35,$DW$1:$DW$23,0)) -> #N/A | R35: =INDEX(AT$1:AT$23,MATCH(C35,$DW$1:$DW$23,0)) -> #N/A | S35: =INDEX(AY$1:AY$23,MATCH(C35,$DW$1:$DW$23,0)) -> #N/A | T35: =INDEX(AZ$1:AZ$23,MATCH(C35,$DW$1:$DW$23,0)) -> #N/A | U35: =INDEX(BE$1:BE$23,MATCH(C35,$DW$1:$DW$23,0)) -> #N/A | V35: =INDEX(BJ1:BJ40,MATCH(C35,$DW1:$DW40,0)) -> #N/A | W35: =INDEX(BO$1:BO$23,MATCH(C35,$DW$1:$DW$23,0)) -> #N/A | X35: =INDEX(BT$1:BT$23,MATCH(C35,$DW$1:$DW$23,0)) -> #N/A | Y35: =INDEX(BY$1:BY$23,MATCH(C35,$DW$1:$DW$23,0)) -> #N/A | Z35: =INDEX(CD$1:CD$23,MATCH(C35,$DW$1:$DW$23,0)) -> #N/A | AA35: =INDEX(DY$1:DY$23,MATCH(C35,$DW$1:$DW$23,0)) -> #N/A | AB35: =INDEX(DH$1:DH$23,MATCH(C35,$DW$1:$DW$23,0)) -> #N/A | AC35: =INDEX(DI$1:DI$23,MATCH(C35,$DW$1:$DW$23,0)) -> #N/A | AD35: =INDEX(D$1:D$23,MATCH(C35,$DW$1:$DW$23,0)) -> #N/A | AE35: =INDEX(DX$1:DX$23,MATCH(C35,$DW$1:$DW$23,0)) -> #N/A | AF35: =IF(AC35>=150,"Point","-") -> #N/A
C36: 8 | D36: =IF(AA36="-",INDEX(DV$1:DV$23,MATCH(C36,$DW$1:$DW$23,0)),AA36) -> #N/A | F36: =INDEX(F$1:F$23,MATCH(C36,$DW$1:$DW$23,0)) -> #N/A | G36: =INDEX(G$1:G$23,MATCH(C36,$DW$1:$DW$23,0)) -> #N/A | H36: =INDEX(H$1:H$23,MATCH(C36,$DW$1:$DW$23,0)) -> #N/A | L36: =INDEX(P$1:P$23,MATCH(C36,$DW$1:$DW$23,0)) -> #N/A | M36: =INDEX(U$1:U$23,MATCH(C36,$DW$1:$DW$23,0)) -> #N/A | N36: =INDEX(Z$1:Z$23,MATCH(C36,$DW$1:$DW$23,0)) -> #N/A | O36: =INDEX(AE$1:AE$23,MATCH(C36,$DW$1:$DW$23,0)) -> #N/A | P36: =INDEX(AJ$1:AJ$23,MATCH(C36,$DW$1:$DW$23,0)) -> #N/A | Q36: =INDEX(AO$1:AO$23,MATCH(C36,$DW$1:$DW$23,0)) -> #N/A | R36: =INDEX(AT$1:AT$23,MATCH(C36,$DW$1:$DW$23,0)) -> #N/A | S36: =INDEX(AY$1:AY$23,MATCH(C36,$DW$1:$DW$23,0)) -> #N/A | T36: =INDEX(AZ$1:AZ$23,MATCH(C36,$DW$1:$DW$23,0)) -> #N/A | U36: =INDEX(BE$1:BE$23,MATCH(C36,$DW$1:$DW$23,0)) -> #N/A | V36: =INDEX(BJ1:BJ40,MATCH(C36,$DW1:$DW40,0)) -> #N/A | W36: =INDEX(BO$1:BO$23,MATCH(C36,$DW$1:$DW$23,0)) -> #N/A | X36: =INDEX(BT$1:BT$23,MATCH(C36,$DW$1:$DW$23,0)) -> #N/A | Y36: =INDEX(BY$1:BY$23,MATCH(C36,$DW$1:$DW$23,0)) -> #N/A | Z36: =INDEX(CD$1:CD$23,MATCH(C36,$DW$1:$DW$23,0)) -> #N/A | AA36: =INDEX(DY$1:DY$23,MATCH(C36,$DW$1:$DW$23,0)) -> #N/A | AB36: =INDEX(DH$1:DH$23,MATCH(C36,$DW$1:$DW$23,0)) -> #N/A | AC36: =INDEX(DI$1:DI$23,MATCH(C36,$DW$1:$DW$23,0)) -> #N/A | AD36: =INDEX(D$1:D$23,MATCH(C36,$DW$1:$DW$23,0)) -> #N/A | AE36: =INDEX(DX$1:DX$23,MATCH(C36,$DW$1:$DW$23,0)) -> #N/A | AF36: =IF(AC36>=150,"Point","-") -> #N/A
C37: 9 | D37: =IF(AA37="-",INDEX(DV$1:DV$23,MATCH(C37,$DW$1:$DW$23,0)),AA37) -> #N/A | F37: =INDEX(F$1:F$23,MATCH(C37,$DW$1:$DW$23,0)) -> #N/A | G37: =INDEX(G$1:G$23,MATCH(C37,$DW$1:$DW$23,0)) -> #N/A | H37: =INDEX(H$1:H$23,MATCH(C37,$DW$1:$DW$23,0)) -> #N/A | L37: =INDEX(P$1:P$23,MATCH(C37,$DW$1:$DW$23,0)) -> #N/A | M37: =INDEX(U$1:U$23,MATCH(C37,$DW$1:$DW$23,0)) -> #N/A | N37: =INDEX(Z$1:Z$23,MATCH(C37,$DW$1:$DW$23,0)) -> #N/A | O37: =INDEX(AE$1:AE$23,MATCH(C37,$DW$1:$DW$23,0)) -> #N/A | P37: =INDEX(AJ$1:AJ$23,MATCH(C37,$DW$1:$DW$23,0)) -> #N/A | Q37: =INDEX(AO$1:AO$23,MATCH(C37,$DW$1:$DW$23,0)) -> #N/A | R37: =INDEX(AT$1:AT$23,MATCH(C37,$DW$1:$DW$23,0)) -> #N/A | S37: =INDEX(AY$1:AY$23,MATCH(C37,$DW$1:$DW$23,0)) -> #N/A | T37: =INDEX(AZ$1:AZ$23,MATCH(C37,$DW$1:$DW$23,0)) -> #N/A | U37: =INDEX(BE$1:BE$23,MATCH(C37,$DW$1:$DW$23,0)) -> #N/A | V37: =INDEX(BJ1:BJ40,MATCH(C37,$DW1:$DW40,0)) -> #N/A | W37: =INDEX(BO$1:BO$23,MATCH(C37,$DW$1:$DW$23,0)) -> #N/A | X37: =INDEX(BT$1:BT$23,MATCH(C37,$DW$1:$DW$23,0)) -> #N/A | Y37: =INDEX(BY$1:BY$23,MATCH(C37,$DW$1:$DW$23,0)) -> #N/A | Z37: =INDEX(CD$1:CD$23,MATCH(C37,$DW$1:$DW$23,0)) -> #N/A | AA37: =INDEX(DY$1:DY$23,MATCH(C37,$DW$1:$DW$23,0)) -> #N/A | AB37: =INDEX(DH$1:DH$23,MATCH(C37,$DW$1:$DW$23,0)) -> #N/A | AC37: =INDEX(DI$1:DI$23,MATCH(C37,$DW$1:$DW$23,0)) -> #N/A | AD37: =INDEX(D$1:D$23,MATCH(C37,$DW$1:$DW$23,0)) -> #N/A | AE37: =INDEX(DX$1:DX$23,MATCH(C37,$DW$1:$DW$23,0)) -> #N/A | AF37: =IF(AC37>=150,"Point","-") -> #N/A

Sheet HTM 1
D2: Heelwork to Music 1 | L2: Artistic | AF2: Tecnic | AZ2: Sum | BA2: Penalty | DI2: Results | EA2: Check
D3: Start Nr. | F3: Nome | G3: Cognome | H3: Cane | L3: Teamwork | Q3: Dynamics | V3: Concept | AA3: Choreography | AF3: Flow | AK3: Execution | AP3: Content | AU3: Difficulty | AZ3: Artistic/Tecnic | BA3: Vocalisation | BF3: Health of dog | BK3: Incorrect use of props | BP3: Time | BU3: Misconduct in the ring | BZ3: Active touching during routine | CE3: Leaving the ring | CI3: Use of training aids | CM3: Too many props | CQ3: Soiling in the ring | CU3: Unfair treatment of the dog | CY3: Help from outside | DC3: Interruption | DD3: Penalty for judge | DH3: Total penalty | DI3: Points | DJ3: Position | DK3: Teamwork | DL3: Hilfspunkte Teamwork | DM3: Posizione | DN3: Fluidità | DO3: Hilfspunkte Teamwork e Fluidità | DP3: Posizione | DQ3: Dinamicità | DR3: Hilfspunkte Teamwork, Fluidità e Dinamicità | DS3: Posizione | DT3: Esecuzione | DU3: Hilfspunkte Teamwork, Fluidità, Dinamicità e Esecuzione | DV3: Classifica finale | DW3: Classifica T F D E e Dis/Abbruch (fortlaufende Platzierung) | DX3: =LARGE(DI4:DI23,1) -> 156 | DY3: Dis/Abbruch | EA3: Judge 1 | EB3: Judge 2 | EC3: Judge 3
D4: =classi!B12 -> HTM1_1 | F4: ROSE MARIE | G4: VOEGELI | H4: RAIN | L4: 17 | M4: 18 | N4: 19 | P4: =AVERAGE(L4:N4) -> 18 | Q4: 18 | R4: 16 | S4: 17 | U4: =AVERAGE(Q4:S4) -> 17 | V4: 18 | W4: 20 | X4: 19 | Z4: =AVERAGE(V4:X4) -> 19 | AA4: 17 | AB4: 18 | AC4: 17 | AE4: =AVERAGE(AA4:AC4) -> 17.333333 | AF4: 15 | AG4: 15 | AH4: 15 | AJ4: =AVERAGE(AF4:AH4) -> 15 | AK4: 13 | AL4: 15 | AM4: 15 | AO4: =AVERAGE(AK4:AM4) -> 14.333333 | AP4: 16 | AQ4: 17 | AR4: 16 | AT4: 17 | AU4: 17 | AV4: 17 | AW4: 15 | AY4: =AVERAGE(AU4:AW4) -> 16.333333 | AZ4: =P4+U4+Z4+AE4+AJ4+AO4+AT4+AY4 -> 134 | BA4: 0 | BB4: 0 | BC4: 0 | BE4: =AVERAGE(BA4:BD4) -> 0 | BF4: 0 | BG4: 0 | BH4: 0 | BJ4: =AVERAGE(BF4:BI4) -> 0 | BK4: 0 | BL4: 0 | BM4: 0 | BO4: =AVERAGE(BK4:BN4) -> 0 | BP4: 0 | BQ4: 0 | BR4: 0 | BT4: =AVERAGE(BP4:BS4) -> 0 | BU4: 0 | BV4: 0 | BW4: 0 | BY4: =AVERAGE(BU4:BX4) -> 0 | BZ4: 0 | CA4: 0 | CB4: 0 | CD4: =AVERAGE(BZ4:CC4) -> 0 | DD4: =SUM(BA4,BF4,BK4,BP4,BU4,BZ4) -> 0 | DE4: =SUM(BB4,BG4,BL4,BQ4,BV4,CA4) -> 0 | DF4: =SUM(BC4+BH4+BM4+BR4+BW4+CB4) -> 0 | DH4: =BE4+BJ4+BT4+BO4+BY4+CD4 -> 0 | DI4: =AZ4-DH4 -> 134 | DJ4: =RANK(DI4,$DI$4:$DI$23,0) -> 3 | DK4: =P4 -> 18 | DL4: =DI4*10^3+DK4 -> 134018 | DM4: =RANK(DL4,$DL$4:$DL$23,0) -> 3 | DN4: =AJ4 -> 15 | DO4: =(DI4*10^3+DK4)*10^3+DN4 -> 134018015 | DP4: =RANK(DO4,$DO$4:$DO$23,0) -> 3 | DQ4: =U4 -> 17 | DR4: =((DI4*10^3+DK4)*10^3+DN4)*10^3+DQ4 -> 134018015017 | DS4: =RANK(DR4,$DR$4:$DR$23,0) -> 3 | DT4: =AO4 -> 14.333333 | DU4: =(((DI4*10^3+DK4)*10^3+DN4)*10^3+DQ4)*10^3+DT4 -> 1.3401802e+14 | DV4: =IF(F4>0,RANK(DU4,$DU$4:$DU$23,0),20) -> 3 | DW4: =IF(DV4<>20,RANK(DV4,$DV$4:$DV$23,1)+COUNTIF(DV$4:DV4,DV4)-1,20) -> 3 | DX4: =DI4/$DX$3 -> 0.85897436 | DY4: =IF(COUNTIF(CE4:DB4,"x")>0,"Dis",IF(COUNTIF(DC4,"x")>0,"Abbruch","-")) -> - | EA4: =L4+Q4+V4+AA4+AF4+AK4+AP4+AU4-DD4 -> 131 | EB4: =M4+R4+W4+AB4+AG4+AL4+AQ4+AV4-DE4 -> 136 | EC4: =N4+S4+X4+AC4+AH4+AM4+AR4+AW4-DF4 -> 133
D5: =classi!B13 -> HTM1_2 | F5: LUISELLA | G5: ATZARA | H5: PEPPER | L5: 21 | M5: 20 | N5: 20 | P5: =AVERAGE(L5:N5) -> 20.333333 | Q5: 20 | R5: 22 | S5: 21 | U5: =AVERAGE(Q5:S5) -> 21 | V5: 22 | W5: 22 | X5: 21 | Z5: =AVERAGE(V5:X5) -> 21.666667 | AA5: 21 | AB5: 22 | AC5: 19 | AE5: =AVERAGE(AA5:AC5) -> 20.666667 | AF5: 18 | AG5: 16 | AH5: 18 | AJ5: =AVERAGE(AF5:AH5) -> 17.333333 | AK5: 17 | AL5: 17 | AM5: 19 | AO5: =AVERAGE(AK5:AM5) -> 17.666667 | AP5: 19 | AQ5: 17 | AR5: 20 | AT5: =AVERAGE(AP5:AR5) -> 18.666667 | AU5: 18 | AV5: 18 | AW5: 20 | AY5: =AVERAGE(AU5:AW5) -> 18.666667 | AZ5: =P5+U5+Z5+AE5+AJ5+AO5+AT5+AY5 -> 156 | BA5: 0 | BB5: 0 | BC5: 0 | BE5: =AVERAGE(BA5:BD5) -> 0 | BF5: 0 | BG5: 0 | BH5: 0 | BJ5: =AVERAGE(BF5:BI5) -> 0 | BK5: 0 | BL5: 0 | BM5: 0 | BO5: =AVERAGE(BK5:BN5) -> 0 | BP5: 0 | BQ5: 0 | BR5: 0 | BT5: =AVERAGE(BP5:BS5) -> 0 | BU5: 0 | BV5: 0 | BW5: 0 | BY5: =AVERAGE(BU5:BX5) -> 0 | BZ5: 0 | CA5: 0 | CB5: 0 | CD5: =AVERAGE(BZ5:CC5) -> 0 | DD5: 0 | DE5: 0 | DF5: =SUM(BC5+BH5+BM5+BR5+BW5+CB5) -> 0 | DH5: =BE5+BJ5+BT5+BO5+BY5+CD5 -> 0 | DI5: =AZ5-DH5 -> 156 | DJ5: =RANK(DI5,$DI$4:$DI$23,0) -> 1 | DK5: =P5 -> 20.333333 | DL5: =DI5*10^3+DK5 -> 156020.33 | DM5: =RANK(DL5,$DL$4:$DL$23,0) -> 1 | DN5: =AJ5 -> 17.333333 | DO5: =(DI5*10^3+DK5)*10^3+DN5 -> 1.5602035e+08 | DP5: =RANK(DO5,$DO$4:$DO$23,0) -> 1 | DQ5: =U5 -> 21 | DR5: =((DI5*10^3+DK5)*10^3+DN5)*10^3+DQ5 -> 1.5602035e+11 | DS5: =RANK(DR5,$DR$4:$DR$23,0) -> 1 | DT5: =AO5 -> 17.666667 | DU5: =(((DI5*10^3+DK5)*10^3+DN5)*10^3+DQ5)*10^3+DT5 -> 1.5602035e+14 | DV5: =IF(F5>0,RANK(DU5,$DU$4:$DU$23,0),20) -> 1 | DW5: =IF(DV5<>20,RANK(DV5,$DV$4:$DV$23,1)+COUNTIF(DV$4:DV5,DV5)-1,20) -> 1 | DX5: =DI5/$DX$3 -> 1 | DY5: =IF(COUNTIF(CE5:DB5,"x")>0,"Dis",IF(COUNTIF(DC5,"x")>0,"Abbruch","-")) -> - | EA5: =L5+Q5+V5+AA5+AF5+AK5+AP5+AU5-DD5 -> 156 | EB5: =M5+R5+W5+AB5+AG5+AL5+AQ5+AV5-DE5 -> 154 | EC5: =N5+S5+X5+AC5+AH5+AM5+AR5+AW5-DF5 -> 158
D6: =classi!B14 -> HTM1_3 | F6: ODILE | G6: VALETTE | H6: TOKIO | L6: 20 | M6: 20 | N6: 19 | P6: =AVERAGE(L6:N6) -> 19.666667 | Q6: 19 | R6: 20 | S6: 20 | U6: =AVERAGE(Q6:S6) -> 19.666667 | V6: 20 | W6: 20 | X6: 20 | Z6: =AVERAGE(V6:X6) -> 20 | AA6: 15 | AB6: 20 | AC6: 20 | AE6: =AVERAGE(AA6:AC6) -> 18.333333 | AF6: 16 | AG6: 16 | AH6: 17 | AJ6: =AVERAGE(AF6:AH6) -> 16.333333 | AK6: 17 | AL6: 17 | AM6: 17 | AO6: =AVERAGE(AK6:AM6) -> 17 | AP6: 20 | AQ6: 18 | AR6: 20 | AT6: =AVERAGE(AP6:AR6) -> 19.333333 | AU6: 18 | AV6: 19 | AW6: 19 | AY6: =AVERAGE(AU6:AW6) -> 18.666667 | AZ6: =P6+U6+Z6+AE6+AJ6+AO6+AT6+AY6 -> 149 | BA6: 0 | BB6: 0 | BC6: 0 | BE6: =AVERAGE(BA6:BD6) -> 0 | BF6: 0 | BG6: 0 | BH6: 0 | BJ6: =AVERAGE(BF6:BI6) -> 0 | BK6: 0 | BL6: 0 | BM6: 0 | BO6: =AVERAGE(BK6:BN6) -> 0 | BP6: 0 | BQ6: 0 | BR6: 0 | BT6: =AVERAGE(BP6:BS6) -> 0 | BU6: 0 | BV6: 0 | BW6: 0 | BY6: =AVERAGE(BU6:BX6) -> 0 | BZ6: 0 | CA6: 0 | CB6: 0 | CD6: =AVERAGE(BZ6:CC6) -> 0 | DD6: =SUM(BA6,BF6,BK6,BP6,BU6,BZ6) -> 0 | DE6: =SUM(BB6,BG6,BL6,BQ6,BV6,CA6) -> 0 | DF6: =SUM(BC6+BH6+BM6+BR6+BW6+CB6) -> 0 | DH6: =BE6+BJ6+BT6+BO6+BY6+CD6 -> 0 | DI6: =AZ6-DH6 -> 149 | DJ6: =RANK(DI6,$DI$4:$DI$23,0) -> 2 | DK6: =P6 -> 19.666667 | DL6: =DI6*10^3+DK6 -> 149019.67 | DM6: =RANK(DL6,$DL$4:$DL$23,0) -> 2 | DN6: =AJ6 -> 16.333333 | DO6: =(DI6*10^3+DK6)*10^3+DN6 -> 149019683 | DP6: =RANK(DO6,$DO$4:$DO$23,0) -> 2 | DQ6: =U6 -> 19.666667 | DR6: =((DI6*10^3+DK6)*10^3+DN6)*10^3+DQ6 -> 1.4901968e+11 | DS6: =RANK(DR6,$DR$4:$DR$23,0) -> 2 | DT6: =AO6 -> 17 | DU6: =(((DI6*10^3+DK6)*10^3+DN6)*10^3+DQ6)*10^3+DT6 -> 1.4901968e+14 | DV6: =IF(F6>0,RANK(DU6,$DU$4:$DU$23,0),20) -> 2 | DW6: =IF(DV6<>20,RANK(DV6,$DV$4:$DV$23,1)+COUNTIF(DV$4:DV6,DV6)-1,20) -> 2 | DX6: =DI6/$DX$3 -> 0.95512821 | DY6: =IF(COUNTIF(CE6:DB6,"x")>0,"Dis",IF(COUNTIF(DC6,"x")>0,"Abbruch","-")) -> - | EA6: =L6+Q6+V6+AA6+AF6+AK6+AP6+AU6-DD6 -> 145 | EB6: =M6+R6+W6+AB6+AG6+AL6+AQ6+AV6-DE6 -> 150 | EC6: =N6+S6+X6+AC6+AH6+AM6+AR6+AW6-DF6 -> 152
D7: =classi!B15 -> HTM1_4 | F7: =classi!C15 -> 0 | G7: =classi!D15 -> 0 | H7: =classi!G15 -> 0 | L7: 0 | M7: 0 | N7: 0 | P7: =AVERAGE(L7:N7) -> 0 | Q7: 0 | R7: 0 | S7: 0 | U7: =AVERAGE(Q7:S7) -> 0 | V7: 0 | W7: 0 | X7: 0 | Z7: =AVERAGE(V7:X7) -> 0 | AA7: 0 | AB7: 0 | AC7: 0 | AE7: =AVERAGE(AA7:AC7) -> 0 | AF7: 0 | AG7: 0 | AH7: 0 | AJ7: =AVERAGE(AF7:AH7) -> 0 | AK7: 0 | AL7: 0 | AM7: 0 | AO7: =AVERAGE(AK7:AM7) -> 0 | AP7: 0 | AQ7: 0 | AR7: 0 | AT7: =AVERAGE(AP7:AR7) -> 0 | AU7: 0 | AV7: 0 | AW7: 0 | AY7: =AVERAGE(AU7:AW7) -> 0 | AZ7: =P7+U7+Z7+AE7+AJ7+AO7+AT7+AY7 -> 0 | BA7: 0 | BB7: 0 | BC7: 0 | BE7: =AVERAGE(BA7:BD7) -> 0 | BF7: 0 | BG7: 0 | BH7: 0 | BJ7: =AVERAGE(BF7:BI7) -> 0 | BK7: 0 | BL7: 0 | BM7: 0 | BO7: =AVERAGE(BK7:BN7) -> 0 | BP7: 0 | BQ7: 0 | BR7: 0 | BT7: =AVERAGE(BP7:BS7) -> 0 | BU7: 0 | BV7: 0 | BW7: 0 | BY7: =AVERAGE(BU7:BX7) -> 0 | BZ7: 0 | CA7: 0 | CB7: 0 | CD7: =AVERAGE(BZ7:CC7) -> 0 | DD7: =SUM(BA7,BF7,BK7,BP7,BU7,BZ7) -> 0 | DE7: =SUM(BB7,BG7,BL7,BQ7,BV7,CA7) -> 0 | DF7: =SUM(BC7+BH7+BM7+BR7+BW7+CB7) -> 0 | DH7: =BE7+BJ7+BT7+BO7+BY7+CD7 -> 0 | DI7: =AZ7-DH7 -> 0 | DJ7: =RANK(DI7,$DI$4:$DI$23,0) -> 4 | DK7: =P7 -> 0 | DL7: =DI7*10^3+DK7 -> 0 | DM7: =RANK(DL7,$DL$4:$DL$23,0) -> 4 | DN7: =AJ7 -> 0 | DO7: =(DI7*10^3+DK7)*10^3+DN7 -> 0 | DP7: =RANK(DO7,$DO$4:$DO$23,0) -> 4 | DQ7: =U7 -> 0 | DR7: =((DI7*10^3+DK7)*10^3+DN7)*10^3+DQ7 -> 0 | DS7: =RANK(DR7,$DR$4:$DR$23,0) -> 4 | DT7: =AO7 -> 0 | DU7: =(((DI7*10^3+DK7)*10^3+DN7)*10^3+DQ7)*10^3+DT7 -> 0 | DV7: =IF(F7>0,RANK(DU7,$DU$4:$DU$23,0),20) -> 20 | DW7: =IF(DV7<>20,RANK(DV7,$DV$4:$DV$23,1)+COUNTIF(DV$4:DV7,DV7)-1,20) -> 20 | DX7: =DI7/$DX$3 -> 0 | DY7: =IF(COUNTIF(CE7:DB7,"x")>0,"Dis",IF(COUNTIF(DC7,"x")>0,"Abbruch","-")) -> - | EA7: =L7+Q7+V7+AA7+AF7+AK7+AP7+AU7-DD7 -> 0 | EB7: =M7+R7+W7+AB7+AG7+AL7+AQ7+AV7-DE7 -> 0 | EC7: =N7+S7+X7+AC7+AH7+AM7+AR7+AW7-DF7 -> 0
D8: =classi!B16 -> HTM1_5 | F8: =classi!C16 -> 0 | G8: =classi!D16 -> 0 | H8: =classi!G16 -> 0 | L8: 0 | M8: 0 | N8: 0 | P8: =AVERAGE(L8:N8) -> 0 | Q8: 0 | R8: 0 | S8: 0 | U8: =AVERAGE(Q8:S8) -> 0 | V8: 0 | W8: 0 | X8: 0 | Z8: =AVERAGE(V8:X8) -> 0 | AA8: 0 | AB8: 0 | AC8: 0 | AE8: =AVERAGE(AA8:AC8) -> 0 | AF8: 0 | AG8: 0 | AH8: 0 | AJ8: =AVERAGE(AF8:AH8) -> 0 | AK8: 0 | AL8: 0 | AM8: 0 | AO8: =AVERAGE(AK8:AM8) -> 0 | AP8: 0 | AQ8: 0 | AR8: 0 | AT8: =AVERAGE(AP8:AR8) -> 0 | AU8: 0 | AV8: 0 | AW8: 0 | AY8: =AVERAGE(AU8:AW8) -> 0 | AZ8: =P8+U8+Z8+AE8+AJ8+AO8+AT8+AY8 -> 0 | BA8: 0 | BB8: 0 | BC8: 0 | BE8: =AVERAGE(BA8:BD8) -> 0 | BF8: 0 | BG8: 0 | BH8: 0 | BJ8: =AVERAGE(BF8:BI8) -> 0 | BK8: 0 | BL8: 0 | BM8: 0 | BO8: =AVERAGE(BK8:BN8) -> 0 | BP8: 0 | BQ8: 0 | BR8: 0 | BT8: =AVERAGE(BP8:BS8) -> 0 | BU8: 0 | BV8: 0 | BW8: 0 | BY8: =AVERAGE(BU8:BX8) -> 0 | BZ8: 0 | CA8: 0 | CB8: 0 | CD8: =AVERAGE(BZ8:CC8) -> 0 | DD8: =SUM(BA8,BF8,BK8,BP8,BU8,BZ8) -> 0 | DE8: =SUM(BB8,BG8,BL8,BQ8,BV8,CA8) -> 0 | DF8: =SUM(BC8+BH8+BM8+BR8+BW8+CB8) -> 0 | DH8: =BE8+BJ8+BT8+BO8+BY8+CD8 -> 0 | DI8: =AZ8-DH8 -> 0 | DJ8: =RANK(DI8,$DI$4:$DI$23,0) -> 4 | DK8: =P8 -> 0 | DL8: =DI8*10^3+DK8 -> 0 | DM8: =RANK(DL8,$DL$4:$DL$23,0) -> 4 | DN8: =AJ8 -> 0 | DO8: =(DI8*10^3+DK8)*10^3+DN8 -> 0 | DP8: =RANK(DO8,$DO$4:$DO$23,0) -> 4 | DQ8: =U8 -> 0 | DR8: =((DI8*10^3+DK8)*10^3+DN8)*10^3+DQ8 -> 0 | DS8: =RANK(DR8,$DR$4:$DR$23,0) -> 4 | DT8: =AO8 -> 0 | DU8: =(((DI8*10^3+DK8)*10^3+DN8)*10^3+DQ8)*10^3+DT8 -> 0 | DV8: =IF(F8>0,RANK(DU8,$DU$4:$DU$23,0),20) -> 20 | DW8: =IF(DV8<>20,RANK(DV8,$DV$4:$DV$23,1)+COUNTIF(DV$4:DV8,DV8)-1,20) -> 20 | DX8: =DI8/$DX$3 -> 0 | DY8: =IF(COUNTIF(CE8:DB8,"x")>0,"Dis",IF(COUNTIF(DC8,"x")>0,"Abbruch","-")) -> - | EA8: =L8+Q8+V8+AA8+AF8+AK8+AP8+AU8-DD8 -> 0 | EB8: =M8+R8+W8+AB8+AG8+AL8+AQ8+AV8-DE8 -> 0 | EC8: =N8+S8+X8+AC8+AH8+AM8+AR8+AW8-DF8 -> 0
D9: =classi!B17 -> HTM1_6 | F9: =classi!C17 -> 0 | G9: =classi!D17 -> 0 | H9: =classi!G17 -> 0 | L9: 0 | M9: 0 | N9: 0 | P9: =AVERAGE(L9:N9) -> 0 | Q9: 0 | R9: 0 | S9: 0 | U9: =AVERAGE(Q9:S9) -> 0 | V9: 0 | W9: 0 | X9: 0 | Z9: =AVERAGE(V9:X9) -> 0 | AA9: 0 | AB9: 0 | AC9: 0 | AE9: =AVERAGE(AA9:AC9) -> 0 | AF9: 0 | AG9: 0 | AH9: 0 | AJ9: =AVERAGE(AF9:AH9) -> 0 | AK9: 0 | AL9: 0 | AM9: 0 | AO9: =AVERAGE(AK9:AM9) -> 0 | AP9: 0 | AQ9: 0 | AR9: 0 | AT9: =AVERAGE(AP9:AR9) -> 0 | AU9: 0 | AV9: 0 | AW9: 0 | AY9: =AVERAGE(AU9:AW9) -> 0 | AZ9: =P9+U9+Z9+AE9+AJ9+AO9+AT9+AY9 -> 0 | BA9: 0 | BB9: 0 | BC9: 0 | BE9: =AVERAGE(BA9:BD9) -> 0 | BF9: 0 | BG9: 0 | BH9: 0 | BJ9: =AVERAGE(BF9:BI9) -> 0 | BK9: 0 | BL9: 0 | BM9: 0 | BO9: =AVERAGE(BK9:BN9) -> 0 | BP9: 0 | BQ9: 0 | BR9: 0 | BT9: =AVERAGE(BP9:BS9) -> 0 | BU9: 0 | BV9: 0 | BW9: 0 | BY9: =AVERAGE(BU9:BX9) -> 0 | BZ9: 0 | CA9: 0 | CB9: 0 | CD9: =AVERAGE(BZ9:CC9) -> 0 | DD9: =SUM(BA9,BF9,BK9,BP9,BU9,BZ9) -> 0 | DE9: 0 | DF9: =SUM(BC9+BH9+BM9+BR9+BW9+CB9) -> 0 | DH9: =BE9+BJ9+BT9+BO9+BY9+CD9 -> 0 | DI9: =AZ9-DH9 -> 0 | DJ9: =RANK(DI9,$DI$4:$DI$23,0) -> 4 | DK9: =P9 -> 0 | DL9: =DI9*10^3+DK9 -> 0 | DM9: =RANK(DL9,$DL$4:$DL$23,0) -> 4 | DN9: =AJ9 -> 0 | DO9: =(DI9*10^3+DK9)*10^3+DN9 -> 0 | DP9: =RANK(DO9,$DO$4:$DO$23,0) -> 4 | DQ9: =U9 -> 0 | DR9: =((DI9*10^3+DK9)*10^3+DN9)*10^3+DQ9 -> 0 | DS9: =RANK(DR9,$DR$4:$DR$23,0) -> 4 | DT9: =AO9 -> 0 | DU9: =(((DI9*10^3+DK9)*10^3+DN9)*10^3+DQ9)*10^3+DT9 -> 0 | DV9: =IF(F9>0,RANK(DU9,$DU$4:$DU$23,0),20) -> 20 | DW9: =IF(DV9<>20,RANK(DV9,$DV$4:$DV$23,1)+COUNTIF(DV$4:DV9,DV9)-1,20) -> 20 | DX9: =DI9/$DX$3 -> 0 | DY9: =IF(COUNTIF(CE9:DB9,"x")>0,"Dis",IF(COUNTIF(DC9,"x")>0,"Abbruch","-")) -> - | EA9: =L9+Q9+V9+AA9+AF9+AK9+AP9+AU9-DD9 -> 0 | EB9: =M9+R9+W9+AB9+AG9+AL9+AQ9+AV9-DE9 -> 0 | EC9: =N9+S9+X9+AC9+AH9+AM9+AR9+AW9-DF9 -> 0
D10: =classi!B18 -> HTM0_1 | F10: =classi!C18 -> 0 | G10: =classi!D18 -> 0 | H10: =classi!G18 -> 0 | L10: 0 | M10: 0 | N10: 0 | P10: =AVERAGE(L10:N10) -> 0 | Q10: 0 | R10: 0 | S10: =0 -> 0 | U10: =AVERAGE(Q10:S10) -> 0 | V10: 0 | W10: 0 | X10: 0 | Z10: =AVERAGE(V10:X10) -> 0 | AA10: 0 | AB10: 0 | AC10: 0 | AE10: =AVERAGE(AA10:AC10) -> 0 | AF10: 0 | AG10: 0 | AH10: 0 | AJ10: =AVERAGE(AF10:AH10) -> 0 | AK10: 0 | AL10: 0 | AM10: 0 | AO10: =AVERAGE(AK10:AM10) -> 0 | AP10: 0 | AQ10: 0 | AR10: 0 | AT10: =AVERAGE(AP10:AR10) -> 0 | AU10: 0 | AV10: 0 | AW10: 0 | AY10: =AVERAGE(AU10:AW10) -> 0 | AZ10: =P10+U10+Z10+AE10+AJ10+AO10+AT10+AY10 -> 0 | BA10: 0 | BB10: 0 | BC10: 0 | BE10: =AVERAGE(BA10:BD10) -> 0 | BF10: 0 | BG10: 0 | BH10: 0 | BJ10: =AVERAGE(BF10:BI10) -> 0 | BK10: 0 | BL10: 0 | BM10: 0 | BO10: =AVERAGE(BK10:BN10) -> 0 | BP10: 0 | BQ10: 0 | BR10: 0 | BT10: =AVERAGE(BP10:BS10) -> 0 | BU10: 0 | BV10: 0 | BW10: 0 | BY10: =AVERAGE(BU10:BX10) -> 0 | BZ10: 0 | CA10: 0 | CB10: 0 | CD10: =AVERAGE(BZ10:CC10) -> 0 | DD10: =SUM(BA10,BF10,BK10,BP10,BU10,BZ10) -> 0 | DE10: =SUM(BB10,BG10,BL10,BQ10,BV10,CA10) -> 0 | DF10: =SUM(BC10+BH10+BM10+BR10+BW10+CB10) -> 0 | DH10: =BE10+BJ10+BT10+BO10+BY10+CD10 -> 0 | DI10: =AZ10-DH10 -> 0 | DJ10: =RANK(DI10,$DI$4:$DI$23,0) -> 4 | DK10: =P10 -> 0 | DL10: =DI10*10^3+DK10 -> 0 | DM10: =RANK(DL10,$DL$4:$DL$23,0) -> 4 | DN10: =AJ10 -> 0 | DO10: =(DI10*10^3+DK10)*10^3+DN10 -> 0 | DP10: =RANK(DO10,$DO$4:$DO$23,0) -> 4 | DQ10: =U10 -> 0 | DR10: =((DI10*10^3+DK10)*10^3+DN10)*10^3+DQ10 -> 0 | DS10: =RANK(DR10,$DR$4:$DR$23,0) -> 4 | DT10: =AO10 -> 0 | DU10: =(((DI10*10^3+DK10)*10^3+DN10)*10^3+DQ10)*10^3+DT10 -> 0 | DV10: =IF(F10>0,RANK(DU10,$DU$4:$DU$23,0),20) -> 20 | DW10: =IF(DV10<>20,RANK(DV10,$DV$4:$DV$23,1)+COUNTIF(DV$4:DV10,DV10)-1,20) -> 20 | DX10: =DI10/$DX$3 -> 0 | DY10: =IF(COUNTIF(CE10:DB10,"x")>0,"Dis",IF(COUNTIF(DC10,"x")>0,"Abbruch","-")) -> - | EA10: =L10+Q10+V10+AA10+AF10+AK10+AP10+AU10-DD10 -> 0 | EB10: =M10+R10+W10+AB10+AG10+AL10+AQ10+AV10-DE10 -> 0 | EC10: =N10+S10+X10+AC10+AH10+AM10+AR10+AW10-DF10 -> 0
D11: =classi!B19 -> HTM0_2 | F11: =classi!C19 -> 0 | G11: =classi!D19 -> 0 | H11: =classi!G19 -> 0 | L11: 0 | M11: 0 | N11: 0 | P11: =AVERAGE(L11:N11) -> 0 | Q11: 0 | R11: 0 | S11: =0 -> 0 | U11: =AVERAGE(Q11:S11) -> 0 | V11: 0 | W11: 0 | X11: 0 | Z11: =AVERAGE(V11:X11) -> 0 | AA11: 0 | AB11: 0 | AC11: 0 | AE11: =AVERAGE(AA11:AC11) -> 0 | AF11: 0 | AG11: 0 | AH11: 0 | AJ11: =AVERAGE(AF11:AH11) -> 0 | AK11: 0 | AL11: 0 | AM11: 0 | AO11: =AVERAGE(AK11:AM11) -> 0 | AP11: 0 | AQ11: 0 | AR11: 0 | AT11: =AVERAGE(AP11:AR11) -> 0 | AU11: 0 | AV11: 0 | AW11: 0 | AY11: =AVERAGE(AU11:AW11) -> 0 | AZ11: =P11+U11+Z11+AE11+AJ11+AO11+AT11+AY11 -> 0 | BA11: 0 | BB11: 0 | BC11: 0 | BE11: =AVERAGE(BA11:BD11) -> 0 | BF11: 0 | BG11: 0 | BH11: 0 | BJ11: =AVERAGE(BF11:BI11) -> 0 | BK11: 0 | BL11: 0 | BM11: 0 | BO11: =AVERAGE(BK11:BN11) -> 0 | BP11: 0 | BQ11: 0 | BR11: 0 | BT11: =AVERAGE(BP11:BS11) -> 0 | BU11: 0 | BV11: 0 | BW11: 0 | BY11: =AVERAGE(BU11:BX11) -> 0 | BZ11: 0 | CA11: 0 | CB11: 0 | CD11: =AVERAGE(BZ11:CC11) -> 0 | DD11: =SUM(BA11,BF11,BK11,BP11,BU11,BZ11) -> 0 | DE11: =SUM(BB11,BG11,BL11,BQ11,BV11,CA11) -> 0 | DF11: =SUM(BC11+BH11+BM11+BR11+BW11+CB11) -> 0 | DH11: =BE11+BJ11+BT11+BO11+BY11+CD11 -> 0 | DI11: =AZ11-DH11 -> 0 | DJ11: =RANK(DI11,$DI$4:$DI$23,0) -> 4 | DK11: =P11 -> 0 | DL11: =DI11*10^3+DK11 -> 0 | DM11: =RANK(DL11,$DL$4:$DL$23,0) -> 4 | DN11: =AJ11 -> 0 | DO11: =(DI11*10^3+DK11)*10^3+DN11 -> 0 | DP11: =RANK(DO11,$DO$4:$DO$23,0) -> 4 | DQ11: =U11 -> 0 | DR11: =((DI11*10^3+DK11)*10^3+DN11)*10^3+DQ11 -> 0 | DS11: =RANK(DR11,$DR$4:$DR$23,0) -> 4 | DT11: =AO11 -> 0 | DU11: =(((DI11*10^3+DK11)*10^3+DN11)*10^3+DQ11)*10^3+DT11 -> 0 | DV11: =IF(F11>0,RANK(DU11,$DU$4:$DU$23,0),20) -> 20 | DW11: =IF(DV11<>20,RANK(DV11,$DV$4:$DV$23,1)+COUNTIF(DV$4:DV11,DV11)-1,20) -> 20 | DX11: =DI11/$DX$3 -> 0 | DY11: =IF(COUNTIF(CE11:DB11,"x")>0,"Dis",IF(COUNTIF(DC11,"x")>0,"Abbruch","-")) -> - | EA11: =L11+Q11+V11+AA11+AF11+AK11+AP11+AU11-DD11 -> 0 | EB11: =M11+R11+W11+AB11+AG11+AL11+AQ11+AV11-DE11 -> 0 | EC11: =N11+S11+X11+AC11+AH11+AM11+AR11+AW11-DF11 -> 0
D12: =classi!B20 -> - | F12: =classi!C20 -> 0 | G12: =classi!D20 -> 0 | H12: =classi!G20 -> 0 | L12: 0 | M12: 0 | N12: 0 | P12: =AVERAGE(L12:N12) -> 0 | Q12: 0 | R12: 0 | S12: =0 -> 0 | U12: =AVERAGE(Q12:S12) -> 0 | V12: 0 | W12: 0 | X12: 0 | Z12: =AVERAGE(V12:X12) -> 0 | AA12: 0 | AB12: 0 | AC12: 0 | AE12: =AVERAGE(AA12:AC12) -> 0 | AF12: 0 | AG12: 0 | AH12: 0 | AJ12: =AVERAGE(AF12:AH12) -> 0 | AK12: 0 | AL12: 0 | AM12: 0 | AO12: =AVERAGE(AK12:AM12) -> 0 | AP12: 0 | AQ12: 0 | AR12: 0 | AT12: =AVERAGE(AP12:AR12) -> 0 | AU12: 0 | AV12: 0 | AW12: 0 | AY12: =AVERAGE(AU12:AW12) -> 0 | AZ12: =P12+U12+Z12+AE12+AJ12+AO12+AT12+AY12 -> 0 | BA12: 0 | BB12: 0 | BC12: 0 | BE12: =AVERAGE(BA12:BD12) -> 0 | BF12: 0 | BG12: 0 | BH12: 0 | BJ12: =AVERAGE(BF12:BI12) -> 0 | BK12: 0 | BL12: 0 | BM12: 0 | BO12: =AVERAGE(BK12:BN12) -> 0 | BP12: 0 | BQ12: 0 | BR12: 0 | BT12: =AVERAGE(BP12:BS12) -> 0 | BU12: 0 | BV12: 0 | BW12: 0 | BY12: =AVERAGE(BU12:BX12) -> 0 | BZ12: 0 | CA12: 0 | CB12: 0 | CD12: =AVERAGE(BZ12:CC12) -> 0 | DD12: =SUM(BA12,BF12,BK12,BP12,BU12,BZ12) -> 0 | DE12: =SUM(BB12,BG12,BL12,BQ12,BV12,CA12) -> 0 | DF12: =SUM(BC12+BH12+BM12+BR12+BW12+CB12) -> 0 | DH12: =BE12+BJ12+BT12+BO12+BY12+CD12 -> 0 | DI12: =AZ12-DH12 -> 0 | DJ12: =RANK(DI12,$DI$4:$DI$23,0) -> 4 | DK12: =P12 -> 0 | DL12: =DI12*10^3+DK12 -> 0 | DM12: =RANK(DL12,$DL$4:$DL$23,0) -> 4 | DN12: =AJ12 -> 0 | DO12: =(DI12*10^3+DK12)*10^3+DN12 -> 0 | DP12: =RANK(DO12,$DO$4:$DO$23,0) -> 4 | DQ12: =U12 -> 0 | DR12: =((DI12*10^3+DK12)*10^3+DN12)*10^3+DQ12 -> 0 | DS12: =RANK(DR12,$DR$4:$DR$23,0) -> 4 | DT12: =AO12 -> 0 | DU12: =(((DI12*10^3+DK12)*10^3+DN12)*10^3+DQ12)*10^3+DT12 -> 0 | DV12: =IF(F12>0,RANK(DU12,$DU$4:$DU$23,0),20) -> 20 | DW12: =IF(DV12<>20,RANK(DV12,$DV$4:$DV$23,1)+COUNTIF(DV$4:DV12,DV12)-1,20) -> 20 | DX12: =DI12/$DX$3 -> 0 | DY12: =IF(COUNTIF(CE12:DB12,"x")>0,"Dis",IF(COUNTIF(DC12,"x")>0,"Abbruch","-")) -> - | EA12: =L12+Q12+V12+AA12+AF12+AK12+AP12+AU12-DD12 -> 0 | EB12: =M12+R12+W12+AB12+AG12+AL12+AQ12+AV12-DE12 -> 0 | EC12: =N12+S12+X12+AC12+AH12+AM12+AR12+AW12-DF12 -> 0
D13: =classi!B21 -> - | F13: =classi!C21 -> 0 | G13: =classi!D21 -> 0 | H13: =classi!G21 -> 0 | L13: 0 | M13: 0 | N13: 0 | P13: =AVERAGE(L13:N13) -> 0 | Q13: 0 | R13: 0 | S13: =0 -> 0 | U13: =AVERAGE(Q13:S13) -> 0 | V13: 0 | W13: 0 | X13: 0 | Z13: =AVERAGE(V13:X13) -> 0 | AA13: 0 | AB13: 0 | AC13: 0 | AE13: =AVERAGE(AA13:AC13) -> 0 | AF13: 0 | AG13: 0 | AH13: 0 | AJ13: =AVERAGE(AF13:AH13) -> 0 | AK13: 0 | AL13: 0 | AM13: 0 | AO13: =AVERAGE(AK13:AM13) -> 0 | AP13: 0 | AQ13: 0 | AR13: 0 | AT13: =AVERAGE(AP13:AR13) -> 0 | AU13: 0 | AV13: 0 | AW13: 0 | AY13: =AVERAGE(AU13:AW13) -> 0 | AZ13: =P13+U13+Z13+AE13+AJ13+AO13+AT13+AY13 -> 0 | BA13: 0 | BB13: 0 | BC13: 0 | BE13: =AVERAGE(BA13:BD13) -> 0 | BF13: 0 | BG13: 0 | BH13: 0 | BJ13: =AVERAGE(BF13:BI13) -> 0 | BK13: 0 | BL13: 0 | BM13: 0 | BO13: =AVERAGE(BK13:BN13) -> 0 | BP13: 0 | BQ13: 0 | BR13: 0 | BT13: =AVERAGE(BP13:BS13) -> 0 | BU13: 0 | BV13: 0 | BW13: 0 | BY13: =AVERAGE(BU13:BX13) -> 0 | BZ13: 0 | CA13: 0 | CB13: 0 | CD13: =AVERAGE(BZ13:CC13) -> 0 | DD13: =SUM(BA13,BF13,BK13,BP13,BU13,BZ13) -> 0 | DE13: =SUM(BB13,BG13,BL13,BQ13,BV13,CA13) -> 0 | DF13: =SUM(BC13+BH13+BM13+BR13+BW13+CB13) -> 0 | DH13: =BE13+BJ13+BT13+BO13+BY13+CD13 -> 0 | DI13: =AZ13-DH13 -> 0 | DJ13: =RANK(DI13,$DI$4:$DI$23,0) -> 4 | DK13: =P13 -> 0 | DL13: =DI13*10^3+DK13 -> 0 | DM13: =RANK(DL13,$DL$4:$DL$23,0) -> 4 | DN13: =AJ13 -> 0 | DO13: =(DI13*10^3+DK13)*10^3+DN13 -> 0 | DP13: =RANK(DO13,$DO$4:$DO$23,0) -> 4 | DQ13: =U13 -> 0 | DR13: =((DI13*10^3+DK13)*10^3+DN13)*10^3+DQ13 -> 0 | DS13: =RANK(DR13,$DR$4:$DR$23,0) -> 4 | DT13: =AO13 -> 0 | DU13: =(((DI13*10^3+DK13)*10^3+DN13)*10^3+DQ13)*10^3+DT13 -> 0 | DV13: =IF(F13>0,RANK(DU13,$DU$4:$DU$23,0),20) -> 20 | DW13: =IF(DV13<>20,RANK(DV13,$DV$4:$DV$23,1)+COUNTIF(DV$4:DV13,DV13)-1,20) -> 20 | DX13: =DI13/$DX$3 -> 0 | DY13: =IF(COUNTIF(CE13:DB13,"x")>0,"Dis",IF(COUNTIF(DC13,"x")>0,"Abbruch","-")) -> - | EA13: =L13+Q13+V13+AA13+AF13+AK13+AP13+AU13-DD13 -> 0 | EB13: =M13+R13+W13+AB13+AG13+AL13+AQ13+AV13-DE13 -> 0 | EC13: =N13+S13+X13+AC13+AH13+AM13+AR13+AW13-DF13 -> 0
D14: =classi!B22 -> - | F14: =classi!C22 -> 0 | G14: =classi!D22 -> 0 | H14: =classi!G22 -> 0 | L14: 0 | M14: 0 | N14: 0 | P14: =AVERAGE(L14:N14) -> 0 | Q14: 0 | R14: 0 | S14: =0 -> 0 | U14: =AVERAGE(Q14:S14) -> 0 | V14: 0 | W14: 0 | X14: 0 | Z14: =AVERAGE(V14:X14) -> 0 | AA14: 0 | AB14: 0 | AC14: 0 | AE14: =AVERAGE(AA14:AC14) -> 0 | AF14: 0 | AG14: 0 | AH14: 0 | AJ14: =AVERAGE(AF14:AH14) -> 0 | AK14: 0 | AL14: 0 | AM14: 0 | AO14: =AVERAGE(AK14:AM14) -> 0 | AP14: 0 | AQ14: 0 | AR14: 0 | AT14: =AVERAGE(AP14:AR14) -> 0 | AU14: 0 | AV14: 0 | AW14: 0 | AY14: =AVERAGE(AU14:AW14) -> 0 | AZ14: =P14+U14+Z14+AE14+AJ14+AO14+AT14+AY14 -> 0 | BA14: 0 | BB14: 0 | BC14: 0 | BE14: =AVERAGE(BA14:BD14) -> 0 | BF14: 0 | BG14: 0 | BH14: 0 | BJ14: =AVERAGE(BF14:BI14) -> 0 | BK14: 0 | BL14: 0 | BM14: 0 | BO14: =AVERAGE(BK14:BN14) -> 0 | BP14: 0 | BQ14: 0 | BR14: 0 | BT14: =AVERAGE(BP14:BS14) -> 0 | BU14: 0 | BV14: 0 | BW14: 0 | BY14: =AVERAGE(BU14:BX14) -> 0 | BZ14: 0 | CA14: 0 | CB14: 0 | CD14: =AVERAGE(BZ14:CC14) -> 0 | DD14: =SUM(BA14,BF14,BK14,BP14,BU14,BZ14) -> 0 | DE14: =SUM(BB14,BG14,BL14,BQ14,BV14,CA14) -> 0 | DF14: =SUM(BC14+BH14+BM14+BR14+BW14+CB14) -> 0 | DH14: =BE14+BJ14+BT14+BO14+BY14+CD14 -> 0 | DI14: =AZ14-DH14 -> 0 | DJ14: =RANK(DI14,$DI$4:$DI$23,0) -> 4 | DK14: =P14 -> 0 | DL14: =DI14*10^3+DK14 -> 0 | DM14: =RANK(DL14,$DL$4:$DL$23,0) -> 4 | DN14: =AJ14 -> 0 | DO14: =(DI14*10^3+DK14)*10^3+DN14 -> 0 | DP14: =RANK(DO14,$DO$4:$DO$23,0) -> 4 | DQ14: =U14 -> 0 | DR14: =((DI14*10^3+DK14)*10^3+DN14)*10^3+DQ14 -> 0 | DS14: =RANK(DR14,$DR$4:$DR$23,0) -> 4 | DT14: =AO14 -> 0 | DU14: =(((DI14*10^3+DK14)*10^3+DN14)*10^3+DQ14)*10^3+DT14 -> 0 | DV14: =IF(F14>0,RANK(DU14,$DU$4:$DU$23,0),20) -> 20 | DW14: =IF(DV14<>20,RANK(DV14,$DV$4:$DV$23,1)+COUNTIF(DV$4:DV14,DV14)-1,20) -> 20 | DX14: =DI14/$DX$3 -> 0 | DY14: =IF(COUNTIF(CE14:DB14,"x")>0,"Dis",IF(COUNTIF(DC14,"x")>0,"Abbruch","-")) -> - | EA14: =L14+Q14+V14+AA14+AF14+AK14+AP14+AU14-DD14 -> 0 | EB14: =M14+R14+W14+AB14+AG14+AL14+AQ14+AV14-DE14 -> 0 | EC14: =N14+S14+X14+AC14+AH14+AM14+AR14+AW14-DF14 -> 0
D15: =classi!B23 -> - | F15: =classi!C23 -> 0 | G15: =classi!D23 -> 0 | H15: =classi!G23 -> 0 | L15: 0 | M15: 0 | N15: 0 | P15: =AVERAGE(L15:N15) -> 0 | Q15: 0 | R15: 0 | S15: =0 -> 0 | U15: =AVERAGE(Q15:S15) -> 0 | V15: 0 | W15: 0 | X15: 0 | Z15: =AVERAGE(V15:X15) -> 0 | AA15: 0 | AB15: 0 | AC15: 0 | AE15: =AVERAGE(AA15:AC15) -> 0 | AF15: 0 | AG15: 0 | AH15: 0 | AJ15: =AVERAGE(AF15:AH15) -> 0 | AK15: 0 | AL15: 0 | AM15: 0 | AO15: =AVERAGE(AK15:AM15) -> 0 | AP15: 0 | AQ15: 0 | AR15: 0 | AT15: =AVERAGE(AP15:AR15) -> 0 | AU15: 0 | AV15: 0 | AW15: 0 | AY15: =AVERAGE(AU15:AW15) -> 0 | AZ15: =P15+U15+Z15+AE15+AJ15+AO15+AT15+AY15 -> 0 | BA15: 0 | BB15: 0 | BC15: 0 | BE15: =AVERAGE(BA15:BD15) -> 0 | BF15: 0 | BG15: 0 | BH15: 0 | BJ15: =AVERAGE(BF15:BI15) -> 0 | BK15: 0 | BL15: 0 | BM15: 0 | BO15: =AVERAGE(BK15:BN15) -> 0 | BP15: 0 | BQ15: 0 | BR15: 0 | BT15: =AVERAGE(BP15:BS15) -> 0 | BU15: 0 | BV15: 0 | BW15: 0 | BY15: =AVERAGE(BU15:BX15) -> 0 | BZ15: 0 | CA15: 0 | CB15: 0 | CD15: =AVERAGE(BZ15:CC15) -> 0 | DD15: =SUM(BA15,BF15,BK15,BP15,BU15,BZ15) -> 0 | DE15: =SUM(BB15,BG15,BL15,BQ15,BV15,CA15) -> 0 | DF15: =SUM(BC15+BH15+BM15+BR15+BW15+CB15) -> 0 | DH15: =BE15+BJ15+BT15+BO15+BY15+CD15 -> 0 | DI15: =AZ15-DH15 -> 0 | DJ15: =RANK(DI15,$DI$4:$DI$23,0) -> 4 | DK15: =P15 -> 0 | DL15: =DI15*10^3+DK15 -> 0 | DM15: =RANK(DL15,$DL$4:$DL$23,0) -> 4 | DN15: =AJ15 -> 0 | DO15: =(DI15*10^3+DK15)*10^3+DN15 -> 0 | DP15: =RANK(DO15,$DO$4:$DO$23,0) -> 4 | DQ15: =U15 -> 0 | DR15: =((DI15*10^3+DK15)*10^3+DN15)*10^3+DQ15 -> 0 | DS15: =RANK(DR15,$DR$4:$DR$23,0) -> 4 | DT15: =AO15 -> 0 | DU15: =(((DI15*10^3+DK15)*10^3+DN15)*10^3+DQ15)*10^3+DT15 -> 0 | DV15: =IF(F15>0,RANK(DU15,$DU$4:$DU$23,0),20) -> 20 | DW15: =IF(DV15<>20,RANK(DV15,$DV$4:$DV$23,1)+COUNTIF(DV$4:DV15,DV15)-1,20) -> 20 | DX15: =DI15/$DX$3 -> 0 | DY15: =IF(COUNTIF(CE15:DB15,"x")>0,"Dis",IF(COUNTIF(DC15,"x")>0,"Abbruch","-")) -> - | EA15: =L15+Q15+V15+AA15+AF15+AK15+AP15+AU15-DD15 -> 0 | EB15: =M15+R15+W15+AB15+AG15+AL15+AQ15+AV15-DE15 -> 0 | EC15: =N15+S15+X15+AC15+AH15+AM15+AR15+AW15-DF15 -> 0
D16: =classi!B24 -> - | F16: =classi!C24 -> 0 | G16: =classi!D24 -> 0 | H16: =classi!G24 -> 0 | L16: 0 | M16: 0 | N16: 0 | P16: =AVERAGE(L16:N16) -> 0 | Q16: 0 | R16: 0 | S16: =0 -> 0 | U16: =AVERAGE(Q16:S16) -> 0 | V16: 0 | W16: 0 | X16: 0 | Z16: =AVERAGE(V16:X16) -> 0 | AA16: 0 | AB16: 0 | AC16: 0 | AE16: =AVERAGE(AA16:AC16) -> 0 | AF16: 0 | AG16: 0 | AH16: 0 | AJ16: =AVERAGE(AF16:AH16) -> 0 | AK16: 0 | AL16: 0 | AM16: 0 | AO16: =AVERAGE(AK16:AM16) -> 0 | AP16: 0 | AQ16: 0 | AR16: 0 | AT16: =AVERAGE(AP16:AR16) -> 0 | AU16: 0 | AV16: 0 | AW16: 0 | AY16: =AVERAGE(AU16:AW16) -> 0 | AZ16: =P16+U16+Z16+AE16+AJ16+AO16+AT16+AY16 -> 0 | BA16: 0 | BB16: 0 | BC16: 0 | BE16: =AVERAGE(BA16:BD16) -> 0 | BF16: 0 | BG16: 0 | BH16: 0 | BJ16: =AVERAGE(BF16:BI16) -> 0 | BK16: 0 | BL16: 0 | BM16: 0 | BO16: =AVERAGE(BK16:BN16) -> 0 | BP16: 0 | BQ16: 0 | BR16: 0 | BT16: =AVERAGE(BP16:BS16) -> 0 | BU16: 0 | BV16: 0 | BW16: 0 | BY16: =AVERAGE(BU16:BX16) -> 0 | BZ16: 0 | CA16: 0 | CB16: 0 | CD16: =AVERAGE(BZ16:CC16) -> 0 | DD16: =SUM(BA16,BF16,BK16,BP16,BU16,BZ16) -> 0 | DE16: =SUM(BB16,BG16,BL16,BQ16,BV16,CA16) -> 0 | DF16: =SUM(BC16+BH16+BM16+BR16+BW16+CB16) -> 0 | DH16: =BE16+BJ16+BT16+BO16+BY16+CD16 -> 0 | DI16: =AZ16-DH16 -> 0 | DJ16: =RANK(DI16,$DI$4:$DI$23,0) -> 4 | DK16: =P16 -> 0 | DL16: =DI16*10^3+DK16 -> 0 | DM16: =RANK(DL16,$DL$4:$DL$23,0) -> 4 | DN16: =AJ16 -> 0 | DO16: =(DI16*10^3+DK16)*10^3+DN16 -> 0 | DP16: =RANK(DO16,$DO$4:$DO$23,0) -> 4 | DQ16: =U16 -> 0 | DR16: =((DI16*10^3+DK16)*10^3+DN16)*10^3+DQ16 -> 0 | DS16: =RANK(DR16,$DR$4:$DR$23,0) -> 4 | DT16: =AO16 -> 0 | DU16: =(((DI16*10^3+DK16)*10^3+DN16)*10^3+DQ16)*10^3+DT16 -> 0 | DV16: =IF(F16>0,RANK(DU16,$DU$4:$DU$23,0),20) -> 20 | DW16: =IF(DV16<>20,RANK(DV16,$DV$4:$DV$23,1)+COUNTIF(DV$4:DV16,DV16)-1,20) -> 20 | DX16: =DI16/$DX$3 -> 0 | DY16: =IF(COUNTIF(CE16:DB16,"x")>0,"Dis",IF(COUNTIF(DC16,"x")>0,"Abbruch","-")) -> - | EA16: =L16+Q16+V16+AA16+AF16+AK16+AP16+AU16-DD16 -> 0 | EB16: =M16+R16+W16+AB16+AG16+AL16+AQ16+AV16-DE16 -> 0 | EC16: =N16+S16+X16+AC16+AH16+AM16+AR16+AW16-DF16 -> 0
D17: =classi!B25 -> - | F17: =classi!C25 -> 0 | G17: =classi!D25 -> 0 | H17: =classi!G25 -> 0 | L17: 0 | M17: 0 | N17: 0 | P17: =AVERAGE(L17:N17) -> 0 | Q17: 0 | R17: 0 | S17: =0 -> 0 | U17: =AVERAGE(Q17:S17) -> 0 | V17: 0 | W17: 0 | X17: 0 | Z17: =AVERAGE(V17:X17) -> 0 | AA17: 0 | AB17: 0 | AC17: 0 | AE17: =AVERAGE(AA17:AC17) -> 0 | AF17: 0 | AG17: 0 | AH17: 0 | AJ17: =AVERAGE(AF17:AH17) -> 0 | AK17: 0 | AL17: 0 | AM17: 0 | AO17: =AVERAGE(AK17:AM17) -> 0 | AP17: 0 | AQ17: 0 | AR17: 0 | AT17: =AVERAGE(AP17:AR17) -> 0 | AU17: 0 | AV17: 0 | AW17: 0 | AY17: =AVERAGE(AU17:AW17) -> 0 | AZ17: =P17+U17+Z17+AE17+AJ17+AO17+AT17+AY17 -> 0 | BA17: 0 | BB17: 0 | BC17: 0 | BE17: =AVERAGE(BA17:BD17) -> 0 | BF17: 0 | BG17: 0 | BH17: 0 | BJ17: =AVERAGE(BF17:BI17) -> 0 | BK17: 0 | BL17: 0 | BM17: 0 | BO17: =AVERAGE(BK17:BN17) -> 0 | BP17: 0 | BQ17: 0 | BR17: 0 | BT17: =AVERAGE(BP17:BS17) -> 0 | BU17: 0 | BV17: 0 | BW17: 0 | BY17: =AVERAGE(BU17:BX17) -> 0 | BZ17: 0 | CA17: 0 | CB17: 0 | CD17: =AVERAGE(BZ17:CC17) -> 0 | DD17: =SUM(BA17,BF17,BK17,BP17,BU17,BZ17) -> 0 | DE17: =SUM(BB17,BG17,BL17,BQ17,BV17,CA17) -> 0 | DF17: =SUM(BC17+BH17+BM17+BR17+BW17+CB17) -> 0 | DH17: =BE17+BJ17+BT17+BO17+BY17+CD17 -> 0 | DI17: =AZ17-DH17 -> 0 | DJ17: =RANK(DI17,$DI$4:$DI$23,0) -> 4 | DK17: =P17 -> 0 | DL17: =DI17*10^3+DK17 -> 0 | DM17: =RANK(DL17,$DL$4:$DL$23,0) -> 4 | DN17: =AJ17 -> 0 | DO17: =(DI17*10^3+DK17)*10^3+DN17 -> 0 | DP17: =RANK(DO17,$DO$4:$DO$23,0) -> 4 | DQ17: =U17 -> 0 | DR17: =((DI17*10^3+DK17)*10^3+DN17)*10^3+DQ17 -> 0 | DS17: =RANK(DR17,$DR$4:$DR$23,0) -> 4 | DT17: =AO17 -> 0 | DU17: =(((DI17*10^3+DK17)*10^3+DN17)*10^3+DQ17)*10^3+DT17 -> 0 | DV17: =IF(F17>0,RANK(DU17,$DU$4:$DU$23,0),20) -> 20 | DW17: =IF(DV17<>20,RANK(DV17,$DV$4:$DV$23,1)+COUNTIF(DV$4:DV17,DV17)-1,20) -> 20 | DX17: =DI17/$DX$3 -> 0 | DY17: =IF(COUNTIF(CE17:DB17,"x")>0,"Dis",IF(COUNTIF(DC17,"x")>0,"Abbruch","-")) -> - | EA17: =L17+Q17+V17+AA17+AF17+AK17+AP17+AU17-DD17 -> 0 | EB17: =M17+R17+W17+AB17+AG17+AL17+AQ17+AV17-DE17 -> 0 | EC17: =N17+S17+X17+AC17+AH17+AM17+AR17+AW17-DF17 -> 0
D18: =classi!B26 -> - | F18: =classi!C26 -> 0 | G18: =classi!D26 -> 0 | H18: =classi!G26 -> 0 | L18: 0 | M18: 0 | N18: 0 | P18: =AVERAGE(L18:N18) -> 0 | Q18: 0 | R18: 0 | S18: =0 -> 0 | U18: =AVERAGE(Q18:S18) -> 0 | V18: 0 | W18: 0 | X18: 0 | Z18: =AVERAGE(V18:X18) -> 0 | AA18: 0 | AB18: 0 | AC18: 0 | AE18: =AVERAGE(AA18:AC18) -> 0 | AF18: 0 | AG18: 0 | AH18: 0 | AJ18: =AVERAGE(AF18:AH18) -> 0 | AK18: 0 | AL18: 0 | AM18: 0 | AO18: =AVERAGE(AK18:AM18) -> 0 | AP18: 0 | AQ18: 0 | AR18: 0 | AT18: =AVERAGE(AP18:AR18) -> 0 | AU18: 0 | AV18: 0 | AW18: 0 | AY18: =AVERAGE(AU18:AW18) -> 0 | AZ18: =P18+U18+Z18+AE18+AJ18+AO18+AT18+AY18 -> 0 | BA18: 0 | BB18: 0 | BC18: 0 | BE18: =AVERAGE(BA18:BD18) -> 0 | BF18: 0 | BG18: 0 | BH18: 0 | BJ18: =AVERAGE(BF18:BI18) -> 0 | BK18: 0 | BL18: 0 | BM18: 0 | BO18: =AVERAGE(BK18:BN18) -> 0 | BP18: 0 | BQ18: 0 | BR18: 0 | BT18: =AVERAGE(BP18:BS18) -> 0 | BU18: 0 | BV18: 0 | BW18: 0 | BY18: =AVERAGE(BU18:BX18) -> 0 | BZ18: 0 | CA18: 0 | CB18: 0 | CD18: =AVERAGE(BZ18:CC18) -> 0 | DD18: =SUM(BA18,BF18,BK18,BP18,BU18,BZ18) -> 0 | DE18: =SUM(BB18,BG18,BL18,BQ18,BV18,CA18) -> 0 | DF18: =SUM(BC18+BH18+BM18+BR18+BW18+CB18) -> 0 | DH18: =BE18+BJ18+BT18+BO18+BY18+CD18 -> 0 | DI18: =AZ18-DH18 -> 0 | DJ18: =RANK(DI18,$DI$4:$DI$23,0) -> 4 | DK18: =P18 -> 0 | DL18: =DI18*10^3+DK18 -> 0 | DM18: =RANK(DL18,$DL$4:$DL$23,0) -> 4 | DN18: =AJ18 -> 0 | DO18: =(DI18*10^3+DK18)*10^3+DN18 -> 0 | DP18: =RANK(DO18,$DO$4:$DO$23,0) -> 4 | DQ18: =U18 -> 0 | DR18: =((DI18*10^3+DK18)*10^3+DN18)*10^3+DQ18 -> 0 | DS18: =RANK(DR18,$DR$4:$DR$23,0) -> 4 | DT18: =AO18 -> 0 | DU18: =(((DI18*10^3+DK18)*10^3+DN18)*10^3+DQ18)*10^3+DT18 -> 0 | DV18: =IF(F18>0,RANK(DU18,$DU$4:$DU$23,0),20) -> 20 | DW18: =IF(DV18<>20,RANK(DV18,$DV$4:$DV$23,1)+COUNTIF(DV$4:DV18,DV18)-1,20) -> 20 | DX18: =DI18/$DX$3 -> 0 | DY18: =IF(COUNTIF(CE18:DB18,"x")>0,"Dis",IF(COUNTIF(DC18,"x")>0,"Abbruch","-")) -> - | EA18: =L18+Q18+V18+AA18+AF18+AK18+AP18+AU18-DD18 -> 0 | EB18: =M18+R18+W18+AB18+AG18+AL18+AQ18+AV18-DE18 -> 0 | EC18: =N18+S18+X18+AC18+AH18+AM18+AR18+AW18-DF18 -> 0
D19: =classi!B27 -> - | F19: =classi!C27 -> 0 | G19: =classi!D27 -> 0 | H19: =classi!G27 -> 0 | L19: 0 | M19: 0 | N19: 0 | P19: =AVERAGE(L19:N19) -> 0 | Q19: 0 | R19: 0 | S19: =0 -> 0 | U19: =AVERAGE(Q19:S19) -> 0 | V19: 0 | W19: 0 | X19: 0 | Z19: =AVERAGE(V19:X19) -> 0 | AA19: 0 | AB19: 0 | AC19: 0 | AE19: =AVERAGE(AA19:AC19) -> 0 | AF19: 0 | AG19: 0 | AH19: 0 | AJ19: =AVERAGE(AF19:AH19) -> 0 | AK19: 0 | AL19: 0 | AM19: 0 | AO19: =AVERAGE(AK19:AM19) -> 0 | AP19: 0 | AQ19: 0 | AR19: 0 | AT19: =AVERAGE(AP19:AR19) -> 0 | AU19: 0 | AV19: 0 | AW19: 0 | AY19: =AVERAGE(AU19:AW19) -> 0 | AZ19: =P19+U19+Z19+AE19+AJ19+AO19+AT19+AY19 -> 0 | BA19: 0 | BB19: 0 | BC19: 0 | BE19: =AVERAGE(BA19:BD19) -> 0 | BF19: 0 | BG19: 0 | BH19: 0 | BJ19: =AVERAGE(BF19:BI19) -> 0 | BK19: 0 | BL19: 0 | BM19: 0 | BO19: =AVERAGE(BK19:BN19) -> 0 | BP19: 0 | BQ19: 0 | BR19: 0 | BT19: =AVERAGE(BP19:BS19) -> 0 | BU19: 0 | BV19: 0 | BW19: 0 | BY19: =AVERAGE(BU19:BX19) -> 0 | BZ19: 0 | CA19: 0 | CB19: 0 | CD19: =AVERAGE(BZ19:CC19) -> 0 | DD19: =SUM(BA19,BF19,BK19,BP19,BU19,BZ19) -> 0 | DE19: =SUM(BB19,BG19,BL19,BQ19,BV19,CA19) -> 0 | DF19: =SUM(BC19+BH19+BM19+BR19+BW19+CB19) -> 0 | DH19: =BE19+BJ19+BT19+BO19+BY19+CD19 -> 0 | DI19: =AZ19-DH19 -> 0 | DJ19: =RANK(DI19,$DI$4:$DI$23,0) -> 4 | DK19: =P19 -> 0 | DL19: =DI19*10^3+DK19 -> 0 | DM19: =RANK(DL19,$DL$4:$DL$23,0) -> 4 | DN19: =AJ19 -> 0 | DO19: =(DI19*10^3+DK19)*10^3+DN19 -> 0 | DP19: =RANK(DO19,$DO$4:$DO$23,0) -> 4 | DQ19: =U19 -> 0 | DR19: =((DI19*10^3+DK19)*10^3+DN19)*10^3+DQ19 -> 0 | DS19: =RANK(DR19,$DR$4:$DR$23,0) -> 4 | DT19: =AO19 -> 0 | DU19: =(((DI19*10^3+DK19)*10^3+DN19)*10^3+DQ19)*10^3+DT19 -> 0 | DV19: =IF(F19>0,RANK(DU19,$DU$4:$DU$23,0),20) -> 20 | DW19: =IF(DV19<>20,RANK(DV19,$DV$4:$DV$23,1)+COUNTIF(DV$4:DV19,DV19)-1,20) -> 20 | DX19: =DI19/$DX$3 -> 0 | DY19: =IF(COUNTIF(CE19:DB19,"x")>0,"Dis",IF(COUNTIF(DC19,"x")>0,"Abbruch","-")) -> - | EA19: =L19+Q19+V19+AA19+AF19+AK19+AP19+AU19-DD19 -> 0 | EB19: =M19+R19+W19+AB19+AG19+AL19+AQ19+AV19-DE19 -> 0 | EC19: =N19+S19+X19+AC19+AH19+AM19+AR19+AW19-DF19 -> 0
D20: =classi!B28 -> - | F20: =classi!C28 -> 0 | G20: =classi!D28 -> 0 | H20: =classi!G28 -> 0 | L20: 0 | M20: 0 | N20: 0 | P20: =AVERAGE(L20:N20) -> 0 | Q20: 0 | R20: 0 | S20: =0 -> 0 | U20: =AVERAGE(Q20:S20) -> 0 | V20: 0 | W20: 0 | X20: 0 | Z20: =AVERAGE(V20:X20) -> 0 | AA20: 0 | AB20: 0 | AC20: 0 | AE20: =AVERAGE(AA20:AC20) -> 0 | AF20: 0 | AG20: 0 | AH20: 0 | AJ20: =AVERAGE(AF20:AH20) -> 0 | AK20: 0 | AL20: 0 | AM20: 0 | AO20: =AVERAGE(AK20:AM20) -> 0 | AP20: 0 | AQ20: 0 | AR20: 0 | AT20: =AVERAGE(AP20:AR20) -> 0 | AU20: 0 | AV20: 0 | AW20: 0 | AY20: =AVERAGE(AU20:AW20) -> 0 | AZ20: =P20+U20+Z20+AE20+AJ20+AO20+AT20+AY20 -> 0 | BA20: 0 | BB20: 0 | BC20: 0 | BE20: =AVERAGE(BA20:BD20) -> 0 | BF20: 0 | BG20: 0 | BH20: 0 | BJ20: =AVERAGE(BF20:BI20) -> 0 | BK20: 0 | BL20: 0 | BM20: 0 | BO20: =AVERAGE(BK20:BN20) -> 0 | BP20: 0 | BQ20: 0 | BR20: 0 | BT20: =AVERAGE(BP20:BS20) -> 0 | BU20: 0 | BV20: 0 | BW20: 0 | BY20: =AVERAGE(BU20:BX20) -> 0 | BZ20: 0 | CA20: 0 | CB20: 0 | CD20: =AVERAGE(BZ20:CC20) -> 0 | DD20: =SUM(BA20,BF20,BK20,BP20,BU20,BZ20) -> 0 | DE20: =SUM(BB20,BG20,BL20,BQ20,BV20,CA20) -> 0 | DF20: =SUM(BC20+BH20+BM20+BR20+BW20+CB20) -> 0 | DH20: =BE20+BJ20+BT20+BO20+BY20+CD20 -> 0 | DI20: =AZ20-DH20 -> 0 | DJ20: =RANK(DI20,$DI$4:$DI$23,0) -> 4 | DK20: =P20 -> 0 | DL20: =DI20*10^3+DK20 -> 0 | DM20: =RANK(DL20,$DL$4:$DL$23,0) -> 4 | DN20: =AJ20 -> 0 | DO20: =(DI20*10^3+DK20)*10^3+DN20 -> 0 | DP20: =RANK(DO20,$DO$4:$DO$23,0) -> 4 | DQ20: =U20 -> 0 | DR20: =((DI20*10^3+DK20)*10^3+DN20)*10^3+DQ20 -> 0 | DS20: =RANK(DR20,$DR$4:$DR$23,0) -> 4 | DT20: =AO20 -> 0 | DU20: =(((DI20*10^3+DK20)*10^3+DN20)*10^3+DQ20)*10^3+DT20 -> 0 | DV20: =IF(F20>0,RANK(DU20,$DU$4:$DU$23,0),20) -> 20 | DW20: =IF(DV20<>20,RANK(DV20,$DV$4:$DV$23,1)+COUNTIF(DV$4:DV20,DV20)-1,20) -> 20 | DX20: =DI20/$DX$3 -> 0 | DY20: =IF(COUNTIF(CE20:DB20,"x")>0,"Dis",IF(COUNTIF(DC20,"x")>0,"Abbruch","-")) -> - | EA20: =L20+Q20+V20+AA20+AF20+AK20+AP20+AU20-DD20 -> 0 | EB20: =M20+R20+W20+AB20+AG20+AL20+AQ20+AV20-DE20 -> 0 | EC20: =N20+S20+X20+AC20+AH20+AM20+AR20+AW20-DF20 -> 0
D21: =classi!B29 -> - | F21: =classi!C29 -> 0 | G21: =classi!D29 -> 0 | H21: =classi!G29 -> 0 | L21: 0 | M21: 0 | N21: 0 | P21: =AVERAGE(L21:N21) -> 0 | Q21: 0 | R21: 0 | S21: =0 -> 0 | U21: =AVERAGE(Q21:S21) -> 0 | V21: 0 | W21: 0 | X21: 0 | Z21: =AVERAGE(V21:X21) -> 0 | AA21: 0 | AB21: 0 | AC21: 0 | AE21: =AVERAGE(AA21:AC21) -> 0 | AF21: 0 | AG21: 0 | AH21: 0 | AJ21: =AVERAGE(AF21:AH21) -> 0 | AK21: 0 | AL21: 0 | AM21: 0 | AO21: =AVERAGE(AK21:AM21) -> 0 | AP21: 0 | AQ21: 0 | AR21: 0 | AT21: =AVERAGE(AP21:AR21) -> 0 | AU21: 0 | AV21: 0 | AW21: 0 | AY21: =AVERAGE(AU21:AW21) -> 0 | AZ21: =P21+U21+Z21+AE21+AJ21+AO21+AT21+AY21 -> 0 | BA21: 0 | BB21: 0 | BC21: 0 | BE21: =AVERAGE(BA21:BD21) -> 0 | BF21: 0 | BG21: 0 | BH21: 0 | BJ21: =AVERAGE(BF21:BI21) -> 0 | BK21: 0 | BL21: 0 | BM21: 0 | BO21: =AVERAGE(BK21:BN21) -> 0 | BP21: 0 | BQ21: 0 | BR21: 0 | BT21: =AVERAGE(BP21:BS21) -> 0 | BU21: 0 | BV21: 0 | BW21: 0 | BY21: =AVERAGE(BU21:BX21) -> 0 | BZ21: 0 | CA21: 0 | CB21: 0 | CD21: =AVERAGE(BZ21:CC21) -> 0 | DD21: =SUM(BA21,BF21,BK21,BP21,BU21,BZ21) -> 0 | DE21: =SUM(BB21,BG21,BL21,BQ21,BV21,CA21) -> 0 | DF21: =SUM(BC21+BH21+BM21+BR21+BW21+CB21) -> 0 | DH21: =BE21+BJ21+BT21+BO21+BY21+CD21 -> 0 | DI21: =AZ21-DH21 -> 0 | DJ21: =RANK(DI21,$DI$4:$DI$23,0) -> 4 | DK21: =P21 -> 0 | DL21: =DI21*10^3+DK21 -> 0 | DM21: =RANK(DL21,$DL$4:$DL$23,0) -> 4 | DN21: =AJ21 -> 0 | DO21: =(DI21*10^3+DK21)*10^3+DN21 -> 0 | DP21: =RANK(DO21,$DO$4:$DO$23,0) -> 4 | DQ21: =U21 -> 0 | DR21: =((DI21*10^3+DK21)*10^3+DN21)*10^3+DQ21 -> 0 | DS21: =RANK(DR21,$DR$4:$DR$23,0) -> 4 | DT21: =AO21 -> 0 | DU21: =(((DI21*10^3+DK21)*10^3+DN21)*10^3+DQ21)*10^3+DT21 -> 0 | DV21: =IF(F21>0,RANK(DU21,$DU$4:$DU$23,0),20) -> 20 | DW21: =IF(DV21<>20,RANK(DV21,$DV$4:$DV$23,1)+COUNTIF(DV$4:DV21,DV21)-1,20) -> 20 | DX21: =DI21/$DX$3 -> 0 | DY21: =IF(COUNTIF(CE21:DB21,"x")>0,"Dis",IF(COUNTIF(DC21,"x")>0,"Abbruch","-")) -> - | EA21: =L21+Q21+V21+AA21+AF21+AK21+AP21+AU21-DD21 -> 0 | EB21: =M21+R21+W21+AB21+AG21+AL21+AQ21+AV21-DE21 -> 0 | EC21: =N21+S21+X21+AC21+AH21+AM21+AR21+AW21-DF21 -> 0
... D23: =classi!B31 -> - | F23: =classi!C31 -> 0 | G23: =classi!D31 -> 0 | H23: =classi!G31 -> 0 | L23: 0 | M23: 0 | N23: 0 | P23: =AVERAGE(L23:N23) -> 0 | Q23: 0 | R23: 0 | S23: =0 -> 0 | U23: =AVERAGE(Q23:S23) -> 0 | V23: 0 | W23: 0 | X23: 0 | Z23: =AVERAGE(V23:X23) -> 0 | AA23: 0 | AB23: 0 | AC23: 0 | AE23: =AVERAGE(AA23:AC23) -> 0 | AF23: 0 | AG23: 0 | AH23: 0 | AJ23: =AVERAGE(AF23:AH23) -> 0 | AK23: 0 | AL23: 0 | AM23: 0 | AO23: =AVERAGE(AK23:AM23) -> 0 | AP23: 0 | AQ23: 0 | AR23: 0 | AT23: =AVERAGE(AP23:AR23) -> 0 | AU23: 0 | AV23: 0 | AW23: 0 | AY23: =AVERAGE(AU23:AW23) -> 0 | AZ23: =P23+U23+Z23+AE23+AJ23+AO23+AT23+AY23 -> 0 | BA23: 0 | BB23: 0 | BC23: 0 | BE23: =AVERAGE(BA23:BD23) -> 0 | BF23: 0 | BG23: 0 | BH23: 0 | BJ23: =AVERAGE(BF23:BI23) -> 0 | BK23: 0 | BL23: 0 | BM23: 0 | BO23: =AVERAGE(BK23:BN23) -> 0 | BP23: 0 | BQ23: 0 | BR23: 0 | BT23: =AVERAGE(BP23:BS23) -> 0 | BU23: 0 | BV23: 0 | BW23: 0 | BY23: =AVERAGE(BU23:BX23) -> 0 | BZ23: 0 | CA23: 0 | CB23: 0 | CD23: =AVERAGE(BZ23:CC23) -> 0 | DD23: =SUM(BA23,BF23,BK23,BP23,BU23,BZ23) -> 0 | DE23: =SUM(BB23,BG23,BL23,BQ23,BV23,CA23) -> 0 | DF23: =SUM(BC23+BH23+BM23+BR23+BW23+CB23) -> 0 | DH23: =BE23+BJ23+BT23+BO23+BY23+CD23 -> 0 | DI23: =AZ23-DH23 -> 0 | DJ23: =RANK(DI23,$DI$4:$DI$23,0) -> 4 | DK23: =P23 -> 0 | DL23: =DI23*10^3+DK23 -> 0 | DM23: =RANK(DL23,$DL$4:$DL$23,0) -> 4 | DN23: =AJ23 -> 0 | DO23: =(DI23*10^3+DK23)*10^3+DN23 -> 0 | DP23: =RANK(DO23,$DO$4:$DO$23,0) -> 4 | DQ23: =U23 -> 0 | DR23: =((DI23*10^3+DK23)*10^3+DN23)*10^3+DQ23 -> 0 | DS23: =RANK(DR23,$DR$4:$DR$23,0) -> 4 | DT23: =AO23 -> 0 | DU23: =(((DI23*10^3+DK23)*10^3+DN23)*10^3+DQ23)*10^3+DT23 -> 0 | DV23: =IF(F23>0,RANK(DU23,$DU$4:$DU$23,0),20) -> 20 | DW23: =IF(DV23<>20,RANK(DV23,$DV$4:$DV$23,1)+COUNTIF(DV$4:DV23,DV23)-1,20) -> 20 | DX23: =DI23/$DX$3 -> 0 | DY23: =IF(COUNTIF(CE23:DB23,"x")>0,"Dis",IF(COUNTIF(DC23,"x")>0,"Abbruch","-")) -> - | EA23: =L23+Q23+V23+AA23+AF23+AK23+AP23+AU23-DD23 -> 0 | EB23: =M23+R23+W23+AB23+AG23+AL23+AQ23+AV23-DE23 -> 0 | EC23: =N23+S23+X23+AC23+AH23+AM23+AR23+AW23-DF23 -> 0
D24: =((DI24*10^3+DK24)*10^3+DN24)*10^3+DQ24 -> 0
D27: =D2 -> Heelwork to Music 1 | L27: Artistic | P27: Tecnic | U27: Penalty | AC27: Results
D28: Posizione | F28: Nome | G28: Cognome | H28: Cane | L28: Teamwork | M28: Dynamics | N28: Concept | O28: Choreography | P28: Flow | Q28: Execution | R28: Content | S28: Difficulty | T28: Total artistic/technic | U28: Vocalisation | V28: Health of dog | W28: Incorrect use of props | X28: Time | Y28: Misconduct in the ring | Z28: Active touching | AA28: x Disqualification | AB28: Somma penalty | AC28: Points | AD28: Start Nr. | AE28: % | AF28: Point
C29: 1 | D29: =IF(AA29="-",INDEX(DV$1:DV$23,MATCH(C29,$DW$1:$DW$23,0)),AA29) -> 1 | F29: =INDEX(F$1:F$23,MATCH(C29,$DW$1:$DW$23,0)) -> LUISELLA | G29: =INDEX(G$1:G$23,MATCH(C29,$DW$1:$DW$23,0)) -> ATZARA | H29: =INDEX(H$1:H$23,MATCH(C29,$DW$1:$DW$23,0)) -> PEPPER | L29: =INDEX(P$1:P$23,MATCH(C29,$DW$1:$DW$23,0)) -> 20.333333 | M29: =INDEX(U$1:U$23,MATCH(C29,$DW$1:$DW$23,0)) -> 21 | N29: =INDEX(Z$1:Z$23,MATCH(C29,$DW$1:$DW$23,0)) -> 21.666667 | O29: =INDEX(AE$1:AE$23,MATCH(C29,$DW$1:$DW$23,0)) -> 20.666667 | P29: =INDEX(AJ$1:AJ$23,MATCH(C29,$DW$1:$DW$23,0)) -> 17.333333 | Q29: =INDEX(AO$1:AO$23,MATCH(C29,$DW$1:$DW$23,0)) -> 17.666667 | R29: =INDEX(AT$1:AT$23,MATCH(C29,$DW$1:$DW$23,0)) -> 18.666667 | S29: =INDEX(AY$1:AY$23,MATCH(C29,$DW$1:$DW$23,0)) -> 18.666667 | T29: =INDEX(AZ$1:AZ$23,MATCH(C29,$DW$1:$DW$23,0)) -> 156 | U29: =INDEX(BE$1:BE$23,MATCH(C29,$DW$1:$DW$23,0)) -> 0 | V29: =INDEX(BJ$1:BJ$23,MATCH(C29,$DW$1:$DW$23,0)) -> 0 | W29: =INDEX(BO$1:BO$23,MATCH(C29,$DW$1:$DW$23,0)) -> 0 | X29: =INDEX(BT$1:BT$23,MATCH(C29,$DW$1:$DW$23,0)) -> 0 | Y29: =INDEX(BY$1:BY$23,MATCH(C29,$DW$1:$DW$23,0)) -> 0 | Z29: =INDEX(CD$1:CD$23,MATCH(C29,$DW$1:$DW$23,0)) -> 0 | AA29: =INDEX(DY$1:DY$23,MATCH(C29,$DW$1:$DW$23,0)) -> - | AB29: =INDEX(DH$1:DH$23,MATCH(C29,$DW$1:$DW$23,0)) -> 0 | AC29: =INDEX(DI$1:DI$23,MATCH(C29,$DW$1:$DW$23,0)) -> 156 | AD29: =INDEX(D$1:D$23,MATCH(C29,$DW$1:$DW$23,0)) -> HTM1_2 | AE29: =INDEX(DX$1:DX$23,MATCH(C29,$DW$1:$DW$23,0)) -> 1 | AF29: =IF(AC29>=150,"Point","-") -> Point
C30: 2 | D30: =IF(AA30="-",INDEX(DV$1:DV$23,MATCH(C30,$DW$1:$DW$23,0)),AA30) -> 2 | F30: =INDEX(F$1:F$23,MATCH(C30,$DW$1:$DW$23,0)) -> ODILE | G30: =INDEX(G$1:G$23,MATCH(C30,$DW$1:$DW$23,0)) -> VALETTE | H30: =INDEX(H$1:H$23,MATCH(C30,$DW$1:$DW$23,0)) -> TOKIO | L30: =INDEX(P$1:P$23,MATCH(C30,$DW$1:$DW$23,0)) -> 19.666667 | M30: =INDEX(U$1:U$23,MATCH(C30,$DW$1:$DW$23,0)) -> 19.666667 | N30: =INDEX(Z$1:Z$23,MATCH(C30,$DW$1:$DW$23,0)) -> 20 | O30: =INDEX(AE$1:AE$23,MATCH(C30,$DW$1:$DW$23,0)) -> 18.333333 | P30: =INDEX(AJ$1:AJ$23,MATCH(C30,$DW$1:$DW$23,0)) -> 16.333333 | Q30: =INDEX(AO$1:AO$23,MATCH(C30,$DW$1:$DW$23,0)) -> 17 | R30: =INDEX(AT$1:AT$23,MATCH(C30,$DW$1:$DW$23,0)) -> 19.333333 | S30: =INDEX(AY$1:AY$23,MATCH(C30,$DW$1:$DW$23,0)) -> 18.666667 | T30: =INDEX(AZ$1:AZ$23,MATCH(C30,$DW$1:$DW$23,0)) -> 149 | U30: =INDEX(BE$1:BE$23,MATCH(C30,$DW$1:$DW$23,0)) -> 0 | V30: =INDEX(BJ1:BJ40,MATCH(C30,$DW1:$DW40,0)) -> 0 | W30: =INDEX(BO$1:BO$23,MATCH(C30,$DW$1:$DW$23,0)) -> 0 | X30: =INDEX(BT$1:BT$23,MATCH(C30,$DW$1:$DW$23,0)) -> 0 | Y30: =INDEX(BY$1:BY$23,MATCH(C30,$DW$1:$DW$23,0)) -> 0 | Z30: =INDEX(CD$1:CD$23,MATCH(C30,$DW$1:$DW$23,0)) -> 0 | AA30: =INDEX(DY$1:DY$23,MATCH(C30,$DW$1:$DW$23,0)) -> - | AB30: =INDEX(DH$1:DH$23,MATCH(C30,$DW$1:$DW$23,0)) -> 0 | AC30: =INDEX(DI$1:DI$23,MATCH(C30,$DW$1:$DW$23,0)) -> 149 | AD30: =INDEX(D$1:D$23,MATCH(C30,$DW$1:$DW$23,0)) -> HTM1_3 | AE30: =INDEX(DX$1:DX$23,MATCH(C30,$DW$1:$DW$23,0)) -> 0.95512821 | AF30: =IF(AC30>=150,"Point","-") -> -
C31: 3 | D31: =IF(AA31="-",INDEX(DV$1:DV$23,MATCH(C31,$DW$1:$DW$23,0)),AA31) -> 3 | F31: =INDEX(F$1:F$23,MATCH(C31,$DW$1:$DW$23,0)) -> ROSE MARIE | G31: =INDEX(G$1:G$23,MATCH(C31,$DW$1:$DW$23,0)) -> VOEGELI | H31: =INDEX(H$1:H$23,MATCH(C31,$DW$1:$DW$23,0)) -> RAIN | L31: =INDEX(P$1:P$23,MATCH(C31,$DW$1:$DW$23,0)) -> 18 | M31: =INDEX(U$1:U$23,MATCH(C31,$DW$1:$DW$23,0)) -> 17 | N31: =INDEX(Z$1:Z$23,MATCH(C31,$DW$1:$DW$23,0)) -> 19 | O31: =INDEX(AE$1:AE$23,MATCH(C31,$DW$1:$DW$23,0)) -> 17.333333 | P31: =INDEX(AJ$1:AJ$23,MATCH(C31,$DW$1:$DW$23,0)) -> 15 | Q31: =INDEX(AO$1:AO$23,MATCH(C31,$DW$1:$DW$23,0)) -> 14.333333 | R31: =INDEX(AT$1:AT$23,MATCH(C31,$DW$1:$DW$23,0)) -> 17 | S31: =INDEX(AY$1:AY$23,MATCH(C31,$DW$1:$DW$23,0)) -> 16.333333 | T31: =INDEX(AZ$1:AZ$23,MATCH(C31,$DW$1:$DW$23,0)) -> 134 | U31: =INDEX(BE$1:BE$23,MATCH(C31,$DW$1:$DW$23,0)) -> 0 | V31: =INDEX(BJ1:BJ40,MATCH(C31,$DW1:$DW40,0)) -> 0 | W31: =INDEX(BO$1:BO$23,MATCH(C31,$DW$1:$DW$23,0)) -> 0 | X31: =INDEX(BT$1:BT$23,MATCH(C31,$DW$1:$DW$23,0)) -> 0 | Y31: =INDEX(BY$1:BY$23,MATCH(C31,$DW$1:$DW$23,0)) -> 0 | Z31: =INDEX(CD$1:CD$23,MATCH(C31,$DW$1:$DW$23,0)) -> 0 | AA31: =INDEX(DY$1:DY$23,MATCH(C31,$DW$1:$DW$23,0)) -> - | AB31: =INDEX(DH$1:DH$23,MATCH(C31,$DW$1:$DW$23,0)) -> 0 | AC31: =INDEX(DI$1:DI$23,MATCH(C31,$DW$1:$DW$23,0)) -> 134 | AD31: =INDEX(D$1:D$23,MATCH(C31,$DW$1:$DW$23,0)) -> HTM1_1 | AE31: =INDEX(DX$1:DX$23,MATCH(C31,$DW$1:$DW$23,0)) -> 0.85897436 | AF31: =IF(AC31>=150,"Point","-") -> -
C32: 4 | D32: =IF(AA32="-",INDEX(DV$1:DV$23,MATCH(C32,$DW$1:$DW$23,0)),AA32) -> #N/A | F32: =INDEX(F$1:F$23,MATCH(C32,$DW$1:$DW$23,0)) -> #N/A | G32: =INDEX(G$1:G$23,MATCH(C32,$DW$1:$DW$23,0)) -> #N/A | H32: =INDEX(H$1:H$23,MATCH(C32,$DW$1:$DW$23,0)) -> #N/A | L32: =INDEX(P$1:P$23,MATCH(C32,$DW$1:$DW$23,0)) -> #N/A | M32: =INDEX(U$1:U$23,MATCH(C32,$DW$1:$DW$23,0)) -> #N/A | N32: =INDEX(Z$1:Z$23,MATCH(C32,$DW$1:$DW$23,0)) -> #N/A | O32: =INDEX(AE$1:AE$23,MATCH(C32,$DW$1:$DW$23,0)) -> #N/A | P32: =INDEX(AJ$1:AJ$23,MATCH(C32,$DW$1:$DW$23,0)) -> #N/A | Q32: =INDEX(AO$1:AO$23,MATCH(C32,$DW$1:$DW$23,0)) -> #N/A | R32: =INDEX(AT$1:AT$23,MATCH(C32,$DW$1:$DW$23,0)) -> #N/A | S32: =INDEX(AY$1:AY$23,MATCH(C32,$DW$1:$DW$23,0)) -> #N/A | T32: =INDEX(AZ$1:AZ$23,MATCH(C32,$DW$1:$DW$23,0)) -> #N/A | U32: =INDEX(BE$1:BE$23,MATCH(C32,$DW$1:$DW$23,0)) -> #N/A | V32: =INDEX(BJ1:BJ40,MATCH(C32,$DW1:$DW40,0)) -> #N/A | W32: =INDEX(BO$1:BO$23,MATCH(C32,$DW$1:$DW$23,0)) -> #N/A | X32: =INDEX(BT$1:BT$23,MATCH(C32,$DW$1:$DW$23,0)) -> #N/A | Y32: =INDEX(BY$1:BY$23,MATCH(C32,$DW$1:$DW$23,0)) -> #N/A | Z32: =INDEX(CD$1:CD$23,MATCH(C32,$DW$1:$DW$23,0)) -> #N/A | AA32: =INDEX(DY$1:DY$23,MATCH(C32,$DW$1:$DW$23,0)) -> #N/A | AB32: =INDEX(DH$1:DH$23,MATCH(C32,$DW$1:$DW$23,0)) -> #N/A | AC32: =INDEX(DI$1:DI$23,MATCH(C32,$DW$1:$DW$23,0)) -> #N/A | AD32: =INDEX(D$1:D$23,MATCH(C32,$DW$1:$DW$23,0)) -> #N/A | AE32: =INDEX(DX$1:DX$23,MATCH(C32,$DW$1:$DW$23,0)) -> #N/A | AF32: =IF(AC32>=150,"Point","-") -> #N/A
C33: 5 | D33: =IF(AA33="-",INDEX(DV$1:DV$23,MATCH(C33,$DW$1:$DW$23,0)),AA33) -> #N/A | F33: =INDEX(F$1:F$23,MATCH(C33,$DW$1:$DW$23,0)) -> #N/A | G33: =INDEX(G$1:G$23,MATCH(C33,$DW$1:$DW$23,0)) -> #N/A | H33: =INDEX(H$1:H$23,MATCH(C33,$DW$1:$DW$23,0)) -> #N/A | L33: =INDEX(P$1:P$23,MATCH(C33,$DW$1:$DW$23,0)) -> #N/A | M33: =INDEX(U$1:U$23,MATCH(C33,$DW$1:$DW$23,0)) -> #N/A | N33: =INDEX(Z$1:Z$23,MATCH(C33,$DW$1:$DW$23,0)) -> #N/A | O33: =INDEX(AE$1:AE$23,MATCH(C33,$DW$1:$DW$23,0)) -> #N/A | P33: =INDEX(AJ$1:AJ$23,MATCH(C33,$DW$1:$DW$23,0)) -> #N/A | Q33: =INDEX(AO$1:AO$23,MATCH(C33,$DW$1:$DW$23,0)) -> #N/A | R33: =INDEX(AT$1:AT$23,MATCH(C33,$DW$1:$DW$23,0)) -> #N/A | S33: =INDEX(AY$1:AY$23,MATCH(C33,$DW$1:$DW$23,0)) -> #N/A | T33: =INDEX(AZ$1:AZ$23,MATCH(C33,$DW$1:$DW$23,0)) -> #N/A | U33: =INDEX(BE$1:BE$23,MATCH(C33,$DW$1:$DW$23,0)) -> #N/A | V33: =INDEX(BJ1:BJ40,MATCH(C33,$DW1:$DW40,0)) -> #N/A | W33: =INDEX(BO$1:BO$23,MATCH(C33,$DW$1:$DW$23,0)) -> #N/A | X33: =INDEX(BT$1:BT$23,MATCH(C33,$DW$1:$DW$23,0)) -> #N/A | Y33: =INDEX(BY$1:BY$23,MATCH(C33,$DW$1:$DW$23,0)) -> #N/A | Z33: =INDEX(CD$1:CD$23,MATCH(C33,$DW$1:$DW$23,0)) -> #N/A | AA33: =INDEX(DY$1:DY$23,MATCH(C33,$DW$1:$DW$23,0)) -> #N/A | AB33: =INDEX(DH$1:DH$23,MATCH(C33,$DW$1:$DW$23,0)) -> #N/A | AC33: =INDEX(DI$1:DI$23,MATCH(C33,$DW$1:$DW$23,0)) -> #N/A | AD33: =INDEX(D$1:D$23,MATCH(C33,$DW$1:$DW$23,0)) -> #N/A | AE33: =INDEX(DX$1:DX$23,MATCH(C33,$DW$1:$DW$23,0)) -> #N/A | AF33: =IF(AC33>=150,"Point","-") -> #N/A
C34: 6 | D34: =IF(AA34="-",INDEX(DV$1:DV$23,MATCH(C34,$DW$1:$DW$23,0)),AA34) -> #N/A | F34: =INDEX(F$1:F$23,MATCH(C34,$DW$1:$DW$23,0)) -> #N/A | G34: =INDEX(G$1:G$23,MATCH(C34,$DW$1:$DW$23,0)) -> #N/A | H34: =INDEX(H$1:H$23,MATCH(C34,$DW$1:$DW$23,0)) -> #N/A | L34: =INDEX(P$1:P$23,MATCH(C34,$DW$1:$DW$23,0)) -> #N/A | M34: =INDEX(U$1:U$23,MATCH(C34,$DW$1:$DW$23,0)) -> #N/A | N34: =INDEX(Z$1:Z$23,MATCH(C34,$DW$1:$DW$23,0)) -> #N/A | O34: =INDEX(AE$1:AE$23,MATCH(C34,$DW$1:$DW$23,0)) -> #N/A | P34: =INDEX(AJ$1:AJ$23,MATCH(C34,$DW$1:$DW$23,0)) -> #N/A | Q34: =INDEX(AO$1:AO$23,MATCH(C34,$DW$1:$DW$23,0)) -> #N/A | R34: =INDEX(AT$1:AT$23,MATCH(C34,$DW$1:$DW$23,0)) -> #N/A | S34: =INDEX(AY$1:AY$23,MATCH(C34,$DW$1:$DW$23,0)) -> #N/A | T34: =INDEX(AZ$1:AZ$23,MATCH(C34,$DW$1:$DW$23,0)) -> #N/A | U34: =INDEX(BE$1:BE$23,MATCH(C34,$DW$1:$DW$23,0)) -> #N/A | V34: =INDEX(BJ1:BJ40,MATCH(C34,$DW1:$DW40,0)) -> #N/A | W34: =INDEX(BO$1:BO$23,MATCH(C34,$DW$1:$DW$23,0)) -> #N/A | X34: =INDEX(BT$1:BT$23,MATCH(C34,$DW$1:$DW$23,0)) -> #N/A | Y34: =INDEX(BY$1:BY$23,MATCH(C34,$DW$1:$DW$23,0)) -> #N/A | Z34: =INDEX(CD$1:CD$23,MATCH(C34,$DW$1:$DW$23,0)) -> #N/A | AA34: =INDEX(DY$1:DY$23,MATCH(C34,$DW$1:$DW$23,0)) -> #N/A | AB34: =INDEX(DH$1:DH$23,MATCH(C34,$DW$1:$DW$23,0)) -> #N/A | AC34: =INDEX(DI$1:DI$23,MATCH(C34,$DW$1:$DW$23,0)) -> #N/A | AD34: =INDEX(D$1:D$23,MATCH(C34,$DW$1:$DW$23,0)) -> #N/A | AE34: =INDEX(DX$1:DX$23,MATCH(C34,$DW$1:$DW$23,0)) -> #N/A | AF34: =IF(AC34>=150,"Point","-") -> #N/A
C35: 7 | D35: =IF(AA35="-",INDEX(DV$1:DV$23,MATCH(C35,$DW$1:$DW$23,0)),AA35) -> #N/A | F35: =INDEX(F$1:F$23,MATCH(C35,$DW$1:$DW$23,0)) -> #N/A | G35: =INDEX(G$1:G$23,MATCH(C35,$DW$1:$DW$23,0)) -> #N/A | H35: =INDEX(H$1:H$23,MATCH(C35,$DW$1:$DW$23,0)) -> #N/A | L35: =INDEX(P$1:P$23,MATCH(C35,$DW$1:$DW$23,0)) -> #N/A | M35: =INDEX(U$1:U$23,MATCH(C35,$DW$1:$DW$23,0)) -> #N/A | N35: =INDEX(Z$1:Z$23,MATCH(C35,$DW$1:$DW$23,0)) -> #N/A | O35: =INDEX(AE$1:AE$23,MATCH(C35,$DW$1:$DW$23,0)) -> #N/A | P35: =INDEX(AJ$1:AJ$23,MATCH(C35,$DW$1:$DW$23,0)) -> #N/A | Q35: =INDEX(AO$1:AO$23,MATCH(C35,$DW$1:$DW$23,0)) -> #N/A | R35: =INDEX(AT$1:AT$23,MATCH(C35,$DW$1:$DW$23,0)) -> #N/A | S35: =INDEX(AY$1:AY$23,MATCH(C35,$DW$1:$DW$23,0)) -> #N/A | T35: =INDEX(AZ$1:AZ$23,MATCH(C35,$DW$1:$DW$23,0)) -> #N/A | U35: =INDEX(BE$1:BE$23,MATCH(C35,$DW$1:$DW$23,0)) -> #N/A | V35: =INDEX(BJ1:BJ40,MATCH(C35,$DW1:$DW40,0)) -> #N/A | W35: =INDEX(BO$1:BO$23,MATCH(C35,$DW$1:$DW$23,0)) -> #N/A | X35: =INDEX(BT$1:BT$23,MATCH(C35,$DW$1:$DW$23,0)) -> #N/A | Y35: =INDEX(BY$1:BY$23,MATCH(C35,$DW$1:$DW$23,0)) -> #N/A | Z35: =INDEX(CD$1:CD$23,MATCH(C35,$DW$1:$DW$23,0)) -> #N/A | AA35: =INDEX(DY$1:DY$23,MATCH(C35,$DW$1:$DW$23,0)) -> #N/A | AB35: =INDEX(DH$1:DH$23,MATCH(C35,$DW$1:$DW$23,0)) -> #N/A | AC35: =INDEX(DI$1:DI$23,MATCH(C35,$DW$1:$DW$23,0)) -> #N/A | AD35: =INDEX(D$1:D$23,MATCH(C35,$DW$1:$DW$23,0)) -> #N/A | AE35: =INDEX(DX$1:DX$23,MATCH(C35,$DW$1:$DW$23,0)) -> #N/A | AF35: =IF(AC35>=150,"Point","-") -> #N/A
C36: 8 | D36: =IF(AA36="-",INDEX(DV$1:DV$23,MATCH(C36,$DW$1:$DW$23,0)),AA36) -> #N/A | F36: =INDEX(F$1:F$23,MATCH(C36,$DW$1:$DW$23,0)) -> #N/A | G36: =INDEX(G$1:G$23,MATCH(C36,$DW$1:$DW$23,0)) -> #N/A | H36: =INDEX(H$1:H$23,MATCH(C36,$DW$1:$DW$23,0)) -> #N/A | L36: =INDEX(P$1:P$23,MATCH(C36,$DW$1:$DW$23,0)) -> #N/A | M36: =INDEX(U$1:U$23,MATCH(C36,$DW$1:$DW$23,0)) -> #N/A | N36: =INDEX(Z$1:Z$23,MATCH(C36,$DW$1:$DW$23,0)) -> #N/A | O36: =INDEX(AE$1:AE$23,MATCH(C36,$DW$1:$DW$23,0)) -> #N/A | P36: =INDEX(AJ$1:AJ$23,MATCH(C36,$DW$1:$DW$23,0)) -> #N/A | Q36: =INDEX(AO$1:AO$23,MATCH(C36,$DW$1:$DW$23,0)) -> #N/A | R36: =INDEX(AT$1:AT$23,MATCH(C36,$DW$1:$DW$23,0)) -> #N/A | S36: =INDEX(AY$1:AY$23,MATCH(C36,$DW$1:$DW$23,0)) -> #N/A | T36: =INDEX(AZ$1:AZ$23,MATCH(C36,$DW$1:$DW$23,0)) -> #N/A | U36: =INDEX(BE$1:BE$23,MATCH(C36,$DW$1:$DW$23,0)) -> #N/A | V36: =INDEX(BJ1:BJ40,MATCH(C36,$DW1:$DW40,0)) -> #N/A | W36: =INDEX(BO$1:BO$23,MATCH(C36,$DW$1:$DW$23,0)) -> #N/A | X36: =INDEX(BT$1:BT$23,MATCH(C36,$DW$1:$DW$23,0)) -> #N/A | Y36: =INDEX(BY$1:BY$23,MATCH(C36,$DW$1:$DW$23,0)) -> #N/A | Z36: =INDEX(CD$1:CD$23,MATCH(C36,$DW$1:$DW$23,0)) -> #N/A | AA36: =INDEX(DY$1:DY$23,MATCH(C36,$DW$1:$DW$23,0)) -> #N/A | AB36: =INDEX(DH$1:DH$23,MATCH(C36,$DW$1:$DW$23,0)) -> #N/A | AC36: =INDEX(DI$1:DI$23,MATCH(C36,$DW$1:$DW$23,0)) -> #N/A | AD36: =INDEX(D$1:D$23,MATCH(C36,$DW$1:$DW$23,0)) -> #N/A | AE36: =INDEX(DX$1:DX$23,MATCH(C36,$DW$1:$DW$23,0)) -> #N/A | AF36: =IF(AC36>=150,"Point","-") -> #N/A
C37: 9 | D37: =IF(AA37="-",INDEX(DV$1:DV$23,MATCH(C37,$DW$1:$DW$23,0)),AA37) -> #N/A | F37: =INDEX(F$1:F$23,MATCH(C37,$DW$1:$DW$23,0)) -> #N/A | G37: =INDEX(G$1:G$23,MATCH(C37,$DW$1:$DW$23,0)) -> #N/A | H37: =INDEX(H$1:H$23,MATCH(C37,$DW$1:$DW$23,0)) -> #N/A | L37: =INDEX(P$1:P$23,MATCH(C37,$DW$1:$DW$23,0)) -> #N/A | M37: =INDEX(U$1:U$23,MATCH(C37,$DW$1:$DW$23,0)) -> #N/A | N37: =INDEX(Z$1:Z$23,MATCH(C37,$DW$1:$DW$23,0)) -> #N/A | O37: =INDEX(AE$1:AE$23,MATCH(C37,$DW$1:$DW$23,0)) -> #N/A | P37: =INDEX(AJ$1:AJ$23,MATCH(C37,$DW$1:$DW$23,0)) -> #N/A | Q37: =INDEX(AO$1:AO$23,MATCH(C37,$DW$1:$DW$23,0)) -> #N/A | R37: =INDEX(AT$1:AT$23,MATCH(C37,$DW$1:$DW$23,0)) -> #N/A | S37: =INDEX(AY$1:AY$23,MATCH(C37,$DW$1:$DW$23,0)) -> #N/A | T37: =INDEX(AZ$1:AZ$23,MATCH(C37,$DW$1:$DW$23,0)) -> #N/A | U37: =INDEX(BE$1:BE$23,MATCH(C37,$DW$1:$DW$23,0)) -> #N/A | V37: =INDEX(BJ1:BJ40,MATCH(C37,$DW1:$DW40,0)) -> #N/A | W37: =INDEX(BO$1:BO$23,MATCH(C37,$DW$1:$DW$23,0)) -> #N/A | X37: =INDEX(BT$1:BT$23,MATCH(C37,$DW$1:$DW$23,0)) -> #N/A | Y37: =INDEX(BY$1:BY$23,MATCH(C37,$DW$1:$DW$23,0)) -> #N/A | Z37: =INDEX(CD$1:CD$23,MATCH(C37,$DW$1:$DW$23,0)) -> #N/A | AA37: =INDEX(DY$1:DY$23,MATCH(C37,$DW$1:$DW$23,0)) -> #N/A | AB37: =INDEX(DH$1:DH$23,MATCH(C37,$DW$1:$DW$23,0)) -> #N/A | AC37: =INDEX(DI$1:DI$23,MATCH(C37,$DW$1:$DW$23,0)) -> #N/A | AD37: =INDEX(D$1:D$23,MATCH(C37,$DW$1:$DW$23,0)) -> #N/A | AE37: =INDEX(DX$1:DX$23,MATCH(C37,$DW$1:$DW$23,0)) -> #N/A | AF37: =IF(AC37>=150,"Point","-") -> #N/A

Sheet HTM 2
D2: Heelwork to Music 2 | K2: Artistic | AE2: Tecnic | AY2: Sum | AZ2: Penalty | DH2: Results | DZ2: Check
D3: Start Nr. | E3: Nome | F3: Cognome | G3: Cane | K3: Teamwork | P3: Dynamics | U3: Concept | Z3: Choreography | AE3: Flow | AJ3: Execution | AO3: Content | AT3: Difficulty | AY3: Artistic/Tecnic | AZ3: Vocalisation | BE3: Health of dog | BJ3: Incorrect use of props | BO3: Time | BT3: Misconduct in the ring | BY3: Active touching during routine | CD3: Leaving the ring | CH3: Use of training aids | CL3: Too many props | CP3: Soiling in the ring | CT3: Unfair treatment of the dog | CX3: Help from outside | DB3: Interruption | DC3: Penalty for judge | DG3: Total penalty | DH3: Points | DI3: Position | DJ3: Teamwork | DK3: Hilfspunkte Teamwork | DL3: Posizione | DM3: Fluidità | DN3: Hilfspunkte Teamwork e Fluidità | DO3: Posizione | DP3: Dinamicità | DQ3: Hilfspunkte Teamwork, Fluidità e Dinamicità | DR3: Posizione | DS3: Esecuzione | DT3: Hilfspunkte Teamwork, Fluidità, Dinamicità e Esecuzione | DU3: Classifica finale | DV3: Classifica T F D E e Dis/Abbruch (fortlaufende Platzierung) | DW3: =LARGE(DH4:DH23,1) -> 153.83333 | DX3: Dis/Abbruch | DZ3: Judge 1 | EA3: Judge 2 | EB3: Judge 3
D4: HTMO_1 | E4: SILVIA | F4: TERRANOVA | G4: ARTU' | K4: 18 | L4: 21 | M4: 19 | O4: =AVERAGE(K4:M4) -> 19.333333 | P4: 21 | Q4: 20 | R4: 20 | T4: =AVERAGE(P4:R4) -> 20.333333 | U4: 21 | V4: 21 | W4: 21 | Y4: =AVERAGE(U4:W4) -> 21 | Z4: 22 | AA4: 21 | AB4: 21 | AD4: =AVERAGE(Z4:AB4) -> 21.333333 | AE4: 19 | AF4: 17 | AG4: 16 | AI4: =AVERAGE(AE4:AG4) -> 17.333333 | AJ4: 20 | AK4: 18 | AL4: 17 | AN4: =AVERAGE(AJ4:AL4) -> 18.333333 | AO4: 20 | AP4: 20 | AQ4: 18 | AS4: =AVERAGE(AO4:AQ4) -> 19.333333 | AT4: 21 | AU4: 19 | AV4: 18 | AX4: =AVERAGE(AT4:AV4) -> 19.333333 | AY4: =O4+T4+Y4+AD4+AI4+AN4+AS4+AX4 -> 156.33333 | AZ4: 3 | BA4: 2 | BB4: 2.5 | BD4: =AVERAGE(AZ4:BC4) -> 2.5 | BE4: 0 | BF4: 0 | BG4: 0 | BI4: =AVERAGE(BE4:BH4) -> 0 | BJ4: 0 | BK4: 0 | BL4: 0 | BN4: =AVERAGE(BJ4:BM4) -> 0 | BO4: 0 | BP4: 0 | BQ4: 0 | BS4: =AVERAGE(BO4:BR4) -> 0 | BT4: 0 | BU4: 0 | BV4: 0 | BX4: =AVERAGE(BT4:BW4) -> 0 | BY4: 0 | BZ4: 0 | CA4: 0 | CC4: =AVERAGE(BY4:CB4) -> 0 | DC4: =SUM(AZ4,BE4,BJ4,BO4,BT4,BY4) -> 3 | DD4: =SUM(BA4,BF4,BK4,BP4,BU4,BZ4) -> 2 | DE4: =SUM(BB4+BG4+BL4+BQ4+BV4+CA4) -> 2.5 | DG4: =BD4+BI4+BS4+BN4+BX4+CC4 -> 2.5 | DH4: =AY4-DG4 -> 153.83333 | DI4: =RANK(DH4,$DH$4:$DH$23,0) -> 1 | DJ4: =O4 -> 19.333333 | DK4: =DH4*10^3+DJ4 -> 153852.67 | DL4: =RANK(DK4,$DK$4:$DK$23,0) -> 1 | DM4: =AI4 -> 17.333333 | DN4: =(DH4*10^3+DJ4)*10^3+DM4 -> 1.5385268e+08 | DO4: =RANK(DN4,$DN$4:$DN$23,0) -> 1 | DP4: =T4 -> 20.333333 | DQ4: =((DH4*10^3+DJ4)*10^3+DM4)*10^3+DP4 -> 1.5385268e+11 | DR4: =RANK(DQ4,$DQ$4:$DQ$23,0) -> 1 | DS4: =AN4 -> 18.333333 | DT4: =(((DH4*10^3+DJ4)*10^3+DM4)*10^3+DP4)*10^3+DS4 -> 1.5385268e+14 | DU4: =IF(E4>0,RANK(DT4,$DT$4:$DT$23,0),20) -> 1 | DV4: =IF(DU4<>20,RANK(DU4,$DU$4:$DU$23,1)+COUNTIF(DU$4:DU4,DU4)-1,20) -> 1 | DW4: =DH4/$DW$3 -> 1 | DX4: =IF(COUNTIF(CD4:DA4,"x")>0,"Dis",IF(COUNTIF(DB4,"x")>0,"Abbruch","-")) -> - | DZ4: =K4+P4+U4+Z4+AE4+AJ4+AO4+AT4-DC4 -> 159 | EA4: =L4+Q4+V4+AA4+AF4+AK4+AP4+AU4-DD4 -> 155 | EB4: =M4+R4+W4+AB4+AG4+AL4+AQ4+AV4-DE4 -> 147.5
D5: =classi!B36 -> HTM2_2 | E5: =classi!C36 -> 0 | F5: =classi!D36 -> 0 | G5: =classi!G36 -> 0 | K5: 0 | L5: 0 | M5: 0 | O5: =AVERAGE(K5:M5) -> 0 | P5: 0 | Q5: 0 | R5: 0 | T5: =AVERAGE(P5:R5) -> 0 | U5: 0 | V5: 0 | W5: 0 | Y5: =AVERAGE(U5:W5) -> 0 | Z5: 0 | AA5: 0 | AB5: 0 | AD5: =AVERAGE(Z5:AB5) -> 0 | AE5: 0 | AF5: 0 | AG5: 0 | AI5: =AVERAGE(AE5:AG5) -> 0 | AJ5: 0 | AK5: 0 | AL5: 0 | AN5: =AVERAGE(AJ5:AL5) -> 0 | AO5: 0 | AP5: 0 | AQ5: 0 | AS5: =AVERAGE(AO5:AQ5) -> 0 | AT5: 0 | AU5: 0 | AV5: 0 | AX5: =AVERAGE(AT5:AV5) -> 0 | AY5: =O5+T5+Y5+AD5+AI5+AN5+AS5+AX5 -> 0 | AZ5: 0 | BA5: 0 | BB5: 0 | BD5: =AVERAGE(AZ5:BC5) -> 0 | BE5: 0 | BF5: 0 | BG5: 0 | BI5: =AVERAGE(BE5:BH5) -> 0 | BJ5: 0 | BK5: 0 | BL5: 0 | BN5: =AVERAGE(BJ5:BM5) -> 0 | BO5: 0 | BP5: 0 | BQ5: 0 | BS5: =AVERAGE(BO5:BR5) -> 0 | BT5: 0 | BU5: 0 | BV5: 0 | BX5: =AVERAGE(BT5:BW5) -> 0 | BY5: 0 | BZ5: 0 | CA5: 0 | CC5: =AVERAGE(BY5:CB5) -> 0 | DC5: =SUM(AZ5,BE5,BJ5,BO5,BT5,BY5) -> 0 | DD5: =SUM(BA5,BF5,BK5,BP5,BU5,BZ5) -> 0 | DE5: =SUM(BB5+BG5+BL5+BQ5+BV5+CA5) -> 0 | DG5: =BD5+BI5+BS5+BN5+BX5+CC5 -> 0 | DH5: =AY5-DG5 -> 0 | DI5: =RANK(DH5,$DH$4:$DH$23,0) -> 2 | DJ5: =O5 -> 0 | DK5: =DH5*10^3+DJ5 -> 0 | DL5: =RANK(DK5,$DK$4:$DK$23,0) -> 2 | DM5: =AI5 -> 0 | DN5: =(DH5*10^3+DJ5)*10^3+DM5 -> 0 | DO5: =RANK(DN5,$DN$4:$DN$23,0) -> 2 | DP5: =T5 -> 0 | DQ5: =((DH5*10^3+DJ5)*10^3+DM5)*10^3+DP5 -> 0 | DR5: =RANK(DQ5,$DQ$4:$DQ$23,0) -> 2 | DS5: =AN5 -> 0 | DT5: =(((DH5*10^3+DJ5)*10^3+DM5)*10^3+DP5)*10^3+DS5 -> 0 | DU5: =IF(E5>0,RANK(DT5,$DT$4:$DT$23,0),20) -> 20 | DV5: =IF(DU5<>20,RANK(DU5,$DU$4:$DU$23,1)+COUNTIF(DU$4:DU5,DU5)-1,20) -> 20 | DW5: =DH5/$DW$3 -> 0 | DX5: =IF(COUNTIF(CD5:DA5,"x")>0,"Dis",IF(COUNTIF(DB5,"x")>0,"Abbruch","-")) -> - | DZ5: =K5+P5+U5+Z5+AE5+AJ5+AO5+AT5-DC5 -> 0 | EA5: =L5+Q5+V5+AA5+AF5+AK5+AP5+AU5-DD5 -> 0 | EB5: =M5+R5+W5+AB5+AG5+AL5+AQ5+AV5-DE5 -> 0
D6: =classi!B37 -> HTM2_3 | E6: =classi!C37 -> 0 | F6: =classi!D37 -> 0 | G6: =classi!G37 -> 0 | K6: 0 | L6: 0 | M6: 0 | O6: =AVERAGE(K6:M6) -> 0 | P6: 0 | Q6: 0 | R6: 0 | T6: =AVERAGE(P6:R6) -> 0 | U6: 0 | V6: 0 | W6: 0 | Y6: =AVERAGE(U6:W6) -> 0 | Z6: 0 | AA6: 0 | AB6: 0 | AD6: =AVERAGE(Z6:AB6) -> 0 | AE6: 0 | AF6: 0 | AG6: 0 | AI6: =AVERAGE(AE6:AG6) -> 0 | AJ6: 0 | AK6: 0 | AL6: 0 | AN6: =AVERAGE(AJ6:AL6) -> 0 | AO6: 0 | AP6: 0 | AQ6: 0 | AS6: =AVERAGE(AO6:AQ6) -> 0 | AT6: 0 | AU6: 0 | AV6: 0 | AX6: =AVERAGE(AT6:AV6) -> 0 | AY6: =O6+T6+Y6+AD6+AI6+AN6+AS6+AX6 -> 0 | AZ6: 0 | BA6: 0 | BB6: 0 | BD6: =AVERAGE(AZ6:BC6) -> 0 | BE6: 0 | BF6: 0 | BG6: 0 | BI6: =AVERAGE(BE6:BH6) -> 0 | BJ6: 0 | BK6: 0 | BL6: 0 | BN6: =AVERAGE(BJ6:BM6) -> 0 | BO6: 0 | BP6: 0 | BQ6: 0 | BS6: =AVERAGE(BO6:BR6) -> 0 | BT6: 0 | BU6: 0 | BV6: 0 | BX6: =AVERAGE(BT6:BW6) -> 0 | BY6: 0 | BZ6: 0 | CA6: 0 | CC6: =AVERAGE(BY6:CB6) -> 0 | DC6: =SUM(AZ6,BE6,BJ6,BO6,BT6,BY6) -> 0 | DD6: =SUM(BA6,BF6,BK6,BP6,BU6,BZ6) -> 0 | DE6: =SUM(BB6+BG6+BL6+BQ6+BV6+CA6) -> 0 | DG6: =BD6+BI6+BS6+BN6+BX6+CC6 -> 0 | DH6: =AY6-DG6 -> 0 | DI6: =RANK(DH6,$DH$4:$DH$23,0) -> 2 | DJ6: =O6 -> 0 | DK6: =DH6*10^3+DJ6 -> 0 | DL6: =RANK(DK6,$DK$4:$DK$23,0) -> 2 | DM6: =AI6 -> 0 | DN6: =(DH6*10^3+DJ6)*10^3+DM6 -> 0 | DO6: =RANK(DN6,$DN$4:$DN$23,0) -> 2 | DP6: =T6 -> 0 | DQ6: =((DH6*10^3+DJ6)*10^3+DM6)*10^3+DP6 -> 0 | DR6: =RANK(DQ6,$DQ$4:$DQ$23,0) -> 2 | DS6: =AN6 -> 0 | DT6: =(((DH6*10^3+DJ6)*10^3+DM6)*10^3+DP6)*10^3+DS6 -> 0 | DU6: =IF(E6>0,RANK(DT6,$DT$4:$DT$23,0),20) -> 20 | DV6: =IF(DU6<>20,RANK(DU6,$DU$4:$DU$23,1)+COUNTIF(DU$4:DU6,DU6)-1,20) -> 20 | DW6: =DH6/$DW$3 -> 0 | DX6: =IF(COUNTIF(CD6:DA6,"x")>0,"Dis",IF(COUNTIF(DB6,"x")>0,"Abbruch","-")) -> - | DZ6: =K6+P6+U6+Z6+AE6+AJ6+AO6+AT6-DC6 -> 0 | EA6: =L6+Q6+V6+AA6+AF6+AK6+AP6+AU6-DD6 -> 0 | EB6: =M6+R6+W6+AB6+AG6+AL6+AQ6+AV6-DE6 -> 0
D7: =classi!B38 -> - | E7: =classi!C38 -> 0 | F7: =classi!D38 -> 0 | G7: =classi!G38 -> 0 | K7: 0 | L7: 0 | M7: 0 | O7: =AVERAGE(K7:M7) -> 0 | P7: 0 | Q7: 0 | R7: =0 -> 0 | T7: =AVERAGE(P7:R7) -> 0 | U7: 0 | V7: 0 | W7: =0 -> 0 | Y7: =AVERAGE(U7:W7) -> 0 | Z7: 0 | AA7: 0 | AB7: =0 -> 0 | AD7: =AVERAGE(Z7:AB7) -> 0 | AE7: 0 | AF7: 0 | AG7: =0 -> 0 | AI7: =AVERAGE(AE7:AG7) -> 0 | AJ7: 0 | AK7: 0 | AL7: =0 -> 0 | AN7: =AVERAGE(AJ7:AL7) -> 0 | AO7: 0 | AP7: 0 | AQ7: =0 -> 0 | AS7: =AVERAGE(AO7:AQ7) -> 0 | AT7: 0 | AU7: 0 | AV7: =0 -> 0 | AX7: =AVERAGE(AT7:AV7) -> 0 | AY7: =O7+T7+Y7+AD7+AI7+AN7+AS7+AX7 -> 0 | AZ7: 0 | BA7: 0 | BB7: 0 | BD7: =AVERAGE(AZ7:BC7) -> 0 | BE7: 0 | BF7: 0 | BG7: 0 | BI7: =AVERAGE(BE7:BH7) -> 0 | BJ7: 0 | BK7: 0 | BL7: 0 | BN7: =AVERAGE(BJ7:BM7) -> 0 | BO7: 0 | BP7: 0 | BQ7: 0 | BS7: =AVERAGE(BO7:BR7) -> 0 | BT7: 0 | BU7: 0 | BV7: 0 | BX7: =AVERAGE(BT7:BW7) -> 0 | BY7: 0 | BZ7: 0 | CA7: 0 | CC7: =AVERAGE(BY7:CB7) -> 0 | DC7: =SUM(AZ7,BE7,BJ7,BO7,BT7,BY7) -> 0 | DD7: =SUM(BA7,BF7,BK7,BP7,BU7,BZ7) -> 0 | DE7: =SUM(BB7+BG7+BL7+BQ7+BV7+CA7) -> 0 | DG7: =BD7+BI7+BS7+BN7+BX7+CC7 -> 0 | DH7: =AY7-DG7 -> 0 | DI7: =RANK(DH7,$DH$4:$DH$23,0) -> 2 | DJ7: =O7 -> 0 | DK7: =DH7*10^3+DJ7 -> 0 | DL7: =RANK(DK7,$DK$4:$DK$23,0) -> 2 | DM7: =AI7 -> 0 | DN7: =(DH7*10^3+DJ7)*10^3+DM7 -> 0 | DO7: =RANK(DN7,$DN$4:$DN$23,0) -> 2 | DP7: =T7 -> 0 | DQ7: =((DH7*10^3+DJ7)*10^3+DM7)*10^3+DP7 -> 0 | DR7: =RANK(DQ7,$DQ$4:$DQ$23,0) -> 2 | DS7: =AN7 -> 0 | DT7: =(((DH7*10^3+DJ7)*10^3+DM7)*10^3+DP7)*10^3+DS7 -> 0 | DU7: =IF(E7>0,RANK(DT7,$DT$4:$DT$23,0),20) -> 20 | DV7: =IF(DU7<>20,RANK(DU7,$DU$4:$DU$23,1)+COUNTIF(DU$4:DU7,DU7)-1,20) -> 20 | DW7: =DH7/$DW$3 -> 0 | DX7: =IF(COUNTIF(CD7:DA7,"x")>0,"Dis",IF(COUNTIF(DB7,"x")>0,"Abbruch","-")) -> - | DZ7: =K7+P7+U7+Z7+AE7+AJ7+AO7+AT7-DC7 -> 0 | EA7: =L7+Q7+V7+AA7+AF7+AK7+AP7+AU7-DD7 -> 0 | EB7: =M7+R7+W7+AB7+AG7+AL7+AQ7+AV7-DE7 -> 0
D8: =classi!B39 -> - | E8: =classi!C39 -> 0 | F8: =classi!D39 -> 0 | G8: =classi!G39 -> 0 | K8: 0 | L8: 0 | M8: 0 | O8: =AVERAGE(K8:M8) -> 0 | P8: 0 | Q8: 0 | R8: =0 -> 0 | T8: =AVERAGE(P8:R8) -> 0 | U8: 0 | V8: 0 | W8: =0 -> 0 | Y8: =AVERAGE(U8:W8) -> 0 | Z8: 0 | AA8: 0 | AB8: =0 -> 0 | AD8: =AVERAGE(Z8:AB8) -> 0 | AE8: 0 | AF8: 0 | AG8: =0 -> 0 | AI8: =AVERAGE(AE8:AG8) -> 0 | AJ8: 0 | AK8: 0 | AL8: =0 -> 0 | AN8: =AVERAGE(AJ8:AL8) -> 0 | AO8: 0 | AP8: 0 | AQ8: =0 -> 0 | AS8: =AVERAGE(AO8:AQ8) -> 0 | AT8: 0 | AU8: 0 | AV8: =0 -> 0 | AX8: =AVERAGE(AT8:AV8) -> 0 | AY8: =O8+T8+Y8+AD8+AI8+AN8+AS8+AX8 -> 0 | AZ8: 0 | BA8: 0 | BB8: 0 | BD8: =AVERAGE(AZ8:BC8) -> 0 | BE8: 0 | BF8: 0 | BG8: 0 | BI8: =AVERAGE(BE8:BH8) -> 0 | BJ8: 0 | BK8: 0 | BL8: 0 | BN8: =AVERAGE(BJ8:BM8) -> 0 | BO8: 0 | BP8: 0 | BQ8: 0 | BS8: =AVERAGE(BO8:BR8) -> 0 | BT8: 0 | BU8: 0 | BV8: 0 | BX8: =AVERAGE(BT8:BW8) -> 0 | BY8: 0 | BZ8: 0 | CA8: 0 | CC8: =AVERAGE(BY8:CB8) -> 0 | DC8: =SUM(AZ8,BE8,BJ8,BO8,BT8,BY8) -> 0 | DD8: =SUM(BA8,BF8,BK8,BP8,BU8,BZ8) -> 0 | DE8: =SUM(BB8+BG8+BL8+BQ8+BV8+CA8) -> 0 | DG8: =BD8+BI8+BS8+BN8+BX8+CC8 -> 0 | DH8: =AY8-DG8 -> 0 | DI8: =RANK(DH8,$DH$4:$DH$23,0) -> 2 | DJ8: =O8 -> 0 | DK8: =DH8*10^3+DJ8 -> 0 | DL8: =RANK(DK8,$DK$4:$DK$23,0) -> 2 | DM8: =AI8 -> 0 | DN8: =(DH8*10^3+DJ8)*10^3+DM8 -> 0 | DO8: =RANK(DN8,$DN$4:$DN$23,0) -> 2 | DP8: =T8 -> 0 | DQ8: =((DH8*10^3+DJ8)*10^3+DM8)*10^3+DP8 -> 0 | DR8: =RANK(DQ8,$DQ$4:$DQ$23,0) -> 2 | DS8: =AN8 -> 0 | DT8: =(((DH8*10^3+DJ8)*10^3+DM8)*10^3+DP8)*10^3+DS8 -> 0 | DU8: =IF(E8>0,RANK(DT8,$DT$4:$DT$23,0),20) -> 20 | DV8: =IF(DU8<>20,RANK(DU8,$DU$4:$DU$23,1)+COUNTIF(DU$4:DU8,DU8)-1,20) -> 20 | DW8: =DH8/$DW$3 -> 0 | DX8: =IF(COUNTIF(CD8:DA8,"x")>0,"Dis",IF(COUNTIF(DB8,"x")>0,"Abbruch","-")) -> - | DZ8: =K8+P8+U8+Z8+AE8+AJ8+AO8+AT8-DC8 -> 0 | EA8: =L8+Q8+V8+AA8+AF8+AK8+AP8+AU8-DD8 -> 0 | EB8: =M8+R8+W8+AB8+AG8+AL8+AQ8+AV8-DE8 -> 0
D9: =classi!B40 -> - | E9: =classi!C40 -> 0 | F9: =classi!D40 -> 0 | G9: =classi!G40 -> 0 | K9: 0 | L9: 0 | M9: 0 | O9: =AVERAGE(K9:M9) -> 0 | P9: 0 | Q9: 0 | R9: =0 -> 0 | T9: =AVERAGE(P9:R9) -> 0 | U9: 0 | V9: 0 | W9: =0 -> 0 | Y9: =AVERAGE(U9:W9) -> 0 | Z9: 0 | AA9: 0 | AB9: =0 -> 0 | AD9: =AVERAGE(Z9:AB9) -> 0 | AE9: 0 | AF9: 0 | AG9: =0 -> 0 | AI9: =AVERAGE(AE9:AG9) -> 0 | AJ9: 0 | AK9: 0 | AL9: =0 -> 0 | AN9: =AVERAGE(AJ9:AL9) -> 0 | AO9: 0 | AP9: 0 | AQ9: =0 -> 0 | AS9: =AVERAGE(AO9:AQ9) -> 0 | AT9: 0 | AU9: 0 | AV9: =0 -> 0 | AX9: =AVERAGE(AT9:AV9) -> 0 | AY9: =O9+T9+Y9+AD9+AI9+AN9+AS9+AX9 -> 0 | AZ9: 0 | BA9: 0 | BB9: 0 | BD9: =AVERAGE(AZ9:BC9) -> 0 | BE9: 0 | BF9: 0 | BG9: 0 | BI9: =AVERAGE(BE9:BH9) -> 0 | BJ9: 0 | BK9: 0 | BL9: 0 | BN9: =AVERAGE(BJ9:BM9) -> 0 | BO9: 0 | BP9: 0 | BQ9: 0 | BS9: =AVERAGE(BO9:BR9) -> 0 | BT9: 0 | BU9: 0 | BV9: 0 | BX9: =AVERAGE(BT9:BW9) -> 0 | BY9: 0 | BZ9: 0 | CA9: 0 | CC9: =AVERAGE(BY9:CB9) -> 0 | DC9: =SUM(AZ9,BE9,BJ9,BO9,BT9,BY9) -> 0 | DD9: =SUM(BA9,BF9,BK9,BP9,BU9,BZ9) -> 0 | DE9: =SUM(BB9+BG9+BL9+BQ9+BV9+CA9) -> 0 | DG9: =BD9+BI9+BS9+BN9+BX9+CC9 -> 0 | DH9: =AY9-DG9 -> 0 | DI9: =RANK(DH9,$DH$4:$DH$23,0) -> 2 | DJ9: =O9 -> 0 | DK9: =DH9*10^3+DJ9 -> 0 | DL9: =RANK(DK9,$DK$4:$DK$23,0) -> 2 | DM9: =AI9 -> 0 | DN9: =(DH9*10^3+DJ9)*10^3+DM9 -> 0 | DO9: =RANK(DN9,$DN$4:$DN$23,0) -> 2 | DP9: =T9 -> 0 | DQ9: =((DH9*10^3+DJ9)*10^3+DM9)*10^3+DP9 -> 0 | DR9: =RANK(DQ9,$DQ$4:$DQ$23,0) -> 2 | DS9: =AN9 -> 0 | DT9: =(((DH9*10^3+DJ9)*10^3+DM9)*10^3+DP9)*10^3+DS9 -> 0 | DU9: =IF(E9>0,RANK(DT9,$DT$4:$DT$23,0),20) -> 20 | DV9: =IF(DU9<>20,RANK(DU9,$DU$4:$DU$23,1)+COUNTIF(DU$4:DU9,DU9)-1,20) -> 20 | DW9: =DH9/$DW$3 -> 0 | DX9: =IF(COUNTIF(CD9:DA9,"x")>0,"Dis",IF(COUNTIF(DB9,"x")>0,"Abbruch","-")) -> - | DZ9: =K9+P9+U9+Z9+AE9+AJ9+AO9+AT9-DC9 -> 0 | EA9: =L9+Q9+V9+AA9+AF9+AK9+AP9+AU9-DD9 -> 0 | EB9: =M9+R9+W9+AB9+AG9+AL9+AQ9+AV9-DE9 -> 0
D10: =classi!B41 -> - | E10: =classi!C41 -> 0 | F10: =classi!D41 -> 0 | G10: =classi!G41 -> 0 | K10: 0 | L10: 0 | M10: 0 | O10: =AVERAGE(K10:M10) -> 0 | P10: 0 | Q10: 0 | R10: =0 -> 0 | T10: =AVERAGE(P10:R10) -> 0 | U10: 0 | V10: 0 | W10: 0 | Y10: =AVERAGE(U10:W10) -> 0 | Z10: 0 | AA10: 0 | AB10: 0 | AD10: =AVERAGE(Z10:AB10) -> 0 | AE10: 0 | AF10: 0 | AG10: 0 | AI10: =AVERAGE(AE10:AG10) -> 0 | AJ10: 0 | AK10: 0 | AL10: 0 | AN10: =AVERAGE(AJ10:AL10) -> 0 | AO10: 0 | AP10: 0 | AQ10: 0 | AS10: =AVERAGE(AO10:AQ10) -> 0 | AT10: 0 | AU10: 0 | AV10: 0 | AX10: =AVERAGE(AT10:AV10) -> 0 | AY10: =O10+T10+Y10+AD10+AI10+AN10+AS10+AX10 -> 0 | AZ10: 0 | BA10: 0 | BB10: 0 | BD10: =AVERAGE(AZ10:BC10) -> 0 | BE10: 0 | BF10: 0 | BG10: 0 | BI10: =AVERAGE(BE10:BH10) -> 0 | BJ10: 0 | BK10: 0 | BL10: 0 | BN10: =AVERAGE(BJ10:BM10) -> 0 | BO10: 0 | BP10: 0 | BQ10: 0 | BS10: =AVERAGE(BO10:BR10) -> 0 | BT10: 0 | BU10: 0 | BV10: 0 | BX10: =AVERAGE(BT10:BW10) -> 0 | BY10: 0 | BZ10: 0 | CA10: 0 | CC10: =AVERAGE(BY10:CB10) -> 0 | DC10: =SUM(AZ10,BE10,BJ10,BO10,BT10,BY10) -> 0 | DD10: =SUM(BA10,BF10,BK10,BP10,BU10,BZ10) -> 0 | DE10: =SUM(BB10+BG10+BL10+BQ10+BV10+CA10) -> 0 | DG10: =BD10+BI10+BS10+BN10+BX10+CC10 -> 0 | DH10: =AY10-DG10 -> 0 | DI10: =RANK(DH10,$DH$4:$DH$23,0) -> 2 | DJ10: =O10 -> 0 | DK10: =DH10*10^3+DJ10 -> 0 | DL10: =RANK(DK10,$DK$4:$DK$23,0) -> 2 | DM10: =AI10 -> 0 | DN10: =(DH10*10^3+DJ10)*10^3+DM10 -> 0 | DO10: =RANK(DN10,$DN$4:$DN$23,0) -> 2 | DP10: =T10 -> 0 | DQ10: =((DH10*10^3+DJ10)*10^3+DM10)*10^3+DP10 -> 0 | DR10: =RANK(DQ10,$DQ$4:$DQ$23,0) -> 2 | DS10: =AN10 -> 0 | DT10: =(((DH10*10^3+DJ10)*10^3+DM10)*10^3+DP10)*10^3+DS10 -> 0 | DU10: =IF(E10>0,RANK(DT10,$DT$4:$DT$23,0),20) -> 20 | DV10: =IF(DU10<>20,RANK(DU10,$DU$4:$DU$23,1)+COUNTIF(DU$4:DU10,DU10)-1,20) -> 20 | DW10: =DH10/$DW$3 -> 0 | DX10: =IF(COUNTIF(CD10:DA10,"x")>0,"Dis",IF(COUNTIF(DB10,"x")>0,"Abbruch","-")) -> - | DZ10: =K10+P10+U10+Z10+AE10+AJ10+AO10+AT10-DC10 -> 0 | EA10: =L10+Q10+V10+AA10+AF10+AK10+AP10+AU10-DD10 -> 0 | EB10: =M10+R10+W10+AB10+AG10+AL10+AQ10+AV10-DE10 -> 0
D11: =classi!B42 -> - | E11: =classi!C42 -> 0 | F11: =classi!D42 -> 0 | G11: =classi!G42 -> 0 | K11: 0 | L11: 0 | M11: 0 | O11: =AVERAGE(K11:M11) -> 0 | P11: 0 | Q11: 0 | R11: =0 -> 0 | T11: =AVERAGE(P11:R11) -> 0 | U11: 0 | V11: 0 | W11: 0 | Y11: =AVERAGE(U11:W11) -> 0 | Z11: 0 | AA11: 0 | AB11: 0 | AD11: =AVERAGE(Z11:AB11) -> 0 | AE11: 0 | AF11: 0 | AG11: 0 | AI11: =AVERAGE(AE11:AG11) -> 0 | AJ11: 0 | AK11: 0 | AL11: 0 | AN11: =AVERAGE(AJ11:AL11) -> 0 | AO11: 0 | AP11: 0 | AQ11: 0 | AS11: =AVERAGE(AO11:AQ11) -> 0 | AT11: 0 | AU11: 0 | AV11: 0 | AX11: =AVERAGE(AT11:AV11) -> 0 | AY11: =O11+T11+Y11+AD11+AI11+AN11+AS11+AX11 -> 0 | AZ11: 0 | BA11: 0 | BB11: 0 | BD11: =AVERAGE(AZ11:BC11) -> 0 | BE11: 0 | BF11: 0 | BG11: 0 | BI11: =AVERAGE(BE11:BH11) -> 0 | BJ11: 0 | BK11: 0 | BL11: 0 | BN11: =AVERAGE(BJ11:BM11) -> 0 | BO11: 0 | BP11: 0 | BQ11: 0 | BS11: =AVERAGE(BO11:BR11) -> 0 | BT11: 0 | BU11: 0 | BV11: 0 | BX11: =AVERAGE(BT11:BW11) -> 0 | BY11: 0 | BZ11: 0 | CA11: 0 | CC11: =AVERAGE(BY11:CB11) -> 0 | DC11: =SUM(AZ11,BE11,BJ11,BO11,BT11,BY11) -> 0 | DD11: =SUM(BA11,BF11,BK11,BP11,BU11,BZ11) -> 0 | DE11: =SUM(BB11+BG11+BL11+BQ11+BV11+CA11) -> 0 | DG11: =BD11+BI11+BS11+BN11+BX11+CC11 -> 0 | DH11: =AY11-DG11 -> 0 | DI11: =RANK(DH11,$DH$4:$DH$23,0) -> 2 | DJ11: =O11 -> 0 | DK11: =DH11*10^3+DJ11 -> 0 | DL11: =RANK(DK11,$DK$4:$DK$23,0) -> 2 | DM11: =AI11 -> 0 | DN11: =(DH11*10^3+DJ11)*10^3+DM11 -> 0 | DO11: =RANK(DN11,$DN$4:$DN$23,0) -> 2 | DP11: =T11 -> 0 | DQ11: =((DH11*10^3+DJ11)*10^3+DM11)*10^3+DP11 -> 0 | DR11: =RANK(DQ11,$DQ$4:$DQ$23,0) -> 2 | DS11: =AN11 -> 0 | DT11: =(((DH11*10^3+DJ11)*10^3+DM11)*10^3+DP11)*10^3+DS11 -> 0 | DU11: =IF(E11>0,RANK(DT11,$DT$4:$DT$23,0),20) -> 20 | DV11: =IF(DU11<>20,RANK(DU11,$DU$4:$DU$23,1)+COUNTIF(DU$4:DU11,DU11)-1,20) -> 20 | DW11: =DH11/$DW$3 -> 0 | DX11: =IF(COUNTIF(CD11:DA11,"x")>0,"Dis",IF(COUNTIF(DB11,"x")>0,"Abbruch","-")) -> - | DZ11: =K11+P11+U11+Z11+AE11+AJ11+AO11+AT11-DC11 -> 0 | EA11: =L11+Q11+V11+AA11+AF11+AK11+AP11+AU11-DD11 -> 0 | EB11: =M11+R11+W11+AB11+AG11+AL11+AQ11+AV11-DE11 -> 0
D12: =classi!B43 -> - | E12: =classi!C43 -> 0 | F12: =classi!D43 -> 0 | G12: =classi!G43 -> 0 | K12: 0 | L12: 0 | M12: 0 | O12: =AVERAGE(K12:M12) -> 0 | P12: 0 | Q12: 0 | R12: =0 -> 0 | T12: =AVERAGE(P12:R12) -> 0 | U12: 0 | V12: 0 | W12: 0 | Y12: =AVERAGE(U12:W12) -> 0 | Z12: 0 | AA12: 0 | AB12: 0 | AD12: =AVERAGE(Z12:AB12) -> 0 | AE12: 0 | AF12: 0 | AG12: 0 | AI12: =AVERAGE(AE12:AG12) -> 0 | AJ12: 0 | AK12: 0 | AL12: 0 | AN12: =AVERAGE(AJ12:AL12) -> 0 | AO12: 0 | AP12: 0 | AQ12: 0 | AS12: =AVERAGE(AO12:AQ12) -> 0 | AT12: 0 | AU12: 0 | AV12: 0 | AX12: =AVERAGE(AT12:AV12) -> 0 | AY12: =O12+T12+Y12+AD12+AI12+AN12+AS12+AX12 -> 0 | AZ12: 0 | BA12: 0 | BB12: 0 | BD12: =AVERAGE(AZ12:BC12) -> 0 | BE12: 0 | BF12: 0 | BG12: 0 | BI12: =AVERAGE(BE12:BH12) -> 0 | BJ12: 0 | BK12: 0 | BL12: 0 | BN12: =AVERAGE(BJ12:BM12) -> 0 | BO12: 0 | BP12: 0 | BQ12: 0 | BS12: =AVERAGE(BO12:BR12) -> 0 | BT12: 0 | BU12: 0 | BV12: 0 | BX12: =AVERAGE(BT12:BW12) -> 0 | BY12: 0 | BZ12: 0 | CA12: 0 | CC12: =AVERAGE(BY12:CB12) -> 0 | DC12: =SUM(AZ12,BE12,BJ12,BO12,BT12,BY12) -> 0 | DD12: =SUM(BA12,BF12,BK12,BP12,BU12,BZ12) -> 0 | DE12: =SUM(BB12+BG12+BL12+BQ12+BV12+CA12) -> 0 | DG12: =BD12+BI12+BS12+BN12+BX12+CC12 -> 0 | DH12: =AY12-DG12 -> 0 | DI12: =RANK(DH12,$DH$4:$DH$23,0) -> 2 | DJ12: =O12 -> 0 | DK12: =DH12*10^3+DJ12 -> 0 | DL12: =RANK(DK12,$DK$4:$DK$23,0) -> 2 | DM12: =AI12 -> 0 | DN12: =(DH12*10^3+DJ12)*10^3+DM12 -> 0 | DO12: =RANK(DN12,$DN$4:$DN$23,0) -> 2 | DP12: =T12 -> 0 | DQ12: =((DH12*10^3+DJ12)*10^3+DM12)*10^3+DP12 -> 0 | DR12: =RANK(DQ12,$DQ$4:$DQ$23,0) -> 2 | DS12: =AN12 -> 0 | DT12: =(((DH12*10^3+DJ12)*10^3+DM12)*10^3+DP12)*10^3+DS12 -> 0 | DU12: =IF(E12>0,RANK(DT12,$DT$4:$DT$23,0),20) -> 20 | DV12: =IF(DU12<>20,RANK(DU12,$DU$4:$DU$23,1)+COUNTIF(DU$4:DU12,DU12)-1,20) -> 20 | DW12: =DH12/$DW$3 -> 0 | DX12: =IF(COUNTIF(CD12:DA12,"x")>0,"Dis",IF(COUNTIF(DB12,"x")>0,"Abbruch","-")) -> - | DZ12: =K12+P12+U12+Z12+AE12+AJ12+AO12+AT12-DC12 -> 0 | EA12: =L12+Q12+V12+AA12+AF12+AK12+AP12+AU12-DD12 -> 0 | EB12: =M12+R12+W12+AB12+AG12+AL12+AQ12+AV12-DE12 -> 0
D13: =classi!B44 -> - | E13: =classi!C44 -> 0 | F13: =classi!D44 -> 0 | G13: =classi!G44 -> 0 | K13: 0 | L13: 0 | M13: 0 | O13: =AVERAGE(K13:M13) -> 0 | P13: 0 | Q13: 0 | R13: =0 -> 0 | T13: =AVERAGE(P13:R13) -> 0 | U13: 0 | V13: 0 | W13: 0 | Y13: =AVERAGE(U13:W13) -> 0 | Z13: 0 | AA13: 0 | AB13: 0 | AD13: =AVERAGE(Z13:AB13) -> 0 | AE13: 0 | AF13: 0 | AG13: 0 | AI13: =AVERAGE(AE13:AG13) -> 0 | AJ13: 0 | AK13: 0 | AL13: 0 | AN13: =AVERAGE(AJ13:AL13) -> 0 | AO13: 0 | AP13: 0 | AQ13: 0 | AS13: =AVERAGE(AO13:AQ13) -> 0 | AT13: 0 | AU13: 0 | AV13: 0 | AX13: =AVERAGE(AT13:AV13) -> 0 | AY13: =O13+T13+Y13+AD13+AI13+AN13+AS13+AX13 -> 0 | AZ13: 0 | BA13: 0 | BB13: 0 | BD13: =AVERAGE(AZ13:BC13) -> 0 | BE13: 0 | BF13: 0 | BG13: 0 | BI13: =AVERAGE(BE13:BH13) -> 0 | BJ13: 0 | BK13: 0 | BL13: 0 | BN13: =AVERAGE(BJ13:BM13) -> 0 | BO13: 0 | BP13: 0 | BQ13: 0 | BS13: =AVERAGE(BO13:BR13) -> 0 | BT13: 0 | BU13: 0 | BV13: 0 | BX13: =AVERAGE(BT13:BW13) -> 0 | BY13: 0 | BZ13: 0 | CA13: 0 | CC13: =AVERAGE(BY13:CB13) -> 0 | DC13: =SUM(AZ13,BE13,BJ13,BO13,BT13,BY13) -> 0 | DD13: =SUM(BA13,BF13,BK13,BP13,BU13,BZ13) -> 0 | DE13: =SUM(BB13+BG13+BL13+BQ13+BV13+CA13) -> 0 | DG13: =BD13+BI13+BS13+BN13+BX13+CC13 -> 0 | DH13: =AY13-DG13 -> 0 | DI13: =RANK(DH13,$DH$4:$DH$23,0) -> 2 | DJ13: =O13 -> 0 | DK13: =DH13*10^3+DJ13 -> 0 | DL13: =RANK(DK13,$DK$4:$DK$23,0) -> 2 | DM13: =AI13 -> 0 | DN13: =(DH13*10^3+DJ13)*10^3+DM13 -> 0 | DO13: =RANK(DN13,$DN$4:$DN$23,0) -> 2 | DP13: =T13 -> 0 | DQ13: =((DH13*10^3+DJ13)*10^3+DM13)*10^3+DP13 -> 0 | DR13: =RANK(DQ13,$DQ$4:$DQ$23,0) -> 2 | DS13: =AN13 -> 0 | DT13: =(((DH13*10^3+DJ13)*10^3+DM13)*10^3+DP13)*10^3+DS13 -> 0 | DU13: =IF(E13>0,RANK(DT13,$DT$4:$DT$23,0),20) -> 20 | DV13: =IF(DU13<>20,RANK(DU13,$DU$4:$DU$23,1)+COUNTIF(DU$4:DU13,DU13)-1,20) -> 20 | DW13: =DH13/$DW$3 -> 0 | DX13: =IF(COUNTIF(CD13:DA13,"x")>0,"Dis",IF(COUNTIF(DB13,"x")>0,"Abbruch","-")) -> - | DZ13: =K13+P13+U13+Z13+AE13+AJ13+AO13+AT13-DC13 -> 0 | EA13: =L13+Q13+V13+AA13+AF13+AK13+AP13+AU13-DD13 -> 0 | EB13: =M13+R13+W13+AB13+AG13+AL13+AQ13+AV13-DE13 -> 0
D14: =classi!B45 -> - | E14: =classi!C45 -> 0 | F14: =classi!D45 -> 0 | G14: =classi!G45 -> 0 | K14: 0 | L14: 0 | M14: 0 | O14: =AVERAGE(K14:M14) -> 0 | P14: 0 | Q14: 0 | R14: =0 -> 0 | T14: =AVERAGE(P14:R14) -> 0 | U14: 0 | V14: 0 | W14: 0 | Y14: =AVERAGE(U14:W14) -> 0 | Z14: 0 | AA14: 0 | AB14: 0 | AD14: =AVERAGE(Z14:AB14) -> 0 | AE14: 0 | AF14: 0 | AG14: 0 | AI14: =AVERAGE(AE14:AG14) -> 0 | AJ14: 0 | AK14: 0 | AL14: 0 | AN14: =AVERAGE(AJ14:AL14) -> 0 | AO14: 0 | AP14: 0 | AQ14: 0 | AS14: =AVERAGE(AO14:AQ14) -> 0 | AT14: 0 | AU14: 0 | AV14: 0 | AX14: =AVERAGE(AT14:AV14) -> 0 | AY14: =O14+T14+Y14+AD14+AI14+AN14+AS14+AX14 -> 0 | AZ14: 0 | BA14: 0 | BB14: 0 | BD14: =AVERAGE(AZ14:BC14) -> 0 | BE14: 0 | BF14: 0 | BG14: 0 | BI14: =AVERAGE(BE14:BH14) -> 0 | BJ14: 0 | BK14: 0 | BL14: 0 | BN14: =AVERAGE(BJ14:BM14) -> 0 | BO14: 0 | BP14: 0 | BQ14: 0 | BS14: =AVERAGE(BO14:BR14) -> 0 | BT14: 0 | BU14: 0 | BV14: 0 | BX14: =AVERAGE(BT14:BW14) -> 0 | BY14: 0 | BZ14: 0 | CA14: 0 | CC14: =AVERAGE(BY14:CB14) -> 0 | DC14: =SUM(AZ14,BE14,BJ14,BO14,BT14,BY14) -> 0 | DD14: =SUM(BA14,BF14,BK14,BP14,BU14,BZ14) -> 0 | DE14: =SUM(BB14+BG14+BL14+BQ14+BV14+CA14) -> 0 | DG14: =BD14+BI14+BS14+BN14+BX14+CC14 -> 0 | DH14: =AY14-DG14 -> 0 | DI14: =RANK(DH14,$DH$4:$DH$23,0) -> 2 | DJ14: =O14 -> 0 | DK14: =DH14*10^3+DJ14 -> 0 | DL14: =RANK(DK14,$DK$4:$DK$23,0) -> 2 | DM14: =AI14 -> 0 | DN14: =(DH14*10^3+DJ14)*10^3+DM14 -> 0 | DO14: =RANK(DN14,$DN$4:$DN$23,0) -> 2 | DP14: =T14 -> 0 | DQ14: =((DH14*10^3+DJ14)*10^3+DM14)*10^3+DP14 -> 0 | DR14: =RANK(DQ14,$DQ$4:$DQ$23,0) -> 2 | DS14: =AN14 -> 0 | DT14: =(((DH14*10^3+DJ14)*10^3+DM14)*10^3+DP14)*10^3+DS14 -> 0 | DU14: =IF(E14>0,RANK(DT14,$DT$4:$DT$23,0),20) -> 20 | DV14: =IF(DU14<>20,RANK(DU14,$DU$4:$DU$23,1)+COUNTIF(DU$4:DU14,DU14)-1,20) -> 20 | DW14: =DH14/$DW$3 -> 0 | DX14: =IF(COUNTIF(CD14:DA14,"x")>0,"Dis",IF(COUNTIF(DB14,"x")>0,"Abbruch","-")) -> - | DZ14: =K14+P14+U14+Z14+AE14+AJ14+AO14+AT14-DC14 -> 0 | EA14: =L14+Q14+V14+AA14+AF14+AK14+AP14+AU14-DD14 -> 0 | EB14: =M14+R14+W14+AB14+AG14+AL14+AQ14+AV14-DE14 -> 0
D15: =classi!B46 -> - | E15: =classi!C46 -> 0 | F15: =classi!D46 -> 0 | G15: =classi!G46 -> 0 | K15: 0 | L15: 0 | M15: 0 | O15: =AVERAGE(K15:M15) -> 0 | P15: 0 | Q15: 0 | R15: =0 -> 0 | T15: =AVERAGE(P15:R15) -> 0 | U15: 0 | V15: 0 | W15: 0 | Y15: =AVERAGE(U15:W15) -> 0 | Z15: 0 | AA15: 0 | AB15: 0 | AD15: =AVERAGE(Z15:AB15) -> 0 | AE15: 0 | AF15: 0 | AG15: 0 | AI15: =AVERAGE(AE15:AG15) -> 0 | AJ15: 0 | AK15: 0 | AL15: 0 | AN15: =AVERAGE(AJ15:AL15) -> 0 | AO15: 0 | AP15: 0 | AQ15: 0 | AS15: =AVERAGE(AO15:AQ15) -> 0 | AT15: 0 | AU15: 0 | AV15: 0 | AX15: =AVERAGE(AT15:AV15) -> 0 | AY15: =O15+T15+Y15+AD15+AI15+AN15+AS15+AX15 -> 0 | AZ15: 0 | BA15: 0 | BB15: 0 | BD15: =AVERAGE(AZ15:BC15) -> 0 | BE15: 0 | BF15: 0 | BG15: 0 | BI15: =AVERAGE(BE15:BH15) -> 0 | BJ15: 0 | BK15: 0 | BL15: 0 | BN15: =AVERAGE(BJ15:BM15) -> 0 | BO15: 0 | BP15: 0 | BQ15: 0 | BS15: =AVERAGE(BO15:BR15) -> 0 | BT15: 0 | BU15: 0 | BV15: 0 | BX15: =AVERAGE(BT15:BW15) -> 0 | BY15: 0 | BZ15: 0 | CA15: 0 | CC15: =AVERAGE(BY15:CB15) -> 0 | DC15: =SUM(AZ15,BE15,BJ15,BO15,BT15,BY15) -> 0 | DD15: =SUM(BA15,BF15,BK15,BP15,BU15,BZ15) -> 0 | DE15: =SUM(BB15+BG15+BL15+BQ15+BV15+CA15) -> 0 | DG15: =BD15+BI15+BS15+BN15+BX15+CC15 -> 0 | DH15: =AY15-DG15 -> 0 | DI15: =RANK(DH15,$DH$4:$DH$23,0) -> 2 | DJ15: =O15 -> 0 | DK15: =DH15*10^3+DJ15 -> 0 | DL15: =RANK(DK15,$DK$4:$DK$23,0) -> 2 | DM15: =AI15 -> 0 | DN15: =(DH15*10^3+DJ15)*10^3+DM15 -> 0 | DO15: =RANK(DN15,$DN$4:$DN$23,0) -> 2 | DP15: =T15 -> 0 | DQ15: =((DH15*10^3+DJ15)*10^3+DM15)*10^3+DP15 -> 0 | DR15: =RANK(DQ15,$DQ$4:$DQ$23,0) -> 2 | DS15: =AN15 -> 0 | DT15: =(((DH15*10^3+DJ15)*10^3+DM15)*10^3+DP15)*10^3+DS15 -> 0 | DU15: =IF(E15>0,RANK(DT15,$DT$4:$DT$23,0),20) -> 20 | DV15: =IF(DU15<>20,RANK(DU15,$DU$4:$DU$23,1)+COUNTIF(DU$4:DU15,DU15)-1,20) -> 20 | DW15: =DH15/$DW$3 -> 0 | DX15: =IF(COUNTIF(CD15:DA15,"x")>0,"Dis",IF(COUNTIF(DB15,"x")>0,"Abbruch","-")) -> - | DZ15: =K15+P15+U15+Z15+AE15+AJ15+AO15+AT15-DC15 -> 0 | EA15: =L15+Q15+V15+AA15+AF15+AK15+AP15+AU15-DD15 -> 0 | EB15: =M15+R15+W15+AB15+AG15+AL15+AQ15+AV15-DE15 -> 0
D16: =classi!B47 -> - | E16: =classi!C47 -> 0 | F16: =classi!D47 -> 0 | G16: =classi!G47 -> 0 | K16: 0 | L16: 0 | M16: 0 | O16: =AVERAGE(K16:M16) -> 0 | P16: 0 | Q16: 0 | R16: =0 -> 0 | T16: =AVERAGE(P16:R16) -> 0 | U16: 0 | V16: 0 | W16: 0 | Y16: =AVERAGE(U16:W16) -> 0 | Z16: 0 | AA16: 0 | AB16: 0 | AD16: =AVERAGE(Z16:AB16) -> 0 | AE16: 0 | AF16: 0 | AG16: 0 | AI16: =AVERAGE(AE16:AG16) -> 0 | AJ16: 0 | AK16: 0 | AL16: 0 | AN16: =AVERAGE(AJ16:AL16) -> 0 | AO16: 0 | AP16: 0 | AQ16: 0 | AS16: =AVERAGE(AO16:AQ16) -> 0 | AT16: 0 | AU16: 0 | AV16: 0 | AX16: =AVERAGE(AT16:AV16) -> 0 | AY16: =O16+T16+Y16+AD16+AI16+AN16+AS16+AX16 -> 0 | AZ16: 0 | BA16: 0 | BB16: 0 | BD16: =AVERAGE(AZ16:BC16) -> 0 | BE16: 0 | BF16: 0 | BG16: 0 | BI16: =AVERAGE(BE16:BH16) -> 0 | BJ16: 0 | BK16: 0 | BL16: 0 | BN16: =AVERAGE(BJ16:BM16) -> 0 | BO16: 0 | BP16: 0 | BQ16: 0 | BS16: =AVERAGE(BO16:BR16) -> 0 | BT16: 0 | BU16: 0 | BV16: 0 | BX16: =AVERAGE(BT16:BW16) -> 0 | BY16: 0 | BZ16: 0 | CA16: 0 | CC16: =AVERAGE(BY16:CB16) -> 0 | DC16: =SUM(AZ16,BE16,BJ16,BO16,BT16,BY16) -> 0 | DD16: =SUM(BA16,BF16,BK16,BP16,BU16,BZ16) -> 0 | DE16: =SUM(BB16+BG16+BL16+BQ16+BV16+CA16) -> 0 | DG16: =BD16+BI16+BS16+BN16+BX16+CC16 -> 0 | DH16: =AY16-DG16 -> 0 | DI16: =RANK(DH16,$DH$4:$DH$23,0) -> 2 | DJ16: =O16 -> 0 | DK16: =DH16*10^3+DJ16 -> 0 | DL16: =RANK(DK16,$DK$4:$DK$23,0) -> 2 | DM16: =AI16 -> 0 | DN16: =(DH16*10^3+DJ16)*10^3+DM16 -> 0 | DO16: =RANK(DN16,$DN$4:$DN$23,0) -> 2 | DP16: =T16 -> 0 | DQ16: =((DH16*10^3+DJ16)*10^3+DM16)*10^3+DP16 -> 0 | DR16: =RANK(DQ16,$DQ$4:$DQ$23,0) -> 2 | DS16: =AN16 -> 0 | DT16: =(((DH16*10^3+DJ16)*10^3+DM16)*10^3+DP16)*10^3+DS16 -> 0 | DU16: =IF(E16>0,RANK(DT16,$DT$4:$DT$23,0),20) -> 20 | DV16: =IF(DU16<>20,RANK(DU16,$DU$4:$DU$23,1)+COUNTIF(DU$4:DU16,DU16)-1,20) -> 20 | DW16: =DH16/$DW$3 -> 0 | DX16: =IF(COUNTIF(CD16:DA16,"x")>0,"Dis",IF(COUNTIF(DB16,"x")>0,"Abbruch","-")) -> - | DZ16: =K16+P16+U16+Z16+AE16+AJ16+AO16+AT16-DC16 -> 0 | EA16: =L16+Q16+V16+AA16+AF16+AK16+AP16+AU16-DD16 -> 0 | EB16: =M16+R16+W16+AB16+AG16+AL16+AQ16+AV16-DE16 -> 0
D17: =classi!B48 -> - | E17: =classi!C48 -> 0 | F17: =classi!D48 -> 0 | G17: =classi!G48 -> 0 | K17: 0 | L17: 0 | M17: 0 | O17: =AVERAGE(K17:M17) -> 0 | P17: 0 | Q17: 0 | R17: =0 -> 0 | T17: =AVERAGE(P17:R17) -> 0 | U17: 0 | V17: 0 | W17: 0 | Y17: =AVERAGE(U17:W17) -> 0 | Z17: 0 | AA17: 0 | AB17: 0 | AD17: =AVERAGE(Z17:AB17) -> 0 | AE17: 0 | AF17: 0 | AG17: 0 | AI17: =AVERAGE(AE17:AG17) -> 0 | AJ17: 0 | AK17: 0 | AL17: 0 | AN17: =AVERAGE(AJ17:AL17) -> 0 | AO17: 0 | AP17: 0 | AQ17: 0 | AS17: =AVERAGE(AO17:AQ17) -> 0 | AT17: 0 | AU17: 0 | AV17: 0 | AX17: =AVERAGE(AT17:AV17) -> 0 | AY17: =O17+T17+Y17+AD17+AI17+AN17+AS17+AX17 -> 0 | AZ17: 0 | BA17: 0 | BB17: 0 | BD17: =AVERAGE(AZ17:BC17) -> 0 | BE17: 0 | BF17: 0 | BG17: 0 | BI17: =AVERAGE(BE17:BH17) -> 0 | BJ17: 0 | BK17: 0 | BL17: 0 | BN17: =AVERAGE(BJ17:BM17) -> 0 | BO17: 0 | BP17: 0 | BQ17: 0 | BS17: =AVERAGE(BO17:BR17) -> 0 | BT17: 0 | BU17: 0 | BV17: 0 | BX17: =AVERAGE(BT17:BW17) -> 0 | BY17: 0 | BZ17: 0 | CA17: 0 | CC17: =AVERAGE(BY17:CB17) -> 0 | DC17: =SUM(AZ17,BE17,BJ17,BO17,BT17,BY17) -> 0 | DD17: =SUM(BA17,BF17,BK17,BP17,BU17,BZ17) -> 0 | DE17: =SUM(BB17+BG17+BL17+BQ17+BV17+CA17) -> 0 | DG17: =BD17+BI17+BS17+BN17+BX17+CC17 -> 0 | DH17: =AY17-DG17 -> 0 | DI17: =RANK(DH17,$DH$4:$DH$23,0) -> 2 | DJ17: =O17 -> 0 | DK17: =DH17*10^3+DJ17 -> 0 | DL17: =RANK(DK17,$DK$4:$DK$23,0) -> 2 | DM17: =AI17 -> 0 | DN17: =(DH17*10^3+DJ17)*10^3+DM17 -> 0 | DO17: =RANK(DN17,$DN$4:$DN$23,0) -> 2 | DP17: =T17 -> 0 | DQ17: =((DH17*10^3+DJ17)*10^3+DM17)*10^3+DP17 -> 0 | DR17: =RANK(DQ17,$DQ$4:$DQ$23,0) -> 2 | DS17: =AN17 -> 0 | DT17: =(((DH17*10^3+DJ17)*10^3+DM17)*10^3+DP17)*10^3+DS17 -> 0 | DU17: =IF(E17>0,RANK(DT17,$DT$4:$DT$23,0),20) -> 20 | DV17: =IF(DU17<>20,RANK(DU17,$DU$4:$DU$23,1)+COUNTIF(DU$4:DU17,DU17)-1,20) -> 20 | DW17: =DH17/$DW$3 -> 0 | DX17: =IF(COUNTIF(CD17:DA17,"x")>0,"Dis",IF(COUNTIF(DB17,"x")>0,"Abbruch","-")) -> - | DZ17: =K17+P17+U17+Z17+AE17+AJ17+AO17+AT17-DC17 -> 0 | EA17: =L17+Q17+V17+AA17+AF17+AK17+AP17+AU17-DD17 -> 0 | EB17: =M17+R17+W17+AB17+AG17+AL17+AQ17+AV17-DE17 -> 0
D18: =classi!B49 -> - | E18: =classi!C49 -> 0 | F18: =classi!D49 -> 0 | G18: =classi!G49 -> 0 | K18: 0 | L18: 0 | M18: 0 | O18: =AVERAGE(K18:M18) -> 0 | P18: 0 | Q18: 0 | R18: =0 -> 0 | T18: =AVERAGE(P18:R18) -> 0 | U18: 0 | V18: 0 | W18: 0 | Y18: =AVERAGE(U18:W18) -> 0 | Z18: 0 | AA18: 0 | AB18: 0 | AD18: =AVERAGE(Z18:AB18) -> 0 | AE18: 0 | AF18: 0 | AG18: 0 | AI18: =AVERAGE(AE18:AG18) -> 0 | AJ18: 0 | AK18: 0 | AL18: 0 | AN18: =AVERAGE(AJ18:AL18) -> 0 | AO18: 0 | AP18: 0 | AQ18: 0 | AS18: =AVERAGE(AO18:AQ18) -> 0 | AT18: 0 | AU18: 0 | AV18: 0 | AX18: =AVERAGE(AT18:AV18) -> 0 | AY18: =O18+T18+Y18+AD18+AI18+AN18+AS18+AX18 -> 0 | AZ18: 0 | BA18: 0 | BB18: 0 | BD18: =AVERAGE(AZ18:BC18) -> 0 | BE18: 0 | BF18: 0 | BG18: 0 | BI18: =AVERAGE(BE18:BH18) -> 0 | BJ18: 0 | BK18: 0 | BL18: 0 | BN18: =AVERAGE(BJ18:BM18) -> 0 | BO18: 0 | BP18: 0 | BQ18: 0 | BS18: =AVERAGE(BO18:BR18) -> 0 | BT18: 0 | BU18: 0 | BV18: 0 | BX18: =AVERAGE(BT18:BW18) -> 0 | BY18: 0 | CA18: 0 | CC18: =AVERAGE(BY18:CB18) -> 0 | DC18: =SUM(AZ18,BE18,BJ18,BO18,BT18,BY18) -> 0 | DD18: =SUM(BA18,BF18,BK18,BP18,BU18,BZ18) -> 0 | DE18: =SUM(BB18+BG18+BL18+BQ18+BV18+CA18) -> 0 | DG18: =BD18+BI18+BS18+BN18+BX18+CC18 -> 0 | DH18: =AY18-DG18 -> 0 | DI18: =RANK(DH18,$DH$4:$DH$23,0) -> 2 | DJ18: =O18 -> 0 | DK18: =DH18*10^3+DJ18 -> 0 | DL18: =RANK(DK18,$DK$4:$DK$23,0) -> 2 | DM18: =AI18 -> 0 | DN18: =(DH18*10^3+DJ18)*10^3+DM18 -> 0 | DO18: =RANK(DN18,$DN$4:$DN$23,0) -> 2 | DP18: =T18 -> 0 | DQ18: =((DH18*10^3+DJ18)*10^3+DM18)*10^3+DP18 -> 0 | DR18: =RANK(DQ18,$DQ$4:$DQ$23,0) -> 2 | DS18: =AN18 -> 0 | DT18: =(((DH18*10^3+DJ18)*10^3+DM18)*10^3+DP18)*10^3+DS18 -> 0 | DU18: =IF(E18>0,RANK(DT18,$DT$4:$DT$23,0),20) -> 20 | DV18: =IF(DU18<>20,RANK(DU18,$DU$4:$DU$23,1)+COUNTIF(DU$4:DU18,DU18)-1,20) -> 20 | DW18: =DH18/$DW$3 -> 0 | DX18: =IF(COUNTIF(CD18:DA18,"x")>0,"Dis",IF(COUNTIF(DB18,"x")>0,"Abbruch","-")) -> - | DZ18: =K18+P18+U18+Z18+AE18+AJ18+AO18+AT18-DC18 -> 0 | EA18: =L18+Q18+V18+AA18+AF18+AK18+AP18+AU18-DD18 -> 0 | EB18: =M18+R18+W18+AB18+AG18+AL18+AQ18+AV18-DE18 -> 0
D19: =classi!B50 -> - | E19: =classi!C50 -> 0 | F19: =classi!D50 -> 0 | G19: =classi!G50 -> 0 | K19: 0 | L19: 0 | M19: 0 | O19: =AVERAGE(K19:M19) -> 0 | P19: 0 | Q19: 0 | R19: =0 -> 0 | T19: =AVERAGE(P19:R19) -> 0 | U19: 0 | V19: 0 | W19: 0 | Y19: =AVERAGE(U19:W19) -> 0 | Z19: 0 | AA19: 0 | AB19: 0 | AD19: =AVERAGE(Z19:AB19) -> 0 | AE19: 0 | AF19: 0 | AG19: 0 | AI19: =AVERAGE(AE19:AG19) -> 0 | AJ19: 0 | AK19: 0 | AL19: 0 | AN19: =AVERAGE(AJ19:AL19) -> 0 | AO19: 0 | AP19: 0 | AQ19: 0 | AS19: =AVERAGE(AO19:AQ19) -> 0 | AT19: 0 | AU19: 0 | AV19: 0 | AX19: =AVERAGE(AT19:AV19) -> 0 | AY19: =O19+T19+Y19+AD19+AI19+AN19+AS19+AX19 -> 0 | AZ19: 0 | BA19: 0 | BB19: 0 | BD19: =AVERAGE(AZ19:BC19) -> 0 | BE19: 0 | BF19: 0 | BG19: 0 | BI19: =AVERAGE(BE19:BH19) -> 0 | BJ19: 0 | BK19: 0 | BL19: 0 | BN19: =AVERAGE(BJ19:BM19) -> 0 | BO19: 0 | BP19: 0 | BQ19: 0 | BS19: =AVERAGE(BO19:BR19) -> 0 | BT19: 0 | BU19: 0 | BV19: 0 | BX19: =AVERAGE(BT19:BW19) -> 0 | BY19: 0 | BZ19: 0 | CA19: 0 | CC19: =AVERAGE(BY19:CB19) -> 0 | DC19: =SUM(AZ19,BE19,BJ19,BO19,BT19,BY19) -> 0 | DD19: =SUM(BA19,BF19,BK19,BP19,BU19,BZ19) -> 0 | DE19: =SUM(BB19+BG19+BL19+BQ19+BV19+CA19) -> 0 | DG19: =BD19+BI19+BS19+BN19+BX19+CC19 -> 0 | DH19: =AY19-DG19 -> 0 | DI19: =RANK(DH19,$DH$4:$DH$23,0) -> 2 | DJ19: =O19 -> 0 | DK19: =DH19*10^3+DJ19 -> 0 | DL19: =RANK(DK19,$DK$4:$DK$23,0) -> 2 | DM19: =AI19 -> 0 | DN19: =(DH19*10^3+DJ19)*10^3+DM19 -> 0 | DO19: =RANK(DN19,$DN$4:$DN$23,0) -> 2 | DP19: =T19 -> 0 | DQ19: =((DH19*10^3+DJ19)*10^3+DM19)*10^3+DP19 -> 0 | DR19: =RANK(DQ19,$DQ$4:$DQ$23,0) -> 2 | DS19: =AN19 -> 0 | DT19: =(((DH19*10^3+DJ19)*10^3+DM19)*10^3+DP19)*10^3+DS19 -> 0 | DU19: =IF(E19>0,RANK(DT19,$DT$4:$DT$23,0),20) -> 20 | DV19: =IF(DU19<>20,RANK(DU19,$DU$4:$DU$23,1)+COUNTIF(DU$4:DU19,DU19)-1,20) -> 20 | DW19: =DH19/$DW$3 -> 0 | DX19: =IF(COUNTIF(CD19:DA19,"x")>0,"Dis",IF(COUNTIF(DB19,"x")>0,"Abbruch","-")) -> - | DZ19: =K19+P19+U19+Z19+AE19+AJ19+AO19+AT19-DC19 -> 0 | EA19: =L19+Q19+V19+AA19+AF19+AK19+AP19+AU19-DD19 -> 0 | EB19: =M19+R19+W19+AB19+AG19+AL19+AQ19+AV19-DE19 -> 0
D20: =classi!B51 -> - | E20: =classi!C51 -> 0 | F20: =classi!D51 -> 0 | G20: =classi!G51 -> 0 | K20: 0 | L20: 0 | M20: 0 | O20: =AVERAGE(K20:M20) -> 0 | P20: 0 | Q20: 0 | R20: =0 -> 0 | T20: =AVERAGE(P20:R20) -> 0 | U20: 0 | V20: 0 | W20: 0 | Y20: =AVERAGE(U20:W20) -> 0 | Z20: 0 | AA20: 0 | AB20: 0 | AD20: =AVERAGE(Z20:AB20) -> 0 | AE20: 0 | AF20: 0 | AG20: 0 | AI20: =AVERAGE(AE20:AG20) -> 0 | AJ20: 0 | AK20: 0 | AL20: 0 | AN20: =AVERAGE(AJ20:AL20) -> 0 | AO20: 0 | AP20: 0 | AQ20: 0 | AS20: =AVERAGE(AO20:AQ20) -> 0 | AT20: 0 | AU20: 0 | AV20: 0 | AX20: =AVERAGE(AT20:AV20) -> 0 | AY20: =O20+T20+Y20+AD20+AI20+AN20+AS20+AX20 -> 0 | AZ20: 0 | BA20: 0 | BB20: 0 | BD20: =AVERAGE(AZ20:BC20) -> 0 | BE20: 0 | BF20: 0 | BG20: 0 | BI20: =AVERAGE(BE20:BH20) -> 0 | BJ20: 0 | BK20: 0 | BL20: 0 | BN20: =AVERAGE(BJ20:BM20) -> 0 | BO20: 0 | BP20: 0 | BQ20: 0 | BS20: =AVERAGE(BO20:BR20) -> 0 | BT20: 0 | BU20: 0 | BV20: 0 | BX20: =AVERAGE(BT20:BW20) -> 0 | BY20: 0 | BZ20: 0 | CA20: 0 | CC20: =AVERAGE(BY20:CB20) -> 0 | DC20: =SUM(AZ20,BE20,BJ20,BO20,BT20,BY20) -> 0 | DD20: =SUM(BA20,BF20,BK20,BP20,BU20,BZ20) -> 0 | DE20: =SUM(BB20+BG20+BL20+BQ20+BV20+CA20) -> 0 | DG20: =BD20+BI20+BS20+BN20+BX20+CC20 -> 0 | DH20: =AY20-DG20 -> 0 | DI20: =RANK(DH20,$DH$4:$DH$23,0) -> 2 | DJ20: =O20 -> 0 | DK20: =DH20*10^3+DJ20 -> 0 | DL20: =RANK(DK20,$DK$4:$DK$23,0) -> 2 | DM20: =AI20 -> 0 | DN20: =(DH20*10^3+DJ20)*10^3+DM20 -> 0 | DO20: =RANK(DN20,$DN$4:$DN$23,0) -> 2 | DP20: =T20 -> 0 | DQ20: =((DH20*10^3+DJ20)*10^3+DM20)*10^3+DP20 -> 0 | DR20: =RANK(DQ20,$DQ$4:$DQ$23,0) -> 2 | DS20: =AN20 -> 0 | DT20: =(((DH20*10^3+DJ20)*10^3+DM20)*10^3+DP20)*10^3+DS20 -> 0 | DU20: =IF(E20>0,RANK(DT20,$DT$4:$DT$23,0),20) -> 20 | DV20: =IF(DU20<>20,RANK(DU20,$DU$4:$DU$23,1)+COUNTIF(DU$4:DU20,DU20)-1,20) -> 20 | DW20: =DH20/$DW$3 -> 0 | DX20: =IF(COUNTIF(CD20:DA20,"x")>0,"Dis",IF(COUNTIF(DB20,"x")>0,"Abbruch","-")) -> - | DZ20: =K20+P20+U20+Z20+AE20+AJ20+AO20+AT20-DC20 -> 0 | EA20: =L20+Q20+V20+AA20+AF20+AK20+AP20+AU20-DD20 -> 0 | EB20: =M20+R20+W20+AB20+AG20+AL20+AQ20+AV20-DE20 -> 0
D21: =classi!B52 -> - | E21: =classi!C52 -> 0 | F21: =classi!D52 -> 0 | G21: =classi!G52 -> 0 | K21: 0 | L21: 0 | M21: 0 | O21: =AVERAGE(K21:M21) -> 0 | P21: 0 | Q21: 0 | R21: =0 -> 0 | T21: =AVERAGE(P21:R21) -> 0 | U21: 0 | V21: 0 | W21: 0 | Y21: =AVERAGE(U21:W21) -> 0 | Z21: 0 | AA21: 0 | AB21: 0 | AD21: =AVERAGE(Z21:AB21) -> 0 | AE21: 0 | AF21: 0 | AG21: 0 | AI21: =AVERAGE(AE21:AG21) -> 0 | AJ21: 0 | AK21: 0 | AL21: 0 | AN21: =AVERAGE(AJ21:AL21) -> 0 | AO21: 0 | AP21: 0 | AQ21: 0 | AS21: =AVERAGE(AO21:AQ21) -> 0 | AT21: 0 | AU21: 0 | AV21: 0 | AX21: =AVERAGE(AT21:AV21) -> 0 | AY21: =O21+T21+Y21+AD21+AI21+AN21+AS21+AX21 -> 0 | AZ21: 0 | BA21: 0 | BB21: 0 | BD21: =AVERAGE(AZ21:BC21) -> 0 | BE21: 0 | BF21: 0 | BG21: 0 | BI21: =AVERAGE(BE21:BH21) -> 0 | BJ21: 0 | BK21: 0 | BL21: 0 | BN21: =AVERAGE(BJ21:BM21) -> 0 | BO21: 0 | BP21: 0 | BQ21: 0 | BS21: =AVERAGE(BO21:BR21) -> 0 | BT21: 0 | BU21: 0 | BV21: 0 | BX21: =AVERAGE(BT21:BW21) -> 0 | BY21: 0 | BZ21: 0 | CA21: 0 | CC21: =AVERAGE(BY21:CB21) -> 0 | DC21: =SUM(AZ21,BE21,BJ21,BO21,BT21,BY21) -> 0 | DD21: =SUM(BA21,BF21,BK21,BP21,BU21,BZ21) -> 0 | DE21: =SUM(BB21+BG21+BL21+BQ21+BV21+CA21) -> 0 | DG21: =BD21+BI21+BS21+BN21+BX21+CC21 -> 0 | DH21: =AY21-DG21 -> 0 | DI21: =RANK(DH21,$DH$4:$DH$23,0) -> 2 | DJ21: =O21 -> 0 | DK21: =DH21*10^3+DJ21 -> 0 | DL21: =RANK(DK21,$DK$4:$DK$23,0) -> 2 | DM21: =AI21 -> 0 | DN21: =(DH21*10^3+DJ21)*10^3+DM21 -> 0 | DO21: =RANK(DN21,$DN$4:$DN$23,0) -> 2 | DP21: =T21 -> 0 | DQ21: =((DH21*10^3+DJ21)*10^3+DM21)*10^3+DP21 -> 0 | DR21: =RANK(DQ21,$DQ$4:$DQ$23,0) -> 2 | DS21: =AN21 -> 0 | DT21: =(((DH21*10^3+DJ21)*10^3+DM21)*10^3+DP21)*10^3+DS21 -> 0 | DU21: =IF(E21>0,RANK(DT21,$DT$4:$DT$23,0),20) -> 20 | DV21: =IF(DU21<>20,RANK(DU21,$DU$4:$DU$23,1)+COUNTIF(DU$4:DU21,DU21)-1,20) -> 20 | DW21: =DH21/$DW$3 -> 0 | DX21: =IF(COUNTIF(CD21:DA21,"x")>0,"Dis",IF(COUNTIF(DB21,"x")>0,"Abbruch","-")) -> - | DZ21: =K21+P21+U21+Z21+AE21+AJ21+AO21+AT21-DC21 -> 0 | EA21: =L21+Q21+V21+AA21+AF21+AK21+AP21+AU21-DD21 -> 0 | EB21: =M21+R21+W21+AB21+AG21+AL21+AQ21+AV21-DE21 -> 0
D22: =classi!B53 -> - | E22: =classi!C53 -> 0 | F22: =classi!D53 -> 0 | G22: =classi!G53 -> 0 | K22: 0 | L22: 0 | M22: 0 | O22: =AVERAGE(K22:M22) -> 0 | P22: 0 | Q22: 0 | R22: =0 -> 0 | T22: =AVERAGE(P22:R22) -> 0 | U22: 0 | V22: 0 | W22: 0 | Y22: =AVERAGE(U22:W22) -> 0 | Z22: 0 | AA22: 0 | AB22: 0 | AD22: =AVERAGE(Z22:AB22) -> 0 | AE22: 0 | AF22: 0 | AG22: 0 | AI22: =AVERAGE(AE22:AG22) -> 0 | AJ22: 0 | AK22: 0 | AL22: 0 | AN22: =AVERAGE(AJ22:AL22) -> 0 | AO22: 0 | AP22: 0 | AQ22: 0 | AS22: =AVERAGE(AO22:AQ22) -> 0 | AT22: 0 | AU22: 0 | AV22: 0 | AX22: =AVERAGE(AT22:AV22) -> 0 | AY22: =O22+T22+Y22+AD22+AI22+AN22+AS22+AX22 -> 0 | AZ22: 0 | BA22: 0 | BB22: 0 | BD22: =AVERAGE(AZ22:BC22) -> 0 | BE22: 0 | BF22: 0 | BG22: 0 | BI22: =AVERAGE(BE22:BH22) -> 0 | BJ22: 0 | BK22: 0 | BL22: 0 | BN22: =AVERAGE(BJ22:BM22) -> 0 | BO22: 0 | BP22: 0 | BQ22: 0 | BS22: =AVERAGE(BO22:BR22) -> 0 | BT22: 0 | BU22: 0 | BV22: 0 | BX22: =AVERAGE(BT22:BW22) -> 0 | BY22: 0 | BZ22: 0 | CA22: 0 | CC22: =AVERAGE(BY22:CB22) -> 0 | DC22: =SUM(AZ22,BE22,BJ22,BO22,BT22,BY22) -> 0 | DD22: =SUM(BA22,BF22,BK22,BP22,BU22,BZ22) -> 0 | DE22: =SUM(BB22+BG22+BL22+BQ22+BV22+CA22) -> 0 | DG22: =BD22+BI22+BS22+BN22+BX22+CC22 -> 0 | DH22: =AY22-DG22 -> 0 | DI22: =RANK(DH22,$DH$4:$DH$23,0) -> 2 | DJ22: =O22 -> 0 | DK22: =DH22*10^3+DJ22 -> 0 | DL22: =RANK(DK22,$DK$4:$DK$23,0) -> 2 | DM22: =AI22 -> 0 | DN22: =(DH22*10^3+DJ22)*10^3+DM22 -> 0 | DO22: =RANK(DN22,$DN$4:$DN$23,0) -> 2 | DP22: =T22 -> 0 | DQ22: =((DH22*10^3+DJ22)*10^3+DM22)*10^3+DP22 -> 0 | DR22: =RANK(DQ22,$DQ$4:$DQ$23,0) -> 2 | DS22: =AN22 -> 0 | DT22: =(((DH22*10^3+DJ22)*10^3+DM22)*10^3+DP22)*10^3+DS22 -> 0 | DU22: =IF(E22>0,RANK(DT22,$DT$4:$DT$23,0),20) -> 20 | DV22: =IF(DU22<>20,RANK(DU22,$DU$4:$DU$23,1)+COUNTIF(DU$4:DU22,DU22)-1,20) -> 20 | DW22: =DH22/$DW$3 -> 0 | DX22: =IF(COUNTIF(CD22:DA22,"x")>0,"Dis",IF(COUNTIF(DB22,"x")>0,"Abbruch","-")) -> - | DZ22: =K22+P22+U22+Z22+AE22+AJ22+AO22+AT22-DC22 -> 0 | EA22: =L22+Q22+V22+AA22+AF22+AK22+AP22+AU22-DD22 -> 0 | EB22: =M22+R22+W22+AB22+AG22+AL22+AQ22+AV22-DE22 -> 0
D23: =classi!B54 -> - | E23: =classi!C54 -> 0 | F23: =classi!D54 -> 0 | G23: =classi!G54 -> 0 | K23: 0 | L23: 0 | M23: 0 | O23: =AVERAGE(K23:M23) -> 0 | P23: 0 | Q23: 0 | R23: =0 -> 0 | T23: =AVERAGE(P23:R23) -> 0 | U23: 0 | V23: 0 | W23: 0 | Y23: =AVERAGE(U23:W23) -> 0 | Z23: 0 | AA23: 0 | AB23: 0 | AD23: =AVERAGE(Z23:AB23) -> 0 | AE23: 0 | AF23: 0 | AG23: 0 | AI23: =AVERAGE(AE23:AG23) -> 0 | AJ23: 0 | AK23: 0 | AL23: 0 | AN23: =AVERAGE(AJ23:AL23) -> 0 | AO23: 0 | AP23: 0 | AQ23: 0 | AS23: =AVERAGE(AO23:AQ23) -> 0 | AT23: 0 | AU23: 0 | AV23: 0 | AX23: =AVERAGE(AT23:AV23) -> 0 | AY23: =O23+T23+Y23+AD23+AI23+AN23+AS23+AX23 -> 0 | AZ23: 0 | BA23: 0 | BB23: 0 | BD23: =AVERAGE(AZ23:BC23) -> 0 | BE23: 0 | BF23: 0 | BG23: 0 | BI23: =AVERAGE(BE23:BH23) -> 0 | BJ23: 0 | BK23: 0 | BL23: 0 | BN23: =AVERAGE(BJ23:BM23) -> 0 | BO23: 0 | BP23: 0 | BQ23: 0 | BS23: =AVERAGE(BO23:BR23) -> 0 | BT23: 0 | BU23: 0 | BV23: 0 | BX23: =AVERAGE(BT23:BW23) -> 0 | BY23: 0 | BZ23: 0 | CA23: 0 | CC23: =AVERAGE(BY23:CB23) -> 0 | DC23: =SUM(AZ23,BE23,BJ23,BO23,BT23,BY23) -> 0 | DD23: =SUM(BA23,BF23,BK23,BP23,BU23,BZ23) -> 0 | DE23: =SUM(BB23+BG23+BL23+BQ23+BV23+CA23) -> 0 | DG23: =BD23+BI23+BS23+BN23+BX23+CC23 -> 0 | DH23: =AY23-DG23 -> 0 | DI23: =RANK(DH23,$DH$4:$DH$23,0) -> 2 | DJ23: =O23 -> 0 | DK23: =DH23*10^3+DJ23 -> 0 | DL23: =RANK(DK23,$DK$4:$DK$23,0) -> 2 | DM23: =AI23 -> 0 | DN23: =(DH23*10^3+DJ23)*10^3+DM23 -> 0 | DO23: =RANK(DN23,$DN$4:$DN$23,0) -> 2 | DP23: =T23 -> 0 | DQ23: =((DH23*10^3+DJ23)*10^3+DM23)*10^3+DP23 -> 0 | DR23: =RANK(DQ23,$DQ$4:$DQ$23,0) -> 2 | DS23: =AN23 -> 0 | DT23: =(((DH23*10^3+DJ23)*10^3+DM23)*10^3+DP23)*10^3+DS23 -> 0 | DU23: =IF(E23>0,RANK(DT23,$DT$4:$DT$23,0),20) -> 20 | DV23: =IF(DU23<>20,RANK(DU23,$DU$4:$DU$23,1)+COUNTIF(DU$4:DU23,DU23)-1,20) -> 20 | DW23: =DH23/$DW$3 -> 0 | DX23: =IF(COUNTIF(CD23:DA23,"x")>0,"Dis",IF(COUNTIF(DB23,"x")>0,"Abbruch","-")) -> - | DZ23: =K23+P23+U23+Z23+AE23+AJ23+AO23+AT23-DC23 -> 0 | EA23: =L23+Q23+V23+AA23+AF23+AK23+AP23+AU23-DD23 -> 0 | EB23: =M23+R23+W23+AB23+AG23+AL23+AQ23+AV23-DE23 -> 0
D24: =((DH24*10^3+DJ24)*10^3+DM24)*10^3+DP24 -> 0
D27: =D2 -> Heelwork to Music 2 | K27: Artistic | O27: Tecnic | T27: Penalty | AB27: Results
D28: Posizione | E28: Nome | F28: Cognome | G28: Cane | K28: Teamwork | L28: Dynamics | M28: Concept | N28: Choreography | O28: Flow | P28: Execution | Q28: Content | R28: Difficulty | S28: Total artistic/technic | T28: Vocalisation | U28: Health of dog | V28: Incorrect use of props | W28: Time | X28: Misconduct in the ring | Y28: Active touching | Z28: x Disqualification | AA28: Somma penalty | AB28: Points | AC28: Start Nr. | AD28: % | AE28: Point
C29: 1 | D29: =IF(Z29="-",INDEX(DU$1:DU$23,MATCH(C29,$DV$1:$DV$23,0)),Z29) -> 1 | E29: =INDEX(E$1:E$23,MATCH(C29,$DV$1:$DV$23,0)) -> SILVIA | F29: =INDEX(F$1:F$23,MATCH(C29,$DV$1:$DV$23,0)) -> TERRANOVA | G29: =INDEX(G$1:G$23,MATCH(C29,$DV$1:$DV$23,0)) -> ARTU' | K29: =INDEX(O$1:O$23,MATCH(C29,$DV$1:$DV$23,0)) -> 19.333333 | L29: =INDEX(T$1:T$23,MATCH(C29,$DV$1:$DV$23,0)) -> 20.333333 | M29: =INDEX(Y$1:Y$23,MATCH(C29,$DV$1:$DV$23,0)) -> 21 | N29: =INDEX(AD$1:AD$23,MATCH(C29,$DV$1:$DV$23,0)) -> 21.333333 | O29: =INDEX(AI$1:AI$23,MATCH(C29,$DV$1:$DV$23,0)) -> 17.333333 | P29: =INDEX(AN$1:AN$23,MATCH(C29,$DV$1:$DV$23,0)) -> 18.333333 | Q29: =INDEX(AS$1:AS$23,MATCH(C29,$DV$1:$DV$23,0)) -> 19.333333 | R29: =INDEX(AX$1:AX$23,MATCH(C29,$DV$1:$DV$23,0)) -> 19.333333 | S29: =INDEX(AY$1:AY$23,MATCH(C29,$DV$1:$DV$23,0)) -> 156.33333 | T29: =INDEX(BD$1:BD$23,MATCH(C29,$DV$1:$DV$23,0)) -> 2.5 | U29: =INDEX(BI$1:BI$23,MATCH(C29,$DV$1:$DV$23,0)) -> 0 | V29: =INDEX(BN$1:BN$23,MATCH(C29,$DV$1:$DV$23,0)) -> 0 | W29: =INDEX(BS$1:BS$23,MATCH(C29,$DV$1:$DV$23,0)) -> 0 | X29: =INDEX(BX$1:BX$23,MATCH(C29,$DV$1:$DV$23,0)) -> 0 | Y29: =INDEX(CC$1:CC$23,MATCH(C29,$DV$1:$DV$23,0)) -> 0 | Z29: =INDEX(DX$1:DX$23,MATCH(C29,$DV$1:$DV$23,0)) -> - | AA29: =INDEX(DG$1:DG$23,MATCH(C29,$DV$1:$DV$23,0)) -> 2.5 | AB29: =INDEX(DH$1:DH$23,MATCH(C29,$DV$1:$DV$23,0)) -> 153.83333 | AC29: =INDEX(D$1:D$23,MATCH(C29,$DV$1:$DV$23,0)) -> HTMO_1 | AD29: =INDEX(DW$1:DW$23,MATCH(C29,$DV$1:$DV$23,0)) -> 1 | AE29: =IF(AB29>=150,"Point","-") -> Point
C30: 2 | D30: =IF(Z30="-",INDEX(DU$1:DU$23,MATCH(C30,$DV$1:$DV$23,0)),Z30) -> #N/A | E30: =INDEX(E$1:E$23,MATCH(C30,$DV$1:$DV$23,0)) -> #N/A | F30: =INDEX(F$1:F$23,MATCH(C30,$DV$1:$DV$23,0)) -> #N/A | G30: =INDEX(G$1:G$23,MATCH(C30,$DV$1:$DV$23,0)) -> #N/A | K30: =INDEX(O$1:O$23,MATCH(C30,$DV$1:$DV$23,0)) -> #N/A | L30: =INDEX(T$1:T$23,MATCH(C30,$DV$1:$DV$23,0)) -> #N/A | M30: =INDEX(Y$1:Y$23,MATCH(C30,$DV$1:$DV$23,0)) -> #N/A | N30: =INDEX(AD$1:AD$23,MATCH(C30,$DV$1:$DV$23,0)) -> #N/A | O30: =INDEX(AI$1:AI$23,MATCH(C30,$DV$1:$DV$23,0)) -> #N/A | P30: =INDEX(AN$1:AN$23,MATCH(C30,$DV$1:$DV$23,0)) -> #N/A | Q30: =INDEX(AS$1:AS$23,MATCH(C30,$DV$1:$DV$23,0)) -> #N/A | R30: =INDEX(AX$1:AX$23,MATCH(C30,$DV$1:$DV$23,0)) -> #N/A | S30: =INDEX(AY$1:AY$23,MATCH(C30,$DV$1:$DV$23,0)) -> #N/A | T30: =INDEX(BD$1:BD$23,MATCH(C30,$DV$1:$DV$23,0)) -> #N/A | U30: =INDEX(BI1:BI40,MATCH(C30,$DV1:$DV40,0)) -> #N/A | V30: =INDEX(BN$1:BN$23,MATCH(C30,$DV$1:$DV$23,0)) -> #N/A | W30: =INDEX(BS$1:BS$23,MATCH(C30,$DV$1:$DV$23,0)) -> #N/A | X30: =INDEX(BX$1:BX$23,MATCH(C30,$DV$1:$DV$23,0)) -> #N/A | Y30: =INDEX(CC$1:CC$23,MATCH(C30,$DV$1:$DV$23,0)) -> #N/A | Z30: =INDEX(DX$1:DX$23,MATCH(C30,$DV$1:$DV$23,0)) -> #N/A | AA30: =INDEX(DG$1:DG$23,MATCH(C30,$DV$1:$DV$23,0)) -> #N/A | AB30: =INDEX(DH$1:DH$23,MATCH(C30,$DV$1:$DV$23,0)) -> #N/A | AC30: =INDEX(D$1:D$23,MATCH(C30,$DV$1:$DV$23,0)) -> #N/A | AD30: =INDEX(DW$1:DW$23,MATCH(C30,$DV$1:$DV$23,0)) -> #N/A | AE30: =IF(AB30>=150,"Point","-") -> #N/A
C31: 3 | D31: =IF(Z31="-",INDEX(DU$1:DU$23,MATCH(C31,$DV$1:$DV$23,0)),Z31) -> #N/A | E31: =INDEX(E$1:E$23,MATCH(C31,$DV$1:$DV$23,0)) -> #N/A | F31: =INDEX(F$1:F$23,MATCH(C31,$DV$1:$DV$23,0)) -> #N/A | G31: =INDEX(G$1:G$23,MATCH(C31,$DV$1:$DV$23,0)) -> #N/A | K31: =INDEX(O$1:O$23,MATCH(C31,$DV$1:$DV$23,0)) -> #N/A | L31: =INDEX(T$1:T$23,MATCH(C31,$DV$1:$DV$23,0)) -> #N/A | M31: =INDEX(Y$1:Y$23,MATCH(C31,$DV$1:$DV$23,0)) -> #N/A | N31: =INDEX(AD$1:AD$23,MATCH(C31,$DV$1:$DV$23,0)) -> #N/A | O31: =INDEX(AI$1:AI$23,MATCH(C31,$DV$1:$DV$23,0)) -> #N/A | P31: =INDEX(AN$1:AN$23,MATCH(C31,$DV$1:$DV$23,0)) -> #N/A | Q31: =INDEX(AS$1:AS$23,MATCH(C31,$DV$1:$DV$23,0)) -> #N/A | R31: =INDEX(AX$1:AX$23,MATCH(C31,$DV$1:$DV$23,0)) -> #N/A | S31: =INDEX(AY$1:AY$23,MATCH(C31,$DV$1:$DV$23,0)) -> #N/A | T31: =INDEX(BD$1:BD$23,MATCH(C31,$DV$1:$DV$23,0)) -> #N/A | U31: =INDEX(BI1:BI40,MATCH(C31,$DV1:$DV40,0)) -> #N/A | V31: =INDEX(BN$1:BN$23,MATCH(C31,$DV$1:$DV$23,0)) -> #N/A | W31: =INDEX(BS$1:BS$23,MATCH(C31,$DV$1:$DV$23,0)) -> #N/A | X31: =INDEX(BX$1:BX$23,MATCH(C31,$DV$1:$DV$23,0)) -> #N/A | Y31: =INDEX(CC$1:CC$23,MATCH(C31,$DV$1:$DV$23,0)) -> #N/A | Z31: =INDEX(DX$1:DX$23,MATCH(C31,$DV$1:$DV$23,0)) -> #N/A | AA31: =INDEX(DG$1:DG$23,MATCH(C31,$DV$1:$DV$23,0)) -> #N/A | AB31: =INDEX(DH$1:DH$23,MATCH(C31,$DV$1:$DV$23,0)) -> #N/A | AC31: =INDEX(D$1:D$23,MATCH(C31,$DV$1:$DV$23,0)) -> #N/A | AD31: =INDEX(DW$1:DW$23,MATCH(C31,$DV$1:$DV$23,0)) -> #N/A | AE31: =IF(AB31>=150,"Point","-") -> #N/A
C32: 4 | D32: =IF(Z32="-",INDEX(DU$1:DU$23,MATCH(C32,$DV$1:$DV$23,0)),Z32) -> #N/A | E32: =INDEX(E$1:E$23,MATCH(C32,$DV$1:$DV$23,0)) -> #N/A | F32: =INDEX(F$1:F$23,MATCH(C32,$DV$1:$DV$23,0)) -> #N/A | G32: =INDEX(G$1:G$23,MATCH(C32,$DV$1:$DV$23,0)) -> #N/A | K32: =INDEX(O$1:O$23,MATCH(C32,$DV$1:$DV$23,0)) -> #N/A | L32: =INDEX(T$1:T$23,MATCH(C32,$DV$1:$DV$23,0)) -> #N/A | M32: =INDEX(Y$1:Y$23,MATCH(C32,$DV$1:$DV$23,0)) -> #N/A | N32: =INDEX(AD$1:AD$23,MATCH(C32,$DV$1:$DV$23,0)) -> #N/A | O32: =INDEX(AI$1:AI$23,MATCH(C32,$DV$1:$DV$23,0)) -> #N/A | P32: =INDEX(AN$1:AN$23,MATCH(C32,$DV$1:$DV$23,0)) -> #N/A | Q32: =INDEX(AS$1:AS$23,MATCH(C32,$DV$1:$DV$23,0)) -> #N/A | R32: =INDEX(AX$1:AX$23,MATCH(C32,$DV$1:$DV$23,0)) -> #N/A | S32: =INDEX(AY$1:AY$23,MATCH(C32,$DV$1:$DV$23,0)) -> #N/A | T32: =INDEX(BD$1:BD$23,MATCH(C32,$DV$1:$DV$23,0)) -> #N/A | U32: =INDEX(BI1:BI40,MATCH(C32,$DV1:$DV40,0)) -> #N/A | V32: =INDEX(BN$1:BN$23,MATCH(C32,$DV$1:$DV$23,0)) -> #N/A | W32: =INDEX(BS$1:BS$23,MATCH(C32,$DV$1:$DV$23,0)) -> #N/A | X32: =INDEX(BX$1:BX$23,MATCH(C32,$DV$1:$DV$23,0)) -> #N/A | Y32: =INDEX(CC$1:CC$23,MATCH(C32,$DV$1:$DV$23,0)) -> #N/A | Z32: =INDEX(DX$1:DX$23,MATCH(C32,$DV$1:$DV$23,0)) -> #N/A | AA32: =INDEX(DG$1:DG$23,MATCH(C32,$DV$1:$DV$23,0)) -> #N/A | AB32: =INDEX(DH$1:DH$23,MATCH(C32,$DV$1:$DV$23,0)) -> #N/A | AC32: =INDEX(D$1:D$23,MATCH(C32,$DV$1:$DV$23,0)) -> #N/A | AD32: =INDEX(DW$1:DW$23,MATCH(C32,$DV$1:$DV$23,0)) -> #N/A | AE32: =IF(AB32>=150,"Point","-") -> #N/A
C33: 5 | D33: =IF(Z33="-",INDEX(DU$1:DU$23,MATCH(C33,$DV$1:$DV$23,0)),Z33) -> #N/A | E33: =INDEX(E$1:E$23,MATCH(C33,$DV$1:$DV$23,0)) -> #N/A | F33: =INDEX(F$1:F$23,MATCH(C33,$DV$1:$DV$23,0)) -> #N/A | G33: =INDEX(G$1:G$23,MATCH(C33,$DV$1:$DV$23,0)) -> #N/A | K33: =INDEX(O$1:O$23,MATCH(C33,$DV$1:$DV$23,0)) -> #N/A | L33: =INDEX(T$1:T$23,MATCH(C33,$DV$1:$DV$23,0)) -> #N/A | M33: =INDEX(Y$1:Y$23,MATCH(C33,$DV$1:$DV$23,0)) -> #N/A | N33: =INDEX(AD$1:AD$23,MATCH(C33,$DV$1:$DV$23,0)) -> #N/A | O33: =INDEX(AI$1:AI$23,MATCH(C33,$DV$1:$DV$23,0)) -> #N/A | P33: =INDEX(AN$1:AN$23,MATCH(C33,$DV$1:$DV$23,0)) -> #N/A | Q33: =INDEX(AS$1:AS$23,MATCH(C33,$DV$1:$DV$23,0)) -> #N/A | R33: =INDEX(AX$1:AX$23,MATCH(C33,$DV$1:$DV$23,0)) -> #N/A | S33: =INDEX(AY$1:AY$23,MATCH(C33,$DV$1:$DV$23,0)) -> #N/A | T33: =INDEX(BD$1:BD$23,MATCH(C33,$DV$1:$DV$23,0)) -> #N/A | U33: =INDEX(BI1:BI40,MATCH(C33,$DV1:$DV40,0)) -> #N/A | V33: =INDEX(BN$1:BN$23,MATCH(C33,$DV$1:$DV$23,0)) -> #N/A | W33: =INDEX(BS$1:BS$23,MATCH(C33,$DV$1:$DV$23,0)) -> #N/A | X33: =INDEX(BX$1:BX$23,MATCH(C33,$DV$1:$DV$23,0)) -> #N/A | Y33: =INDEX(CC$1:CC$23,MATCH(C33,$DV$1:$DV$23,0)) -> #N/A | Z33: =INDEX(DX$1:DX$23,MATCH(C33,$DV$1:$DV$23,0)) -> #N/A | AA33: =INDEX(DG$1:DG$23,MATCH(C33,$DV$1:$DV$23,0)) -> #N/A | AB33: =INDEX(DH$1:DH$23,MATCH(C33,$DV$1:$DV$23,0)) -> #N/A | AC33: =INDEX(D$1:D$23,MATCH(C33,$DV$1:$DV$23,0)) -> #N/A | AD33: =INDEX(DW$1:DW$23,MATCH(C33,$DV$1:$DV$23,0)) -> #N/A | AE33: =IF(AB33>=150,"Point","-") -> #N/A
C34: 6 | D34: =IF(Z34="-",INDEX(DU$1:DU$23,MATCH(C34,$DV$1:$DV$23,0)),Z34) -> #N/A | E34: =INDEX(E$1:E$23,MATCH(C34,$DV$1:$DV$23,0)) -> #N/A | F34: =INDEX(F$1:F$23,MATCH(C34,$DV$1:$DV$23,0)) -> #N/A | G34: =INDEX(G$1:G$23,MATCH(C34,$DV$1:$DV$23,0)) -> #N/A | K34: =INDEX(O$1:O$23,MATCH(C34,$DV$1:$DV$23,0)) -> #N/A | L34: =INDEX(T$1:T$23,MATCH(C34,$DV$1:$DV$23,0)) -> #N/A | M34: =INDEX(Y$1:Y$23,MATCH(C34,$DV$1:$DV$23,0)) -> #N/A | N34: =INDEX(AD$1:AD$23,MATCH(C34,$DV$1:$DV$23,0)) -> #N/A | O34: =INDEX(AI$1:AI$23,MATCH(C34,$DV$1:$DV$23,0)) -> #N/A | P34: =INDEX(AN$1:AN$23,MATCH(C34,$DV$1:$DV$23,0)) -> #N/A | Q34: =INDEX(AS$1:AS$23,MATCH(C34,$DV$1:$DV$23,0)) -> #N/A | R34: =INDEX(AX$1:AX$23,MATCH(C34,$DV$1:$DV$23,0)) -> #N/A | S34: =INDEX(AY$1:AY$23,MATCH(C34,$DV$1:$DV$23,0)) -> #N/A | T34: =INDEX(BD$1:BD$23,MATCH(C34,$DV$1:$DV$23,0)) -> #N/A | U34: =INDEX(BI1:BI40,MATCH(C34,$DV1:$DV40,0)) -> #N/A | V34: =INDEX(BN$1:BN$23,MATCH(C34,$DV$1:$DV$23,0)) -> #N/A | W34: =INDEX(BS$1:BS$23,MATCH(C34,$DV$1:$DV$23,0)) -> #N/A | X34: =INDEX(BX$1:BX$23,MATCH(C34,$DV$1:$DV$23,0)) -> #N/A | Y34: =INDEX(CC$1:CC$23,MATCH(C34,$DV$1:$DV$23,0)) -> #N/A | Z34: =INDEX(DX$1:DX$23,MATCH(C34,$DV$1:$DV$23,0)) -> #N/A | AA34: =INDEX(DG$1:DG$23,MATCH(C34,$DV$1:$DV$23,0)) -> #N/A | AB34: =INDEX(DH$1:DH$23,MATCH(C34,$DV$1:$DV$23,0)) -> #N/A | AC34: =INDEX(D$1:D$23,MATCH(C34,$DV$1:$DV$23,0)) -> #N/A | AD34: =INDEX(DW$1:DW$23,MATCH(C34,$DV$1:$DV$23,0)) -> #N/A | AE34: =IF(AB34>=150,"Point","-") -> #N/A
C35: 7 | D35: =IF(Z35="-",INDEX(DU$1:DU$23,MATCH(C35,$DV$1:$DV$23,0)),Z35) -> #N/A | E35: =INDEX(E$1:E$23,MATCH(C35,$DV$1:$DV$23,0)) -> #N/A | F35: =INDEX(F$1:F$23,MATCH(C35,$DV$1:$DV$23,0)) -> #N/A | G35: =INDEX(G$1:G$23,MATCH(C35,$DV$1:$DV$23,0)) -> #N/A | K35: =INDEX(O$1:O$23,MATCH(C35,$DV$1:$DV$23,0)) -> #N/A | L35: =INDEX(T$1:T$23,MATCH(C35,$DV$1:$DV$23,0)) -> #N/A | M35: =INDEX(Y$1:Y$23,MATCH(C35,$DV$1:$DV$23,0)) -> #N/A | N35: =INDEX(AD$1:AD$23,MATCH(C35,$DV$1:$DV$23,0)) -> #N/A | O35: =INDEX(AI$1:AI$23,MATCH(C35,$DV$1:$DV$23,0)) -> #N/A | P35: =INDEX(AN$1:AN$23,MATCH(C35,$DV$1:$DV$23,0)) -> #N/A | Q35: =INDEX(AS$1:AS$23,MATCH(C35,$DV$1:$DV$23,0)) -> #N/A | R35: =INDEX(AX$1:AX$23,MATCH(C35,$DV$1:$DV$23,0)) -> #N/A | S35: =INDEX(AY$1:AY$23,MATCH(C35,$DV$1:$DV$23,0)) -> #N/A | T35: =INDEX(BD$1:BD$23,MATCH(C35,$DV$1:$DV$23,0)) -> #N/A | U35: =INDEX(BI1:BI40,MATCH(C35,$DV1:$DV40,0)) -> #N/A | V35: =INDEX(BN$1:BN$23,MATCH(C35,$DV$1:$DV$23,0)) -> #N/A | W35: =INDEX(BS$1:BS$23,MATCH(C35,$DV$1:$DV$23,0)) -> #N/A | X35: =INDEX(BX$1:BX$23,MATCH(C35,$DV$1:$DV$23,0)) -> #N/A | Y35: =INDEX(CC$1:CC$23,MATCH(C35,$DV$1:$DV$23,0)) -> #N/A | Z35: =INDEX(DX$1:DX$23,MATCH(C35,$DV$1:$DV$23,0)) -> #N/A | AA35: =INDEX(DG$1:DG$23,MATCH(C35,$DV$1:$DV$23,0)) -> #N/A | AB35: =INDEX(DH$1:DH$23,MATCH(C35,$DV$1:$DV$23,0)) -> #N/A | AC35: =INDEX(D$1:D$23,MATCH(C35,$DV$1:$DV$23,0)) -> #N/A | AD35: =INDEX(DW$1:DW$23,MATCH(C35,$DV$1:$DV$23,0)) -> #N/A | AE35: =IF(AB35>=150,"Point","-") -> #N/A
C36: 8 | D36: =IF(Z36="-",INDEX(DU$1:DU$23,MATCH(C36,$DV$1:$DV$23,0)),Z36) -> #N/A | E36: =INDEX(E$1:E$23,MATCH(C36,$DV$1:$DV$23,0)) -> #N/A | F36: =INDEX(F$1:F$23,MATCH(C36,$DV$1:$DV$23,0)) -> #N/A | G36: =INDEX(G$1:G$23,MATCH(C36,$DV$1:$DV$23,0)) -> #N/A | K36: =INDEX(O$1:O$23,MATCH(C36,$DV$1:$DV$23,0)) -> #N/A | L36: =INDEX(T$1:T$23,MATCH(C36,$DV$1:$DV$23,0)) -> #N/A | M36: =INDEX(Y$1:Y$23,MATCH(C36,$DV$1:$DV$23,0)) -> #N/A | N36: =INDEX(AD$1:AD$23,MATCH(C36,$DV$1:$DV$23,0)) -> #N/A | O36: =INDEX(AI$1:AI$23,MATCH(C36,$DV$1:$DV$23,0)) -> #N/A | P36: =INDEX(AN$1:AN$23,MATCH(C36,$DV$1:$DV$23,0)) -> #N/A | Q36: =INDEX(AS$1:AS$23,MATCH(C36,$DV$1:$DV$23,0)) -> #N/A | R36: =INDEX(AX$1:AX$23,MATCH(C36,$DV$1:$DV$23,0)) -> #N/A | S36: =INDEX(AY$1:AY$23,MATCH(C36,$DV$1:$DV$23,0)) -> #N/A | T36: =INDEX(BD$1:BD$23,MATCH(C36,$DV$1:$DV$23,0)) -> #N/A | U36: =INDEX(BI1:BI40,MATCH(C36,$DV1:$DV40,0)) -> #N/A | V36: =INDEX(BN$1:BN$23,MATCH(C36,$DV$1:$DV$23,0)) -> #N/A | W36: =INDEX(BS$1:BS$23,MATCH(C36,$DV$1:$DV$23,0)) -> #N/A | X36: =INDEX(BX$1:BX$23,MATCH(C36,$DV$1:$DV$23,0)) -> #N/A | Y36: =INDEX(CC$1:CC$23,MATCH(C36,$DV$1:$DV$23,0)) -> #N/A | Z36: =INDEX(DX$1:DX$23,MATCH(C36,$DV$1:$DV$23,0)) -> #N/A | AA36: =INDEX(DG$1:DG$23,MATCH(C36,$DV$1:$DV$23,0)) -> #N/A | AB36: =INDEX(DH$1:DH$23,MATCH(C36,$DV$1:$DV$23,0)) -> #N/A | AC36: =INDEX(D$1:D$23,MATCH(C36,$DV$1:$DV$23,0)) -> #N/A | AD36: =INDEX(DW$1:DW$23,MATCH(C36,$DV$1:$DV$23,0)) -> #N/A | AE36: =IF(AB36>=150,"Point","-") -> #N/A
C37: 9 | D37: =IF(Z37="-",INDEX(DU$1:DU$23,MATCH(C37,$DV$1:$DV$23,0)),Z37) -> #N/A | E37: =INDEX(E$1:E$23,MATCH(C37,$DV$1:$DV$23,0)) -> #N/A | F37: =INDEX(F$1:F$23,MATCH(C37,$DV$1:$DV$23,0)) -> #N/A | G37: =INDEX(G$1:G$23,MATCH(C37,$DV$1:$DV$23,0)) -> #N/A | K37: =INDEX(O$1:O$23,MATCH(C37,$DV$1:$DV$23,0)) -> #N/A | L37: =INDEX(T$1:T$23,MATCH(C37,$DV$1:$DV$23,0)) -> #N/A | M37: =INDEX(Y$1:Y$23,MATCH(C37,$DV$1:$DV$23,0)) -> #N/A | N37: =INDEX(AD$1:AD$23,MATCH(C37,$DV$1:$DV$23,0)) -> #N/A | O37: =INDEX(AI$1:AI$23,MATCH(C37,$DV$1:$DV$23,0)) -> #N/A | P37: =INDEX(AN$1:AN$23,MATCH(C37,$DV$1:$DV$23,0)) -> #N/A | Q37: =INDEX(AS$1:AS$23,MATCH(C37,$DV$1:$DV$23,0)) -> #N/A | R37: =INDEX(AX$1:AX$23,MATCH(C37,$DV$1:$DV$23,0)) -> #N/A | S37: =INDEX(AY$1:AY$23,MATCH(C37,$DV$1:$DV$23,0)) -> #N/A | T37: =INDEX(BD$1:BD$23,MATCH(C37,$DV$1:$DV$23,0)) -> #N/A | U37: =INDEX(BI1:BI40,MATCH(C37,$DV1:$DV40,0)) -> #N/A | V37: =INDEX(BN$1:BN$23,MATCH(C37,$DV$1:$DV$23,0)) -> #N/A | W37: =INDEX(BS$1:BS$23,MATCH(C37,$DV$1:$DV$23,0)) -> #N/A | X37: =INDEX(BX$1:BX$23,MATCH(C37,$DV$1:$DV$23,0)) -> #N/A | Y37: =INDEX(CC$1:CC$23,MATCH(C37,$DV$1:$DV$23,0)) -> #N/A | Z37: =INDEX(DX$1:DX$23,MATCH(C37,$DV$1:$DV$23,0)) -> #N/A | AA37: =INDEX(DG$1:DG$23,MATCH(C37,$DV$1:$DV$23,0)) -> #N/A | AB37: =INDEX(DH$1:DH$23,MATCH(C37,$DV$1:$DV$23,0)) -> #N/A | AC37: =INDEX(D$1:D$23,MATCH(C37,$DV$1:$DV$23,0)) -> #N/A | AD37: =INDEX(DW$1:DW$23,MATCH(C37,$DV$1:$DV$23,0)) -> #N/A | AE37: =IF(AB37>=150,"Point","-") -> #N/A

Sheet HTM3
D2: Heelwork to Music 3 | I2: Artistic | AC2: Tecnic | AW2: Sum | AX2: Penalty | DF2: Results | DX2: Check
D3: Start Nr. | E3: Nome | F3: Cognome | G3: Cane | I3: Teamwork | N3: Dynamics | S3: Concept | X3: Choreography | AC3: Flow | AH3: Execution | AM3: Content | AR3: Difficulty | AW3: Artistic/Tecnic | AX3: Vocalisation | BC3: Health of dog | BH3: Incorrect use of props | BM3: Time | BR3: Misconduct in the ring | BW3: Active touching during routine | CB3: Leaving the ring | CF3: Use of training aids | CJ3: Too many props | CN3: Soiling in the ring | CR3: Unfair treatment of the dog | CV3: Help from outside | CZ3: Interruption | DA3: Penalty for judge | DE3: Total penalty | DF3: Points | DG3: Position | DH3: Teamwork | DI3: Hilfspunkte Teamwork | DJ3: Posizione | DK3: Fluidità | DL3: Hilfspunkte Teamwork e Fluidità | DM3: Posizione | DN3: Dinamicità | DO3: Hilfspunkte Teamwork, Fluidità e Dinamicità | DP3: Posizione | DQ3: Esecuzione | DR3: Hilfspunkte Teamwork, Fluidità, Dinamicità e Esecuzione | DS3: Classifica finale | DT3: Classifica T F D E e Dis/Abbruch (fortlaufende Platzierung) | DU3: =LARGE(DF4:DF23,1) -> 0 | DV3: Dis/Abbruch | DX3: Judge 1 | DY3: Judge 2 | DZ3: Judge 3
D4: =classi!B58 -> HTM3_1 | I4: 0 | J4: 0 | K4: 0 | M4: =AVERAGE(I4:L4) -> 0 | N4: 0 | O4: 0 | P4: 0 | R4: =AVERAGE(N4:Q4) -> 0 | S4: 0 | T4: 0 | U4: 0 | W4: =AVERAGE(S4:V4) -> 0 | X4: 0 | Y4: 0 | Z4: 0 | AB4: =AVERAGE(X4:AA4) -> 0 | AC4: 0 | AD4: 0 | AE4: 0 | AG4: =AVERAGE(AC4:AF4) -> 0 | AH4: 0 | AI4: 0 | AJ4: 0 | AL4: =AVERAGE(AH4:AK4) -> 0 | AM4: 0 | AN4: 0 | AO4: 0 | AQ4: =AVERAGE(AM4:AP4) -> 0 | AR4: 0 | AS4: 0 | AT4: 0 | AV4: =AVERAGE(AR4:AU4) -> 0 | AW4: =M4+R4+W4+AB4+AG4+AL4+AQ4+AV4 -> 0 | AX4: 0 | AY4: 0 | AZ4: 0 | BB4: =AVERAGE(AX4:BA4) -> 0 | BC4: 0 | BD4: 0 | BE4: 0 | BG4: =AVERAGE(BC4:BF4) -> 0 | BH4: 0 | BI4: 0 | BJ4: 0 | BL4: =AVERAGE(BH4:BK4) -> 0 | BM4: 0 | BN4: 0 | BO4: 0 | BQ4: =AVERAGE(BM4:BP4) -> 0 | BR4: 0 | BS4: 0 | BT4: 0 | BV4: =AVERAGE(BR4:BU4) -> 0 | BW4: 0 | BX4: 0 | BY4: 0 | CA4: =AVERAGE(BW4:BZ4) -> 0 | DA4: =SUM(AX4,BC4,BH4,BM4,BR4,BW4) -> 0 | DB4: =SUM(AY4,BD4,BI4,BN4,BS4,BX4) -> 0 | DC4: =SUM(AZ4+BE4+BJ4+BO4+BT4+BY4) -> 0 | DE4: =BB4+BG4+BQ4+BL4+BV4+CA4 -> 0 | DF4: =AW4-DE4 -> 0 | DG4: =RANK(DF4,$DF$4:$DF$23,0) -> 1 | DH4: =M4 -> 0 | DI4: =DF4*10^3+DH4 -> 0 | DJ4: =RANK(DI4,$DI$4:$DI$23,0) -> 1 | DK4: =AG4 -> 0 | DL4: =(DF4*10^3+DH4)*10^3+DK4 -> 0 | DM4: =RANK(DL4,$DL$4:$DL$23,0) -> 1 | DN4: =R4 -> 0 | DO4: =((DF4*10^3+DH4)*10^3+DK4)*10^3+DN4 -> 0 | DP4: =RANK(DO4,$DO$4:$DO$23,0) -> 1 | DQ4: =AL4 -> 0 | DR4: =(((DF4*10^3+DH4)*10^3+DK4)*10^3+DN4)*10^3+DQ4 -> 0 | DS4: =IF(E4>0,RANK(DR4,$DR$4:$DR$23,0),20) -> 20 | DT4: =IF(DS4<>20,RANK(DS4,$DS$4:$DS$23,1)+COUNTIF(DS$4:DS4,DS4)-1,20) -> 20 | DU4: =DF4/$DU$3 -> #DIV/0! | DV4: =IF(COUNTIF(CB4:CY4,"x")>0,"Dis",IF(COUNTIF(CZ4,"x")>0,"Abbruch","-")) -> - | DX4: =I4+N4+S4+X4+AC4+AH4+AM4+AR4-DA4 -> 0 | DY4: =J4+O4+T4+Y4+AD4+AI4+AN4+AS4-DB4 -> 0 | DZ4: =SUM(K4+P4+U4+Z4+AE4+AJ4+AO4+AT4)-DC4 -> 0
D5: HTM3_2 | I5: 0 | J5: 0 | K5: 0 | M5: =AVERAGE(I5:L5) -> 0 | N5: 0 | O5: 0 | P5: 0 | R5: =AVERAGE(N5:Q5) -> 0 | S5: 0 | T5: 0 | U5: 0 | W5: =AVERAGE(S5:V5) -> 0 | X5: 0 | Y5: 0 | Z5: 0 | AB5: =AVERAGE(X5:AA5) -> 0 | AC5: 0 | AD5: 0 | AE5: 0 | AG5: =AVERAGE(AC5:AF5) -> 0 | AH5: 0 | AI5: 0 | AJ5: 0 | AL5: =AVERAGE(AH5:AK5) -> 0 | AM5: 0 | AN5: 0 | AO5: 0 | AQ5: =AVERAGE(AM5:AP5) -> 0 | AR5: 0 | AS5: 0 | AT5: 0 | AV5: =AVERAGE(AR5:AU5) -> 0 | AW5: =M5+R5+W5+AB5+AG5+AL5+AQ5+AV5 -> 0 | AX5: 0 | AY5: 0 | AZ5: 0 | BB5: =AVERAGE(AX5:BA5) -> 0 | BC5: 0 | BD5: 0 | BE5: 0 | BG5: =AVERAGE(BC5:BF5) -> 0 | BH5: 0 | BI5: 0 | BJ5: 0 | BL5: =AVERAGE(BH5:BK5) -> 0 | BM5: 0 | BN5: 0 | BO5: 0 | BQ5: =AVERAGE(BM5:BP5) -> 0 | BR5: 0 | BS5: 0 | BT5: 0 | BV5: =AVERAGE(BR5:BU5) -> 0 | BW5: 0 | BX5: 0 | BY5: 0 | CA5: =AVERAGE(BW5:BZ5) -> 0 | DA5: 0 | DB5: 0 | DC5: =SUM(AZ5+BE5+BJ5+BO5+BT5+BY5) -> 0 | DE5: =BB5+BG5+BQ5+BL5+BV5+CA5 -> 0 | DF5: =AW5-DE5 -> 0 | DG5: =RANK(DF5,$DF$4:$DF$23,0) -> 1 | DH5: =M5 -> 0 | DI5: =DF5*10^3+DH5 -> 0 | DJ5: =RANK(DI5,$DI$4:$DI$23,0) -> 1 | DK5: =AG5 -> 0 | DL5: =(DF5*10^3+DH5)*10^3+DK5 -> 0 | DM5: =RANK(DL5,$DL$4:$DL$23,0) -> 1 | DN5: =R5 -> 0 | DO5: =((DF5*10^3+DH5)*10^3+DK5)*10^3+DN5 -> 0 | DP5: =RANK(DO5,$DO$4:$DO$23,0) -> 1 | DQ5: =AL5 -> 0 | DR5: =(((DF5*10^3+DH5)*10^3+DK5)*10^3+DN5)*10^3+DQ5 -> 0 | DS5: =IF(E5>0,RANK(DR5,$DR$4:$DR$23,0),20) -> 20 | DT5: =IF(DS5<>20,RANK(DS5,$DS$4:$DS$23,1)+COUNTIF(DS$4:DS5,DS5)-1,20) -> 20 | DU5: =DF5/$DU$3 -> #DIV/0! | DV5: =IF(COUNTIF(CB5:CY5,"x")>0,"Dis",IF(COUNTIF(CZ5,"x")>0,"Abbruch","-")) -> - | DX5: =I5+N5+S5+X5+AC5+AH5+AM5+AR5-DA5 -> 0 | DY5: =J5+O5+T5+Y5+AD5+AI5+AN5+AS5-DB5 -> 0 | DZ5: =SUM(K5+P5+U5+Z5+AE5+AJ5+AO5+AT5)-DC5 -> 0
D6: HTM3_3 | I6: 0 | J6: 0 | K6: 0 | M6: =AVERAGE(I6:L6) -> 0 | N6: 0 | O6: 0 | P6: 0 | R6: =AVERAGE(N6:Q6) -> 0 | S6: 0 | T6: 0 | U6: 0 | W6: =AVERAGE(S6:V6) -> 0 | X6: 0 | Y6: 0 | Z6: 0 | AB6: =AVERAGE(X6:AA6) -> 0 | AC6: 0 | AD6: 0 | AE6: 0 | AG6: =AVERAGE(AC6:AF6) -> 0 | AH6: 0 | AI6: 0 | AJ6: 0 | AL6: =AVERAGE(AH6:AK6) -> 0 | AM6: 0 | AN6: 0 | AO6: 0 | AQ6: =AVERAGE(AM6:AP6) -> 0 | AR6: 0 | AS6: 0 | AT6: 0 | AV6: =AVERAGE(AR6:AU6) -> 0 | AW6: =M6+R6+W6+AB6+AG6+AL6+AQ6+AV6 -> 0 | AX6: 0 | AY6: 0 | AZ6: 0 | BB6: =AVERAGE(AX6:BA6) -> 0 | BC6: 0 | BD6: 0 | BE6: 0 | BG6: =AVERAGE(BC6:BF6) -> 0 | BH6: 0 | BI6: 0 | BJ6: 0 | BL6: =AVERAGE(BH6:BK6) -> 0 | BM6: 0 | BN6: 0 | BO6: 0 | BQ6: =AVERAGE(BM6:BP6) -> 0 | BR6: 0 | BS6: 0 | BT6: 0 | BV6: =AVERAGE(BR6:BU6) -> 0 | BW6: 0 | BX6: 0 | BY6: 0 | CA6: =AVERAGE(BW6:BZ6) -> 0 | DA6: =SUM(AX6,BC6,BH6,BM6,BR6,BW6) -> 0 | DB6: =SUM(AY6,BD6,BI6,BN6,BS6,BX6) -> 0 | DC6: =SUM(AZ6+BE6+BJ6+BO6+BT6+BY6) -> 0 | DE6: =BB6+BG6+BQ6+BL6+BV6+CA6 -> 0 | DF6: =AW6-DE6 -> 0 | DG6: =RANK(DF6,$DF$4:$DF$23,0) -> 1 | DH6: =M6 -> 0 | DI6: =DF6*10^3+DH6 -> 0 | DJ6: =RANK(DI6,$DI$4:$DI$23,0) -> 1 | DK6: =AG6 -> 0 | DL6: =(DF6*10^3+DH6)*10^3+DK6 -> 0 | DM6: =RANK(DL6,$DL$4:$DL$23,0) -> 1 | DN6: =R6 -> 0 | DO6: =((DF6*10^3+DH6)*10^3+DK6)*10^3+DN6 -> 0 | DP6: =RANK(DO6,$DO$4:$DO$23,0) -> 1 | DQ6: =AL6 -> 0 | DR6: =(((DF6*10^3+DH6)*10^3+DK6)*10^3+DN6)*10^3+DQ6 -> 0 | DS6: =IF(E6>0,RANK(DR6,$DR$4:$DR$23,0),20) -> 20 | DT6: =IF(DS6<>20,RANK(DS6,$DS$4:$DS$23,1)+COUNTIF(DS$4:DS6,DS6)-1,20) -> 20 | DU6: =DF6/$DU$3 -> #DIV/0! | DV6: =IF(COUNTIF(CB6:CY6,"x")>0,"Dis",IF(COUNTIF(CZ6,"x")>0,"Abbruch","-")) -> - | DX6: =I6+N6+S6+X6+AC6+AH6+AM6+AR6-DA6 -> 0 | DY6: =J6+O6+T6+Y6+AD6+AI6+AN6+AS6-DB6 -> 0 | DZ6: =SUM(K6+P6+U6+Z6+AE6+AJ6+AO6+AT6)-DC6 -> 0
D7: =classi!B61 -> - | E7: =classi!C61 -> 0 | F7: =classi!D61 -> 0 | G7: =classi!G61 -> 0 | I7: 0 | J7: 0 | K7: 0 | M7: =AVERAGE(I7:L7) -> 0 | N7: 0 | O7: 0 | P7: 0 | R7: =AVERAGE(N7:Q7) -> 0 | S7: 0 | T7: 0 | U7: 0 | W7: =AVERAGE(S7:V7) -> 0 | X7: 0 | Y7: 0 | Z7: 0 | AB7: =AVERAGE(X7:AA7) -> 0 | AC7: 0 | AD7: 0 | AE7: 0 | AG7: =AVERAGE(AC7:AF7) -> 0 | AH7: 0 | AI7: 0 | AJ7: 0 | AL7: =AVERAGE(AH7:AK7) -> 0 | AM7: 0 | AN7: 0 | AO7: 0 | AQ7: =AVERAGE(AM7:AP7) -> 0 | AR7: 0 | AS7: 0 | AT7: 0 | AV7: =AVERAGE(AR7:AU7) -> 0 | AW7: =M7+R7+W7+AB7+AG7+AL7+AQ7+AV7 -> 0 | AX7: 0 | AY7: 0 | AZ7: 0 | BB7: =AVERAGE(AX7:BA7) -> 0 | BC7: 0 | BD7: 0 | BE7: 0 | BG7: =AVERAGE(BC7:BF7) -> 0 | BH7: 0 | BI7: 0 | BJ7: 0 | BL7: =AVERAGE(BH7:BK7) -> 0 | BM7: 0 | BN7: 0 | BO7: 0 | BQ7: =AVERAGE(BM7:BP7) -> 0 | BR7: 0 | BS7: 0 | BT7: 0 | BV7: =AVERAGE(BR7:BU7) -> 0 | BW7: 0 | BX7: 0 | BY7: 0 | CA7: =AVERAGE(BW7:BZ7) -> 0 | DA7: =SUM(AX7,BC7,BH7,BM7,BR7,BW7) -> 0 | DB7: =SUM(AY7,BD7,BI7,BN7,BS7,BX7) -> 0 | DC7: =SUM(AZ7+BE7+BJ7+BO7+BT7+BY7) -> 0 | DE7: =BB7+BG7+BQ7+BL7+BV7+CA7 -> 0 | DF7: =AW7-DE7 -> 0 | DG7: =RANK(DF7,$DF$4:$DF$23,0) -> 1 | DH7: =M7 -> 0 | DI7: =DF7*10^3+DH7 -> 0 | DJ7: =RANK(DI7,$DI$4:$DI$23,0) -> 1 | DK7: =AG7 -> 0 | DL7: =(DF7*10^3+DH7)*10^3+DK7 -> 0 | DM7: =RANK(DL7,$DL$4:$DL$23,0) -> 1 | DN7: =R7 -> 0 | DO7: =((DF7*10^3+DH7)*10^3+DK7)*10^3+DN7 -> 0 | DP7: =RANK(DO7,$DO$4:$DO$23,0) -> 1 | DQ7: =AL7 -> 0 | DR7: =(((DF7*10^3+DH7)*10^3+DK7)*10^3+DN7)*10^3+DQ7 -> 0 | DS7: =IF(E7>0,RANK(DR7,$DR$4:$DR$23,0),20) -> 20 | DT7: =IF(DS7<>20,RANK(DS7,$DS$4:$DS$23,1)+COUNTIF(DS$4:DS7,DS7)-1,20) -> 20 | DU7: =DF7/$DU$3 -> #DIV/0! | DV7: =IF(COUNTIF(CB7:CY7,"x")>0,"Dis",IF(COUNTIF(CZ7,"x")>0,"Abbruch","-")) -> - | DX7: =I7+N7+S7+X7+AC7+AH7+AM7+AR7-DA7 -> 0 | DY7: =J7+O7+T7+Y7+AD7+AI7+AN7+AS7-DB7 -> 0 | DZ7: =SUM(K7+P7+U7+Z7+AE7+AJ7+AO7+AT7)-DC7 -> 0
D8: =classi!B62 -> - | E8: =classi!C62 -> 0 | F8: =classi!D62 -> 0 | G8: =classi!G62 -> 0 | I8: 0 | J8: 0 | K8: 0 | M8: =AVERAGE(I8:L8) -> 0 | N8: 0 | O8: 0 | P8: 0 | R8: =AVERAGE(N8:Q8) -> 0 | S8: 0 | T8: 0 | U8: 0 | W8: =AVERAGE(S8:V8) -> 0 | X8: 0 | Y8: 0 | Z8: 0 | AB8: =AVERAGE(X8:AA8) -> 0 | AC8: 0 | AD8: 0 | AE8: 0 | AG8: =AVERAGE(AC8:AF8) -> 0 | AH8: 0 | AI8: 0 | AJ8: 0 | AL8: =AVERAGE(AH8:AK8) -> 0 | AM8: 0 | AN8: 0 | AO8: 0 | AQ8: =AVERAGE(AM8:AP8) -> 0 | AR8: 0 | AS8: 0 | AT8: 0 | AV8: =AVERAGE(AR8:AU8) -> 0 | AW8: =M8+R8+W8+AB8+AG8+AL8+AQ8+AV8 -> 0 | AX8: 0 | AY8: 0 | AZ8: 0 | BB8: =AVERAGE(AX8:BA8) -> 0 | BC8: 0 | BD8: 0 | BE8: 0 | BG8: =AVERAGE(BC8:BF8) -> 0 | BH8: 0 | BI8: 0 | BJ8: 0 | BL8: =AVERAGE(BH8:BK8) -> 0 | BM8: 0 | BN8: 0 | BO8: 0 | BQ8: =AVERAGE(BM8:BP8) -> 0 | BR8: 0 | BS8: 0 | BT8: 0 | BV8: =AVERAGE(BR8:BU8) -> 0 | BW8: 0 | BX8: 0 | BY8: 0 | CA8: =AVERAGE(BW8:BZ8) -> 0 | DA8: =SUM(AX8,BC8,BH8,BM8,BR8,BW8) -> 0 | DB8: =SUM(AY8,BD8,BI8,BN8,BS8,BX8) -> 0 | DC8: =SUM(AZ8+BE8+BJ8+BO8+BT8+BY8) -> 0 | DE8: =BB8+BG8+BQ8+BL8+BV8+CA8 -> 0 | DF8: =AW8-DE8 -> 0 | DG8: =RANK(DF8,$DF$4:$DF$23,0) -> 1 | DH8: =M8 -> 0 | DI8: =DF8*10^3+DH8 -> 0 | DJ8: =RANK(DI8,$DI$4:$DI$23,0) -> 1 | DK8: =AG8 -> 0 | DL8: =(DF8*10^3+DH8)*10^3+DK8 -> 0 | DM8: =RANK(DL8,$DL$4:$DL$23,0) -> 1 | DN8: =R8 -> 0 | DO8: =((DF8*10^3+DH8)*10^3+DK8)*10^3+DN8 -> 0 | DP8: =RANK(DO8,$DO$4:$DO$23,0) -> 1 | DQ8: =AL8 -> 0 | DR8: =(((DF8*10^3+DH8)*10^3+DK8)*10^3+DN8)*10^3+DQ8 -> 0 | DS8: =IF(E8>0,RANK(DR8,$DR$4:$DR$23,0),20) -> 20 | DT8: =IF(DS8<>20,RANK(DS8,$DS$4:$DS$23,1)+COUNTIF(DS$4:DS8,DS8)-1,20) -> 20 | DU8: =DF8/$DU$3 -> #DIV/0! | DV8: =IF(COUNTIF(CB8:CY8,"x")>0,"Dis",IF(COUNTIF(CZ8,"x")>0,"Abbruch","-")) -> - | DX8: =I8+N8+S8+X8+AC8+AH8+AM8+AR8-DA8 -> 0 | DY8: =J8+O8+T8+Y8+AD8+AI8+AN8+AS8-DB8 -> 0 | DZ8: =SUM(K8+P8+U8+Z8+AE8+AJ8+AO8+AT8)-DC8 -> 0
D9: =classi!B63 -> - | E9: =classi!C63 -> 0 | F9: =classi!D63 -> 0 | G9: =classi!G63 -> 0 | I9: 0 | J9: 0 | K9: 0 | M9: =AVERAGE(I9:L9) -> 0 | N9: 0 | O9: 0 | P9: 0 | R9: =AVERAGE(N9:Q9) -> 0 | S9: 0 | T9: 0 | U9: 0 | W9: =AVERAGE(S9:V9) -> 0 | X9: 0 | Y9: 0 | Z9: 0 | AB9: =AVERAGE(X9:AA9) -> 0 | AC9: 0 | AD9: 0 | AE9: 0 | AG9: =AVERAGE(AC9:AF9) -> 0 | AH9: 0 | AI9: 0 | AJ9: 0 | AL9: =AVERAGE(AH9:AK9) -> 0 | AM9: 0 | AN9: 0 | AO9: 0 | AQ9: =AVERAGE(AM9:AP9) -> 0 | AR9: 0 | AS9: 0 | AT9: 0 | AV9: =AVERAGE(AR9:AU9) -> 0 | AW9: =M9+R9+W9+AB9+AG9+AL9+AQ9+AV9 -> 0 | AX9: 0 | AY9: 0 | AZ9: 0 | BB9: =AVERAGE(AX9:BA9) -> 0 | BC9: 0 | BD9: 0 | BE9: 0 | BG9: =AVERAGE(BC9:BF9) -> 0 | BH9: 0 | BI9: 0 | BJ9: 0 | BL9: =AVERAGE(BH9:BK9) -> 0 | BM9: 0 | BN9: 0 | BO9: 0 | BQ9: =AVERAGE(BM9:BP9) -> 0 | BR9: 0 | BS9: 0 | BT9: 0 | BV9: =AVERAGE(BR9:BU9) -> 0 | BW9: 0 | BX9: 0 | BY9: 0 | CA9: =AVERAGE(BW9:BZ9) -> 0 | DA9: =SUM(AX9,BC9,BH9,BM9,BR9,BW9) -> 0 | DB9: =SUM(AY9,BD9,BI9,BN9,BS9,BX9) -> 0 | DC9: =SUM(AZ9+BE9+BJ9+BO9+BT9+BY9) -> 0 | DE9: =BB9+BG9+BQ9+BL9+BV9+CA9 -> 0 | DF9: =AW9-DE9 -> 0 | DG9: =RANK(DF9,$DF$4:$DF$23,0) -> 1 | DH9: =M9 -> 0 | DI9: =DF9*10^3+DH9 -> 0 | DJ9: =RANK(DI9,$DI$4:$DI$23,0) -> 1 | DK9: =AG9 -> 0 | DL9: =(DF9*10^3+DH9)*10^3+DK9 -> 0 | DM9: =RANK(DL9,$DL$4:$DL$23,0) -> 1 | DN9: =R9 -> 0 | DO9: =((DF9*10^3+DH9)*10^3+DK9)*10^3+DN9 -> 0 | DP9: =RANK(DO9,$DO$4:$DO$23,0) -> 1 | DQ9: =AL9 -> 0 | DR9: =(((DF9*10^3+DH9)*10^3+DK9)*10^3+DN9)*10^3+DQ9 -> 0 | DS9: =IF(E9>0,RANK(DR9,$DR$4:$DR$23,0),20) -> 20 | DT9: =IF(DS9<>20,RANK(DS9,$DS$4:$DS$23,1)+COUNTIF(DS$4:DS9,DS9)-1,20) -> 20 | DU9: =DF9/$DU$3 -> #DIV/0! | DV9: =IF(COUNTIF(CB9:CY9,"x")>0,"Dis",IF(COUNTIF(CZ9,"x")>0,"Abbruch","-")) -> - | DX9: =I9+N9+S9+X9+AC9+AH9+AM9+AR9-DA9 -> 0 | DY9: =J9+O9+T9+Y9+AD9+AI9+AN9+AS9-DB9 -> 0 | DZ9: =SUM(K9+P9+U9+Z9+AE9+AJ9+AO9+AT9)-DC9 -> 0
D10: =classi!B64 -> - | E10: =classi!C64 -> 0 | F10: =classi!D64 -> 0 | G10: =classi!G64 -> 0 | I10: 0 | J10: 0 | K10: 0 | M10: =AVERAGE(I10:L10) -> 0 | N10: 0 | O10: 0 | P10: 0 | R10: =AVERAGE(N10:Q10) -> 0 | S10: 0 | T10: 0 | U10: 0 | W10: =AVERAGE(S10:V10) -> 0 | X10: 0 | Y10: 0 | Z10: 0 | AB10: =AVERAGE(X10:AA10) -> 0 | AC10: 0 | AD10: 0 | AE10: 0 | AG10: =AVERAGE(AC10:AF10) -> 0 | AH10: 0 | AI10: 0 | AJ10: 0 | AL10: =AVERAGE(AH10:AK10) -> 0 | AM10: 0 | AN10: 0 | AO10: 0 | AQ10: =AVERAGE(AM10:AP10) -> 0 | AR10: 0 | AS10: 0 | AT10: 0 | AV10: =AVERAGE(AR10:AU10) -> 0 | AW10: =M10+R10+W10+AB10+AG10+AL10+AQ10+AV10 -> 0 | AX10: 0 | AY10: 0 | AZ10: 0 | BB10: =AVERAGE(AX10:BA10) -> 0 | BC10: 0 | BD10: 0 | BE10: 0 | BG10: =AVERAGE(BC10:BF10) -> 0 | BH10: 0 | BI10: 0 | BJ10: 0 | BL10: =AVERAGE(BH10:BK10) -> 0 | BM10: 0 | BN10: 0 | BO10: 0 | BQ10: =AVERAGE(BM10:BP10) -> 0 | BR10: 0 | BS10: 0 | BT10: 0 | BV10: =AVERAGE(BR10:BU10) -> 0 | BW10: 0 | BX10: 0 | BY10: 0 | CA10: =AVERAGE(BW10:BZ10) -> 0 | DA10: =SUM(AX10,BC10,BH10,BM10,BR10,BW10) -> 0 | DB10: =SUM(AY10,BD10,BI10,BN10,BS10,BX10) -> 0 | DC10: =SUM(AZ10+BE10+BJ10+BO10+BT10+BY10) -> 0 | DE10: =BB10+BG10+BQ10+BL10+BV10+CA10 -> 0 | DF10: =AW10-DE10 -> 0 | DG10: =RANK(DF10,$DF$4:$DF$23,0) -> 1 | DH10: =M10 -> 0 | DI10: =DF10*10^3+DH10 -> 0 | DJ10: =RANK(DI10,$DI$4:$DI$23,0) -> 1 | DK10: =AG10 -> 0 | DL10: =(DF10*10^3+DH10)*10^3+DK10 -> 0 | DM10: =RANK(DL10,$DL$4:$DL$23,0) -> 1 | DN10: =R10 -> 0 | DO10: =((DF10*10^3+DH10)*10^3+DK10)*10^3+DN10 -> 0 | DP10: =RANK(DO10,$DO$4:$DO$23,0) -> 1 | DQ10: =AL10 -> 0 | DR10: =(((DF10*10^3+DH10)*10^3+DK10)*10^3+DN10)*10^3+DQ10 -> 0 | DS10: =IF(E10>0,RANK(DR10,$DR$4:$DR$23,0),20) -> 20 | DT10: =IF(DS10<>20,RANK(DS10,$DS$4:$DS$23,1)+COUNTIF(DS$4:DS10,DS10)-1,20) -> 20 | DU10: =DF10/$DU$3 -> #DIV/0! | DV10: =IF(COUNTIF(CB10:CY10,"x")>0,"Dis",IF(COUNTIF(CZ10,"x")>0,"Abbruch","-")) -> - | DX10: =I10+N10+S10+X10+AC10+AH10+AM10+AR10-DA10 -> 0 | DY10: =J10+O10+T10+Y10+AD10+AI10+AN10+AS10-DB10 -> 0 | DZ10: =SUM(K10+P10+U10+Z10+AE10+AJ10+AO10+AT10)-DC10 -> 0
D11: =classi!B65 -> - | E11: =classi!C65 -> 0 | F11: =classi!D65 -> 0 | G11: =classi!G65 -> 0 | I11: 0 | J11: 0 | K11: 0 | M11: =AVERAGE(I11:L11) -> 0 | N11: 0 | O11: 0 | P11: 0 | R11: =AVERAGE(N11:Q11) -> 0 | S11: 0 | T11: 0 | U11: 0 | W11: =AVERAGE(S11:V11) -> 0 | X11: 0 | Y11: 0 | Z11: 0 | AB11: =AVERAGE(X11:AA11) -> 0 | AC11: 0 | AD11: 0 | AE11: 0 | AG11: =AVERAGE(AC11:AF11) -> 0 | AH11: 0 | AI11: 0 | AJ11: 0 | AL11: =AVERAGE(AH11:AK11) -> 0 | AM11: 0 | AN11: 0 | AO11: 0 | AQ11: =AVERAGE(AM11:AP11) -> 0 | AR11: 0 | AS11: 0 | AT11: 0 | AV11: =AVERAGE(AR11:AU11) -> 0 | AW11: =M11+R11+W11+AB11+AG11+AL11+AQ11+AV11 -> 0 | AX11: 0 | AY11: 0 | AZ11: 0 | BB11: =AVERAGE(AX11:BA11) -> 0 | BC11: 0 | BD11: 0 | BE11: 0 | BG11: =AVERAGE(BC11:BF11) -> 0 | BH11: 0 | BI11: 0 | BJ11: 0 | BL11: =AVERAGE(BH11:BK11) -> 0 | BM11: 0 | BN11: 0 | BO11: 0 | BQ11: =AVERAGE(BM11:BP11) -> 0 | BR11: 0 | BS11: 0 | BT11: 0 | BV11: =AVERAGE(BR11:BU11) -> 0 | BW11: 0 | BX11: 0 | BY11: 0 | CA11: =AVERAGE(BW11:BZ11) -> 0 | DA11: =SUM(AX11,BC11,BH11,BM11,BR11,BW11) -> 0 | DB11: =SUM(AY11,BD11,BI11,BN11,BS11,BX11) -> 0 | DC11: =SUM(AZ11+BE11+BJ11+BO11+BT11+BY11) -> 0 | DE11: =BB11+BG11+BQ11+BL11+BV11+CA11 -> 0 | DF11: =AW11-DE11 -> 0 | DG11: =RANK(DF11,$DF$4:$DF$23,0) -> 1 | DH11: =M11 -> 0 | DI11: =DF11*10^3+DH11 -> 0 | DJ11: =RANK(DI11,$DI$4:$DI$23,0) -> 1 | DK11: =AG11 -> 0 | DL11: =(DF11*10^3+DH11)*10^3+DK11 -> 0 | DM11: =RANK(DL11,$DL$4:$DL$23,0) -> 1 | DN11: =R11 -> 0 | DO11: =((DF11*10^3+DH11)*10^3+DK11)*10^3+DN11 -> 0 | DP11: =RANK(DO11,$DO$4:$DO$23,0) -> 1 | DQ11: =AL11 -> 0 | DR11: =(((DF11*10^3+DH11)*10^3+DK11)*10^3+DN11)*10^3+DQ11 -> 0 | DS11: =IF(E11>0,RANK(DR11,$DR$4:$DR$23,0),20) -> 20 | DT11: =IF(DS11<>20,RANK(DS11,$DS$4:$DS$23,1)+COUNTIF(DS$4:DS11,DS11)-1,20) -> 20 | DU11: =DF11/$DU$3 -> #DIV/0! | DV11: =IF(COUNTIF(CB11:CY11,"x")>0,"Dis",IF(COUNTIF(CZ11,"x")>0,"Abbruch","-")) -> - | DX11: =I11+N11+S11+X11+AC11+AH11+AM11+AR11-DA11 -> 0 | DY11: =J11+O11+T11+Y11+AD11+AI11+AN11+AS11-DB11 -> 0 | DZ11: =SUM(K11+P11+U11+Z11+AE11+AJ11+AO11+AT11)-DC11 -> 0
D12: =classi!B66 -> - | E12: =classi!C66 -> 0 | F12: =classi!D66 -> 0 | G12: =classi!G66 -> 0 | I12: 0 | J12: 0 | K12: 0 | M12: =AVERAGE(I12:L12) -> 0 | N12: 0 | O12: 0 | P12: 0 | R12: =AVERAGE(N12:Q12) -> 0 | S12: 0 | T12: 0 | U12: 0 | W12: =AVERAGE(S12:V12) -> 0 | X12: 0 | Y12: 0 | Z12: 0 | AB12: =AVERAGE(X12:AA12) -> 0 | AC12: 0 | AD12: 0 | AE12: 0 | AG12: =AVERAGE(AC12:AF12) -> 0 | AH12: 0 | AI12: 0 | AJ12: 0 | AL12: =AVERAGE(AH12:AK12) -> 0 | AM12: 0 | AN12: 0 | AO12: 0 | AQ12: =AVERAGE(AM12:AP12) -> 0 | AR12: 0 | AS12: 0 | AT12: 0 | AV12: =AVERAGE(AR12:AU12) -> 0 | AW12: =M12+R12+W12+AB12+AG12+AL12+AQ12+AV12 -> 0 | AX12: 0 | AY12: 0 | AZ12: 0 | BB12: =AVERAGE(AX12:BA12) -> 0 | BC12: 0 | BD12: 0 | BE12: 0 | BG12: =AVERAGE(BC12:BF12) -> 0 | BH12: 0 | BI12: 0 | BJ12: 0 | BL12: =AVERAGE(BH12:BK12) -> 0 | BM12: 0 | BN12: 0 | BO12: 0 | BQ12: =AVERAGE(BM12:BP12) -> 0 | BR12: 0 | BS12: 0 | BT12: 0 | BV12: =AVERAGE(BR12:BU12) -> 0 | BW12: 0 | BX12: 0 | BY12: 0 | CA12: =AVERAGE(BW12:BZ12) -> 0 | DA12: =SUM(AX12,BC12,BH12,BM12,BR12,BW12) -> 0 | DB12: =SUM(AY12,BD12,BI12,BN12,BS12,BX12) -> 0 | DC12: =SUM(AZ12+BE12+BJ12+BO12+BT12+BY12) -> 0 | DE12: =BB12+BG12+BQ12+BL12+BV12+CA12 -> 0 | DF12: =AW12-DE12 -> 0 | DG12: =RANK(DF12,$DF$4:$DF$23,0) -> 1 | DH12: =M12 -> 0 | DI12: =DF12*10^3+DH12 -> 0 | DJ12: =RANK(DI12,$DI$4:$DI$23,0) -> 1 | DK12: =AG12 -> 0 | DL12: =(DF12*10^3+DH12)*10^3+DK12 -> 0 | DM12: =RANK(DL12,$DL$4:$DL$23,0) -> 1 | DN12: =R12 -> 0 | DO12: =((DF12*10^3+DH12)*10^3+DK12)*10^3+DN12 -> 0 | DP12: =RANK(DO12,$DO$4:$DO$23,0) -> 1 | DQ12: =AL12 -> 0 | DR12: =(((DF12*10^3+DH12)*10^3+DK12)*10^3+DN12)*10^3+DQ12 -> 0 | DS12: =IF(E12>0,RANK(DR12,$DR$4:$DR$23,0),20) -> 20 | DT12: =IF(DS12<>20,RANK(DS12,$DS$4:$DS$23,1)+COUNTIF(DS$4:DS12,DS12)-1,20) -> 20 | DU12: =DF12/$DU$3 -> #DIV/0! | DV12: =IF(COUNTIF(CB12:CY12,"x")>0,"Dis",IF(COUNTIF(CZ12,"x")>0,"Abbruch","-")) -> - | DX12: =I12+N12+S12+X12+AC12+AH12+AM12+AR12-DA12 -> 0 | DY12: =J12+O12+T12+Y12+AD12+AI12+AN12+AS12-DB12 -> 0 | DZ12: =SUM(K12+P12+U12+Z12+AE12+AJ12+AO12+AT12)-DC12 -> 0
D13: =classi!B67 -> - | E13: =classi!C67 -> 0 | F13: =classi!D67 -> 0 | G13: =classi!G67 -> 0 | I13: 0 | J13: 0 | K13: 0 | M13: =AVERAGE(I13:L13) -> 0 | N13: 0 | O13: 0 | P13: 0 | R13: =AVERAGE(N13:Q13) -> 0 | S13: 0 | T13: 0 | U13: 0 | W13: =AVERAGE(S13:V13) -> 0 | X13: 0 | Y13: 0 | Z13: 0 | AB13: =AVERAGE(X13:AA13) -> 0 | AC13: 0 | AD13: 0 | AE13: 0 | AG13: =AVERAGE(AC13:AF13) -> 0 | AH13: 0 | AI13: 0 | AJ13: 0 | AL13: =AVERAGE(AH13:AK13) -> 0 | AM13: 0 | AN13: 0 | AO13: 0 | AQ13: =AVERAGE(AM13:AP13) -> 0 | AR13: 0 | AS13: 0 | AT13: 0 | AV13: =AVERAGE(AR13:AU13) -> 0 | AW13: =M13+R13+W13+AB13+AG13+AL13+AQ13+AV13 -> 0 | AX13: 0 | AY13: 0 | AZ13: 0 | BB13: =AVERAGE(AX13:BA13) -> 0 | BC13: 0 | BD13: 0 | BE13: 0 | BG13: =AVERAGE(BC13:BF13) -> 0 | BH13: 0 | BI13: 0 | BJ13: 0 | BL13: =AVERAGE(BH13:BK13) -> 0 | BM13: 0 | BN13: 0 | BO13: 0 | BQ13: =AVERAGE(BM13:BP13) -> 0 | BR13: 0 | BS13: 0 | BT13: 0 | BV13: =AVERAGE(BR13:BU13) -> 0 | BW13: 0 | BX13: 0 | BY13: 0 | CA13: =AVERAGE(BW13:BZ13) -> 0 | DA13: =SUM(AX13,BC13,BH13,BM13,BR13,BW13) -> 0 | DB13: =SUM(AY13,BD13,BI13,BN13,BS13,BX13) -> 0 | DC13: =SUM(AZ13+BE13+BJ13+BO13+BT13+BY13) -> 0 | DE13: =BB13+BG13+BQ13+BL13+BV13+CA13 -> 0 | DF13: =AW13-DE13 -> 0 | DG13: =RANK(DF13,$DF$4:$DF$23,0) -> 1 | DH13: =M13 -> 0 | DI13: =DF13*10^3+DH13 -> 0 | DJ13: =RANK(DI13,$DI$4:$DI$23,0) -> 1 | DK13: =AG13 -> 0 | DL13: =(DF13*10^3+DH13)*10^3+DK13 -> 0 | DM13: =RANK(DL13,$DL$4:$DL$23,0) -> 1 | DN13: =R13 -> 0 | DO13: =((DF13*10^3+DH13)*10^3+DK13)*10^3+DN13 -> 0 | DP13: =RANK(DO13,$DO$4:$DO$23,0) -> 1 | DQ13: =AL13 -> 0 | DR13: =(((DF13*10^3+DH13)*10^3+DK13)*10^3+DN13)*10^3+DQ13 -> 0 | DS13: =IF(E13>0,RANK(DR13,$DR$4:$DR$23,0),20) -> 20 | DT13: =IF(DS13<>20,RANK(DS13,$DS$4:$DS$23,1)+COUNTIF(DS$4:DS13,DS13)-1,20) -> 20 | DU13: =DF13/$DU$3 -> #DIV/0! | DV13: =IF(COUNTIF(CB13:CY13,"x")>0,"Dis",IF(COUNTIF(CZ13,"x")>0,"Abbruch","-")) -> - | DX13: =I13+N13+S13+X13+AC13+AH13+AM13+AR13-DA13 -> 0 | DY13: =J13+O13+T13+Y13+AD13+AI13+AN13+AS13-DB13 -> 0 | DZ13: =SUM(K13+P13+U13+Z13+AE13+AJ13+AO13+AT13)-DC13 -> 0
D14: =classi!B68 -> - | E14: =classi!C68 -> 0 | F14: =classi!D68 -> 0 | G14: =classi!G68 -> 0 | I14: 0 | J14: 0 | K14: 0 | M14: =AVERAGE(I14:L14) -> 0 | N14: 0 | O14: 0 | P14: 0 | R14: =AVERAGE(N14:Q14) -> 0 | S14: 0 | T14: 0 | U14: 0 | W14: =AVERAGE(S14:V14) -> 0 | X14: 0 | Y14: 0 | Z14: 0 | AB14: =AVERAGE(X14:AA14) -> 0 | AC14: 0 | AD14: 0 | AE14: 0 | AG14: =AVERAGE(AC14:AF14) -> 0 | AH14: 0 | AI14: 0 | AJ14: 0 | AL14: =AVERAGE(AH14:AK14) -> 0 | AM14: 0 | AN14: 0 | AO14: 0 | AQ14: =AVERAGE(AM14:AP14) -> 0 | AR14: 0 | AS14: 0 | AT14: 0 | AV14: =AVERAGE(AR14:AU14) -> 0 | AW14: =M14+R14+W14+AB14+AG14+AL14+AQ14+AV14 -> 0 | AX14: 0 | AY14: 0 | AZ14: 0 | BB14: =AVERAGE(AX14:BA14) -> 0 | BC14: 0 | BD14: 0 | BE14: 0 | BG14: =AVERAGE(BC14:BF14) -> 0 | BH14: 0 | BI14: 0 | BJ14: 0 | BL14: =AVERAGE(BH14:BK14) -> 0 | BM14: 0 | BN14: 0 | BO14: 0 | BQ14: =AVERAGE(BM14:BP14) -> 0 | BR14: 0 | BS14: 0 | BT14: 0 | BV14: =AVERAGE(BR14:BU14) -> 0 | BW14: 0 | BX14: 0 | BY14: 0 | CA14: =AVERAGE(BW14:BZ14) -> 0 | DA14: =SUM(AX14,BC14,BH14,BM14,BR14,BW14) -> 0 | DB14: =SUM(AY14,BD14,BI14,BN14,BS14,BX14) -> 0 | DC14: =SUM(AZ14+BE14+BJ14+BO14+BT14+BY14) -> 0 | DE14: =BB14+BG14+BQ14+BL14+BV14+CA14 -> 0 | DF14: =AW14-DE14 -> 0 | DG14: =RANK(DF14,$DF$4:$DF$23,0) -> 1 | DH14: =M14 -> 0 | DI14: =DF14*10^3+DH14 -> 0 | DJ14: =RANK(DI14,$DI$4:$DI$23,0) -> 1 | DK14: =AG14 -> 0 | DL14: =(DF14*10^3+DH14)*10^3+DK14 -> 0 | DM14: =RANK(DL14,$DL$4:$DL$23,0) -> 1 | DN14: =R14 -> 0 | DO14: =((DF14*10^3+DH14)*10^3+DK14)*10^3+DN14 -> 0 | DP14: =RANK(DO14,$DO$4:$DO$23,0) -> 1 | DQ14: =AL14 -> 0 | DR14: =(((DF14*10^3+DH14)*10^3+DK14)*10^3+DN14)*10^3+DQ14 -> 0 | DS14: =IF(E14>0,RANK(DR14,$DR$4:$DR$23,0),20) -> 20 | DT14: =IF(DS14<>20,RANK(DS14,$DS$4:$DS$23,1)+COUNTIF(DS$4:DS14,DS14)-1,20) -> 20 | DU14: =DF14/$DU$3 -> #DIV/0! | DV14: =IF(COUNTIF(CB14:CY14,"x")>0,"Dis",IF(COUNTIF(CZ14,"x")>0,"Abbruch","-")) -> - | DX14: =I14+N14+S14+X14+AC14+AH14+AM14+AR14-DA14 -> 0 | DY14: =J14+O14+T14+Y14+AD14+AI14+AN14+AS14-DB14 -> 0 | DZ14: =SUM(K14+P14+U14+Z14+AE14+AJ14+AO14+AT14)-DC14 -> 0
D15: =classi!B69 -> - | E15: =classi!C69 -> 0 | F15: =classi!D69 -> 0 | G15: =classi!G69 -> 0 | I15: 0 | J15: 0 | K15: 0 | M15: =AVERAGE(I15:L15) -> 0 | N15: 0 | O15: 0 | P15: 0 | R15: =AVERAGE(N15:Q15) -> 0 | S15: 0 | T15: 0 | U15: 0 | W15: =AVERAGE(S15:V15) -> 0 | X15: 0 | Y15: 0 | Z15: 0 | AB15: =AVERAGE(X15:AA15) -> 0 | AC15: 0 | AD15: 0 | AE15: 0 | AG15: =AVERAGE(AC15:AF15) -> 0 | AH15: 0 | AI15: 0 | AJ15: 0 | AL15: =AVERAGE(AH15:AK15) -> 0 | AM15: 0 | AN15: 0 | AO15: 0 | AQ15: =AVERAGE(AM15:AP15) -> 0 | AR15: 0 | AS15: 0 | AT15: 0 | AV15: =AVERAGE(AR15:AU15) -> 0 | AW15: =M15+R15+W15+AB15+AG15+AL15+AQ15+AV15 -> 0 | AX15: 0 | AY15: 0 | AZ15: 0 | BB15: =AVERAGE(AX15:BA15) -> 0 | BC15: 0 | BD15: 0 | BE15: 0 | BG15: =AVERAGE(BC15:BF15) -> 0 | BH15: 0 | BI15: 0 | BJ15: 0 | BL15: =AVERAGE(BH15:BK15) -> 0 | BM15: 0 | BN15: 0 | BO15: 0 | BQ15: =AVERAGE(BM15:BP15) -> 0 | BR15: 0 | BS15: 0 | BT15: 0 | BV15: =AVERAGE(BR15:BU15) -> 0 | BW15: 0 | BX15: 0 | BY15: 0 | CA15: =AVERAGE(BW15:BZ15) -> 0 | DA15: =SUM(AX15,BC15,BH15,BM15,BR15,BW15) -> 0 | DB15: =SUM(AY15,BD15,BI15,BN15,BS15,BX15) -> 0 | DC15: =SUM(AZ15+BE15+BJ15+BO15+BT15+BY15) -> 0 | DE15: =BB15+BG15+BQ15+BL15+BV15+CA15 -> 0 | DF15: =AW15-DE15 -> 0 | DG15: =RANK(DF15,$DF$4:$DF$23,0) -> 1 | DH15: =M15 -> 0 | DI15: =DF15*10^3+DH15 -> 0 | DJ15: =RANK(DI15,$DI$4:$DI$23,0) -> 1 | DK15: =AG15 -> 0 | DL15: =(DF15*10^3+DH15)*10^3+DK15 -> 0 | DM15: =RANK(DL15,$DL$4:$DL$23,0) -> 1 | DN15: =R15 -> 0 | DO15: =((DF15*10^3+DH15)*10^3+DK15)*10^3+DN15 -> 0 | DP15: =RANK(DO15,$DO$4:$DO$23,0) -> 1 | DQ15: =AL15 -> 0 | DR15: =(((DF15*10^3+DH15)*10^3+DK15)*10^3+DN15)*10^3+DQ15 -> 0 | DS15: =IF(E15>0,RANK(DR15,$DR$4:$DR$23,0),20) -> 20 | DT15: =IF(DS15<>20,RANK(DS15,$DS$4:$DS$23,1)+COUNTIF(DS$4:DS15,DS15)-1,20) -> 20 | DU15: =DF15/$DU$3 -> #DIV/0! | DV15: =IF(COUNTIF(CB15:CY15,"x")>0,"Dis",IF(COUNTIF(CZ15,"x")>0,"Abbruch","-")) -> - | DX15: =I15+N15+S15+X15+AC15+AH15+AM15+AR15-DA15 -> 0 | DY15: =J15+O15+T15+Y15+AD15+AI15+AN15+AS15-DB15 -> 0 | DZ15: =SUM(K15+P15+U15+Z15+AE15+AJ15+AO15+AT15)-DC15 -> 0
D16: =classi!B70 -> - | E16: =classi!C70 -> 0 | F16: =classi!D70 -> 0 | G16: =classi!G70 -> 0 | I16: 0 | J16: 0 | K16: 0 | M16: =AVERAGE(I16:L16) -> 0 | N16: 0 | O16: 0 | P16: 0 | R16: =AVERAGE(N16:Q16) -> 0 | S16: 0 | T16: 0 | U16: 0 | W16: =AVERAGE(S16:V16) -> 0 | X16: 0 | Y16: 0 | Z16: 0 | AB16: =AVERAGE(X16:AA16) -> 0 | AC16: 0 | AD16: 0 | AE16: 0 | AG16: =AVERAGE(AC16:AF16) -> 0 | AH16: 0 | AI16: 0 | AJ16: 0 | AL16: =AVERAGE(AH16:AK16) -> 0 | AM16: 0 | AN16: 0 | AO16: 0 | AQ16: =AVERAGE(AM16:AP16) -> 0 | AR16: 0 | AS16: 0 | AT16: 0 | AV16: =AVERAGE(AR16:AU16) -> 0 | AW16: =M16+R16+W16+AB16+AG16+AL16+AQ16+AV16 -> 0 | AX16: 0 | AY16: 0 | AZ16: 0 | BB16: =AVERAGE(AX16:BA16) -> 0 | BC16: 0 | BD16: 0 | BE16: 0 | BG16: =AVERAGE(BC16:BF16) -> 0 | BH16: 0 | BI16: 0 | BJ16: 0 | BL16: =AVERAGE(BH16:BK16) -> 0 | BM16: 0 | BN16: 0 | BO16: 0 | BQ16: =AVERAGE(BM16:BP16) -> 0 | BR16: 0 | BS16: 0 | BT16: 0 | BV16: =AVERAGE(BR16:BU16) -> 0 | BW16: 0 | BX16: 0 | BY16: 0 | CA16: =AVERAGE(BW16:BZ16) -> 0 | DA16: =SUM(AX16,BC16,BH16,BM16,BR16,BW16) -> 0 | DB16: =SUM(AY16,BD16,BI16,BN16,BS16,BX16) -> 0 | DC16: =SUM(AZ16+BE16+BJ16+BO16+BT16+BY16) -> 0 | DE16: =BB16+BG16+BQ16+BL16+BV16+CA16 -> 0 | DF16: =AW16-DE16 -> 0 | DG16: =RANK(DF16,$DF$4:$DF$23,0) -> 1 | DH16: =M16 -> 0 | DI16: =DF16*10^3+DH16 -> 0 | DJ16: =RANK(DI16,$DI$4:$DI$23,0) -> 1 | DK16: =AG16 -> 0 | DL16: =(DF16*10^3+DH16)*10^3+DK16 -> 0 | DM16: =RANK(DL16,$DL$4:$DL$23,0) -> 1 | DN16: =R16 -> 0 | DO16: =((DF16*10^3+DH16)*10^3+DK16)*10^3+DN16 -> 0 | DP16: =RANK(DO16,$DO$4:$DO$23,0) -> 1 | DQ16: =AL16 -> 0 | DR16: =(((DF16*10^3+DH16)*10^3+DK16)*10^3+DN16)*10^3+DQ16 -> 0 | DS16: =IF(E16>0,RANK(DR16,$DR$4:$DR$23,0),20) -> 20 | DT16: =IF(DS16<>20,RANK(DS16,$DS$4:$DS$23,1)+COUNTIF(DS$4:DS16,DS16)-1,20) -> 20 | DU16: =DF16/$DU$3 -> #DIV/0! | DV16: =IF(COUNTIF(CB16:CY16,"x")>0,"Dis",IF(COUNTIF(CZ16,"x")>0,"Abbruch","-")) -> - | DX16: =I16+N16+S16+X16+AC16+AH16+AM16+AR16-DA16 -> 0 | DY16: =J16+O16+T16+Y16+AD16+AI16+AN16+AS16-DB16 -> 0 | DZ16: =SUM(K16+P16+U16+Z16+AE16+AJ16+AO16+AT16)-DC16 -> 0
D17: =classi!B71 -> - | E17: =classi!C71 -> 0 | F17: =classi!D71 -> 0 | G17: =classi!G71 -> 0 | I17: 0 | J17: 0 | K17: 0 | M17: =AVERAGE(I17:L17) -> 0 | N17: 0 | O17: 0 | P17: 0 | R17: =AVERAGE(N17:Q17) -> 0 | S17: 0 | T17: 0 | U17: 0 | W17: =AVERAGE(S17:V17) -> 0 | X17: 0 | Y17: 0 | Z17: 0 | AB17: =AVERAGE(X17:AA17) -> 0 | AC17: 0 | AD17: 0 | AE17: 0 | AG17: =AVERAGE(AC17:AF17) -> 0 | AH17: 0 | AI17: 0 | AJ17: 0 | AL17: =AVERAGE(AH17:AK17) -> 0 | AM17: 0 | AN17: 0 | AO17: 0 | AQ17: =AVERAGE(AM17:AP17) -> 0 | AR17: 0 | AS17: 0 | AT17: 0 | AV17: =AVERAGE(AR17:AU17) -> 0 | AW17: =M17+R17+W17+AB17+AG17+AL17+AQ17+AV17 -> 0 | AX17: 0 | AY17: 0 | AZ17: 0 | BB17: =AVERAGE(AX17:BA17) -> 0 | BC17: 0 | BD17: 0 | BE17: 0 | BG17: =AVERAGE(BC17:BF17) -> 0 | BH17: 0 | BI17: 0 | BJ17: 0 | BL17: =AVERAGE(BH17:BK17) -> 0 | BM17: 0 | BN17: 0 | BO17: 0 | BQ17: =AVERAGE(BM17:BP17) -> 0 | BR17: 0 | BS17: 0 | BT17: 0 | BV17: =AVERAGE(BR17:BU17) -> 0 | BW17: 0 | BX17: 0 | BY17: 0 | CA17: =AVERAGE(BW17:BZ17) -> 0 | DA17: =SUM(AX17,BC17,BH17,BM17,BR17,BW17) -> 0 | DB17: =SUM(AY17,BD17,BI17,BN17,BS17,BX17) -> 0 | DC17: =SUM(AZ17+BE17+BJ17+BO17+BT17+BY17) -> 0 | DE17: =BB17+BG17+BQ17+BL17+BV17+CA17 -> 0 | DF17: =AW17-DE17 -> 0 | DG17: =RANK(DF17,$DF$4:$DF$23,0) -> 1 | DH17: =M17 -> 0 | DI17: =DF17*10^3+DH17 -> 0 | DJ17: =RANK(DI17,$DI$4:$DI$23,0) -> 1 | DK17: =AG17 -> 0 | DL17: =(DF17*10^3+DH17)*10^3+DK17 -> 0 | DM17: =RANK(DL17,$DL$4:$DL$23,0) -> 1 | DN17: =R17 -> 0 | DO17: =((DF17*10^3+DH17)*10^3+DK17)*10^3+DN17 -> 0 | DP17: =RANK(DO17,$DO$4:$DO$23,0) -> 1 | DQ17: =AL17 -> 0 | DR17: =(((DF17*10^3+DH17)*10^3+DK17)*10^3+DN17)*10^3+DQ17 -> 0 | DS17: =IF(E17>0,RANK(DR17,$DR$4:$DR$23,0),20) -> 20 | DT17: =IF(DS17<>20,RANK(DS17,$DS$4:$DS$23,1)+COUNTIF(DS$4:DS17,DS17)-1,20) -> 20 | DU17: =DF17/$DU$3 -> #DIV/0! | DV17: =IF(COUNTIF(CB17:CY17,"x")>0,"Dis",IF(COUNTIF(CZ17,"x")>0,"Abbruch","-")) -> - | DX17: =I17+N17+S17+X17+AC17+AH17+AM17+AR17-DA17 -> 0 | DY17: =J17+O17+T17+Y17+AD17+AI17+AN17+AS17-DB17 -> 0 | DZ17: =SUM(K17+P17+U17+Z17+AE17+AJ17+AO17+AT17)-DC17 -> 0
D18: =classi!B72 -> - | E18: =classi!C72 -> 0 | F18: =classi!D72 -> 0 | G18: =classi!G72 -> 0 | I18: 0 | J18: 0 | K18: 0 | M18: =AVERAGE(I18:L18) -> 0 | N18: 0 | O18: 0 | P18: 0 | R18: =AVERAGE(N18:Q18) -> 0 | S18: 0 | T18: 0 | U18: 0 | W18: =AVERAGE(S18:V18) -> 0 | X18: 0 | Y18: 0 | Z18: 0 | AB18: =AVERAGE(X18:AA18) -> 0 | AC18: 0 | AD18: 0 | AE18: 0 | AG18: =AVERAGE(AC18:AF18) -> 0 | AH18: 0 | AI18: 0 | AJ18: 0 | AL18: =AVERAGE(AH18:AK18) -> 0 | AM18: 0 | AN18: 0 | AO18: 0 | AQ18: =AVERAGE(AM18:AP18) -> 0 | AR18: 0 | AS18: 0 | AT18: 0 | AV18: =AVERAGE(AR18:AU18) -> 0 | AW18: =M18+R18+W18+AB18+AG18+AL18+AQ18+AV18 -> 0 | AX18: 0 | AY18: 0 | AZ18: 0 | BB18: =AVERAGE(AX18:BA18) -> 0 | BC18: 0 | BD18: 0 | BE18: 0 | BG18: =AVERAGE(BC18:BF18) -> 0 | BH18: 0 | BI18: 0 | BJ18: 0 | BL18: =AVERAGE(BH18:BK18) -> 0 | BM18: 0 | BN18: 0 | BO18: 0 | BQ18: =AVERAGE(BM18:BP18) -> 0 | BR18: 0 | BS18: 0 | BT18: 0 | BV18: =AVERAGE(BR18:BU18) -> 0 | BW18: 0 | BX18: 0 | BY18: 0 | CA18: =AVERAGE(BW18:BZ18) -> 0 | DA18: =SUM(AX18,BC18,BH18,BM18,BR18,BW18) -> 0 | DB18: =SUM(AY18,BD18,BI18,BN18,BS18,BX18) -> 0 | DC18: =SUM(AZ18+BE18+BJ18+BO18+BT18+BY18) -> 0 | DE18: =BB18+BG18+BQ18+BL18+BV18+CA18 -> 0 | DF18: =AW18-DE18 -> 0 | DG18: =RANK(DF18,$DF$4:$DF$23,0) -> 1 | DH18: =M18 -> 0 | DI18: =DF18*10^3+DH18 -> 0 | DJ18: =RANK(DI18,$DI$4:$DI$23,0) -> 1 | DK18: =AG18 -> 0 | DL18: =(DF18*10^3+DH18)*10^3+DK18 -> 0 | DM18: =RANK(DL18,$DL$4:$DL$23,0) -> 1 | DN18: =R18 -> 0 | DO18: =((DF18*10^3+DH18)*10^3+DK18)*10^3+DN18 -> 0 | DP18: =RANK(DO18,$DO$4:$DO$23,0) -> 1 | DQ18: =AL18 -> 0 | DR18: =(((DF18*10^3+DH18)*10^3+DK18)*10^3+DN18)*10^3+DQ18 -> 0 | DS18: =IF(E18>0,RANK(DR18,$DR$4:$DR$23,0),20) -> 20 | DT18: =IF(DS18<>20,RANK(DS18,$DS$4:$DS$23,1)+COUNTIF(DS$4:DS18,DS18)-1,20) -> 20 | DU18: =DF18/$DU$3 -> #DIV/0! | DV18: =IF(COUNTIF(CB18:CY18,"x")>0,"Dis",IF(COUNTIF(CZ18,"x")>0,"Abbruch","-")) -> - | DX18: =I18+N18+S18+X18+AC18+AH18+AM18+AR18-DA18 -> 0 | DY18: =J18+O18+T18+Y18+AD18+AI18+AN18+AS18-DB18 -> 0 | DZ18: =SUM(K18+P18+U18+Z18+AE18+AJ18+AO18+AT18)-DC18 -> 0
... D20: =classi!B74 -> - | E20: =classi!C74 -> 0 | F20: =classi!D74 -> 0 | G20: =classi!G74 -> 0 | I20: 0 | J20: 0 | K20: 0 | M20: =AVERAGE(I20:L20) -> 0 | N20: 0 | O20: 0 | P20: 0 | R20: =AVERAGE(N20:Q20) -> 0 | S20: 0 | T20: 0 | U20: 0 | W20: =AVERAGE(S20:V20) -> 0 | X20: 0 | Y20: 0 | Z20: 0 | AB20: =AVERAGE(X20:AA20) -> 0 | AC20: 0 | AD20: 0 | AE20: 0 | AG20: =AVERAGE(AC20:AF20) -> 0 | AH20: 0 | AI20: 0 | AJ20: 0 | AL20: =AVERAGE(AH20:AK20) -> 0 | AM20: 0 | AN20: 0 | AO20: 0 | AQ20: =AVERAGE(AM20:AP20) -> 0 | AR20: 0 | AS20: 0 | AT20: 0 | AV20: =AVERAGE(AR20:AU20) -> 0 | AW20: =M20+R20+W20+AB20+AG20+AL20+AQ20+AV20 -> 0 | AX20: 0 | AY20: 0 | AZ20: 0 | BB20: =AVERAGE(AX20:BA20) -> 0 | BC20: 0 | BD20: 0 | BE20: 0 | BG20: =AVERAGE(BC20:BF20) -> 0 | BH20: 0 | BI20: 0 | BJ20: 0 | BL20: =AVERAGE(BH20:BK20) -> 0 | BM20: 0 | BN20: 0 | BO20: 0 | BQ20: =AVERAGE(BM20:BP20) -> 0 | BR20: 0 | BS20: 0 | BT20: 0 | BV20: =AVERAGE(BR20:BU20) -> 0 | BW20: 0 | BX20: 0 | BY20: 0 | CA20: =AVERAGE(BW20:BZ20) -> 0 | DA20: =SUM(AX20,BC20,BH20,BM20,BR20,BW20) -> 0 | DB20: =SUM(AY20,BD20,BI20,BN20,BS20,BX20) -> 0 | DC20: =SUM(AZ20+BE20+BJ20+BO20+BT20+BY20) -> 0 | DE20: =BB20+BG20+BQ20+BL20+BV20+CA20 -> 0 | DF20: =AW20-DE20 -> 0 | DG20: =RANK(DF20,$DF$4:$DF$23,0) -> 1 | DH20: =M20 -> 0 | DI20: =DF20*10^3+DH20 -> 0 | DJ20: =RANK(DI20,$DI$4:$DI$23,0) -> 1 | DK20: =AG20 -> 0 | DL20: =(DF20*10^3+DH20)*10^3+DK20 -> 0 | DM20: =RANK(DL20,$DL$4:$DL$23,0) -> 1 | DN20: =R20 -> 0 | DO20: =((DF20*10^3+DH20)*10^3+DK20)*10^3+DN20 -> 0 | DP20: =RANK(DO20,$DO$4:$DO$23,0) -> 1 | DQ20: =AL20 -> 0 | DR20: =(((DF20*10^3+DH20)*10^3+DK20)*10^3+DN20)*10^3+DQ20 -> 0 | DS20: =IF(E20>0,RANK(DR20,$DR$4:$DR$23,0),20) -> 20 | DT20: =IF(DS20<>20,RANK(DS20,$DS$4:$DS$23,1)+COUNTIF(DS$4:DS20,DS20)-1,20) -> 20 | DU20: =DF20/$DU$3 -> #DIV/0! | DV20: =IF(COUNTIF(CB20:CY20,"x")>0,"Dis",IF(COUNTIF(CZ20,"x")>0,"Abbruch","-")) -> - | DX20: =I20+N20+S20+X20+AC20+AH20+AM20+AR20-DA20 -> 0 | DY20: =J20+O20+T20+Y20+AD20+AI20+AN20+AS20-DB20 -> 0 | DZ20: =SUM(K20+P20+U20+Z20+AE20+AJ20+AO20+AT20)-DC20 -> 0
