Workbook

Sheet Riepilogo di esportazione
B3: Questo documento è stato esportato da Numbers. Tutte le tabelle sono state convertite in un foglio di lavoro di Excel. Tutti gli altri oggetti di ciascun foglio di Numbers sono stati collocati in fogli di lavoro separati. Nota che i calcoli delle formule potrebbero differire in Excel.
B7: Nome del foglio di Numbers | C7: Nome della tabella di Numbers | D7: Nome foglio di lavoro Excel
B9: Dropdown
C10: Tabella 1 | D10: Dropdown
B11: Instruction for Use
C12: Tabella 1 | D12: Instruction for Use
B13: List of Competitors
C14: Tabella 1 | D14: List of Competitors
B15: Overview
C16: Tabella 1 | D16: Overview
B17: HTM 0
C18: Tabella 1 | D18: HTM 0
B19: HTM 1
C20: Tabella 1 | D20: HTM 1
B21: HTM 2
C22: Tabella 1 | D22: HTM 2
B23: HTM 3
C24: Tabella 1 | D24: HTM 3
B25: FS 0
C26: Tabella 1 | D26: FS 0
B27: FS 1
C28: Tabella 1 | D28: FS 1
B29: FS 2
C30: Tabella 1 | D30: FS 2
B31: FS 3
C32: Tabella 1 | D32: FS 3
B33: Senior HC
C34: Tabella 1 | D34: Senior HC
B35: Trio
C36: Tabella 1 | D36: Trio
B37: Quartett
C38: Tabella 1 | D38: Quartett
B39: Junior
C40: Tabella 1 | D40: Junior

Sheet Dropdown
A1: Klassen
A2: FS 0
A3: FS 1
A4: FS 2
A5: FS 3
A6: HTM 0
A7: HTM 1
A8: HTM 2
A9: HTM 3
A10: Senioren Handicap
A11: Trio
A12: Quartett

Sheet Instruction for Use
A1: Preparation | B1: insert all teams into tab "List of Competitors", do not delete a line / cell / column, just leave it blank when there are no competitors, so not change tables
B2: Insert the competition's name, place and date into tab "List of Competitors" in B2 / C2
A4: During Competition | B4: Insert Points according to judging sheets
B5: you can hide the deductions (by clicking on + or - above column V)
B6: The ranking automatically takes into account teamwork, flow and dynamism in the event of a points tie
B7: in case of further equality of points, changes have to be made manually
B8: It is automatically taken into account whether two or three judges judge in classes 0-2, or whether four or three judges judge in class 3
B9: Abandonments / disqualifications must currently be entered manually in the overview.
A11: Export Results | B11: Hide all tabs that are not required for the PDF (right click on tab "List of Competitors" and the classes without competitors - "Hide")
B12: all empty lines (in the individual classes as well as in the overview) can be hidden for clarity (select lines, right-click, "hide")
B13: File - Export - Create PDF document - Options - Select entire workbook
A15: After the Competition | B15: After thorough examination, log on to the DDI website, submit results: https://www.dogdance.info/de/turniere/veranstalter/result

Sheet List of Competitors
B1: Torneo / Luogo | C1: Data
A4: # | B4: Classi | C4: Nome | D4: Cognome | E4: Cane | G4: # | H4: Classi | I4: Nome | J4: Cognome | K4: Cane | M4: # | N4: Classi | O4: Nome | P4: Cognome | Q4: Cane | S4: # | T4: Classi | U4: Nome | V4: Cognome | W4: Cane
A5: 1 | B5: HTM 0 | C5: Lisa | D5: Puccinelli | E5: Daisy | G5: 1 | H5: HTM 1 | M5: 1 | N5: HTM 2 | S5: 1 | T5: HTM 3 | U5: Melissa | V5: Munoz | W5: Krystal
A6: 2 | B6: HTM 0 | G6: 2 | H6: HTM 1 | M6: 2 | N6: HTM 2 | S6: 2 | T6: HTM 3
A7: 3 | B7: HTM 0 | G7: 3 | H7: HTM 1 | M7: 3 | N7: HTM 2 | S7: 3 | T7: HTM 3
A8: 4 | B8: HTM 0 | G8: 4 | H8: HTM 1 | M8: 4 | N8: HTM 2 | S8: 4 | T8: HTM 3
A9: 5 | B9: HTM 0 | G9: 5 | H9: HTM 1 | M9: 5 | N9: HTM 2 | S9: 5 | T9: HTM 3
A10: 6 | B10: HTM 0 | G10: 6 | H10: HTM 1 | M10: 6 | N10: HTM 2 | S10: 6 | T10: HTM 3
A11: 7 | B11: HTM 0 | G11: 7 | H11: HTM 1 | M11: 7 | N11: HTM 2 | S11: 7 | T11: HTM 3
A12: 8 | B12: HTM 0 | G12: 8 | H12: HTM 1 | M12: 8 | N12: HTM 2 | S12: 8 | T12: HTM 3
A13: 9 | B13: HTM 0 | G13: 9 | H13: HTM 1 | M13: 9 | N13: HTM 2 | S13: 9 | T13: HTM 3
A14: 10 | B14: HTM 0 | G14: 10 | H14: HTM 1 | M14: 10 | N14: HTM 2 | S14: 10 | T14: HTM 3
A15: 11 | B15: HTM 0 | G15: 11 | H15: HTM 1 | M15: 11 | N15: HTM 2 | S15: 11 | T15: HTM 3
A16: 12 | B16: HTM 0 | G16: 12 | H16: HTM 1 | M16: 12 | N16: HTM 2 | S16: 12 | T16: HTM 3
A17: 13 | B17: HTM 0 | G17: 13 | H17: HTM 1 | M17: 13 | N17: HTM 2 | S17: 13 | T17: HTM 3
... A24: 20 | B24: HTM 0 | G24: 20 | H24: HTM 1 | M24: 20 | N24: HTM 2 | S24: 20 | T24: HTM 3
A26: # | B26: Classi | C26: Nome | D26: Cognome | E26: Cane | G26: # | H26: Classi | I26: Nome | J26: Cognome | K26: Cane | M26: # | N26: Classi | O26: Nome | P26: Cognome | Q26: Cane | S26: # | T26: Classi | U26: Nome | V26: Cognome | W26: Cane
A27: 1 | B27: FS 0 | C27: Camilla | D27: Falco | E27: Argo | G27: 1 | H27: FS 1 | I27: Lisa | J27: Puccinelli | K27: Daisy | M27: 1 | N27: FS 2 | O27: Davide | P27: Alboraletti | Q27: Viper | S27: 1 | T27: FS 3 | U27: Claudia | V27: Bruschi | W27: Rocky
A28: 2 | B28: FS 0 | C28: Marica | D28: Inserra | E28: Blu | G28: 2 | H28: FS 1 | I28: Lucia | J28: Colombo | K28: Aaron | M28: 2 | N28: FS 2 | O28: Melissa | P28: Munoz | Q28: Ghiaccio | S28: 2 | T28: FS 3
A29: 3 | B29: FS 0 | C29: Mersia | D29: Avanzini | E29: Shelby | G29: 3 | H29: FS 1 | I29: Melissa | J29: Munoz | K29: Tazmania | M29: 3 | N29: FS 2 | S29: 3 | T29: FS 3
A30: 4 | B30: FS 0 | G30: 4 | H30: FS 1 | I30: Matteo | J30: Allegri | K30: Flash | M30: 4 | N30: FS 2 | S30: 4 | T30: FS 3
A31: 5 | B31: FS 0 | G31: 5 | H31: FS 1 | I31: Ilaria | J31: Valori | K31: Nala | M31: 5 | N31: FS 2 | S31: 5 | T31: FS 3
A32: 6 | B32: FS 0 | G32: 6 | H32: FS 1 | M32: 6 | N32: FS 2 | S32: 6 | T32: FS 3
A33: 7 | B33: FS 0 | G33: 7 | H33: FS 1 | M33: 7 | N33: FS 2 | S33: 7 | T33: FS 3
A34: 8 | B34: FS 0 | G34: 8 | H34: FS 1 | M34: 8 | N34: FS 2 | S34: 8 | T34: FS 3
A35: 9 | B35: FS 0 | G35: 9 | H35: FS 1 | M35: 9 | N35: FS 2 | S35: 9 | T35: FS 3
A36: 10 | B36: FS 0 | G36: 10 | H36: FS 1 | M36: 10 | N36: FS 2 | S36: 10 | T36: FS 3
A37: 11 | B37: FS 0 | G37: 11 | H37: FS 1 | M37: 11 | N37: FS 2 | S37: 11 | T37: FS 3
A38: 12 | B38: FS 0 | G38: 12 | H38: FS 1 | M38: 12 | N38: FS 2 | S38: 12 | T38: FS 3
A39: 13 | B39: FS 0 | G39: 13 | H39: FS 1 | M39: 13 | N39: FS 2 | S39: 13 | T39: FS 3
A40: 14 | B40: FS 0 | G40: 14 | H40: FS 1 | M40: 14 | N40: FS 2 | S40: 14 | T40: FS 3
A41: 15 | B41: FS 0 | G41: 15 | H41: FS 1 | M41: 15 | N41: FS 2 | S41: 15 | T41: FS 3
A42: 16 | B42: FS 0 | G42: 16 | H42: FS 1 | M42: 16 | N42: FS 2 | S42: 16 | T42: FS 3
A43: 17 | B43: FS 0 | G43: 17 | H43: FS 1 | M43: 17 | N43: FS 2 | S43: 17 | T43: FS 3
... A46: 20 | B46: FS 0 | G46: 20 | H46: FS 1 | M46: 20 | N46: FS 2 | S46: 20 | T46: FS 3
A48: # | B48: Classi | C48: Nome | D48: Cognome | E48: Cane | G48: # | H48: Classi | I48: Nome | J48: Cognome | K48: Cane | M48: # | N48: Classi | O48: Nome | P48: Cognome | Q48: Cane | S48: # | T48: Classi | U48: Nome | V48: Cognome | W48: Cane
A49: 1 | B49: Senioren Handicap | G49: 1 | H49: Trio | M49: 1 | N49: Quartett | S49: 1 | T49: Junior
A50: 2 | B50: Senioren Handicap | G50: 2 | H50: Trio | M50: 2 | N50: Quartett | S50: 2 | T50: Junior
A51: 3 | B51: Senioren Handicap | G51: 3 | H51: Trio | M51: 3 | N51: Quartett | S51: 3 | T51: Junior
A52: 4 | B52: Senioren Handicap | G52: 4 | H52: Trio | M52: 4 | N52: Quartett | S52: 4 | T52: Junior
...

Sheet Overview
E1: ='List of Competitors'!B2
E2: ='List of Competitors'!C2
A5: HTM 0
E6: artistic | I6: tecnici | N6: Detrazioni di punti | U6: Risultato
A7: Posizionamento | B7: Nome | C7: Cognome | D7: Cane | E7: Team work | F7: Dinamicità | G7: Progetto | H7: Coreografia | I7: Fluidità | J7: Esecuzione | K7: Contenuto | L7: Difficoltà | M7: punti | N7: Abbaio e vocalizzazioni | O7: Salute del cane | P7: costume / Oggetti di scena | Q7: Lunghezze musicali errate | R7: Trattamento improprio del cane | S7: Contatto attivo | T7: Detrazioni di punti | U7: Totale | V7: Posizionamento | W7: punto di passaggio
A8: 1 | C8: =INDEX('HTM 0'!$C$7:$C$86,MATCH(A8,'HTM 0'!$Y$7:$Y$86,0)) -> Puccinelli | D8: =INDEX('HTM 0'!$D$7:$D$86,MATCH(A8,'HTM 0'!$Y$7:$Y$86,0)) -> Daisy | E8: =INDEX('HTM 0'!F$7:F$86,MATCH($A8,'HTM 0'!$Y$7:$Y$86,0)) -> 20.5 | F8: =INDEX('HTM 0'!G$7:G$86,MATCH($A8,'HTM 0'!$Y$7:$Y$86,0)) -> 19 | G8: =INDEX('HTM 0'!H$7:H$86,MATCH($A8,'HTM 0'!$Y$7:$Y$86,0)) -> 20.5 | H8: =INDEX('HTM 0'!I$7:I$86,MATCH($A8,'HTM 0'!$Y$7:$Y$86,0)) -> 19.5 | I8: =INDEX('HTM 0'!J$7:J$86,MATCH($A8,'HTM 0'!$Y$7:$Y$86,0)) -> 20 | J8: =INDEX('HTM 0'!K$7:K$86,MATCH($A8,'HTM 0'!$Y$7:$Y$86,0)) -> 20 | K8: =INDEX('HTM 0'!L$7:L$86,MATCH($A8,'HTM 0'!$Y$7:$Y$86,0)) -> 19.5 | L8: =INDEX('HTM 0'!M$7:M$86,MATCH($A8,'HTM 0'!$Y$7:$Y$86,0)) -> 20 | ... S8: =INDEX('HTM 0'!T$7:T$86,MATCH($A8,'HTM 0'!$Y$7:$Y$86,0)) -> 0 | T8: =INDEX('HTM 0'!V$7:V$86,MATCH($A8,'HTM 0'!$Y$7:$Y$86,0)) -> 0 | U8: =INDEX('HTM 0'!$W$7:$W$86,MATCH(A8,'HTM 0'!$Y$7:$Y$86,0)) -> 159 | V8: =INDEX('HTM 0'!$Y$7:$Y$86,MATCH(A8,'HTM 0'!$Y$7:$Y$86,0)) -> 1 | W8: =INDEX('HTM 0'!$X$7:$X$86,MATCH(A8,'HTM 0'!$Y$7:$Y$86,0)) -> Si
A9: 2 | C9: =INDEX('HTM 0'!$C$7:$C$86,MATCH(A9,'HTM 0'!$Y$7:$Y$86,0)) | D9: =INDEX('HTM 0'!$D$7:$D$86,MATCH(A9,'HTM 0'!$Y$7:$Y$86,0)) | E9: =INDEX('HTM 0'!F$7:F$86,MATCH($A9,'HTM 0'!$Y$7:$Y$86,0)) | F9: =INDEX('HTM 0'!G$7:G$86,MATCH($A9,'HTM 0'!$Y$7:$Y$86,0)) | G9: =INDEX('HTM 0'!H$7:H$86,MATCH($A9,'HTM 0'!$Y$7:$Y$86,0)) | H9: =INDEX('HTM 0'!I$7:I$86,MATCH($A9,'HTM 0'!$Y$7:$Y$86,0)) | I9: =INDEX('HTM 0'!J$7:J$86,MATCH($A9,'HTM 0'!$Y$7:$Y$86,0)) | J9: =INDEX('HTM 0'!K$7:K$86,MATCH($A9,'HTM 0'!$Y$7:$Y$86,0)) | K9: =INDEX('HTM 0'!L$7:L$86,MATCH($A9,'HTM 0'!$Y$7:$Y$86,0)) | L9: =INDEX('HTM 0'!M$7:M$86,MATCH($A9,'HTM 0'!$Y$7:$Y$86,0)) | ... S9: =INDEX('HTM 0'!T$7:T$86,MATCH($A9,'HTM 0'!$Y$7:$Y$86,0)) | T9: =INDEX('HTM 0'!V$7:V$86,MATCH($A9,'HTM 0'!$Y$7:$Y$86,0)) | U9: =INDEX('HTM 0'!$W$7:$W$86,MATCH(A9,'HTM 0'!$Y$7:$Y$86,0)) | V9: =INDEX('HTM 0'!$Y$7:$Y$86,MATCH(A9,'HTM 0'!$Y$7:$Y$86,0)) | W9: =INDEX('HTM 0'!$X$7:$X$86,MATCH(A9,'HTM 0'!$Y$7:$Y$86,0))
A10: 3 | C10: =INDEX('HTM 0'!$C$7:$C$86,MATCH(A10,'HTM 0'!$Y$7:$Y$86,0)) | D10: =INDEX('HTM 0'!$D$7:$D$86,MATCH(A10,'HTM 0'!$Y$7:$Y$86,0)) | E10: =INDEX('HTM 0'!F$7:F$86,MATCH($A10,'HTM 0'!$Y$7:$Y$86,0)) | F10: =INDEX('HTM 0'!G$7:G$86,MATCH($A10,'HTM 0'!$Y$7:$Y$86,0)) | G10: =INDEX('HTM 0'!H$7:H$86,MATCH($A10,'HTM 0'!$Y$7:$Y$86,0)) | H10: =INDEX('HTM 0'!I$7:I$86,MATCH($A10,'HTM 0'!$Y$7:$Y$86,0)) | I10: =INDEX('HTM 0'!J$7:J$86,MATCH($A10,'HTM 0'!$Y$7:$Y$86,0)) | J10: =INDEX('HTM 0'!K$7:K$86,MATCH($A10,'HTM 0'!$Y$7:$Y$86,0)) | K10: =INDEX('HTM 0'!L$7:L$86,MATCH($A10,'HTM 0'!$Y$7:$Y$86,0)) | L10: =INDEX('HTM 0'!M$7:M$86,MATCH($A10,'HTM 0'!$Y$7:$Y$86,0)) | ... S10: =INDEX('HTM 0'!T$7:T$86,MATCH($A10,'HTM 0'!$Y$7:$Y$86,0)) | T10: =INDEX('HTM 0'!V$7:V$86,MATCH($A10,'HTM 0'!$Y$7:$Y$86,0)) | U10: =INDEX('HTM 0'!$W$7:$W$86,MATCH(A10,'HTM 0'!$Y$7:$Y$86,0)) | V10: =INDEX('HTM 0'!$Y$7:$Y$86,MATCH(A10,'HTM 0'!$Y$7:$Y$86,0)) | W10: =INDEX('HTM 0'!$X$7:$X$86,MATCH(A10,'HTM 0'!$Y$7:$Y$86,0))
A11: 4 | C11: =INDEX('HTM 0'!$C$7:$C$86,MATCH(A11,'HTM 0'!$Y$7:$Y$86,0)) | D11: =INDEX('HTM 0'!$D$7:$D$86,MATCH(A11,'HTM 0'!$Y$7:$Y$86,0)) | E11: =INDEX('HTM 0'!F$7:F$86,MATCH($A11,'HTM 0'!$Y$7:$Y$86,0)) | F11: =INDEX('HTM 0'!G$7:G$86,MATCH($A11,'HTM 0'!$Y$7:$Y$86,0)) | G11: =INDEX('HTM 0'!H$7:H$86,MATCH($A11,'HTM 0'!$Y$7:$Y$86,0)) | H11: =INDEX('HTM 0'!I$7:I$86,MATCH($A11,'HTM 0'!$Y$7:$Y$86,0)) | I11: =INDEX('HTM 0'!J$7:J$86,MATCH($A11,'HTM 0'!$Y$7:$Y$86,0)) | J11: =INDEX('HTM 0'!K$7:K$86,MATCH($A11,'HTM 0'!$Y$7:$Y$86,0)) | K11: =INDEX('HTM 0'!L$7:L$86,MATCH($A11,'HTM 0'!$Y$7:$Y$86,0)) | L11: =INDEX('HTM 0'!M$7:M$86,MATCH($A11,'HTM 0'!$Y$7:$Y$86,0)) | ... S11: =INDEX('HTM 0'!T$7:T$86,MATCH($A11,'HTM 0'!$Y$7:$Y$86,0)) | T11: =INDEX('HTM 0'!V$7:V$86,MATCH($A11,'HTM 0'!$Y$7:$Y$86,0)) | U11: =INDEX('HTM 0'!$W$7:$W$86,MATCH(A11,'HTM 0'!$Y$7:$Y$86,0)) | V11: =INDEX('HTM 0'!$Y$7:$Y$86,MATCH(A11,'HTM 0'!$Y$7:$Y$86,0)) | W11: =INDEX('HTM 0'!$X$7:$X$86,MATCH(A11,'HTM 0'!$Y$7:$Y$86,0))
A12: 5 | C12: =INDEX('HTM 0'!$C$7:$C$86,MATCH(A12,'HTM 0'!$Y$7:$Y$86,0)) | D12: =INDEX('HTM 0'!$D$7:$D$86,MATCH(A12,'HTM 0'!$Y$7:$Y$86,0)) | E12: =INDEX('HTM 0'!F$7:F$86,MATCH($A12,'HTM 0'!$Y$7:$Y$86,0)) | F12: =INDEX('HTM 0'!G$7:G$86,MATCH($A12,'HTM 0'!$Y$7:$Y$86,0)) | G12: =INDEX('HTM 0'!H$7:H$86,MATCH($A12,'HTM 0'!$Y$7:$Y$86,0)) | H12: =INDEX('HTM 0'!I$7:I$86,MATCH($A12,'HTM 0'!$Y$7:$Y$86,0)) | I12: =INDEX('HTM 0'!J$7:J$86,MATCH($A12,'HTM 0'!$Y$7:$Y$86,0)) | J12: =INDEX('HTM 0'!K$7:K$86,MATCH($A12,'HTM 0'!$Y$7:$Y$86,0)) | K12: =INDEX('HTM 0'!L$7:L$86,MATCH($A12,'HTM 0'!$Y$7:$Y$86,0)) | L12: =INDEX('HTM 0'!M$7:M$86,MATCH($A12,'HTM 0'!$Y$7:$Y$86,0)) | ... S12: =INDEX('HTM 0'!T$7:T$86,MATCH($A12,'HTM 0'!$Y$7:$Y$86,0)) | T12: =INDEX('HTM 0'!V$7:V$86,MATCH($A12,'HTM 0'!$Y$7:$Y$86,0)) | U12: =INDEX('HTM 0'!$W$7:$W$86,MATCH(A12,'HTM 0'!$Y$7:$Y$86,0)) | V12: =INDEX('HTM 0'!$Y$7:$Y$86,MATCH(A12,'HTM 0'!$Y$7:$Y$86,0)) | W12: =INDEX('HTM 0'!$X$7:$X$86,MATCH(A12,'HTM 0'!$Y$7:$Y$86,0))
A13: 6 | C13: =INDEX('HTM 0'!$C$7:$C$86,MATCH(A13,'HTM 0'!$Y$7:$Y$86,0)) | D13: =INDEX('HTM 0'!$D$7:$D$86,MATCH(A13,'HTM 0'!$Y$7:$Y$86,0)) | E13: =INDEX('HTM 0'!F$7:F$86,MATCH($A13,'HTM 0'!$Y$7:$Y$86,0)) | F13: =INDEX('HTM 0'!G$7:G$86,MATCH($A13,'HTM 0'!$Y$7:$Y$86,0)) | G13: =INDEX('HTM 0'!H$7:H$86,MATCH($A13,'HTM 0'!$Y$7:$Y$86,0)) | H13: =INDEX('HTM 0'!I$7:I$86,MATCH($A13,'HTM 0'!$Y$7:$Y$86,0)) | I13: =INDEX('HTM 0'!J$7:J$86,MATCH($A13,'HTM 0'!$Y$7:$Y$86,0)) | J13: =INDEX('HTM 0'!K$7:K$86,MATCH($A13,'HTM 0'!$Y$7:$Y$86,0)) | K13: =INDEX('HTM 0'!L$7:L$86,MATCH($A13,'HTM 0'!$Y$7:$Y$86,0)) | L13: =INDEX('HTM 0'!M$7:M$86,MATCH($A13,'HTM 0'!$Y$7:$Y$86,0)) | ... S13: =INDEX('HTM 0'!T$7:T$86,MATCH($A13,'HTM 0'!$Y$7:$Y$86,0)) | T13: =INDEX('HTM 0'!V$7:V$86,MATCH($A13,'HTM 0'!$Y$7:$Y$86,0)) | U13: =INDEX('HTM 0'!$W$7:$W$86,MATCH(A13,'HTM 0'!$Y$7:$Y$86,0)) | V13: =INDEX('HTM 0'!$Y$7:$Y$86,MATCH(A13,'HTM 0'!$Y$7:$Y$86,0)) | W13: =INDEX('HTM 0'!$X$7:$X$86,MATCH(A13,'HTM 0'!$Y$7:$Y$86,0))
A14: 7 | C14: =INDEX('HTM 0'!$C$7:$C$86,MATCH(A14,'HTM 0'!$Y$7:$Y$86,0)) | D14: =INDEX('HTM 0'!$D$7:$D$86,MATCH(A14,'HTM 0'!$Y$7:$Y$86,0)) | E14: =INDEX('HTM 0'!F$7:F$86,MATCH($A14,'HTM 0'!$Y$7:$Y$86,0)) | F14: =INDEX('HTM 0'!G$7:G$86,MATCH($A14,'HTM 0'!$Y$7:$Y$86,0)) | G14: =INDEX('HTM 0'!H$7:H$86,MATCH($A14,'HTM 0'!$Y$7:$Y$86,0)) | H14: =INDEX('HTM 0'!I$7:I$86,MATCH($A14,'HTM 0'!$Y$7:$Y$86,0)) | I14: =INDEX('HTM 0'!J$7:J$86,MATCH($A14,'HTM 0'!$Y$7:$Y$86,0)) | J14: =INDEX('HTM 0'!K$7:K$86,MATCH($A14,'HTM 0'!$Y$7:$Y$86,0)) | K14: =INDEX('HTM 0'!L$7:L$86,MATCH($A14,'HTM 0'!$Y$7:$Y$86,0)) | L14: =INDEX('HTM 0'!M$7:M$86,MATCH($A14,'HTM 0'!$Y$7:$Y$86,0)) | ... S14: =INDEX('HTM 0'!T$7:T$86,MATCH($A14,'HTM 0'!$Y$7:$Y$86,0)) | T14: =INDEX('HTM 0'!V$7:V$86,MATCH($A14,'HTM 0'!$Y$7:$Y$86,0)) | U14: =INDEX('HTM 0'!$W$7:$W$86,MATCH(A14,'HTM 0'!$Y$7:$Y$86,0)) | V14: =INDEX('HTM 0'!$Y$7:$Y$86,MATCH(A14,'HTM 0'!$Y$7:$Y$86,0)) | W14: =INDEX('HTM 0'!$X$7:$X$86,MATCH(A14,'HTM 0'!$Y$7:$Y$86,0))
A15: 8 | C15: =INDEX('HTM 0'!$C$7:$C$86,MATCH(A15,'HTM 0'!$Y$7:$Y$86,0)) | D15: =INDEX('HTM 0'!$D$7:$D$86,MATCH(A15,'HTM 0'!$Y$7:$Y$86,0)) | E15: =INDEX('HTM 0'!F$7:F$86,MATCH($A15,'HTM 0'!$Y$7:$Y$86,0)) | F15: =INDEX('HTM 0'!G$7:G$86,MATCH($A15,'HTM 0'!$Y$7:$Y$86,0)) | G15: =INDEX('HTM 0'!H$7:H$86,MATCH($A15,'HTM 0'!$Y$7:$Y$86,0)) | H15: =INDEX('HTM 0'!I$7:I$86,MATCH($A15,'HTM 0'!$Y$7:$Y$86,0)) | I15: =INDEX('HTM 0'!J$7:J$86,MATCH($A15,'HTM 0'!$Y$7:$Y$86,0)) | J15: =INDEX('HTM 0'!K$7:K$86,MATCH($A15,'HTM 0'!$Y$7:$Y$86,0)) | K15: =INDEX('HTM 0'!L$7:L$86,MATCH($A15,'HTM 0'!$Y$7:$Y$86,0)) | L15: =INDEX('HTM 0'!M$7:M$86,MATCH($A15,'HTM 0'!$Y$7:$Y$86,0)) | ... S15: =INDEX('HTM 0'!T$7:T$86,MATCH($A15,'HTM 0'!$Y$7:$Y$86,0)) | T15: =INDEX('HTM 0'!V$7:V$86,MATCH($A15,'HTM 0'!$Y$7:$Y$86,0)) | U15: =INDEX('HTM 0'!$W$7:$W$86,MATCH(A15,'HTM 0'!$Y$7:$Y$86,0)) | V15: =INDEX('HTM 0'!$Y$7:$Y$86,MATCH(A15,'HTM 0'!$Y$7:$Y$86,0)) | W15: =INDEX('HTM 0'!$X$7:$X$86,MATCH(A15,'HTM 0'!$Y$7:$Y$86,0))
A16: 9 | C16: =INDEX('HTM 0'!$C$7:$C$86,MATCH(A16,'HTM 0'!$Y$7:$Y$86,0)) | D16: =INDEX('HTM 0'!$D$7:$D$86,MATCH(A16,'HTM 0'!$Y$7:$Y$86,0)) | E16: =INDEX('HTM 0'!F$7:F$86,MATCH($A16,'HTM 0'!$Y$7:$Y$86,0)) | F16: =INDEX('HTM 0'!G$7:G$86,MATCH($A16,'HTM 0'!$Y$7:$Y$86,0)) | G16: =INDEX('HTM 0'!H$7:H$86,MATCH($A16,'HTM 0'!$Y$7:$Y$86,0)) | H16: =INDEX('HTM 0'!I$7:I$86,MATCH($A16,'HTM 0'!$Y$7:$Y$86,0)) | I16: =INDEX('HTM 0'!J$7:J$86,MATCH($A16,'HTM 0'!$Y$7:$Y$86,0)) | J16: =INDEX('HTM 0'!K$7:K$86,MATCH($A16,'HTM 0'!$Y$7:$Y$86,0)) | K16: =INDEX('HTM 0'!L$7:L$86,MATCH($A16,'HTM 0'!$Y$7:$Y$86,0)) | L16: =INDEX('HTM 0'!M$7:M$86,MATCH($A16,'HTM 0'!$Y$7:$Y$86,0)) | ... S16: =INDEX('HTM 0'!T$7:T$86,MATCH($A16,'HTM 0'!$Y$7:$Y$86,0)) | T16: =INDEX('HTM 0'!V$7:V$86,MATCH($A16,'HTM 0'!$Y$7:$Y$86,0)) | U16: =INDEX('HTM 0'!$W$7:$W$86,MATCH(A16,'HTM 0'!$Y$7:$Y$86,0)) | V16: =INDEX('HTM 0'!$Y$7:$Y$86,MATCH(A16,'HTM 0'!$Y$7:$Y$86,0)) | W16: =INDEX('HTM 0'!$X$7:$X$86,MATCH(A16,'HTM 0'!$Y$7:$Y$86,0))
A17: 10 | C17: =INDEX('HTM 0'!$C$7:$C$86,MATCH(A17,'HTM 0'!$Y$7:$Y$86,0)) | D17: =INDEX('HTM 0'!$D$7:$D$86,MATCH(A17,'HTM 0'!$Y$7:$Y$86,0)) | E17: =INDEX('HTM 0'!F$7:F$86,MATCH($A17,'HTM 0'!$Y$7:$Y$86,0)) | F17: =INDEX('HTM 0'!G$7:G$86,MATCH($A17,'HTM 0'!$Y$7:$Y$86,0)) | G17: =INDEX('HTM 0'!H$7:H$86,MATCH($A17,'HTM 0'!$Y$7:$Y$86,0)) | H17: =INDEX('HTM 0'!I$7:I$86,MATCH($A17,'HTM 0'!$Y$7:$Y$86,0)) | I17: =INDEX('HTM 0'!J$7:J$86,MATCH($A17,'HTM 0'!$Y$7:$Y$86,0)) | J17: =INDEX('HTM 0'!K$7:K$86,MATCH($A17,'HTM 0'!$Y$7:$Y$86,0)) | K17: =INDEX('HTM 0'!L$7:L$86,MATCH($A17,'HTM 0'!$Y$7:$Y$86,0)) | L17: =INDEX('HTM 0'!M$7:M$86,MATCH($A17,'HTM 0'!$Y$7:$Y$86,0)) | ... S17: =INDEX('HTM 0'!T$7:T$86,MATCH($A17,'HTM 0'!$Y$7:$Y$86,0)) | T17: =INDEX('HTM 0'!V$7:V$86,MATCH($A17,'HTM 0'!$Y$7:$Y$86,0)) | U17: =INDEX('HTM 0'!$W$7:$W$86,MATCH(A17,'HTM 0'!$Y$7:$Y$86,0)) | V17: =INDEX('HTM 0'!$Y$7:$Y$86,MATCH(A17,'HTM 0'!$Y$7:$Y$86,0)) | W17: =INDEX('HTM 0'!$X$7:$X$86,MATCH(A17,'HTM 0'!$Y$7:$Y$86,0))
A18: 11 | C18: =INDEX('HTM 0'!$C$7:$C$86,MATCH(A18,'HTM 0'!$Y$7:$Y$86,0)) | D18: =INDEX('HTM 0'!$D$7:$D$86,MATCH(A18,'HTM 0'!$Y$7:$Y$86,0)) | E18: =INDEX('HTM 0'!F$7:F$86,MATCH($A18,'HTM 0'!$Y$7:$Y$86,0)) | F18: =INDEX('HTM 0'!G$7:G$86,MATCH($A18,'HTM 0'!$Y$7:$Y$86,0)) | G18: =INDEX('HTM 0'!H$7:H$86,MATCH($A18,'HTM 0'!$Y$7:$Y$86,0)) | H18: =INDEX('HTM 0'!I$7:I$86,MATCH($A18,'HTM 0'!$Y$7:$Y$86,0)) | I18: =INDEX('HTM 0'!J$7:J$86,MATCH($A18,'HTM 0'!$Y$7:$Y$86,0)) | J18: =INDEX('HTM 0'!K$7:K$86,MATCH($A18,'HTM 0'!$Y$7:$Y$86,0)) | K18: =INDEX('HTM 0'!L$7:L$86,MATCH($A18,'HTM 0'!$Y$7:$Y$86,0)) | L18: =INDEX('HTM 0'!M$7:M$86,MATCH($A18,'HTM 0'!$Y$7:$Y$86,0)) | ... S18: =INDEX('HTM 0'!T$7:T$86,MATCH($A18,'HTM 0'!$Y$7:$Y$86,0)) | T18: =INDEX('HTM 0'!V$7:V$86,MATCH($A18,'HTM 0'!$Y$7:$Y$86,0)) | U18: =INDEX('HTM 0'!$W$7:$W$86,MATCH(A18,'HTM 0'!$Y$7:$Y$86,0)) | V18: =INDEX('HTM 0'!$Y$7:$Y$86,MATCH(A18,'HTM 0'!$Y$7:$Y$86,0)) | W18: =INDEX('HTM 0'!$X$7:$X$86,MATCH(A18,'HTM 0'!$Y$7:$Y$86,0))
A19: 12 | C19: =INDEX('HTM 0'!$C$7:$C$86,MATCH(A19,'HTM 0'!$Y$7:$Y$86,0)) | D19: =INDEX('HTM 0'!$D$7:$D$86,MATCH(A19,'HTM 0'!$Y$7:$Y$86,0)) | E19: =INDEX('HTM 0'!F$7:F$86,MATCH($A19,'HTM 0'!$Y$7:$Y$86,0)) | F19: =INDEX('HTM 0'!G$7:G$86,MATCH($A19,'HTM 0'!$Y$7:$Y$86,0)) | G19: =INDEX('HTM 0'!H$7:H$86,MATCH($A19,'HTM 0'!$Y$7:$Y$86,0)) | H19: =INDEX('HTM 0'!I$7:I$86,MATCH($A19,'HTM 0'!$Y$7:$Y$86,0)) | I19: =INDEX('HTM 0'!J$7:J$86,MATCH($A19,'HTM 0'!$Y$7:$Y$86,0)) | J19: =INDEX('HTM 0'!K$7:K$86,MATCH($A19,'HTM 0'!$Y$7:$Y$86,0)) | K19: =INDEX('HTM 0'!L$7:L$86,MATCH($A19,'HTM 0'!$Y$7:$Y$86,0)) | L19: =INDEX('HTM 0'!M$7:M$86,MATCH($A19,'HTM 0'!$Y$7:$Y$86,0)) | ... S19: =INDEX('HTM 0'!T$7:T$86,MATCH($A19,'HTM 0'!$Y$7:$Y$86,0)) | T19: =INDEX('HTM 0'!V$7:V$86,MATCH($A19,'HTM 0'!$Y$7:$Y$86,0)) | U19: =INDEX('HTM 0'!$W$7:$W$86,MATCH(A19,'HTM 0'!$Y$7:$Y$86,0)) | V19: =INDEX('HTM 0'!$Y$7:$Y$86,MATCH(A19,'HTM 0'!$Y$7:$Y$86,0)) | W19: =INDEX('HTM 0'!$X$7:$X$86,MATCH(A19,'HTM 0'!$Y$7:$Y$86,0))
... A27: 20 | C27: =INDEX('HTM 0'!$C$7:$C$86,MATCH(A27,'HTM 0'!$Y$7:$Y$86,0)) | D27: =INDEX('HTM 0'!$D$7:$D$86,MATCH(A27,'HTM 0'!$Y$7:$Y$86,0)) | E27: =INDEX('HTM 0'!F$7:F$86,MATCH($A27,'HTM 0'!$Y$7:$Y$86,0)) | F27: =INDEX('HTM 0'!G$7:G$86,MATCH($A27,'HTM 0'!$Y$7:$Y$86,0)) | G27: =INDEX('HTM 0'!H$7:H$86,MATCH($A27,'HTM 0'!$Y$7:$Y$86,0)) | H27: =INDEX('HTM 0'!I$7:I$86,MATCH($A27,'HTM 0'!$Y$7:$Y$86,0)) | I27: =INDEX('HTM 0'!J$7:J$86,MATCH($A27,'HTM 0'!$Y$7:$Y$86,0)) | J27: =INDEX('HTM 0'!K$7:K$86,MATCH($A27,'HTM 0'!$Y$7:$Y$86,0)) | K27: =INDEX('HTM 0'!L$7:L$86,MATCH($A27,'HTM 0'!$Y$7:$Y$86,0)) | L27: =INDEX('HTM 0'!M$7:M$86,MATCH($A27,'HTM 0'!$Y$7:$Y$86,0)) | ... S27: =INDEX('HTM 0'!T$7:T$86,MATCH($A27,'HTM 0'!$Y$7:$Y$86,0)) | T27: =INDEX('HTM 0'!V$7:V$86,MATCH($A27,'HTM 0'!$Y$7:$Y$86,0)) | U27: =INDEX('HTM 0'!$W$7:$W$86,MATCH(A27,'HTM 0'!$Y$7:$Y$86,0)) | V27: =INDEX('HTM 0'!$Y$7:$Y$86,MATCH(A27,'HTM 0'!$Y$7:$Y$86,0)) | W27: =INDEX('HTM 0'!$X$7:$X$86,MATCH(A27,'HTM 0'!$Y$7:$Y$86,0))
A29: HTM 1
E30: artistic | I30: tecnici | N30: Detrazioni di punti | U30: Risultato
A31: Posizionamento | B31: Nome | C31: Cognome | D31: Cane | E31: Team work | F31: Dinamicità | G31: Concetto | H31: Coreografia | I31: Fluidità | J31: Esecuzione | K31: Contenuto | L31: Difficoltà | M31: punti | N31: Abbaio e vocalizzazioni | O31: Salute del cane | P31: costume / Oggetti di scena | Q31: Lunghezze musicali errate | R31: Trattamento improprio del cane | S31: Contatto attivo | T31: Detrazioni di punti | U31: Totale | V31: Posizionamento | W31: punto di passaggio
A32: 1 | C32: =INDEX('HTM 1'!$C$7:$C$86,MATCH(A32,'HTM 1'!$Y$7:$Y$86,0)) | D32: =INDEX('HTM 1'!$D$7:$D$86,MATCH(A32,'HTM 1'!$Y$7:$Y$86,0)) | E32: =INDEX('HTM 1'!F$7:F$86,MATCH($A32,'HTM 1'!$Y$7:$Y$86,0)) | F32: =INDEX('HTM 1'!G$7:G$86,MATCH($A32,'HTM 1'!$Y$7:$Y$86,0)) | G32: =INDEX('HTM 1'!H$7:H$86,MATCH($A32,'HTM 1'!$Y$7:$Y$86,0)) | H32: =INDEX('HTM 1'!I$7:I$86,MATCH($A32,'HTM 1'!$Y$7:$Y$86,0)) | I32: =INDEX('HTM 1'!J$7:J$86,MATCH($A32,'HTM 1'!$Y$7:$Y$86,0)) | J32: =INDEX('HTM 1'!K$7:K$86,MATCH($A32,'HTM 1'!$Y$7:$Y$86,0)) | K32: =INDEX('HTM 1'!L$7:L$86,MATCH($A32,'HTM 1'!$Y$7:$Y$86,0)) | L32: =INDEX('HTM 1'!M$7:M$86,MATCH($A32,'HTM 1'!$Y$7:$Y$86,0)) | ... S32: =INDEX('HTM 1'!T$7:T$86,MATCH($A32,'HTM 1'!$Y$7:$Y$86,0)) | T32: =INDEX('HTM 1'!V$7:V$86,MATCH($A32,'HTM 1'!$Y$7:$Y$86,0)) | U32: =INDEX('HTM 1'!$W$7:$W$86,MATCH(A32,'HTM 1'!$Y$7:$Y$86,0)) | V32: =INDEX('HTM 1'!$Y$7:$Y$86,MATCH(A32,'HTM 1'!$Y$7:$Y$86,0)) | W32: =INDEX('HTM 1'!$X$7:$X$86,MATCH(A32,'HTM 1'!$Y$7:$Y$86,0))
A33: 2 | C33: =INDEX('HTM 1'!$C$7:$C$86,MATCH(A33,'HTM 1'!$Y$7:$Y$86,0)) | D33: =INDEX('HTM 1'!$D$7:$D$86,MATCH(A33,'HTM 1'!$Y$7:$Y$86,0)) | E33: =INDEX('HTM 1'!F$7:F$86,MATCH($A33,'HTM 1'!$Y$7:$Y$86,0)) | F33: =INDEX('HTM 1'!G$7:G$86,MATCH($A33,'HTM 1'!$Y$7:$Y$86,0)) | G33: =INDEX('HTM 1'!H$7:H$86,MATCH($A33,'HTM 1'!$Y$7:$Y$86,0)) | H33: =INDEX('HTM 1'!I$7:I$86,MATCH($A33,'HTM 1'!$Y$7:$Y$86,0)) | I33: =INDEX('HTM 1'!J$7:J$86,MATCH($A33,'HTM 1'!$Y$7:$Y$86,0)) | J33: =INDEX('HTM 1'!K$7:K$86,MATCH($A33,'HTM 1'!$Y$7:$Y$86,0)) | K33: =INDEX('HTM 1'!L$7:L$86,MATCH($A33,'HTM 1'!$Y$7:$Y$86,0)) | L33: =INDEX('HTM 1'!M$7:M$86,MATCH($A33,'HTM 1'!$Y$7:$Y$86,0)) | ... S33: =INDEX('HTM 1'!T$7:T$86,MATCH($A33,'HTM 1'!$Y$7:$Y$86,0)) | T33: =INDEX('HTM 1'!V$7:V$86,MATCH($A33,'HTM 1'!$Y$7:$Y$86,0)) | U33: =INDEX('HTM 1'!$W$7:$W$86,MATCH(A33,'HTM 1'!$Y$7:$Y$86,0)) | V33: =INDEX('HTM 1'!$Y$7:$Y$86,MATCH(A33,'HTM 1'!$Y$7:$Y$86,0)) | W33: =INDEX('HTM 1'!$X$7:$X$86,MATCH(A33,'HTM 1'!$Y$7:$Y$86,0))
A34: 3 | C34: =INDEX('HTM 1'!$C$7:$C$86,MATCH(A34,'HTM 1'!$Y$7:$Y$86,0)) | D34: =INDEX('HTM 1'!$D$7:$D$86,MATCH(A34,'HTM 1'!$Y$7:$Y$86,0)) | E34: =INDEX('HTM 1'!F$7:F$86,MATCH($A34,'HTM 1'!$Y$7:$Y$86,0)) | F34: =INDEX('HTM 1'!G$7:G$86,MATCH($A34,'HTM 1'!$Y$7:$Y$86,0)) | G34: =INDEX('HTM 1'!H$7:H$86,MATCH($A34,'HTM 1'!$Y$7:$Y$86,0)) | H34: =INDEX('HTM 1'!I$7:I$86,MATCH($A34,'HTM 1'!$Y$7:$Y$86,0)) | I34: =INDEX('HTM 1'!J$7:J$86,MATCH($A34,'HTM 1'!$Y$7:$Y$86,0)) | J34: =INDEX('HTM 1'!K$7:K$86,MATCH($A34,'HTM 1'!$Y$7:$Y$86,0)) | K34: =INDEX('HTM 1'!L$7:L$86,MATCH($A34,'HTM 1'!$Y$7:$Y$86,0)) | L34: =INDEX('HTM 1'!M$7:M$86,MATCH($A34,'HTM 1'!$Y$7:$Y$86,0)) | ... S34: =INDEX('HTM 1'!T$7:T$86,MATCH($A34,'HTM 1'!$Y$7:$Y$86,0)) | T34: =INDEX('HTM 1'!V$7:V$86,MATCH($A34,'HTM 1'!$Y$7:$Y$86,0)) | U34: =INDEX('HTM 1'!$W$7:$W$86,MATCH(A34,'HTM 1'!$Y$7:$Y$86,0)) | V34: =INDEX('HTM 1'!$Y$7:$Y$86,MATCH(A34,'HTM 1'!$Y$7:$Y$86,0)) | W34: =INDEX('HTM 1'!$X$7:$X$86,MATCH(A34,'HTM 1'!$Y$7:$Y$86,0))
A35: 4 | C35: =INDEX('HTM 1'!$C$7:$C$86,MATCH(A35,'HTM 1'!$Y$7:$Y$86,0)) | D35: =INDEX('HTM 1'!$D$7:$D$86,MATCH(A35,'HTM 1'!$Y$7:$Y$86,0)) | E35: =INDEX('HTM 1'!F$7:F$86,MATCH($A35,'HTM 1'!$Y$7:$Y$86,0)) | F35: =INDEX('HTM 1'!G$7:G$86,MATCH($A35,'HTM 1'!$Y$7:$Y$86,0)) | G35: =INDEX('HTM 1'!H$7:H$86,MATCH($A35,'HTM 1'!$Y$7:$Y$86,0)) | H35: =INDEX('HTM 1'!I$7:I$86,MATCH($A35,'HTM 1'!$Y$7:$Y$86,0)) | I35: =INDEX('HTM 1'!J$7:J$86,MATCH($A35,'HTM 1'!$Y$7:$Y$86,0)) | J35: =INDEX('HTM 1'!K$7:K$86,MATCH($A35,'HTM 1'!$Y$7:$Y$86,0)) | K35: =INDEX('HTM 1'!L$7:L$86,MATCH($A35,'HTM 1'!$Y$7:$Y$86,0)) | L35: =INDEX('HTM 1'!M$7:M$86,MATCH($A35,'HTM 1'!$Y$7:$Y$86,0)) | ... S35: =INDEX('HTM 1'!T$7:T$86,MATCH($A35,'HTM 1'!$Y$7:$Y$86,0)) | T35: =INDEX('HTM 1'!V$7:V$86,MATCH($A35,'HTM 1'!$Y$7:$Y$86,0)) | U35: =INDEX('HTM 1'!$W$7:$W$86,MATCH(A35,'HTM 1'!$Y$7:$Y$86,0)) | V35: =INDEX('HTM 1'!$Y$7:$Y$86,MATCH(A35,'HTM 1'!$Y$7:$Y$86,0)) | W35: =INDEX('HTM 1'!$X$7:$X$86,MATCH(A35,'HTM 1'!$Y$7:$Y$86,0))
A36: 5 | C36: =INDEX('HTM 1'!$C$7:$C$86,MATCH(A36,'HTM 1'!$Y$7:$Y$86,0)) | D36: =INDEX('HTM 1'!$D$7:$D$86,MATCH(A36,'HTM 1'!$Y$7:$Y$86,0)) | E36: =INDEX('HTM 1'!F$7:F$86,MATCH($A36,'HTM 1'!$Y$7:$Y$86,0)) | F36: =INDEX('HTM 1'!G$7:G$86,MATCH($A36,'HTM 1'!$Y$7:$Y$86,0)) | G36: =INDEX('HTM 1'!H$7:H$86,MATCH($A36,'HTM 1'!$Y$7:$Y$86,0)) | H36: =INDEX('HTM 1'!I$7:I$86,MATCH($A36,'HTM 1'!$Y$7:$Y$86,0)) | I36: =INDEX('HTM 1'!J$7:J$86,MATCH($A36,'HTM 1'!$Y$7:$Y$86,0)) | J36: =INDEX('HTM 1'!K$7:K$86,MATCH($A36,'HTM 1'!$Y$7:$Y$86,0)) | K36: =INDEX('HTM 1'!L$7:L$86,MATCH($A36,'HTM 1'!$Y$7:$Y$86,0)) | L36: =INDEX('HTM 1'!M$7:M$86,MATCH($A36,'HTM 1'!$Y$7:$Y$86,0)) | ... S36: =INDEX('HTM 1'!T$7:T$86,MATCH($A36,'HTM 1'!$Y$7:$Y$86,0)) | T36: =INDEX('HTM 1'!V$7:V$86,MATCH($A36,'HTM 1'!$Y$7:$Y$86,0)) | U36: =INDEX('HTM 1'!$W$7:$W$86,MATCH(A36,'HTM 1'!$Y$7:$Y$86,0)) | V36: =INDEX('HTM 1'!$Y$7:$Y$86,MATCH(A36,'HTM 1'!$Y$7:$Y$86,0)) | W36: =INDEX('HTM 1'!$X$7:$X$86,MATCH(A36,'HTM 1'!$Y$7:$Y$86,0))
A37: 6 | C37: =INDEX('HTM 1'!$C$7:$C$86,MATCH(A37,'HTM 1'!$Y$7:$Y$86,0)) | D37: =INDEX('HTM 1'!$D$7:$D$86,MATCH(A37,'HTM 1'!$Y$7:$Y$86,0)) | E37: =INDEX('HTM 1'!F$7:F$86,MATCH($A37,'HTM 1'!$Y$7:$Y$86,0)) | F37: =INDEX('HTM 1'!G$7:G$86,MATCH($A37,'HTM 1'!$Y$7:$Y$86,0)) | G37: =INDEX('HTM 1'!H$7:H$86,MATCH($A37,'HTM 1'!$Y$7:$Y$86,0)) | H37: =INDEX('HTM 1'!I$7:I$86,MATCH($A37,'HTM 1'!$Y$7:$Y$86,0)) | I37: =INDEX('HTM 1'!J$7:J$86,MATCH($A37,'HTM 1'!$Y$7:$Y$86,0)) | J37: =INDEX('HTM 1'!K$7:K$86,MATCH($A37,'HTM 1'!$Y$7:$Y$86,0)) | K37: =INDEX('HTM 1'!L$7:L$86,MATCH($A37,'HTM 1'!$Y$7:$Y$86,0)) | L37: =INDEX('HTM 1'!M$7:M$86,MATCH($A37,'HTM 1'!$Y$7:$Y$86,0)) | ... S37: =INDEX('HTM 1'!T$7:T$86,MATCH($A37,'HTM 1'!$Y$7:$Y$86,0)) | T37: =INDEX('HTM 1'!V$7:V$86,MATCH($A37,'HTM 1'!$Y$7:$Y$86,0)) | U37: =INDEX('HTM 1'!$W$7:$W$86,MATCH(A37,'HTM 1'!$Y$7:$Y$86,0)) | V37: =INDEX('HTM 1'!$Y$7:$Y$86,MATCH(A37,'HTM 1'!$Y$7:$Y$86,0)) | W37: =INDEX('HTM 1'!$X$7:$X$86,MATCH(A37,'HTM 1'!$Y$7:$Y$86,0))
A38: 7 | C38: =INDEX('HTM 1'!$C$7:$C$86,MATCH(A38,'HTM 1'!$Y$7:$Y$86,0)) | D38: =INDEX('HTM 1'!$D$7:$D$86,MATCH(A38,'HTM 1'!$Y$7:$Y$86,0)) | E38: =INDEX('HTM 1'!F$7:F$86,MATCH($A38,'HTM 1'!$Y$7:$Y$86,0)) | F38: =INDEX('HTM 1'!G$7:G$86,MATCH($A38,'HTM 1'!$Y$7:$Y$86,0)) | G38: =INDEX('HTM 1'!H$7:H$86,MATCH($A38,'HTM 1'!$Y$7:$Y$86,0)) | H38: =INDEX('HTM 1'!I$7:I$86,MATCH($A38,'HTM 1'!$Y$7:$Y$86,0)) | I38: =INDEX('HTM 1'!J$7:J$86,MATCH($A38,'HTM 1'!$Y$7:$Y$86,0)) | J38: =INDEX('HTM 1'!K$7:K$86,MATCH($A38,'HTM 1'!$Y$7:$Y$86,0)) | K38: =INDEX('HTM 1'!L$7:L$86,MATCH($A38,'HTM 1'!$Y$7:$Y$86,0)) | L38: =INDEX('HTM 1'!M$7:M$86,MATCH($A38,'HTM 1'!$Y$7:$Y$86,0)) | ... S38: =INDEX('HTM 1'!T$7:T$86,MATCH($A38,'HTM 1'!$Y$7:$Y$86,0)) | T38: =INDEX('HTM 1'!V$7:V$86,MATCH($A38,'HTM 1'!$Y$7:$Y$86,0)) | U38: =INDEX('HTM 1'!$W$7:$W$86,MATCH(A38,'HTM 1'!$Y$7:$Y$86,0)) | V38: =INDEX('HTM 1'!$Y$7:$Y$86,MATCH(A38,'HTM 1'!$Y$7:$Y$86,0)) | W38: =INDEX('HTM 1'!$X$7:$X$86,MATCH(A38,'HTM 1'!$Y$7:$Y$86,0))
A39: 8 | C39: =INDEX('HTM 1'!$C$7:$C$86,MATCH(A39,'HTM 1'!$Y$7:$Y$86,0)) | D39: =INDEX('HTM 1'!$D$7:$D$86,MATCH(A39,'HTM 1'!$Y$7:$Y$86,0)) | E39: =INDEX('HTM 1'!F$7:F$86,MATCH($A39,'HTM 1'!$Y$7:$Y$86,0)) | F39: =INDEX('HTM 1'!G$7:G$86,MATCH($A39,'HTM 1'!$Y$7:$Y$86,0)) | G39: =INDEX('HTM 1'!H$7:H$86,MATCH($A39,'HTM 1'!$Y$7:$Y$86,0)) | H39: =INDEX('HTM 1'!I$7:I$86,MATCH($A39,'HTM 1'!$Y$7:$Y$86,0)) | I39: =INDEX('HTM 1'!J$7:J$86,MATCH($A39,'HTM 1'!$Y$7:$Y$86,0)) | J39: =INDEX('HTM 1'!K$7:K$86,MATCH($A39,'HTM 1'!$Y$7:$Y$86,0)) | K39: =INDEX('HTM 1'!L$7:L$86,MATCH($A39,'HTM 1'!$Y$7:$Y$86,0)) | L39: =INDEX('HTM 1'!M$7:M$86,MATCH($A39,'HTM 1'!$Y$7:$Y$86,0)) | ... S39: =INDEX('HTM 1'!T$7:T$86,MATCH($A39,'HTM 1'!$Y$7:$Y$86,0)) | T39: =INDEX('HTM 1'!V$7:V$86,MATCH($A39,'HTM 1'!$Y$7:$Y$86,0)) | U39: =INDEX('HTM 1'!$W$7:$W$86,MATCH(A39,'HTM 1'!$Y$7:$Y$86,0)) | V39: =INDEX('HTM 1'!$Y$7:$Y$86,MATCH(A39,'HTM 1'!$Y$7:$Y$86,0)) | W39: =INDEX('HTM 1'!$X$7:$X$86,MATCH(A39,'HTM 1'!$Y$7:$Y$86,0))
A40: 9 | C40: =INDEX('HTM 1'!$C$7:$C$86,MATCH(A40,'HTM 1'!$Y$7:$Y$86,0)) | D40: =INDEX('HTM 1'!$D$7:$D$86,MATCH(A40,'HTM 1'!$Y$7:$Y$86,0)) | E40: =INDEX('HTM 1'!F$7:F$86,MATCH($A40,'HTM 1'!$Y$7:$Y$86,0)) | F40: =INDEX('HTM 1'!G$7:G$86,MATCH($A40,'HTM 1'!$Y$7:$Y$86,0)) | G40: =INDEX('HTM 1'!H$7:H$86,MATCH($A40,'HTM 1'!$Y$7:$Y$86,0)) | H40: =INDEX('HTM 1'!I$7:I$86,MATCH($A40,'HTM 1'!$Y$7:$Y$86,0)) | I40: =INDEX('HTM 1'!J$7:J$86,MATCH($A40,'HTM 1'!$Y$7:$Y$86,0)) | J40: =INDEX('HTM 1'!K$7:K$86,MATCH($A40,'HTM 1'!$Y$7:$Y$86,0)) | K40: =INDEX('HTM 1'!L$7:L$86,MATCH($A40,'HTM 1'!$Y$7:$Y$86,0)) | L40: =INDEX('HTM 1'!M$7:M$86,MATCH($A40,'HTM 1'!$Y$7:$Y$86,0)) | ... S40: =INDEX('HTM 1'!T$7:T$86,MATCH($A40,'HTM 1'!$Y$7:$Y$86,0)) | T40: =INDEX('HTM 1'!V$7:V$86,MATCH($A40,'HTM 1'!$Y$7:$Y$86,0)) | U40: =INDEX('HTM 1'!$W$7:$W$86,MATCH(A40,'HTM 1'!$Y$7:$Y$86,0)) | V40: =INDEX('HTM 1'!$Y$7:$Y$86,MATCH(A40,'HTM 1'!$Y$7:$Y$86,0)) | W40: =INDEX('HTM 1'!$X$7:$X$86,MATCH(A40,'HTM 1'!$Y$7:$Y$86,0))
A41: 10 | C41: =INDEX('HTM 1'!$C$7:$C$86,MATCH(A41,'HTM 1'!$Y$7:$Y$86,0)) | D41: =INDEX('HTM 1'!$D$7:$D$86,MATCH(A41,'HTM 1'!$Y$7:$Y$86,0)) | E41: =INDEX('HTM 1'!F$7:F$86,MATCH($A41,'HTM 1'!$Y$7:$Y$86,0)) | F41: =INDEX('HTM 1'!G$7:G$86,MATCH($A41,'HTM 1'!$Y$7:$Y$86,0)) | G41: =INDEX('HTM 1'!H$7:H$86,MATCH($A41,'HTM 1'!$Y$7:$Y$86,0)) | H41: =INDEX('HTM 1'!I$7:I$86,MATCH($A41,'HTM 1'!$Y$7:$Y$86,0)) | I41: =INDEX('HTM 1'!J$7:J$86,MATCH($A41,'HTM 1'!$Y$7:$Y$86,0)) | J41: =INDEX('HTM 1'!K$7:K$86,MATCH($A41,'HTM 1'!$Y$7:$Y$86,0)) | K41: =INDEX('HTM 1'!L$7:L$86,MATCH($A41,'HTM 1'!$Y$7:$Y$86,0)) | L41: =INDEX('HTM 1'!M$7:M$86,MATCH($A41,'HTM 1'!$Y$7:$Y$86,0)) | ... S41: =INDEX('HTM 1'!T$7:T$86,MATCH($A41,'HTM 1'!$Y$7:$Y$86,0)) | T41: =INDEX('HTM 1'!V$7:V$86,MATCH($A41,'HTM 1'!$Y$7:$Y$86,0)) | U41: =INDEX('HTM 1'!$W$7:$W$86,MATCH(A41,'HTM 1'!$Y$7:$Y$86,0)) | V41: =INDEX('HTM 1'!$Y$7:$Y$86,MATCH(A41,'HTM 1'!$Y$7:$Y$86,0)) | W41: =INDEX('HTM 1'!$X$7:$X$86,MATCH(A41,'HTM 1'!$Y$7:$Y$86,0))
A42: 11 | C42: =INDEX('HTM 1'!$C$7:$C$86,MATCH(A42,'HTM 1'!$Y$7:$Y$86,0)) | D42: =INDEX('HTM 1'!$D$7:$D$86,MATCH(A42,'HTM 1'!$Y$7:$Y$86,0)) | E42: =INDEX('HTM 1'!F$7:F$86,MATCH($A42,'HTM 1'!$Y$7:$Y$86,0)) | F42: =INDEX('HTM 1'!G$7:G$86,MATCH($A42,'HTM 1'!$Y$7:$Y$86,0)) | G42: =INDEX('HTM 1'!H$7:H$86,MATCH($A42,'HTM 1'!$Y$7:$Y$86,0)) | H42: =INDEX('HTM 1'!I$7:I$86,MATCH($A42,'HTM 1'!$Y$7:$Y$86,0)) | I42: =INDEX('HTM 1'!J$7:J$86,MATCH($A42,'HTM 1'!$Y$7:$Y$86,0)) | J42: =INDEX('HTM 1'!K$7:K$86,MATCH($A42,'HTM 1'!$Y$7:$Y$86,0)) | K42: =INDEX('HTM 1'!L$7:L$86,MATCH($A42,'HTM 1'!$Y$7:$Y$86,0)) | L42: =INDEX('HTM 1'!M$7:M$86,MATCH($A42,'HTM 1'!$Y$7:$Y$86,0)) | ... S42: =INDEX('HTM 1'!T$7:T$86,MATCH($A42,'HTM 1'!$Y$7:$Y$86,0)) | T42: =INDEX('HTM 1'!V$7:V$86,MATCH($A42,'HTM 1'!$Y$7:$Y$86,0)) | U42: =INDEX('HTM 1'!$W$7:$W$86,MATCH(A42,'HTM 1'!$Y$7:$Y$86,0)) | V42: =INDEX('HTM 1'!$Y$7:$Y$86,MATCH(A42,'HTM 1'!$Y$7:$Y$86,0)) | W42: =INDEX('HTM 1'!$X$7:$X$86,MATCH(A42,'HTM 1'!$Y$7:$Y$86,0))
A43: 12 | C43: =INDEX('HTM 1'!$C$7:$C$86,MATCH(A43,'HTM 1'!$Y$7:$Y$86,0)) | D43: =INDEX('HTM 1'!$D$7:$D$86,MATCH(A43,'HTM 1'!$Y$7:$Y$86,0)) | E43: =INDEX('HTM 1'!F$7:F$86,MATCH($A43,'HTM 1'!$Y$7:$Y$86,0)) | F43: =INDEX('HTM 1'!G$7:G$86,MATCH($A43,'HTM 1'!$Y$7:$Y$86,0)) | G43: =INDEX('HTM 1'!H$7:H$86,MATCH($A43,'HTM 1'!$Y$7:$Y$86,0)) | H43: =INDEX('HTM 1'!I$7:I$86,MATCH($A43,'HTM 1'!$Y$7:$Y$86,0)) | I43: =INDEX('HTM 1'!J$7:J$86,MATCH($A43,'HTM 1'!$Y$7:$Y$86,0)) | J43: =INDEX('HTM 1'!K$7:K$86,MATCH($A43,'HTM 1'!$Y$7:$Y$86,0)) | K43: =INDEX('HTM 1'!L$7:L$86,MATCH($A43,'HTM 1'!$Y$7:$Y$86,0)) | L43: =INDEX('HTM 1'!M$7:M$86,MATCH($A43,'HTM 1'!$Y$7:$Y$86,0)) | ... S43: =INDEX('HTM 1'!T$7:T$86,MATCH($A43,'HTM 1'!$Y$7:$Y$86,0)) | T43: =INDEX('HTM 1'!V$7:V$86,MATCH($A43,'HTM 1'!$Y$7:$Y$86,0)) | U43: =INDEX('HTM 1'!$W$7:$W$86,MATCH(A43,'HTM 1'!$Y$7:$Y$86,0)) | V43: =INDEX('HTM 1'!$Y$7:$Y$86,MATCH(A43,'HTM 1'!$Y$7:$Y$86,0)) | W43: =INDEX('HTM 1'!$X$7:$X$86,MATCH(A43,'HTM 1'!$Y$7:$Y$86,0))
... A51: 20 | C51: =INDEX('HTM 1'!$C$7:$C$86,MATCH(A51,'HTM 1'!$Y$7:$Y$86,0)) | D51: =INDEX('HTM 1'!$D$7:$D$86,MATCH(A51,'HTM 1'!$Y$7:$Y$86,0)) | E51: =INDEX('HTM 1'!F$7:F$86,MATCH($A51,'HTM 1'!$Y$7:$Y$86,0)) | F51: =INDEX('HTM 1'!G$7:G$86,MATCH($A51,'HTM 1'!$Y$7:$Y$86,0)) | G51: =INDEX('HTM 1'!H$7:H$86,MATCH($A51,'HTM 1'!$Y$7:$Y$86,0)) | H51: =INDEX('HTM 1'!I$7:I$86,MATCH($A51,'HTM 1'!$Y$7:$Y$86,0)) | I51: =INDEX('HTM 1'!J$7:J$86,MATCH($A51,'HTM 1'!$Y$7:$Y$86,0)) | J51: =INDEX('HTM 1'!K$7:K$86,MATCH($A51,'HTM 1'!$Y$7:$Y$86,0)) | K51: =INDEX('HTM 1'!L$7:L$86,MATCH($A51,'HTM 1'!$Y$7:$Y$86,0)) | L51: =INDEX('HTM 1'!M$7:M$86,MATCH($A51,'HTM 1'!$Y$7:$Y$86,0)) | ... S51: =INDEX('HTM 1'!T$7:T$86,MATCH($A51,'HTM 1'!$Y$7:$Y$86,0)) | T51: =INDEX('HTM 1'!V$7:V$86,MATCH($A51,'HTM 1'!$Y$7:$Y$86,0)) | U51: =INDEX('HTM 1'!$W$7:$W$86,MATCH(A51,'HTM 1'!$Y$7:$Y$86,0)) | V51: =INDEX('HTM 1'!$Y$7:$Y$86,MATCH(A51,'HTM 1'!$Y$7:$Y$86,0)) | W51: =INDEX('HTM 1'!$X$7:$X$86,MATCH(A51,'HTM 1'!$Y$7:$Y$86,0))
A53: HTM 2
E54: artistic | I54: tecnici | N54: Detrazioni di punti | U54: Risultato
A55: Posizionamento | B55: Nome | C55: Cognome | D55: Cane | E55: Team work | F55: Dinamicità | G55: Concetto | H55: Coreografia | I55: Fluidità | J55: Esecuzione | K55: Contenuto | L55: Difficoltà | M55: punti | N55: Abbaio e vocalizzazioni | O55: Salute del cane | P55: costume / Oggetti di scena | Q55: Lunghezze musicali errate | R55: Trattamento improprio del cane | S55: Contatto attivo | T55: Detrazioni di punti | U55: Totale | V55: Posizionamento | W55: punto di passaggio
A56: 1 | C56: =INDEX('HTM 2'!$C$7:$C$86,MATCH(A56,'HTM 2'!$Y$7:$Y$86,0)) | D56: =INDEX('HTM 2'!$D$7:$D$86,MATCH(A56,'HTM 2'!$Y$7:$Y$86,0)) | E56: =INDEX('HTM 2'!F$7:F$86,MATCH($A56,'HTM 2'!$Y$7:$Y$86,0)) | F56: =INDEX('HTM 2'!G$7:G$86,MATCH($A56,'HTM 2'!$Y$7:$Y$86,0)) | G56: =INDEX('HTM 2'!H$7:H$86,MATCH($A56,'HTM 2'!$Y$7:$Y$86,0)) | H56: =INDEX('HTM 2'!I$7:I$86,MATCH($A56,'HTM 2'!$Y$7:$Y$86,0)) | I56: =INDEX('HTM 2'!J$7:J$86,MATCH($A56,'HTM 2'!$Y$7:$Y$86,0)) | J56: =INDEX('HTM 2'!K$7:K$86,MATCH($A56,'HTM 2'!$Y$7:$Y$86,0)) | K56: =INDEX('HTM 2'!L$7:L$86,MATCH($A56,'HTM 2'!$Y$7:$Y$86,0)) | L56: =INDEX('HTM 2'!M$7:M$86,MATCH($A56,'HTM 2'!$Y$7:$Y$86,0)) | ... S56: =INDEX('HTM 2'!T$7:T$86,MATCH($A56,'HTM 2'!$Y$7:$Y$86,0)) | T56: =INDEX('HTM 2'!V$7:V$86,MATCH($A56,'HTM 2'!$Y$7:$Y$86,0)) | U56: =INDEX('HTM 2'!$W$7:$W$86,MATCH(A56,'HTM 2'!$Y$7:$Y$86,0)) | V56: =INDEX('HTM 2'!$Y$7:$Y$86,MATCH(A56,'HTM 2'!$Y$7:$Y$86,0)) | W56: =INDEX('HTM 2'!$X$7:$X$86,MATCH(A56,'HTM 2'!$Y$7:$Y$86,0))
A57: 2 | C57: =INDEX('HTM 2'!$C$7:$C$86,MATCH(A57,'HTM 2'!$Y$7:$Y$86,0)) | D57: =INDEX('HTM 2'!$D$7:$D$86,MATCH(A57,'HTM 2'!$Y$7:$Y$86,0)) | E57: =INDEX('HTM 2'!F$7:F$86,MATCH($A57,'HTM 2'!$Y$7:$Y$86,0)) | F57: =INDEX('HTM 2'!G$7:G$86,MATCH($A57,'HTM 2'!$Y$7:$Y$86,0)) | G57: =INDEX('HTM 2'!H$7:H$86,MATCH($A57,'HTM 2'!$Y$7:$Y$86,0)) | H57: =INDEX('HTM 2'!I$7:I$86,MATCH($A57,'HTM 2'!$Y$7:$Y$86,0)) | I57: =INDEX('HTM 2'!J$7:J$86,MATCH($A57,'HTM 2'!$Y$7:$Y$86,0)) | J57: =INDEX('HTM 2'!K$7:K$86,MATCH($A57,'HTM 2'!$Y$7:$Y$86,0)) | K57: =INDEX('HTM 2'!L$7:L$86,MATCH($A57,'HTM 2'!$Y$7:$Y$86,0)) | L57: =INDEX('HTM 2'!M$7:M$86,MATCH($A57,'HTM 2'!$Y$7:$Y$86,0)) | ... S57: =INDEX('HTM 2'!T$7:T$86,MATCH($A57,'HTM 2'!$Y$7:$Y$86,0)) | T57: =INDEX('HTM 2'!V$7:V$86,MATCH($A57,'HTM 2'!$Y$7:$Y$86,0)) | U57: =INDEX('HTM 2'!$W$7:$W$86,MATCH(A57,'HTM 2'!$Y$7:$Y$86,0)) | V57: =INDEX('HTM 2'!$Y$7:$Y$86,MATCH(A57,'HTM 2'!$Y$7:$Y$86,0)) | W57: =INDEX('HTM 2'!$X$7:$X$86,MATCH(A57,'HTM 2'!$Y$7:$Y$86,0))
A58: 3 | C58: =INDEX('HTM 2'!$C$7:$C$86,MATCH(A58,'HTM 2'!$Y$7:$Y$86,0)) | D58: =INDEX('HTM 2'!$D$7:$D$86,MATCH(A58,'HTM 2'!$Y$7:$Y$86,0)) | E58: =INDEX('HTM 2'!F$7:F$86,MATCH($A58,'HTM 2'!$Y$7:$Y$86,0)) | F58: =INDEX('HTM 2'!G$7:G$86,MATCH($A58,'HTM 2'!$Y$7:$Y$86,0)) | G58: =INDEX('HTM 2'!H$7:H$86,MATCH($A58,'HTM 2'!$Y$7:$Y$86,0)) | H58: =INDEX('HTM 2'!I$7:I$86,MATCH($A58,'HTM 2'!$Y$7:$Y$86,0)) | I58: =INDEX('HTM 2'!J$7:J$86,MATCH($A58,'HTM 2'!$Y$7:$Y$86,0)) | J58: =INDEX('HTM 2'!K$7:K$86,MATCH($A58,'HTM 2'!$Y$7:$Y$86,0)) | K58: =INDEX('HTM 2'!L$7:L$86,MATCH($A58,'HTM 2'!$Y$7:$Y$86,0)) | L58: =INDEX('HTM 2'!M$7:M$86,MATCH($A58,'HTM 2'!$Y$7:$Y$86,0)) | ... S58: =INDEX('HTM 2'!T$7:T$86,MATCH($A58,'HTM 2'!$Y$7:$Y$86,0)) | T58: =INDEX('HTM 2'!V$7:V$86,MATCH($A58,'HTM 2'!$Y$7:$Y$86,0)) | U58: =INDEX('HTM 2'!$W$7:$W$86,MATCH(A58,'HTM 2'!$Y$7:$Y$86,0)) | V58: =INDEX('HTM 2'!$Y$7:$Y$86,MATCH(A58,'HTM 2'!$Y$7:$Y$86,0)) | W58: =INDEX('HTM 2'!$X$7:$X$86,MATCH(A58,'HTM 2'!$Y$7:$Y$86,0))
...

Sheet HTM 0
B1: HTM 0 | E1: ='List of Competitors'!B2
E2: ='List of Competitors'!C2
A4: # | B4: Nome | C4: Cognome | D4: Cane | E4: Judge | F4: Team work | G4: Dinamicità | H4: Progetto | I4: Coreografia | J4: Fluidità | K4: Esecuzione | L4: Contenuto | M4: Difficoltà | N4: Punit | O4: Detrazioni di punti | W4: Totale | X4: punto di passaggio | Y4: Posizionamento | Z4: Korr Punkte Teamwork, Fluss
O5: Abbaio e vocalizzazioni | P5: Salute del cane | Q5: costume / Oggetti di scena | R5: Lunghezze musicali errate | S5: Trattamento improprio del cane | T5: Contatto attivo | U5: % HTM | V5: Totale
F6: max. 25 | G6: max. 25 | H6: max. 25 | I6: max. 25 | J6: max. 25 | K6: max. 25 | L6: max. 25 | M6: max. 25 | O6: max. 20 | P6: max. 20 | Q6: max. 20 | R6: 1 Punkt / sec | S6: max. 20 | T6: max. 20 | U6: [X]
A7: 1 | B7: =INDEX('List of Competitors'!C$5:C$24,MATCH($A7,'List of Competitors'!$A$5:$A$24,0)) -> Lisa | C7: =INDEX('List of Competitors'!D$5:D$24,MATCH($A7,'List of Competitors'!$A$5:$A$24,0)) -> Puccinelli | D7: =INDEX('List of Competitors'!E$5:E$24,MATCH($A7,'List of Competitors'!$A$5:$A$24,0)) -> Daisy | E7: Average | F7: =AVERAGE(F8:F10) -> 20.5 | G7: =AVERAGE(G8:G10) -> 19 | H7: =AVERAGE(H8:H10) -> 20.5 | I7: =AVERAGE(I8:I10) -> 19.5 | J7: =AVERAGE(J8:J10) -> 20 | K7: =AVERAGE(K8:K10) -> 20 | L7: =AVERAGE(L8:L10) -> 19.5 | M7: =AVERAGE(M8:M10) -> 20 | N7: =SUM(N8:N10)/IF(N10=0,2,3) -> 159 | O7: =SUM(O8:O10)/IF($N10=0,2,3) -> 0 | P7: =SUM(P8:P10)/IF($N10=0,2,3) -> 0 | Q7: =SUM(Q8:Q10)/IF($N10=0,2,3) -> 0 | R7: =SUM(R8:R10)/IF($N10=0,2,3) -> 0 | S7: =SUM(S8:S10)/IF($N10=0,2,3) -> 0 | T7: =SUM(T8:T10)/IF($N10=0,2,3) -> 0 | V7: =SUM(V8:V10)/IF(N10=0,2,3) -> 0 | W7: =N7-V7 -> 159 | X7: =IF(W7>=150,"Si","No") -> Si | Y7: =IF(W7=0,0,IF(ISERROR(RANK(W7,W1:W86)),"",RANK(Z7,Z1:Z86))) -> 1 | Z7: =IFERROR(W7+F7/100000+J7/10000000+G7/1000000000,0) -> 159.00021
E8: J1 | F8: 21 | G8: 20 | H8: 21 | I8: 20 | J8: 20 | K8: 21 | L8: 20 | M8: 20 | N8: =SUM(F8:M8) -> 163 | V8: =SUM(O8:T8) -> 0
E9: J2 | F9: 20 | G9: 18 | H9: 20 | I9: 19 | J9: 20 | K9: 19 | L9: 19 | M9: 20 | N9: =SUM(F9:M9) -> 155 | V9: =SUM(O9:T9) -> 0
E10: J3 | N10: =SUM(F10:M10) -> 0 | V10: =SUM(O10:T10) -> 0
A11: 2 | B11: =INDEX('List of Competitors'!C$5:C$24,MATCH($A11,'List of Competitors'!$A$5:$A$24,0)) | C11: =INDEX('List of Competitors'!D$5:D$24,MATCH($A11,'List of Competitors'!$A$5:$A$24,0)) | D11: =INDEX('List of Competitors'!E$5:E$24,MATCH($A11,'List of Competitors'!$A$5:$A$24,0)) | E11: Average | F11: =AVERAGE(F12:F14) | G11: =AVERAGE(G12:G14) | H11: =AVERAGE(H12:H14) | I11: =AVERAGE(I12:I14) | J11: =AVERAGE(J12:J14) | K11: =AVERAGE(K12:K14) | L11: =AVERAGE(L12:L14) | M11: =AVERAGE(M12:M14) | N11: =SUM(N12:N14)/IF(N14=0,2,3) -> 0 | O11: =SUM(O12:O14)/IF($N14=0,2,3) -> 0 | P11: =SUM(P12:P14)/IF($N14=0,2,3) -> 0 | Q11: =SUM(Q12:Q14)/IF($N14=0,2,3) -> 0 | R11: =SUM(R12:R14)/IF($N14=0,2,3) -> 0 | S11: =SUM(S12:S14)/IF($N14=0,2,3) -> 0 | T11: =SUM(T12:T14)/IF($N14=0,2,3) -> 0 | V11: =SUM(V12:V14)/IF(N14=0,2,3) -> 0 | W11: =N11-V11 -> 0 | X11: =IF(W11>=150,"Si","No") -> No | Y11: =IF(W11=0,0,IF(ISERROR(RANK(W11,W1:W86)),"",RANK(Z11,Z1:Z86))) -> 0 | Z11: =IFERROR(W11+F11/100000+J11/10000000+G11/1000000000,0) -> 0
E12: J1 | N12: =SUM(F12:M12) -> 0 | V12: =SUM(O12:T12) -> 0
E13: J2 | N13: =SUM(F13:M13) -> 0 | V13: =SUM(O13:T13) -> 0
E14: J3 | N14: =SUM(F14:M14) -> 0 | V14: =SUM(O14:T14) -> 0
A15: 3 | B15: =INDEX('List of Competitors'!C$5:C$24,MATCH($A15,'List of Competitors'!$A$5:$A$24,0)) | C15: =INDEX('List of Competitors'!D$5:D$24,MATCH($A15,'List of Competitors'!$A$5:$A$24,0)) | D15: =INDEX('List of Competitors'!E$5:E$24,MATCH($A15,'List of Competitors'!$A$5:$A$24,0)) | E15: Average | F15: =AVERAGE(F16:F18) | G15: =AVERAGE(G16:G18) | H15: =AVERAGE(H16:H18) | I15: =AVERAGE(I16:I18) | J15: =AVERAGE(J16:J18) | K15: =AVERAGE(K16:K18) | L15: =AVERAGE(L16:L18) | M15: =AVERAGE(M16:M18) | N15: =SUM(N16:N18)/IF(N18=0,2,3) -> 0 | O15: =SUM(O16:O18)/IF($N18=0,2,3) -> 0 | P15: =SUM(P16:P18)/IF($N18=0,2,3) -> 0 | Q15: =SUM(Q16:Q18)/IF($N18=0,2,3) -> 0 | R15: =SUM(R16:R18)/IF($N18=0,2,3) -> 0 | S15: =SUM(S16:S18)/IF($N18=0,2,3) -> 0 | T15: =SUM(T16:T18)/IF($N18=0,2,3) -> 0 | V15: =SUM(V16:V18)/IF(N18=0,2,3) -> 0 | W15: =N15-V15 -> 0 | X15: =IF(W15>=150,"Si","No") -> No | Y15: =IF(W15=0,0,IF(ISERROR(RANK(W15,W1:W86)),"",RANK(Z15,Z1:Z86))) -> 0 | Z15: =IFERROR(W15+F15/100000+J15/10000000+G15/1000000000,0) -> 0
E16: J1 | N16: =SUM(F16:M16) -> 0 | V16: =SUM(O16:T16) -> 0
E17: J2 | N17: =SUM(F17:M17) -> 0 | V17: =SUM(O17:T17) -> 0
E18: J3 | N18: =SUM(F18:M18) -> 0 | V18: =SUM(O18:T18) -> 0
A19: 4 | B19: =INDEX('List of Competitors'!C$5:C$24,MATCH($A19,'List of Competitors'!$A$5:$A$24,0)) | C19: =INDEX('List of Competitors'!D$5:D$24,MATCH($A19,'List of Competitors'!$A$5:$A$24,0)) | D19: =INDEX('List of Competitors'!E$5:E$24,MATCH($A19,'List of Competitors'!$A$5:$A$24,0)) | E19: Average | F19: =AVERAGE(F20:F22) | G19: =AVERAGE(G20:G22) | H19: =AVERAGE(H20:H22) | I19: =AVERAGE(I20:I22) | J19: =AVERAGE(J20:J22) | K19: =AVERAGE(K20:K22) | L19: =AVERAGE(L20:L22) | M19: =AVERAGE(M20:M22) | N19: =SUM(N20:N22)/IF(N22=0,2,3) -> 0 | O19: =SUM(O20:O22)/IF($N22=0,2,3) -> 0 | P19: =SUM(P20:P22)/IF($N22=0,2,3) -> 0 | Q19: =SUM(Q20:Q22)/IF($N22=0,2,3) -> 0 | R19: =SUM(R20:R22)/IF($N22=0,2,3) -> 0 | S19: =SUM(S20:S22)/IF($N22=0,2,3) -> 0 | T19: =SUM(T20:T22)/IF($N22=0,2,3) -> 0 | V19: =SUM(V20:V22)/IF(N22=0,2,3) -> 0 | W19: =N19-V19 -> 0 | X19: =IF(W19>=150,"Si","No") -> No | Y19: =IF(W19=0,0,IF(ISERROR(RANK(W19,W1:W86)),"",RANK(Z19,Z1:Z86))) -> 0 | Z19: =IFERROR(W19+F19/100000+J19/10000000+G19/1000000000,0) -> 0
E20: J1 | N20: =SUM(F20:M20) -> 0 | V20: =SUM(O20:T20) -> 0
E21: J2 | N21: =SUM(F21:M21) -> 0 | V21: =SUM(O21:T21) -> 0
E22: J3 | N22: =SUM(F22:M22) -> 0 | V22: =SUM(O22:T22) -> 0
A23: 5 | B23: =INDEX('List of Competitors'!C$5:C$24,MATCH($A23,'List of Competitors'!$A$5:$A$24,0)) | C23: =INDEX('List of Competitors'!D$5:D$24,MATCH($A23,'List of Competitors'!$A$5:$A$24,0)) | D23: =INDEX('List of Competitors'!E$5:E$24,MATCH($A23,'List of Competitors'!$A$5:$A$24,0)) | E23: Average | F23: =AVERAGE(F24:F26) | G23: =AVERAGE(G24:G26) | H23: =AVERAGE(H24:H26) | I23: =AVERAGE(I24:I26) | J23: =AVERAGE(J24:J26) | K23: =AVERAGE(K24:K26) | L23: =AVERAGE(L24:L26) | M23: =AVERAGE(M24:M26) | N23: =SUM(N24:N26)/IF(N26=0,2,3) -> 0 | O23: =SUM(O24:O26)/IF($N26=0,2,3) -> 0 | P23: =SUM(P24:P26)/IF($N26=0,2,3) -> 0 | Q23: =SUM(Q24:Q26)/IF($N26=0,2,3) -> 0 | R23: =SUM(R24:R26)/IF($N26=0,2,3) -> 0 | S23: =SUM(S24:S26)/IF($N26=0,2,3) -> 0 | T23: =SUM(T24:T26)/IF($N26=0,2,3) -> 0 | V23: =SUM(V24:V26)/IF(N26=0,2,3) -> 0 | W23: =N23-V23 -> 0 | X23: =IF(W23>=150,"Si","No") -> No | Y23: =IF(W23=0,0,IF(ISERROR(RANK(W23,W1:W86)),"",RANK(Z23,Z1:Z86))) -> 0 | Z23: =IFERROR(W23+F23/100000+J23/10000000+G23/1000000000,0) -> 0
E24: J1 | N24: =SUM(F24:M24) -> 0 | V24: =SUM(O24:T24) -> 0
E25: J2 | N25: =SUM(F25:M25) -> 0 | V25: =SUM(O25:T25) -> 0
E26: J3 | N26: =SUM(F26:M26) -> 0 | V26: =SUM(O26:T26) -> 0
A27: 6 | B27: =INDEX('List of Competitors'!C$5:C$24,MATCH($A27,'List of Competitors'!$A$5:$A$24,0)) | C27: =INDEX('List of Competitors'!D$5:D$24,MATCH($A27,'List of Competitors'!$A$5:$A$24,0)) | D27: =INDEX('List of Competitors'!E$5:E$24,MATCH($A27,'List of Competitors'!$A$5:$A$24,0)) | E27: Average | F27: =AVERAGE(F28:F30) | G27: =AVERAGE(G28:G30) | H27: =AVERAGE(H28:H30) | I27: =AVERAGE(I28:I30) | J27: =AVERAGE(J28:J30) | K27: =AVERAGE(K28:K30) | L27: =AVERAGE(L28:L30) | M27: =AVERAGE(M28:M30) | N27: =SUM(N28:N30)/IF(N30=0,2,3) -> 0 | O27: =SUM(O28:O30)/IF($N30=0,2,3) -> 0 | P27: =SUM(P28:P30)/IF($N30=0,2,3) -> 0 | Q27: =SUM(Q28:Q30)/IF($N30=0,2,3) -> 0 | R27: =SUM(R28:R30)/IF($N30=0,2,3) -> 0 | S27: =SUM(S28:S30)/IF($N30=0,2,3) -> 0 | T27: =SUM(T28:T30)/IF($N30=0,2,3) -> 0 | V27: =SUM(V28:V30)/IF(N30=0,2,3) -> 0 | W27: =N27-V27 -> 0 | X27: =IF(W27>=150,"Si","No") -> No | Y27: =IF(W27=0,0,IF(ISERROR(RANK(W27,W1:W86)),"",RANK(Z27,Z1:Z86))) -> 0 | Z27: =IFERROR(W27+F27/100000+J27/10000000+G27/1000000000,0) -> 0
E28: J1 | N28: =SUM(F28:M28) -> 0 | V28: =SUM(O28:T28) -> 0
E29: J2 | N29: =SUM(F29:M29) -> 0 | V29: =SUM(O29:T29) -> 0
E30: J3 | N30: =SUM(F30:M30) -> 0 | V30: =SUM(O30:T30) -> 0
A31: 7 | B31: =INDEX('List of Competitors'!C$5:C$24,MATCH($A31,'List of Competitors'!$A$5:$A$24,0)) | C31: =INDEX('List of Competitors'!D$5:D$24,MATCH($A31,'List of Competitors'!$A$5:$A$24,0)) | D31: =INDEX('List of Competitors'!E$5:E$24,MATCH($A31,'List of Competitors'!$A$5:$A$24,0)) | E31: Average | F31: =AVERAGE(F32:F34) | G31: =AVERAGE(G32:G34) | H31: =AVERAGE(H32:H34) | I31: =AVERAGE(I32:I34) | J31: =AVERAGE(J32:J34) | K31: =AVERAGE(K32:K34) | L31: =AVERAGE(L32:L34) | M31: =AVERAGE(M32:M34) | N31: =SUM(N32:N34)/IF(N34=0,2,3) -> 0 | O31: =SUM(O32:O34)/IF($N34=0,2,3) -> 0 | P31: =SUM(P32:P34)/IF($N34=0,2,3) -> 0 | Q31: =SUM(Q32:Q34)/IF($N34=0,2,3) -> 0 | R31: =SUM(R32:R34)/IF($N34=0,2,3) -> 0 | S31: =SUM(S32:S34)/IF($N34=0,2,3) -> 0 | T31: =SUM(T32:T34)/IF($N34=0,2,3) -> 0 | V31: =SUM(V32:V34)/IF(N34=0,2,3) -> 0 | W31: =N31-V31 -> 0 | X31: =IF(W31>=150,"Si","No") -> No | Y31: =IF(W31=0,0,IF(ISERROR(RANK(W31,W1:W86)),"",RANK(Z31,Z1:Z86))) -> 0 | Z31: =IFERROR(W31+F31/100000+J31/10000000+G31/1000000000,0) -> 0
E32: J1 | N32: =SUM(F32:M32) -> 0 | V32: =SUM(O32:T32) -> 0
E33: J2 | N33: =SUM(F33:M33) -> 0 | V33: =SUM(O33:T33) -> 0
E34: J3 | N34: =SUM(F34:M34) -> 0 | V34: =SUM(O34:T34) -> 0
A35: 8 | B35: =INDEX('List of Competitors'!C$5:C$24,MATCH($A35,'List of Competitors'!$A$5:$A$24,0)) | C35: =INDEX('List of Competitors'!D$5:D$24,MATCH($A35,'List of Competitors'!$A$5:$A$24,0)) | D35: =INDEX('List of Competitors'!E$5:E$24,MATCH($A35,'List of Competitors'!$A$5:$A$24,0)) | E35: Average | F35: =AVERAGE(F36:F38) | G35: =AVERAGE(G36:G38) | H35: =AVERAGE(H36:H38) | I35: =AVERAGE(I36:I38) | J35: =AVERAGE(J36:J38) | K35: =AVERAGE(K36:K38) | L35: =AVERAGE(L36:L38) | M35: =AVERAGE(M36:M38) | N35: =SUM(N36:N38)/IF(N38=0,2,3) -> 0 | O35: =SUM(O36:O38)/IF($N38=0,2,3) -> 0 | P35: =SUM(P36:P38)/IF($N38=0,2,3) -> 0 | Q35: =SUM(Q36:Q38)/IF($N38=0,2,3) -> 0 | R35: =SUM(R36:R38)/IF($N38=0,2,3) -> 0 | S35: =SUM(S36:S38)/IF($N38=0,2,3) -> 0 | T35: =SUM(T36:T38)/IF($N38=0,2,3) -> 0 | V35: =SUM(V36:V38)/IF(N38=0,2,3) -> 0 | W35: =N35-V35 -> 0 | X35: =IF(W35>=150,"Si","No") -> No | Y35: =IF(W35=0,0,IF(ISERROR(RANK(W35,W1:W86)),"",RANK(Z35,Z1:Z86))) -> 0 | Z35: =IFERROR(W35+F35/100000+J35/10000000+G35/1000000000,0) -> 0
E36: J1 | N36: =SUM(F36:M36) -> 0 | V36: =SUM(O36:T36) -> 0
E37: J2 | N37: =SUM(F37:M37) -> 0 | V37: =SUM(O37:T37) -> 0
E38: J3 | N38: =SUM(F38:M38) -> 0 | V38: =SUM(O38:T38) -> 0
A39: 9 | B39: =INDEX('List of Competitors'!C$5:C$24,MATCH($A39,'List of Competitors'!$A$5:$A$24,0)) | C39: =INDEX('List of Competitors'!D$5:D$24,MATCH($A39,'List of Competitors'!$A$5:$A$24,0)) | D39: =INDEX('List of Competitors'!E$5:E$24,MATCH($A39,'List of Competitors'!$A$5:$A$24,0)) | E39: Average | F39: =AVERAGE(F40:F42) | G39: =AVERAGE(G40:G42) | H39: =AVERAGE(H40:H42) | I39: =AVERAGE(I40:I42) | J39: =AVERAGE(J40:J42) | K39: =AVERAGE(K40:K42) | L39: =AVERAGE(L40:L42) | M39: =AVERAGE(M40:M42) | N39: =SUM(N40:N42)/IF(N42=0,2,3) -> 0 | O39: =SUM(O40:O42)/IF($N42=0,2,3) -> 0 | P39: =SUM(P40:P42)/IF($N42=0,2,3) -> 0 | Q39: =SUM(Q40:Q42)/IF($N42=0,2,3) -> 0 | R39: =SUM(R40:R42)/IF($N42=0,2,3) -> 0 | S39: =SUM(S40:S42)/IF($N42=0,2,3) -> 0 | T39: =SUM(T40:T42)/IF($N42=0,2,3) -> 0 | V39: =SUM(V40:V42)/IF(N42=0,2,3) -> 0 | W39: =N39-V39 -> 0 | X39: =IF(W39>=150,"Si","No") -> No | Y39: =IF(W39=0,0,IF(ISERROR(RANK(W39,W1:W86)),"",RANK(Z39,Z1:Z86))) -> 0 | Z39: =IFERROR(W39+F39/100000+J39/10000000+G39/1000000000,0) -> 0
E40: J1 | N40: =SUM(F40:M40) -> 0 | V40: =SUM(O40:T40) -> 0
E41: J2 | N41: =SUM(F41:M41) -> 0 | V41: =SUM(O41:T41) -> 0
...

Sheet HTM 1
B1: HTM 1 | E1: ='List of Competitors'!B2
E2: ='List of Competitors'!C2
A4: # | B4: Nome | C4: Cognome | D4: Cane | E4: Judge | F4: Team work | G4: Dinamicità | H4: Progetto | I4: Coreografia | J4: Fluidità | K4: Esecuzione | L4: Contenuto | M4: Difficoltà | N4: Punit | O4: Detrazioni di punti | W4: Totale | X4: punto di passaggio | Y4: Posizionamento | Z4: Korr Punkte Teamwork, Fluss
O5: Abbaio e vocalizzazioni | P5: Salute del cane | Q5: costume / Oggetti di scena | R5: Lunghezze musicali errate | S5: Trattamento improprio del cane | T5: Contatto attivo | U5: % HTM | V5: Totale
F6: max. 25 | G6: max. 25 | H6: max. 25 | I6: max. 25 | J6: max. 25 | K6: max. 25 | L6: max. 25 | M6: max. 25 | O6: max. 20 | P6: max. 20 | Q6: max. 20 | R6: 1 Punkt / sec | S6: max. 20 | T6: max. 20 | U6: [X]
A7: 1 | B7: =INDEX('List of Competitors'!I$5:I$24,MATCH($A7,'List of Competitors'!$G$5:$G$24,0)) | C7: =INDEX('List of Competitors'!J$5:J$24,MATCH($A7,'List of Competitors'!$G$5:$G$24,0)) | D7: =INDEX('List of Competitors'!K$5:K$24,MATCH($A7,'List of Competitors'!$G$5:$G$24,0)) | E7: Average | F7: =AVERAGE(F8:F10) | G7: =AVERAGE(G8:G10) | H7: =AVERAGE(H8:H10) | I7: =AVERAGE(I8:I10) | J7: =AVERAGE(J8:J10) | K7: =AVERAGE(K8:K10) | L7: =AVERAGE(L8:L10) | M7: =AVERAGE(M8:M10) | N7: =SUM(N8:N10)/IF(N10=0,2,3) -> 0 | O7: =SUM(O8:O10)/IF($N10=0,2,3) -> 0 | P7: =SUM(P8:P10)/IF($N10=0,2,3) -> 0 | Q7: =SUM(Q8:Q10)/IF($N10=0,2,3) -> 0 | R7: =SUM(R8:R10)/IF($N10=0,2,3) -> 0 | S7: =SUM(S8:S10)/IF($N10=0,2,3) -> 0 | T7: =SUM(T8:T10)/IF($N10=0,2,3) -> 0 | V7: =SUM(V8:V10)/IF(N10=0,2,3) -> 0 | W7: =N7-V7 -> 0 | X7: =IF(W7>=150,"Si","No") -> No | Y7: =IF(W7=0,0,IF(ISERROR(RANK(W7,W1:W86)),"",RANK(Z7,Z1:Z86))) -> 0 | Z7: =IFERROR(W7+F7/100000+J7/10000000+G7/1000000000,0) -> 0
E8: J1 | N8: =SUM(F8:M8) -> 0 | V8: =SUM(O8:T8) -> 0
E9: J2 | N9: =SUM(F9:M9) -> 0 | V9: =SUM(O9:T9) -> 0
E10: J3 | N10: =SUM(F10:M10) -> 0 | V10: =SUM(O10:T10) -> 0
A11: 2 | B11: =INDEX('List of Competitors'!I$5:I$24,MATCH($A11,'List of Competitors'!$G$5:$G$24,0)) | C11: =INDEX('List of Competitors'!J$5:J$24,MATCH($A11,'List of Competitors'!$G$5:$G$24,0)) | D11: =INDEX('List of Competitors'!K$5:K$24,MATCH($A11,'List of Competitors'!$G$5:$G$24,0)) | E11: Average | F11: =AVERAGE(F12:F14) | G11: =AVERAGE(G12:G14) | H11: =AVERAGE(H12:H14) | I11: =AVERAGE(I12:I14) | J11: =AVERAGE(J12:J14) | K11: =AVERAGE(K12:K14) | L11: =AVERAGE(L12:L14) | M11: =AVERAGE(M12:M14) | N11: =SUM(N12:N14)/IF(N14=0,2,3) -> 0 | O11: =SUM(O12:O14)/IF($N14=0,2,3) -> 0 | P11: =SUM(P12:P14)/IF($N14=0,2,3) -> 0 | Q11: =SUM(Q12:Q14)/IF($N14=0,2,3) -> 0 | R11: =SUM(R12:R14)/IF($N14=0,2,3) -> 0 | S11: =SUM(S12:S14)/IF($N14=0,2,3) -> 0 | T11: =SUM(T12:T14)/IF($N14=0,2,3) -> 0 | V11: =SUM(V12:V14)/IF(N14=0,2,3) -> 0 | W11: =N11-V11 -> 0 | X11: =IF(W11>=150,"Si","No") -> No | Y11: =IF(W11=0,0,IF(ISERROR(RANK(W11,W1:W86)),"",RANK(Z11,Z1:Z86))) -> 0 | Z11: =IFERROR(W11+F11/100000+J11/10000000+G11/1000000000,0) -> 0
E12: J1 | N12: =SUM(F12:M12) -> 0 | V12: =SUM(O12:T12) -> 0
E13: J2 | N13: =SUM(F13:M13) -> 0 | V13: =SUM(O13:T13) -> 0
E14: J3 | N14: =SUM(F14:M14) -> 0 | V14: =SUM(O14:T14) -> 0
A15: 3 | B15: =INDEX('List of Competitors'!I$5:I$24,MATCH($A15,'List of Competitors'!$G$5:$G$24,0)) | C15: =INDEX('List of Competitors'!J$5:J$24,MATCH($A15,'List of Competitors'!$G$5:$G$24,0)) | D15: =INDEX('List of Competitors'!K$5:K$24,MATCH($A15,'List of Competitors'!$G$5:$G$24,0)) | E15: Average | F15: =AVERAGE(F16:F18) | G15: =AVERAGE(G16:G18) | H15: =AVERAGE(H16:H18) | I15: =AVERAGE(I16:I18) | J15: =AVERAGE(J16:J18) | K15: =AVERAGE(K16:K18) | L15: =AVERAGE(L16:L18) | M15: =AVERAGE(M16:M18) | N15: =SUM(N16:N18)/IF(N18=0,2,3) -> 0 | O15: =SUM(O16:O18)/IF($N18=0,2,3) -> 0 | P15: =SUM(P16:P18)/IF($N18=0,2,3) -> 0 | Q15: =SUM(Q16:Q18)/IF($N18=0,2,3) -> 0 | R15: =SUM(R16:R18)/IF($N18=0,2,3) -> 0 | S15: =SUM(S16:S18)/IF($N18=0,2,3) -> 0 | T15: =SUM(T16:T18)/IF($N18=0,2,3) -> 0 | V15: =SUM(V16:V18)/IF(N18=0,2,3) -> 0 | W15: =N15-V15 -> 0 | X15: =IF(W15>=150,"Si","No") -> No | Y15: =IF(W15=0,0,IF(ISERROR(RANK(W15,W1:W86)),"",RANK(Z15,Z1:Z86))) -> 0 | Z15: =IFERROR(W15+F15/100000+J15/10000000+G15/1000000000,0) -> 0
E16: J1 | N16: =SUM(F16:M16) -> 0 | V16: =SUM(O16:T16) -> 0
E17: J2 | N17: =SUM(F17:M17) -> 0 | V17: =SUM(O17:T17) -> 0
E18: J3 | N18: =SUM(F18:M18) -> 0 | V18: =SUM(O18:T18) -> 0
A19: 4 | B19: =INDEX('List of Competitors'!I$5:I$24,MATCH($A19,'List of Competitors'!$G$5:$G$24,0)) | C19: =INDEX('List of Competitors'!J$5:J$24,MATCH($A19,'List of Competitors'!$G$5:$G$24,0)) | D19: =INDEX('List of Competitors'!K$5:K$24,MATCH($A19,'List of Competitors'!$G$5:$G$24,0)) | E19: Average | F19: =AVERAGE(F20:F22) | G19: =AVERAGE(G20:G22) | H19: =AVERAGE(H20:H22) | I19: =AVERAGE(I20:I22) | J19: =AVERAGE(J20:J22) | K19: =AVERAGE(K20:K22) | L19: =AVERAGE(L20:L22) | M19: =AVERAGE(M20:M22) | N19: =SUM(N20:N22)/IF(N22=0,2,3) -> 0 | O19: =SUM(O20:O22)/IF($N22=0,2,3) -> 0 | P19: =SUM(P20:P22)/IF($N22=0,2,3) -> 0 | Q19: =SUM(Q20:Q22)/IF($N22=0,2,3) -> 0 | R19: =SUM(R20:R22)/IF($N22=0,2,3) -> 0 | S19: =SUM(S20:S22)/IF($N22=0,2,3) -> 0 | T19: =SUM(T20:T22)/IF($N22=0,2,3) -> 0 | V19: =SUM(V20:V22)/IF(N22=0,2,3) -> 0 | W19: =N19-V19 -> 0 | X19: =IF(W19>=150,"Si","No") -> No | Y19: =IF(W19=0,0,IF(ISERROR(RANK(W19,W1:W86)),"",RANK(Z19,Z1:Z86))) -> 0 | Z19: =IFERROR(W19+F19/100000+J19/10000000+G19/1000000000,0) -> 0
E20: J1 | N20: =SUM(F20:M20) -> 0 | V20: =SUM(O20:T20) -> 0
E21: J2 | N21: =SUM(F21:M21) -> 0 | V21: =SUM(O21:T21) -> 0
E22: J3 | N22: =SUM(F22:M22) -> 0 | V22: =SUM(O22:T22) -> 0
A23: 5 | B23: =INDEX('List of Competitors'!I$5:I$24,MATCH($A23,'List of Competitors'!$G$5:$G$24,0)) | C23: =INDEX('List of Competitors'!J$5:J$24,MATCH($A23,'List of Competitors'!$G$5:$G$24,0)) | D23: =INDEX('List of Competitors'!K$5:K$24,MATCH($A23,'List of Competitors'!$G$5:$G$24,0)) | E23: Average | F23: =AVERAGE(F24:F26) | G23: =AVERAGE(G24:G26) | H23: =AVERAGE(H24:H26) | I23: =AVERAGE(I24:I26) | J23: =AVERAGE(J24:J26) | K23: =AVERAGE(K24:K26) | L23: =AVERAGE(L24:L26) | M23: =AVERAGE(M24:M26) | N23: =SUM(N24:N26)/IF(N26=0,2,3) -> 0 | O23: =SUM(O24:O26)/IF($N26=0,2,3) -> 0 | P23: =SUM(P24:P26)/IF($N26=0,2,3) -> 0 | Q23: =SUM(Q24:Q26)/IF($N26=0,2,3) -> 0 | R23: =SUM(R24:R26)/IF($N26=0,2,3) -> 0 | S23: =SUM(S24:S26)/IF($N26=0,2,3) -> 0 | T23: =SUM(T24:T26)/IF($N26=0,2,3) -> 0 | V23: =SUM(V24:V26)/IF(N26=0,2,3) -> 0 | W23: =N23-V23 -> 0 | X23: =IF(W23>=150,"Si","No") -> No | Y23: =IF(W23=0,0,IF(ISERROR(RANK(W23,W1:W86)),"",RANK(Z23,Z1:Z86))) -> 0 | Z23: =IFERROR(W23+F23/100000+J23/10000000+G23/1000000000,0) -> 0
E24: J1 | N24: =SUM(F24:M24) -> 0 | V24: =SUM(O24:T24) -> 0
E25: J2 | N25: =SUM(F25:M25) -> 0 | V25: =SUM(O25:T25) -> 0
E26: J3 | N26: =SUM(F26:M26) -> 0 | V26: =SUM(O26:T26) -> 0
A27: 6 | B27: =INDEX('List of Competitors'!I$5:I$24,MATCH($A27,'List of Competitors'!$G$5:$G$24,0)) | C27: =INDEX('List of Competitors'!J$5:J$24,MATCH($A27,'List of Competitors'!$G$5:$G$24,0)) | D27: =INDEX('List of Competitors'!K$5:K$24,MATCH($A27,'List of Competitors'!$G$5:$G$24,0)) | E27: Average | F27: =AVERAGE(F28:F30) | G27: =AVERAGE(G28:G30) | H27: =AVERAGE(H28:H30) | I27: =AVERAGE(I28:I30) | J27: =AVERAGE(J28:J30) | K27: =AVERAGE(K28:K30) | L27: =AVERAGE(L28:L30) | M27: =AVERAGE(M28:M30) | N27: =SUM(N28:N30)/IF(N30=0,2,3) -> 0 | O27: =SUM(O28:O30)/IF($N30=0,2,3) -> 0 | P27: =SUM(P28:P30)/IF($N30=0,2,3) -> 0 | Q27: =SUM(Q28:Q30)/IF($N30=0,2,3) -> 0 | R27: =SUM(R28:R30)/IF($N30=0,2,3) -> 0 | S27: =SUM(S28:S30)/IF($N30=0,2,3) -> 0 | T27: =SUM(T28:T30)/IF($N30=0,2,3) -> 0 | V27: =SUM(V28:V30)/IF(N30=0,2,3) -> 0 | W27: =N27-V27 -> 0 | X27: =IF(W27>=150,"Si","No") -> No | Y27: =IF(W27=0,0,IF(ISERROR(RANK(W27,W1:W86)),"",RANK(Z27,Z1:Z86))) -> 0 | Z27: =IFERROR(W27+F27/100000+J27/10000000+G27/1000000000,0) -> 0
E28: J1 | N28: =SUM(F28:M28) -> 0 | V28: =SUM(O28:T28) -> 0
E29: J2 | N29: =SUM(F29:M29) -> 0 | V29: =SUM(O29:T29) -> 0
E30: J3 | N30: =SUM(F30:M30) -> 0 | V30: =SUM(O30:T30) -> 0
A31: 7 | B31: =INDEX('List of Competitors'!I$5:I$24,MATCH($A31,'List of Competitors'!$G$5:$G$24,0)) | C31: =INDEX('List of Competitors'!J$5:J$24,MATCH($A31,'List of Competitors'!$G$5:$G$24,0)) | D31: =INDEX('List of Competitors'!K$5:K$24,MATCH($A31,'List of Competitors'!$G$5:$G$24,0)) | E31: Average | F31: =AVERAGE(F32:F34) | G31: =AVERAGE(G32:G34) | H31: =AVERAGE(H32:H34) | I31: =AVERAGE(I32:I34) | J31: =AVERAGE(J32:J34) | K31: =AVERAGE(K32:K34) | L31: =AVERAGE(L32:L34) | M31: =AVERAGE(M32:M34) | N31: =SUM(N32:N34)/IF(N34=0,2,3) -> 0 | O31: =SUM(O32:O34)/IF($N34=0,2,3) -> 0 | P31: =SUM(P32:P34)/IF($N34=0,2,3) -> 0 | Q31: =SUM(Q32:Q34)/IF($N34=0,2,3) -> 0 | R31: =SUM(R32:R34)/IF($N34=0,2,3) -> 0 | S31: =SUM(S32:S34)/IF($N34=0,2,3) -> 0 | T31: =SUM(T32:T34)/IF($N34=0,2,3) -> 0 | V31: =SUM(V32:V34)/IF(N34=0,2,3) -> 0 | W31: =N31-V31 -> 0 | X31: =IF(W31>=150,"Si","No") -> No | Y31: =IF(W31=0,0,IF(ISERROR(RANK(W31,W1:W86)),"",RANK(Z31,Z1:Z86))) -> 0 | Z31: =IFERROR(W31+F31/100000+J31/10000000+G31/1000000000,0) -> 0
E32: J1 | N32: =SUM(F32:M32) -> 0 | V32: =SUM(O32:T32) -> 0
E33: J2 | N33: =SUM(F33:M33) -> 0 | V33: =SUM(O33:T33) -> 0
E34: J3 | N34: =SUM(F34:M34) -> 0 | V34: =SUM(O34:T34) -> 0
A35: 8 | B35: =INDEX('List of Competitors'!I$5:I$24,MATCH($A35,'List of Competitors'!$G$5:$G$24,0)) | C35: =INDEX('List of Competitors'!J$5:J$24,MATCH($A35,'List of Competitors'!$G$5:$G$24,0)) | D35: =INDEX('List of Competitors'!K$5:K$24,MATCH($A35,'List of Competitors'!$G$5:$G$24,0)) | E35: Average | F35: =AVERAGE(F36:F38) | G35: =AVERAGE(G36:G38) | H35: =AVERAGE(H36:H38) | I35: =AVERAGE(I36:I38) | J35: =AVERAGE(J36:J38) | K35: =AVERAGE(K36:K38) | L35: =AVERAGE(L36:L38) | M35: =AVERAGE(M36:M38) | N35: =SUM(N36:N38)/IF(N38=0,2,3) -> 0 | O35: =SUM(O36:O38)/IF($N38=0,2,3) -> 0 | P35: =SUM(P36:P38)/IF($N38=0,2,3) -> 0 | Q35: =SUM(Q36:Q38)/IF($N38=0,2,3) -> 0 | R35: =SUM(R36:R38)/IF($N38=0,2,3) -> 0 | S35: =SUM(S36:S38)/IF($N38=0,2,3) -> 0 | T35: =SUM(T36:T38)/IF($N38=0,2,3) -> 0 | V35: =SUM(V36:V38)/IF(N38=0,2,3) -> 0 | W35: =N35-V35 -> 0 | X35: =IF(W35>=150,"Si","No") -> No | Y35: =IF(W35=0,0,IF(ISERROR(RANK(W35,W1:W86)),"",RANK(Z35,Z1:Z86))) -> 0 | Z35: =IFERROR(W35+F35/100000+J35/10000000+G35/1000000000,0) -> 0
E36: J1 | N36: =SUM(F36:M36) -> 0 | V36: =SUM(O36:T36) -> 0
E37: J2 | N37: =SUM(F37:M37) -> 0 | V37: =SUM(O37:T37) -> 0
E38: J3 | N38: =SUM(F38:M38) -> 0 | V38: =SUM(O38:T38) -> 0
