Workbook

Sheet Riepilogo di esportazione
B3: Questo documento è stato esportato da Numbers. Tutte le tabelle sono state convertite in un foglio di lavoro di Excel. Tutti gli altri oggetti di ciascun foglio di Numbers sono stati collocati in fogli di lavoro separati. Nota che i calcoli delle formule potrebbero differire in Excel.
B7: Nome del foglio di Numbers | C7: Nome della tabella di Numbers | D7: Nome foglio di lavoro Excel
B9: Dropdown
C10: Tabella 1 | D10: Dropdown
B11: Instruction for Use
C12: Tabella 1 | D12: Instruction for Use
B13: List of Competitors
C14: Tabella 1 | D14: List of Competitors
B15: Overview
C16: Tabella 1 | D16: Overview
B17: HTM 0
C18: Tabella 1 | D18: HTM 0
B19: HTM 1
C20: Tabella 1 | D20: HTM 1
B21: HTM 2
C22: Tabella 1 | D22: HTM 2
B23: HTM 3
C24: Tabella 1 | D24: HTM 3
B25: FS 0
C26: Tabella 1 | D26: FS 0
B27: FS 1
C28: Tabella 1 | D28: FS 1
B29: FS 2
C30: Tabella 1 | D30: FS 2
B31: FS 3
C32: Tabella 1 | D32: FS 3
B33: Senior HC
C34: Tabella 1 | D34: Senior HC
B35: Trio
C36: Tabella 1 | D36: Trio
B37: Quartett
C38: Tabella 1 | D38: Quartett
B39: Junior
C40: Tabella 1 | D40: Junior

Sheet Dropdown
A1: Klassen
A2: FS 0
A3: FS 1
A4: FS 2
A5: FS 3
A6: HTM 0
A7: HTM 1
A8: HTM 2
A9: HTM 3
A10: Senioren Handicap
A11: Trio
A12: Quartett

Sheet Instruction for Use
A1: Preparation | B1: insert all teams into tab "List of Competitors", do not delete a line / cell / column, just leave it blank when there are no competitors, so not change tables
B2: Insert the competition's name, place and date into tab "List of Competitors" in B2 / C2
A4: During Competition | B4: Insert Points according to judging sheets
B5: you can hide the deductions (by clicking on + or - above column V)
B6: The ranking automatically takes into account teamwork, flow and dynamism in the event of a points tie
B7: in case of further equality of points, changes have to be made manually
B8: It is automatically taken into account whether two or three judges judge in classes 0-2, or whether four or three judges judge in class 3
B9: Abandonments / disqualifications must currently be entered manually in the overview.
A11: Export Results | B11: Hide all tabs that are not required for the PDF (right click on tab "List of Competitors" and the classes without competitors - "Hide")
B12: all empty lines (in the individual classes as well as in the overview) can be hidden for clarity (select lines, right-click, "hide")
B13: File - Export - Create PDF document - Options - Select entire workbook
A15: After the Competition | B15: After thorough examination, log on to the DDI website, submit results: https://www.dogdance.info/de/turniere/veranstalter/result

Sheet List of Competitors
B1: Torneo / Luogo | C1: Data
A4: # | B4: Classi | C4: Nome | D4: Cognome | E4: Cane | G4: # | H4: Classi | I4: Nome | J4: Cognome | K4: Cane | M4: # | N4: Classi | O4: Nome | P4: Cognome | Q4: Cane | S4: # | T4: Classi | U4: Nome | V4: Cognome | W4: Cane
A5: 1 | B5: HTM 0 | C5: Lisa | D5: Puccinelli | E5: Daisy | G5: 1 | H5: HTM 1 | M5: 1 | N5: HTM 2 | S5: 1 | T5: HTM 3 | U5: Melissa | V5: Munoz | W5: Krystal
A6: 2 | B6: HTM 0 | G6: 2 | H6: HTM 1 | M6: 2 | N6: HTM 2 | S6: 2 | T6: HTM 3
A7: 3 | B7: HTM 0 | G7: 3 | H7: HTM 1 | M7: 3 | N7: HTM 2 | S7: 3 | T7: HTM 3
A8: 4 | B8: HTM 0 | G8: 4 | H8: HTM 1 | M8: 4 | N8: HTM 2 | S8: 4 | T8: HTM 3
A9: 5 | B9: HTM 0 | G9: 5 | H9: HTM 1 | M9: 5 | N9: HTM 2 | S9: 5 | T9: HTM 3
A10: 6 | B10: HTM 0 | G10: 6 | H10: HTM 1 | M10: 6 | N10: HTM 2 | S10: 6 | T10: HTM 3
A11: 7 | B11: HTM 0 | G11: 7 | H11: HTM 1 | M11: 7 | N11: HTM 2 | S11: 7 | T11: HTM 3
A12: 8 | B12: HTM 0 | G12: 8 | H12: HTM 1 | M12: 8 | N12: HTM 2 | S12: 8 | T12: HTM 3
A13: 9 | B13: HTM 0 | G13: 9 | H13: HTM 1 | M13: 9 | N13: HTM 2 | S13: 9 | T13: HTM 3
A14: 10 | B14: HTM 0 | G14: 10 | H14: HTM 1 | M14: 10 | N14: HTM 2 | S14: 10 | T14: HTM 3
A15: 11 | B15: HTM 0 | G15: 11 | H15: HTM 1 | M15: 11 | N15: HTM 2 | S15: 11 | T15: HTM 3
A16: 12 | B16: HTM 0 | G16: 12 | H16: HTM 1 | M16: 12 | N16: HTM 2 | S16: 12 | T16: HTM 3
A17: 13 | B17: HTM 0 | G17: 13 | H17: HTM 1 | M17: 13 | N17: HTM 2 | S17: 13 | T17: HTM 3
... A24: 20 | B24: HTM 0 | G24: 20 | H24: HTM 1 | M24: 20 | N24: HTM 2 | S24: 20 | T24: HTM 3
A26: # | B26: Classi | C26: Nome | D26: Cognome | E26: Cane | G26: # | H26: Classi | I26: Nome | J26: Cognome | K26: Cane | M26: # | N26: Classi | O26: Nome | P26: Cognome | Q26: Cane | S26: # | T26: Classi | U26: Nome | V26: Cognome | W26: Cane
A27: 1 | B27: FS 0 | C27: Camilla | D27: Falco | E27: Argo | G27: 1 | H27: FS 1 | I27: Lisa | J27: Puccinelli | K27: Daisy | M27: 1 | N27: FS 2 | O27: Davide | P27: Alboraletti | Q27: Viper | S27: 1 | T27: FS 3 | U27: Claudia | V27: Bruschi | W27: Rocky
A28: 2 | B28: FS 0 | C28: Marica | D28: Inserra | E28: Blu | G28: 2 | H28: FS 1 | I28: Lucia | J28: Colombo | K28: Aaron | M28: 2 | N28: FS 2 | O28: Melissa | P28: Munoz | Q28: Ghiaccio | S28: 2 | T28: FS 3
A29: 3 | B29: FS 0 | C29: Mersia | D29: Avanzini | E29: Shelby | G29: 3 | H29: FS 1 | I29: Melissa | J29: Munoz | K29: Tazmania | M29: 3 | N29: FS 2 | S29: 3 | T29: FS 3
A30: 4 | B30: FS 0 | G30: 4 | H30: FS 1 | I30: Matteo | J30: Allegri | K30: Flash | M30: 4 | N30: FS 2 | S30: 4 | T30: FS 3
A31: 5 | B31: FS 0 | G31: 5 | H31: FS 1 | I31: Ilaria | J31: Valori | K31: Nala | M31: 5 | N31: FS 2 | S31: 5 | T31: FS 3
A32: 6 | B32: FS 0 | G32: 6 | H32: FS 1 | M32: 6 | N32: FS 2 | S32: 6 | T32: FS 3
A33: 7 | B33: FS 0 | G33: 7 | H33: FS 1 | M33: 7 | N33: FS 2 | S33: 7 | T33: FS 3
A34: 8 | B34: FS 0 | G34: 8 | H34: FS 1 | M34: 8 | N34: FS 2 | S34: 8 | T34: FS 3
A35: 9 | B35: FS 0 | G35: 9 | H35: FS 1 | M35: 9 | N35: FS 2 | S35: 9 | T35: FS 3
A36: 10 | B36: FS 0 | G36: 10 | H36: FS 1 | M36: 10 | N36: FS 2 | S36: 10 | T36: FS 3
A37: 11 | B37: FS 0 | G37: 11 | H37: FS 1 | M37: 11 | N37: FS 2 | S37: 11 | T37: FS 3
A38: 12 | B38: FS 0 | G38: 12 | H38: FS 1 | M38: 12 | N38: FS 2 | S38: 12 | T38: FS 3
A39: 13 | B39: FS 0 | G39: 13 | H39: FS 1 | M39: 13 | N39: FS 2 | S39: 13 | T39: FS 3
A40: 14 | B40: FS 0 | G40: 14 | H40: FS 1 | M40: 14 | N40: FS 2 | S40: 14 | T40: FS 3
A41: 15 | B41: FS 0 | G41: 15 | H41: FS 1 | M41: 15 | N41: FS 2 | S41: 15 | T41: FS 3
A42: 16 | B42: FS 0 | G42: 16 | H42: FS 1 | M42: 16 | N42: FS 2 | S42: 16 | T42: FS 3
A43: 17 | B43: FS 0 | G43: 17 | H43: FS 1 | M43: 17 | N43: FS 2 | S43: 17 | T43: FS 3
... A46: 20 | B46: FS 0 | G46: 20 | H46: FS 1 | M46: 20 | N46: FS 2 | S46: 20 | T46: FS 3
A48: # | B48: Classi | C48: Nome | D48: Cognome | E48: Cane | G48: # | H48: Classi | I48: Nome | J48: Cognome | K48: Cane | M48: # | N48: Classi | O48: Nome | P48: Cognome | Q48: Cane | S48: # | T48: Classi | U48: Nome | V48: Cognome | W48: Cane
A49: 1 | B49: Senioren Handicap | G49: 1 | H49: Trio | M49: 1 | N49: Quartett | S49: 1 | T49: Junior
A50: 2 | B50: Senioren Handicap | G50: 2 | H50: Trio | M50: 2 | N50: Quartett | S50: 2 | T50: Junior
A51: 3 | B51: Senioren Handicap | G51: 3 | H51: Trio | M51: 3 | N51: Quartett | S51: 3 | T51: Junior
A52: 4 | B52: Senioren Handicap | G52: 4 | H52: Trio | M52: 4 | N52: Quartett | S52: 4 | T52: Junior
A53: 5 | B53: Senioren Handicap | G53: 5 | H53: Trio | M53: 5 | N53: Quartett | S53: 5 | T53: Junior
A54: 6 | B54: Senioren Handicap | G54: 6 | H54: Trio | M54: 6 | N54: Quartett | S54: 6 | T54: Junior
A55: 7 | B55: Senioren Handicap | G55: 7 | H55: Trio | M55: 7 | N55: Quartett | S55: 7 | T55: Junior
A56: 8 | B56: Senioren Handicap | G56: 8 | H56: Trio | M56: 8 | N56: Quartett | S56: 8 | T56: Junior
A57: 9 | B57: Senioren Handicap | G57: 9 | H57: Trio | M57: 9 | N57: Quartett | S57: 9 | T57: Junior
A58: 10 | B58: Senioren Handicap | G58: 10 | H58: Trio | M58: 10 | N58: Quartett | S58: 10 | T58: Junior
A59: 11 | B59: Senioren Handicap | G59: 11 | H59: Trio | M59: 11 | N59: Quartett | S59: 11 | T59: Junior
A60: 12 | B60: Senioren Handicap | G60: 12 | H60: Trio | M60: 12 | N60: Quartett | S60: 12 | T60: Junior
... A68: 20 | B68: Senioren Handicap | G68: 20 | H68: Trio | M68: 20 | N68: Quartett | S68: 20 | T68: Junior

Sheet Overview
E1: ='List of Competitors'!B2
E2: ='List of Competitors'!C2
A5: HTM 0
E6: artistic | I6: tecnici | N6: Detrazioni di punti | U6: Risultato
A7: Posizionamento | B7: Nome | C7: Cognome | D7: Cane | E7: Team work | F7: Dinamicità | G7: Progetto | H7: Coreografia | I7: Fluidità | J7: Esecuzione | K7: Contenuto | L7: Difficoltà | M7: punti | N7: Abbaio e vocalizzazioni | O7: Salute del cane | P7: costume / Oggetti di scena | Q7: Lunghezze musicali errate | R7: Trattamento improprio del cane | S7: Contatto attivo | T7: Detrazioni di punti | U7: Totale | V7: Posizionamento | W7: punto di passaggio
A8: 1 | C8: =INDEX('HTM 0'!$C$7:$C$86,MATCH(A8,'HTM 0'!$Y$7:$Y$86,0)) -> Puccinelli | D8: =INDEX('HTM 0'!$D$7:$D$86,MATCH(A8,'HTM 0'!$Y$7:$Y$86,0)) -> Daisy | E8: =INDEX('HTM 0'!F$7:F$86,MATCH($A8,'HTM 0'!$Y$7:$Y$86,0)) -> 20.5 | F8: =INDEX('HTM 0'!G$7:G$86,MATCH($A8,'HTM 0'!$Y$7:$Y$86,0)) -> 19 | G8: =INDEX('HTM 0'!H$7:H$86,MATCH($A8,'HTM 0'!$Y$7:$Y$86,0)) -> 20.5 | H8: =INDEX('HTM 0'!I$7:I$86,MATCH($A8,'HTM 0'!$Y$7:$Y$86,0)) -> 19.5 | I8: =INDEX('HTM 0'!J$7:J$86,MATCH($A8,'HTM 0'!$Y$7:$Y$86,0)) -> 20 | J8: =INDEX('HTM 0'!K$7:K$86,MATCH($A8,'HTM 0'!$Y$7:$Y$86,0)) -> 20 | K8: =INDEX('HTM 0'!L$7:L$86,MATCH($A8,'HTM 0'!$Y$7:$Y$86,0)) -> 19.5 | L8: =INDEX('HTM 0'!M$7:M$86,MATCH($A8,'HTM 0'!$Y$7:$Y$86,0)) -> 20 | ... S8: =INDEX('HTM 0'!T$7:T$86,MATCH($A8,'HTM 0'!$Y$7:$Y$86,0)) -> 0 | T8: =INDEX('HTM 0'!V$7:V$86,MATCH($A8,'HTM 0'!$Y$7:$Y$86,0)) -> 0 | U8: =INDEX('HTM 0'!$W$7:$W$86,MATCH(A8,'HTM 0'!$Y$7:$Y$86,0)) -> 159 | V8: =INDEX('HTM 0'!$Y$7:$Y$86,MATCH(A8,'HTM 0'!$Y$7:$Y$86,0)) -> 1 | W8: =INDEX('HTM 0'!$X$7:$X$86,MATCH(A8,'HTM 0'!$Y$7:$Y$86,0)) -> Si
A9: 2 | C9: =INDEX('HTM 0'!$C$7:$C$86,MATCH(A9,'HTM 0'!$Y$7:$Y$86,0)) | D9: =INDEX('HTM 0'!$D$7:$D$86,MATCH(A9,'HTM 0'!$Y$7:$Y$86,0)) | E9: =INDEX('HTM 0'!F$7:F$86,MATCH($A9,'HTM 0'!$Y$7:$Y$86,0)) | F9: =INDEX('HTM 0'!G$7:G$86,MATCH($A9,'HTM 0'!$Y$7:$Y$86,0)) | G9: =INDEX('HTM 0'!H$7:H$86,MATCH($A9,'HTM 0'!$Y$7:$Y$86,0)) | H9: =INDEX('HTM 0'!I$7:I$86,MATCH($A9,'HTM 0'!$Y$7:$Y$86,0)) | I9: =INDEX('HTM 0'!J$7:J$86,MATCH($A9,'HTM 0'!$Y$7:$Y$86,0)) | J9: =INDEX('HTM 0'!K$7:K$86,MATCH($A9,'HTM 0'!$Y$7:$Y$86,0)) | K9: =INDEX('HTM 0'!L$7:L$86,MATCH($A9,'HTM 0'!$Y$7:$Y$86,0)) | L9: =INDEX('HTM 0'!M$7:M$86,MATCH($A9,'HTM 0'!$Y$7:$Y$86,0)) | ... S9: =INDEX('HTM 0'!T$7:T$86,MATCH($A9,'HTM 0'!$Y$7:$Y$86,0)) | T9: =INDEX('HTM 0'!V$7:V$86,MATCH($A9,'HTM 0'!$Y$7:$Y$86,0)) | U9: =INDEX('HTM 0'!$W$7:$W$86,MATCH(A9,'HTM 0'!$Y$7:$Y$86,0)) | V9: =INDEX('HTM 0'!$Y$7:$Y$86,MATCH(A9,'HTM 0'!$Y$7:$Y$86,0)) | W9: =INDEX('HTM 0'!$X$7:$X$86,MATCH(A9,'HTM 0'!$Y$7:$Y$86,0))
A10: 3 | C10: =INDEX('HTM 0'!$C$7:$C$86,MATCH(A10,'HTM 0'!$Y$7:$Y$86,0)) | D10: =INDEX('HTM 0'!$D$7:$D$86,MATCH(A10,'HTM 0'!$Y$7:$Y$86,0)) | E10: =INDEX('HTM 0'!F$7:F$86,MATCH($A10,'HTM 0'!$Y$7:$Y$86,0)) | F10: =INDEX('HTM 0'!G$7:G$86,MATCH($A10,'HTM 0'!$Y$7:$Y$86,0)) | G10: =INDEX('HTM 0'!H$7:H$86,MATCH($A10,'HTM 0'!$Y$7:$Y$86,0)) | H10: =INDEX('HTM 0'!I$7:I$86,MATCH($A10,'HTM 0'!$Y$7:$Y$86,0)) | I10: =INDEX('HTM 0'!J$7:J$86,MATCH($A10,'HTM 0'!$Y$7:$Y$86,0)) | J10: =INDEX('HTM 0'!K$7:K$86,MATCH($A10,'HTM 0'!$Y$7:$Y$86,0)) | K10: =INDEX('HTM 0'!L$7:L$86,MATCH($A10,'HTM 0'!$Y$7:$Y$86,0)) | L10: =INDEX('HTM 0'!M$7:M$86,MATCH($A10,'HTM 0'!$Y$7:$Y$86,0)) | ... S10: =INDEX('HTM 0'!T$7:T$86,MATCH($A10,'HTM 0'!$Y$7:$Y$86,0)) | T10: =INDEX('HTM 0'!V$7:V$86,MATCH($A10,'HTM 0'!$Y$7:$Y$86,0)) | U10: =INDEX('HTM 0'!$W$7:$W$86,MATCH(A10,'HTM 0'!$Y$7:$Y$86,0)) | V10: =INDEX('HTM 0'!$Y$7:$Y$86,MATCH(A10,'HTM 0'!$Y$7:$Y$86,0)) | W10: =INDEX('HTM 0'!$X$7:$X$86,MATCH(A10,'HTM 0'!$Y$7:$Y$86,0))
A11: 4 | C11: =INDEX('HTM 0'!$C$7:$C$86,MATCH(A11,'HTM 0'!$Y$7:$Y$86,0)) | D11: =INDEX('HTM 0'!$D$7:$D$86,MATCH(A11,'HTM 0'!$Y$7:$Y$86,0)) | E11: =INDEX('HTM 0'!F$7:F$86,MATCH($A11,'HTM 0'!$Y$7:$Y$86,0)) | F11: =INDEX('HTM 0'!G$7:G$86,MATCH($A11,'HTM 0'!$Y$7:$Y$86,0)) | G11: =INDEX('HTM 0'!H$7:H$86,MATCH($A11,'HTM 0'!$Y$7:$Y$86,0)) | H11: =INDEX('HTM 0'!I$7:I$86,MATCH($A11,'HTM 0'!$Y$7:$Y$86,0)) | I11: =INDEX('HTM 0'!J$7:J$86,MATCH($A11,'HTM 0'!$Y$7:$Y$86,0)) | J11: =INDEX('HTM 0'!K$7:K$86,MATCH($A11,'HTM 0'!$Y$7:$Y$86,0)) | K11: =INDEX('HTM 0'!L$7:L$86,MATCH($A11,'HTM 0'!$Y$7:$Y$86,0)) | L11: =INDEX('HTM 0'!M$7:M$86,MATCH($A11,'HTM 0'!$Y$7:$Y$86,0)) | ... S11: =INDEX('HTM 0'!T$7:T$86,MATCH($A11,'HTM 0'!$Y$7:$Y$86,0)) | T11: =INDEX('HTM 0'!V$7:V$86,MATCH($A11,'HTM 0'!$Y$7:$Y$86,0)) | U11: =INDEX('HTM 0'!$W$7:$W$86,MATCH(A11,'HTM 0'!$Y$7:$Y$86,0)) | V11: =INDEX('HTM 0'!$Y$7:$Y$86,MATCH(A11,'HTM 0'!$Y$7:$Y$86,0)) | W11: =INDEX('HTM 0'!$X$7:$X$86,MATCH(A11,'HTM 0'!$Y$7:$Y$86,0))
A12: 5 | C12: =INDEX('HTM 0'!$C$7:$C$86,MATCH(A12,'HTM 0'!$Y$7:$Y$86,0)) | D12: =INDEX('HTM 0'!$D$7:$D$86,MATCH(A12,'HTM 0'!$Y$7:$Y$86,0)) | E12: =INDEX('HTM 0'!F$7:F$86,MATCH($A12,'HTM 0'!$Y$7:$Y$86,0)) | F12: =INDEX('HTM 0'!G$7:G$86,MATCH($A12,'HTM 0'!$Y$7:$Y$86,0)) | G12: =INDEX('HTM 0'!H$7:H$86,MATCH($A12,'HTM 0'!$Y$7:$Y$86,0)) | H12: =INDEX('HTM 0'!I$7:I$86,MATCH($A12,'HTM 0'!$Y$7:$Y$86,0)) | I12: =INDEX('HTM 0'!J$7:J$86,MATCH($A12,'HTM 0'!$Y$7:$Y$86,0)) | J12: =INDEX('HTM 0'!K$7:K$86,MATCH($A12,'HTM 0'!$Y$7:$Y$86,0)) | K12: =INDEX('HTM 0'!L$7:L$86,MATCH($A12,'HTM 0'!$Y$7:$Y$86,0)) | L12: =INDEX('HTM 0'!M$7:M$86,MATCH($A12,'HTM 0'!$Y$7:$Y$86,0)) | ... S12: =INDEX('HTM 0'!T$7:T$86,MATCH($A12,'HTM 0'!$Y$7:$Y$86,0)) | T12: =INDEX('HTM 0'!V$7:V$86,MATCH($A12,'HTM 0'!$Y$7:$Y$86,0)) | U12: =INDEX('HTM 0'!$W$7:$W$86,MATCH(A12,'HTM 0'!$Y$7:$Y$86,0)) | V12: =INDEX('HTM 0'!$Y$7:$Y$86,MATCH(A12,'HTM 0'!$Y$7:$Y$86,0)) | W12: =INDEX('HTM 0'!$X$7:$X$86,MATCH(A12,'HTM 0'!$Y$7:$Y$86,0))
A13: 6 | C13: =INDEX('HTM 0'!$C$7:$C$86,MATCH(A13,'HTM 0'!$Y$7:$Y$86,0)) | D13: =INDEX('HTM 0'!$D$7:$D$86,MATCH(A13,'HTM 0'!$Y$7:$Y$86,0)) | E13: =INDEX('HTM 0'!F$7:F$86,MATCH($A13,'HTM 0'!$Y$7:$Y$86,0)) | F13: =INDEX('HTM 0'!G$7:G$86,MATCH($A13,'HTM 0'!$Y$7:$Y$86,0)) | G13: =INDEX('HTM 0'!H$7:H$86,MATCH($A13,'HTM 0'!$Y$7:$Y$86,0)) | H13: =INDEX('HTM 0'!I$7:I$86,MATCH($A13,'HTM 0'!$Y$7:$Y$86,0)) | I13: =INDEX('HTM 0'!J$7:J$86,MATCH($A13,'HTM 0'!$Y$7:$Y$86,0)) | J13: =INDEX('HTM 0'!K$7:K$86,MATCH($A13,'HTM 0'!$Y$7:$Y$86,0)) | K13: =INDEX('HTM 0'!L$7:L$86,MATCH($A13,'HTM 0'!$Y$7:$Y$86,0)) | L13: =INDEX('HTM 0'!M$7:M$86,MATCH($A13,'HTM 0'!$Y$7:$Y$86,0)) | ... S13: =INDEX('HTM 0'!T$7:T$86,MATCH($A13,'HTM 0'!$Y$7:$Y$86,0)) | T13: =INDEX('HTM 0'!V$7:V$86,MATCH($A13,'HTM 0'!$Y$7:$Y$86,0)) | U13: =INDEX('HTM 0'!$W$7:$W$86,MATCH(A13,'HTM 0'!$Y$7:$Y$86,0)) | V13: =INDEX('HTM 0'!$Y$7:$Y$86,MATCH(A13,'HTM 0'!$Y$7:$Y$86,0)) | W13: =INDEX('HTM 0'!$X$7:$X$86,MATCH(A13,'HTM 0'!$Y$7:$Y$86,0))
A14: 7 | C14: =INDEX('HTM 0'!$C$7:$C$86,MATCH(A14,'HTM 0'!$Y$7:$Y$86,0)) | D14: =INDEX('HTM 0'!$D$7:$D$86,MATCH(A14,'HTM 0'!$Y$7:$Y$86,0)) | E14: =INDEX('HTM 0'!F$7:F$86,MATCH($A14,'HTM 0'!$Y$7:$Y$86,0)) | F14: =INDEX('HTM 0'!G$7:G$86,MATCH($A14,'HTM 0'!$Y$7:$Y$86,0)) | G14: =INDEX('HTM 0'!H$7:H$86,MATCH($A14,'HTM 0'!$Y$7:$Y$86,0)) | H14: =INDEX('HTM 0'!I$7:I$86,MATCH($A14,'HTM 0'!$Y$7:$Y$86,0)) | I14: =INDEX('HTM 0'!J$7:J$86,MATCH($A14,'HTM 0'!$Y$7:$Y$86,0)) | J14: =INDEX('HTM 0'!K$7:K$86,MATCH($A14,'HTM 0'!$Y$7:$Y$86,0)) | K14: =INDEX('HTM 0'!L$7:L$86,MATCH($A14,'HTM 0'!$Y$7:$Y$86,0)) | L14: =INDEX('HTM 0'!M$7:M$86,MATCH($A14,'HTM 0'!$Y$7:$Y$86,0)) | ... S14: =INDEX('HTM 0'!T$7:T$86,MATCH($A14,'HTM 0'!$Y$7:$Y$86,0)) | T14: =INDEX('HTM 0'!V$7:V$86,MATCH($A14,'HTM 0'!$Y$7:$Y$86,0)) | U14: =INDEX('HTM 0'!$W$7:$W$86,MATCH(A14,'HTM 0'!$Y$7:$Y$86,0)) | V14: =INDEX('HTM 0'!$Y$7:$Y$86,MATCH(A14,'HTM 0'!$Y$7:$Y$86,0)) | W14: =INDEX('HTM 0'!$X$7:$X$86,MATCH(A14,'HTM 0'!$Y$7:$Y$86,0))
A15: 8 | C15: =INDEX('HTM 0'!$C$7:$C$86,MATCH(A15,'HTM 0'!$Y$7:$Y$86,0)) | D15: =INDEX('HTM 0'!$D$7:$D$86,MATCH(A15,'HTM 0'!$Y$7:$Y$86,0)) | E15: =INDEX('HTM 0'!F$7:F$86,MATCH($A15,'HTM 0'!$Y$7:$Y$86,0)) | F15: =INDEX('HTM 0'!G$7:G$86,MATCH($A15,'HTM 0'!$Y$7:$Y$86,0)) | G15: =INDEX('HTM 0'!H$7:H$86,MATCH($A15,'HTM 0'!$Y$7:$Y$86,0)) | H15: =INDEX('HTM 0'!I$7:I$86,MATCH($A15,'HTM 0'!$Y$7:$Y$86,0)) | I15: =INDEX('HTM 0'!J$7:J$86,MATCH($A15,'HTM 0'!$Y$7:$Y$86,0)) | J15: =INDEX('HTM 0'!K$7:K$86,MATCH($A15,'HTM 0'!$Y$7:$Y$86,0)) | K15: =INDEX('HTM 0'!L$7:L$86,MATCH($A15,'HTM 0'!$Y$7:$Y$86,0)) | L15: =INDEX('HTM 0'!M$7:M$86,MATCH($A15,'HTM 0'!$Y$7:$Y$86,0)) | ... S15: =INDEX('HTM 0'!T$7:T$86,MATCH($A15,'HTM 0'!$Y$7:$Y$86,0)) | T15: =INDEX('HTM 0'!V$7:V$86,MATCH($A15,'HTM 0'!$Y$7:$Y$86,0)) | U15: =INDEX('HTM 0'!$W$7:$W$86,MATCH(A15,'HTM 0'!$Y$7:$Y$86,0)) | V15: =INDEX('HTM 0'!$Y$7:$Y$86,MATCH(A15,'HTM 0'!$Y$7:$Y$86,0)) | W15: =INDEX('HTM 0'!$X$7:$X$86,MATCH(A15,'HTM 0'!$Y$7:$Y$86,0))
A16: 9 | C16: =INDEX('HTM 0'!$C$7:$C$86,MATCH(A16,'HTM 0'!$Y$7:$Y$86,0)) | D16: =INDEX('HTM 0'!$D$7:$D$86,MATCH(A16,'HTM 0'!$Y$7:$Y$86,0)) | E16: =INDEX('HTM 0'!F$7:F$86,MATCH($A16,'HTM 0'!$Y$7:$Y$86,0)) | F16: =INDEX('HTM 0'!G$7:G$86,MATCH($A16,'HTM 0'!$Y$7:$Y$86,0)) | G16: =INDEX('HTM 0'!H$7:H$86,MATCH($A16,'HTM 0'!$Y$7:$Y$86,0)) | H16: =INDEX('HTM 0'!I$7:I$86,MATCH($A16,'HTM 0'!$Y$7:$Y$86,0)) | I16: =INDEX('HTM 0'!J$7:J$86,MATCH($A16,'HTM 0'!$Y$7:$Y$86,0)) | J16: =INDEX('HTM 0'!K$7:K$86,MATCH($A16,'HTM 0'!$Y$7:$Y$86,0)) | K16: =INDEX('HTM 0'!L$7:L$86,MATCH($A16,'HTM 0'!$Y$7:$Y$86,0)) | L16: =INDEX('HTM 0'!M$7:M$86,MATCH($A16,'HTM 0'!$Y$7:$Y$86,0)) | ... S16: =INDEX('HTM 0'!T$7:T$86,MATCH($A16,'HTM 0'!$Y$7:$Y$86,0)) | T16: =INDEX('HTM 0'!V$7:V$86,MATCH($A16,'HTM 0'!$Y$7:$Y$86,0)) | U16: =INDEX('HTM 0'!$W$7:$W$86,MATCH(A16,'HTM 0'!$Y$7:$Y$86,0)) | V16: =INDEX('HTM 0'!$Y$7:$Y$86,MATCH(A16,'HTM 0'!$Y$7:$Y$86,0)) | W16: =INDEX('HTM 0'!$X$7:$X$86,MATCH(A16,'HTM 0'!$Y$7:$Y$86,0))
A17: 10 | C17: =INDEX('HTM 0'!$C$7:$C$86,MATCH(A17,'HTM 0'!$Y$7:$Y$86,0)) | D17: =INDEX('HTM 0'!$D$7:$D$86,MATCH(A17,'HTM 0'!$Y$7:$Y$86,0)) | E17: =INDEX('HTM 0'!F$7:F$86,MATCH($A17,'HTM 0'!$Y$7:$Y$86,0)) | F17: =INDEX('HTM 0'!G$7:G$86,MATCH($A17,'HTM 0'!$Y$7:$Y$86,0)) | G17: =INDEX('HTM 0'!H$7:H$86,MATCH($A17,'HTM 0'!$Y$7:$Y$86,0)) | H17: =INDEX('HTM 0'!I$7:I$86,MATCH($A17,'HTM 0'!$Y$7:$Y$86,0)) | I17: =INDEX('HTM 0'!J$7:J$86,MATCH($A17,'HTM 0'!$Y$7:$Y$86,0)) | J17: =INDEX('HTM 0'!K$7:K$86,MATCH($A17,'HTM 0'!$Y$7:$Y$86,0)) | K17: =INDEX('HTM 0'!L$7:L$86,MATCH($A17,'HTM 0'!$Y$7:$Y$86,0)) | L17: =INDEX('HTM 0'!M$7:M$86,MATCH($A17,'HTM 0'!$Y$7:$Y$86,0)) | ... S17: =INDEX('HTM 0'!T$7:T$86,MATCH($A17,'HTM 0'!$Y$7:$Y$86,0)) | T17: =INDEX('HTM 0'!V$7:V$86,MATCH($A17,'HTM 0'!$Y$7:$Y$86,0)) | U17: =INDEX('HTM 0'!$W$7:$W$86,MATCH(A17,'HTM 0'!$Y$7:$Y$86,0)) | V17: =INDEX('HTM 0'!$Y$7:$Y$86,MATCH(A17,'HTM 0'!$Y$7:$Y$86,0)) | W17: =INDEX('HTM 0'!$X$7:$X$86,MATCH(A17,'HTM 0'!$Y$7:$Y$86,0))
A18: 11 | C18: =INDEX('HTM 0'!$C$7:$C$86,MATCH(A18,'HTM 0'!$Y$7:$Y$86,0)) | D18: =INDEX('HTM 0'!$D$7:$D$86,MATCH(A18,'HTM 0'!$Y$7:$Y$86,0)) | E18: =INDEX('HTM 0'!F$7:F$86,MATCH($A18,'HTM 0'!$Y$7:$Y$86,0)) | F18: =INDEX('HTM 0'!G$7:G$86,MATCH($A18,'HTM 0'!$Y$7:$Y$86,0)) | G18: =INDEX('HTM 0'!H$7:H$86,MATCH($A18,'HTM 0'!$Y$7:$Y$86,0)) | H18: =INDEX('HTM 0'!I$7:I$86,MATCH($A18,'HTM 0'!$Y$7:$Y$86,0)) | I18: =INDEX('HTM 0'!J$7:J$86,MATCH($A18,'HTM 0'!$Y$7:$Y$86,0)) | J18: =INDEX('HTM 0'!K$7:K$86,MATCH($A18,'HTM 0'!$Y$7:$Y$86,0)) | K18: =INDEX('HTM 0'!L$7:L$86,MATCH($A18,'HTM 0'!$Y$7:$Y$86,0)) | L18: =INDEX('HTM 0'!M$7:M$86,MATCH($A18,'HTM 0'!$Y$7:$Y$86,0)) | ... S18: =INDEX('HTM 0'!T$7:T$86,MATCH($A18,'HTM 0'!$Y$7:$Y$86,0)) | T18: =INDEX('HTM 0'!V$7:V$86,MATCH($A18,'HTM 0'!$Y$7:$Y$86,0)) | U18: =INDEX('HTM 0'!$W$7:$W$86,MATCH(A18,'HTM 0'!$Y$7:$Y$86,0)) | V18: =INDEX('HTM 0'!$Y$7:$Y$86,MATCH(A18,'HTM 0'!$Y$7:$Y$86,0)) | W18: =INDEX('HTM 0'!$X$7:$X$86,MATCH(A18,'HTM 0'!$Y$7:$Y$86,0))
A19: 12 | C19: =INDEX('HTM 0'!$C$7:$C$86,MATCH(A19,'HTM 0'!$Y$7:$Y$86,0)) | D19: =INDEX('HTM 0'!$D$7:$D$86,MATCH(A19,'HTM 0'!$Y$7:$Y$86,0)) | E19: =INDEX('HTM 0'!F$7:F$86,MATCH($A19,'HTM 0'!$Y$7:$Y$86,0)) | F19: =INDEX('HTM 0'!G$7:G$86,MATCH($A19,'HTM 0'!$Y$7:$Y$86,0)) | G19: =INDEX('HTM 0'!H$7:H$86,MATCH($A19,'HTM 0'!$Y$7:$Y$86,0)) | H19: =INDEX('HTM 0'!I$7:I$86,MATCH($A19,'HTM 0'!$Y$7:$Y$86,0)) | I19: =INDEX('HTM 0'!J$7:J$86,MATCH($A19,'HTM 0'!$Y$7:$Y$86,0)) | J19: =INDEX('HTM 0'!K$7:K$86,MATCH($A19,'HTM 0'!$Y$7:$Y$86,0)) | K19: =INDEX('HTM 0'!L$7:L$86,MATCH($A19,'HTM 0'!$Y$7:$Y$86,0)) | L19: =INDEX('HTM 0'!M$7:M$86,MATCH($A19,'HTM 0'!$Y$7:$Y$86,0)) | ... S19: =INDEX('HTM 0'!T$7:T$86,MATCH($A19,'HTM 0'!$Y$7:$Y$86,0)) | T19: =INDEX('HTM 0'!V$7:V$86,MATCH($A19,'HTM 0'!$Y$7:$Y$86,0)) | U19: =INDEX('HTM 0'!$W$7:$W$86,MATCH(A19,'HTM 0'!$Y$7:$Y$86,0)) | V19: =INDEX('HTM 0'!$Y$7:$Y$86,MATCH(A19,'HTM 0'!$Y$7:$Y$86,0)) | W19: =INDEX('HTM 0'!$X$7:$X$86,MATCH(A19,'HTM 0'!$Y$7:$Y$86,0))
... A27: 20 | C27: =INDEX('HTM 0'!$C$7:$C$86,MATCH(A27,'HTM 0'!$Y$7:$Y$86,0)) | D27: =INDEX('HTM 0'!$D$7:$D$86,MATCH(A27,'HTM 0'!$Y$7:$Y$86,0)) | E27: =INDEX('HTM 0'!F$7:F$86,MATCH($A27,'HTM 0'!$Y$7:$Y$86,0)) | F27: =INDEX('HTM 0'!G$7:G$86,MATCH($A27,'HTM 0'!$Y$7:$Y$86,0)) | G27: =INDEX('HTM 0'!H$7:H$86,MATCH($A27,'HTM 0'!$Y$7:$Y$86,0)) | H27: =INDEX('HTM 0'!I$7:I$86,MATCH($A27,'HTM 0'!$Y$7:$Y$86,0)) | I27: =INDEX('HTM 0'!J$7:J$86,MATCH($A27,'HTM 0'!$Y$7:$Y$86,0)) | J27: =INDEX('HTM 0'!K$7:K$86,MATCH($A27,'HTM 0'!$Y$7:$Y$86,0)) | K27: =INDEX('HTM 0'!L$7:L$86,MATCH($A27,'HTM 0'!$Y$7:$Y$86,0)) | L27: =INDEX('HTM 0'!M$7:M$86,MATCH($A27,'HTM 0'!$Y$7:$Y$86,0)) | ... S27: =INDEX('HTM 0'!T$7:T$86,MATCH($A27,'HTM 0'!$Y$7:$Y$86,0)) | T27: =INDEX('HTM 0'!V$7:V$86,MATCH($A27,'HTM 0'!$Y$7:$Y$86,0)) | U27: =INDEX('HTM 0'!$W$7:$W$86,MATCH(A27,'HTM 0'!$Y$7:$Y$86,0)) | V27: =INDEX('HTM 0'!$Y$7:$Y$86,MATCH(A27,'HTM 0'!$Y$7:$Y$86,0)) | W27: =INDEX('HTM 0'!$X$7:$X$86,MATCH(A27,'HTM 0'!$Y$7:$Y$86,0))
A29: HTM 1
E30: artistic | I30: tecnici | N30: Detrazioni di punti | U30: Risultato
A31: Posizionamento | B31: Nome | C31: Cognome | D31: Cane | E31: Team work | F31: Dinamicità | G31: Concetto | H31: Coreografia | I31: Fluidità | J31: Esecuzione | K31: Contenuto | L31: Difficoltà | M31: punti | N31: Abbaio e vocalizzazioni | O31: Salute del cane | P31: costume / Oggetti di scena | Q31: Lunghezze musicali errate | R31: Trattamento improprio del cane | S31: Contatto attivo | T31: Detrazioni di punti | U31: Totale | V31: Posizionamento | W31: punto di passaggio
A32: 1 | C32: =INDEX('HTM 1'!$C$7:$C$86,MATCH(A32,'HTM 1'!$Y$7:$Y$86,0)) | D32: =INDEX('HTM 1'!$D$7:$D$86,MATCH(A32,'HTM 1'!$Y$7:$Y$86,0)) | E32: =INDEX('HTM 1'!F$7:F$86,MATCH($A32,'HTM 1'!$Y$7:$Y$86,0)) | F32: =INDEX('HTM 1'!G$7:G$86,MATCH($A32,'HTM 1'!$Y$7:$Y$86,0)) | G32: =INDEX('HTM 1'!H$7:H$86,MATCH($A32,'HTM 1'!$Y$7:$Y$86,0)) | H32: =INDEX('HTM 1'!I$7:I$86,MATCH($A32,'HTM 1'!$Y$7:$Y$86,0)) | I32: =INDEX('HTM 1'!J$7:J$86,MATCH($A32,'HTM 1'!$Y$7:$Y$86,0)) | J32: =INDEX('HTM 1'!K$7:K$86,MATCH($A32,'HTM 1'!$Y$7:$Y$86,0)) | K32: =INDEX('HTM 1'!L$7:L$86,MATCH($A32,'HTM 1'!$Y$7:$Y$86,0)) | L32: =INDEX('HTM 1'!M$7:M$86,MATCH($A32,'HTM 1'!$Y$7:$Y$86,0)) | ... S32: =INDEX('HTM 1'!T$7:T$86,MATCH($A32,'HTM 1'!$Y$7:$Y$86,0)) | T32: =INDEX('HTM 1'!V$7:V$86,MATCH($A32,'HTM 1'!$Y$7:$Y$86,0)) | U32: =INDEX('HTM 1'!$W$7:$W$86,MATCH(A32,'HTM 1'!$Y$7:$Y$86,0)) | V32: =INDEX('HTM 1'!$Y$7:$Y$86,MATCH(A32,'HTM 1'!$Y$7:$Y$86,0)) | W32: =INDEX('HTM 1'!$X$7:$X$86,MATCH(A32,'HTM 1'!$Y$7:$Y$86,0))
A33: 2 | C33: =INDEX('HTM 1'!$C$7:$C$86,MATCH(A33,'HTM 1'!$Y$7:$Y$86,0)) | D33: =INDEX('HTM 1'!$D$7:$D$86,MATCH(A33,'HTM 1'!$Y$7:$Y$86,0)) | E33: =INDEX('HTM 1'!F$7:F$86,MATCH($A33,'HTM 1'!$Y$7:$Y$86,0)) | F33: =INDEX('HTM 1'!G$7:G$86,MATCH($A33,'HTM 1'!$Y$7:$Y$86,0)) | G33: =INDEX('HTM 1'!H$7:H$86,MATCH($A33,'HTM 1'!$Y$7:$Y$86,0)) | H33: =INDEX('HTM 1'!I$7:I$86,MATCH($A33,'HTM 1'!$Y$7:$Y$86,0)) | I33: =INDEX('HTM 1'!J$7:J$86,MATCH($A33,'HTM 1'!$Y$7:$Y$86,0)) | J33: =INDEX('HTM 1'!K$7:K$86,MATCH($A33,'HTM 1'!$Y$7:$Y$86,0)) | K33: =INDEX('HTM 1'!L$7:L$86,MATCH($A33,'HTM 1'!$Y$7:$Y$86,0)) | L33: =INDEX('HTM 1'!M$7:M$86,MATCH($A33,'HTM 1'!$Y$7:$Y$86,0)) | ... S33: =INDEX('HTM 1'!T$7:T$86,MATCH($A33,'HTM 1'!$Y$7:$Y$86,0)) | T33: =INDEX('HTM 1'!V$7:V$86,MATCH($A33,'HTM 1'!$Y$7:$Y$86,0)) | U33: =INDEX('HTM 1'!$W$7:$W$86,MATCH(A33,'HTM 1'!$Y$7:$Y$86,0)) | V33: =INDEX('HTM 1'!$Y$7:$Y$86,MATCH(A33,'HTM 1'!$Y$7:$Y$86,0)) | W33: =INDEX('HTM 1'!$X$7:$X$86,MATCH(A33,'HTM 1'!$Y$7:$Y$86,0))
A34: 3 | C34: =INDEX('HTM 1'!$C$7:$C$86,MATCH(A34,'HTM 1'!$Y$7:$Y$86,0)) | D34: =INDEX('HTM 1'!$D$7:$D$86,MATCH(A34,'HTM 1'!$Y$7:$Y$86,0)) | E34: =INDEX('HTM 1'!F$7:F$86,MATCH($A34,'HTM 1'!$Y$7:$Y$86,0)) | F34: =INDEX('HTM 1'!G$7:G$86,MATCH($A34,'HTM 1'!$Y$7:$Y$86,0)) | G34: =INDEX('HTM 1'!H$7:H$86,MATCH($A34,'HTM 1'!$Y$7:$Y$86,0)) | H34: =INDEX('HTM 1'!I$7:I$86,MATCH($A34,'HTM 1'!$Y$7:$Y$86,0)) | I34: =INDEX('HTM 1'!J$7:J$86,MATCH($A34,'HTM 1'!$Y$7:$Y$86,0)) | J34: =INDEX('HTM 1'!K$7:K$86,MATCH($A34,'HTM 1'!$Y$7:$Y$86,0)) | K34: =INDEX('HTM 1'!L$7:L$86,MATCH($A34,'HTM 1'!$Y$7:$Y$86,0)) | L34: =INDEX('HTM 1'!M$7:M$86,MATCH($A34,'HTM 1'!$Y$7:$Y$86,0)) | ... S34: =INDEX('HTM 1'!T$7:T$86,MATCH($A34,'HTM 1'!$Y$7:$Y$86,0)) | T34: =INDEX('HTM 1'!V$7:V$86,MATCH($A34,'HTM 1'!$Y$7:$Y$86,0)) | U34: =INDEX('HTM 1'!$W$7:$W$86,MATCH(A34,'HTM 1'!$Y$7:$Y$86,0)) | V34: =INDEX('HTM 1'!$Y$7:$Y$86,MATCH(A34,'HTM 1'!$Y$7:$Y$86,0)) | W34: =INDEX('HTM 1'!$X$7:$X$86,MATCH(A34,'HTM 1'!$Y$7:$Y$86,0))
A35: 4 | C35: =INDEX('HTM 1'!$C$7:$C$86,MATCH(A35,'HTM 1'!$Y$7:$Y$86,0)) | D35: =INDEX('HTM 1'!$D$7:$D$86,MATCH(A35,'HTM 1'!$Y$7:$Y$86,0)) | E35: =INDEX('HTM 1'!F$7:F$86,MATCH($A35,'HTM 1'!$Y$7:$Y$86,0)) | F35: =INDEX('HTM 1'!G$7:G$86,MATCH($A35,'HTM 1'!$Y$7:$Y$86,0)) | G35: =INDEX('HTM 1'!H$7:H$86,MATCH($A35,'HTM 1'!$Y$7:$Y$86,0)) | H35: =INDEX('HTM 1'!I$7:I$86,MATCH($A35,'HTM 1'!$Y$7:$Y$86,0)) | I35: =INDEX('HTM 1'!J$7:J$86,MATCH($A35,'HTM 1'!$Y$7:$Y$86,0)) | J35: =INDEX('HTM 1'!K$7:K$86,MATCH($A35,'HTM 1'!$Y$7:$Y$86,0)) | K35: =INDEX('HTM 1'!L$7:L$86,MATCH($A35,'HTM 1'!$Y$7:$Y$86,0)) | L35: =INDEX('HTM 1'!M$7:M$86,MATCH($A35,'HTM 1'!$Y$7:$Y$86,0)) | ... S35: =INDEX('HTM 1'!T$7:T$86,MATCH($A35,'HTM 1'!$Y$7:$Y$86,0)) | T35: =INDEX('HTM 1'!V$7:V$86,MATCH($A35,'HTM 1'!$Y$7:$Y$86,0)) | U35: =INDEX('HTM 1'!$W$7:$W$86,MATCH(A35,'HTM 1'!$Y$7:$Y$86,0)) | V35: =INDEX('HTM 1'!$Y$7:$Y$86,MATCH(A35,'HTM 1'!$Y$7:$Y$86,0)) | W35: =INDEX('HTM 1'!$X$7:$X$86,MATCH(A35,'HTM 1'!$Y$7:$Y$86,0))
A36: 5 | C36: =INDEX('HTM 1'!$C$7:$C$86,MATCH(A36,'HTM 1'!$Y$7:$Y$86,0)) | D36: =INDEX('HTM 1'!$D$7:$D$86,MATCH(A36,'HTM 1'!$Y$7:$Y$86,0)) | E36: =INDEX('HTM 1'!F$7:F$86,MATCH($A36,'HTM 1'!$Y$7:$Y$86,0)) | F36: =INDEX('HTM 1'!G$7:G$86,MATCH($A36,'HTM 1'!$Y$7:$Y$86,0)) | G36: =INDEX('HTM 1'!H$7:H$86,MATCH($A36,'HTM 1'!$Y$7:$Y$86,0)) | H36: =INDEX('HTM 1'!I$7:I$86,MATCH($A36,'HTM 1'!$Y$7:$Y$86,0)) | I36: =INDEX('HTM 1'!J$7:J$86,MATCH($A36,'HTM 1'!$Y$7:$Y$86,0)) | J36: =INDEX('HTM 1'!K$7:K$86,MATCH($A36,'HTM 1'!$Y$7:$Y$86,0)) | K36: =INDEX('HTM 1'!L$7:L$86,MATCH($A36,'HTM 1'!$Y$7:$Y$86,0)) | L36: =INDEX('HTM 1'!M$7:M$86,MATCH($A36,'HTM 1'!$Y$7:$Y$86,0)) | ... S36: =INDEX('HTM 1'!T$7:T$86,MATCH($A36,'HTM 1'!$Y$7:$Y$86,0)) | T36: =INDEX('HTM 1'!V$7:V$86,MATCH($A36,'HTM 1'!$Y$7:$Y$86,0)) | U36: =INDEX('HTM 1'!$W$7:$W$86,MATCH(A36,'HTM 1'!$Y$7:$Y$86,0)) | V36: =INDEX('HTM 1'!$Y$7:$Y$86,MATCH(A36,'HTM 1'!$Y$7:$Y$86,0)) | W36: =INDEX('HTM 1'!$X$7:$X$86,MATCH(A36,'HTM 1'!$Y$7:$Y$86,0))
A37: 6 | C37: =INDEX('HTM 1'!$C$7:$C$86,MATCH(A37,'HTM 1'!$Y$7:$Y$86,0)) | D37: =INDEX('HTM 1'!$D$7:$D$86,MATCH(A37,'HTM 1'!$Y$7:$Y$86,0)) | E37: =INDEX('HTM 1'!F$7:F$86,MATCH($A37,'HTM 1'!$Y$7:$Y$86,0)) | F37: =INDEX('HTM 1'!G$7:G$86,MATCH($A37,'HTM 1'!$Y$7:$Y$86,0)) | G37: =INDEX('HTM 1'!H$7:H$86,MATCH($A37,'HTM 1'!$Y$7:$Y$86,0)) | H37: =INDEX('HTM 1'!I$7:I$86,MATCH($A37,'HTM 1'!$Y$7:$Y$86,0)) | I37: =INDEX('HTM 1'!J$7:J$86,MATCH($A37,'HTM 1'!$Y$7:$Y$86,0)) | J37: =INDEX('HTM 1'!K$7:K$86,MATCH($A37,'HTM 1'!$Y$7:$Y$86,0)) | K37: =INDEX('HTM 1'!L$7:L$86,MATCH($A37,'HTM 1'!$Y$7:$Y$86,0)) | L37: =INDEX('HTM 1'!M$7:M$86,MATCH($A37,'HTM 1'!$Y$7:$Y$86,0)) | ... S37: =INDEX('HTM 1'!T$7:T$86,MATCH($A37,'HTM 1'!$Y$7:$Y$86,0)) | T37: =INDEX('HTM 1'!V$7:V$86,MATCH($A37,'HTM 1'!$Y$7:$Y$86,0)) | U37: =INDEX('HTM 1'!$W$7:$W$86,MATCH(A37,'HTM 1'!$Y$7:$Y$86,0)) | V37: =INDEX('HTM 1'!$Y$7:$Y$86,MATCH(A37,'HTM 1'!$Y$7:$Y$86,0)) | W37: =INDEX('HTM 1'!$X$7:$X$86,MATCH(A37,'HTM 1'!$Y$7:$Y$86,0))
A38: 7 | C38: =INDEX('HTM 1'!$C$7:$C$86,MATCH(A38,'HTM 1'!$Y$7:$Y$86,0)) | D38: =INDEX('HTM 1'!$D$7:$D$86,MATCH(A38,'HTM 1'!$Y$7:$Y$86,0)) | E38: =INDEX('HTM 1'!F$7:F$86,MATCH($A38,'HTM 1'!$Y$7:$Y$86,0)) | F38: =INDEX('HTM 1'!G$7:G$86,MATCH($A38,'HTM 1'!$Y$7:$Y$86,0)) | G38: =INDEX('HTM 1'!H$7:H$86,MATCH($A38,'HTM 1'!$Y$7:$Y$86,0)) | H38: =INDEX('HTM 1'!I$7:I$86,MATCH($A38,'HTM 1'!$Y$7:$Y$86,0)) | I38: =INDEX('HTM 1'!J$7:J$86,MATCH($A38,'HTM 1'!$Y$7:$Y$86,0)) | J38: =INDEX('HTM 1'!K$7:K$86,MATCH($A38,'HTM 1'!$Y$7:$Y$86,0)) | K38: =INDEX('HTM 1'!L$7:L$86,MATCH($A38,'HTM 1'!$Y$7:$Y$86,0)) | L38: =INDEX('HTM 1'!M$7:M$86,MATCH($A38,'HTM 1'!$Y$7:$Y$86,0)) | ... S38: =INDEX('HTM 1'!T$7:T$86,MATCH($A38,'HTM 1'!$Y$7:$Y$86,0)) | T38: =INDEX('HTM 1'!V$7:V$86,MATCH($A38,'HTM 1'!$Y$7:$Y$86,0)) | U38: =INDEX('HTM 1'!$W$7:$W$86,MATCH(A38,'HTM 1'!$Y$7:$Y$86,0)) | V38: =INDEX('HTM 1'!$Y$7:$Y$86,MATCH(A38,'HTM 1'!$Y$7:$Y$86,0)) | W38: =INDEX('HTM 1'!$X$7:$X$86,MATCH(A38,'HTM 1'!$Y$7:$Y$86,0))
A39: 8 | C39: =INDEX('HTM 1'!$C$7:$C$86,MATCH(A39,'HTM 1'!$Y$7:$Y$86,0)) | D39: =INDEX('HTM 1'!$D$7:$D$86,MATCH(A39,'HTM 1'!$Y$7:$Y$86,0)) | E39: =INDEX('HTM 1'!F$7:F$86,MATCH($A39,'HTM 1'!$Y$7:$Y$86,0)) | F39: =INDEX('HTM 1'!G$7:G$86,MATCH($A39,'HTM 1'!$Y$7:$Y$86,0)) | G39: =INDEX('HTM 1'!H$7:H$86,MATCH($A39,'HTM 1'!$Y$7:$Y$86,0)) | H39: =INDEX('HTM 1'!I$7:I$86,MATCH($A39,'HTM 1'!$Y$7:$Y$86,0)) | I39: =INDEX('HTM 1'!J$7:J$86,MATCH($A39,'HTM 1'!$Y$7:$Y$86,0)) | J39: =INDEX('HTM 1'!K$7:K$86,MATCH($A39,'HTM 1'!$Y$7:$Y$86,0)) | K39: =INDEX('HTM 1'!L$7:L$86,MATCH($A39,'HTM 1'!$Y$7:$Y$86,0)) | L39: =INDEX('HTM 1'!M$7:M$86,MATCH($A39,'HTM 1'!$Y$7:$Y$86,0)) | ... S39: =INDEX('HTM 1'!T$7:T$86,MATCH($A39,'HTM 1'!$Y$7:$Y$86,0)) | T39: =INDEX('HTM 1'!V$7:V$86,MATCH($A39,'HTM 1'!$Y$7:$Y$86,0)) | U39: =INDEX('HTM 1'!$W$7:$W$86,MATCH(A39,'HTM 1'!$Y$7:$Y$86,0)) | V39: =INDEX('HTM 1'!$Y$7:$Y$86,MATCH(A39,'HTM 1'!$Y$7:$Y$86,0)) | W39: =INDEX('HTM 1'!$X$7:$X$86,MATCH(A39,'HTM 1'!$Y$7:$Y$86,0))
A40: 9 | C40: =INDEX('HTM 1'!$C$7:$C$86,MATCH(A40,'HTM 1'!$Y$7:$Y$86,0)) | D40: =INDEX('HTM 1'!$D$7:$D$86,MATCH(A40,'HTM 1'!$Y$7:$Y$86,0)) | E40: =INDEX('HTM 1'!F$7:F$86,MATCH($A40,'HTM 1'!$Y$7:$Y$86,0)) | F40: =INDEX('HTM 1'!G$7:G$86,MATCH($A40,'HTM 1'!$Y$7:$Y$86,0)) | G40: =INDEX('HTM 1'!H$7:H$86,MATCH($A40,'HTM 1'!$Y$7:$Y$86,0)) | H40: =INDEX('HTM 1'!I$7:I$86,MATCH($A40,'HTM 1'!$Y$7:$Y$86,0)) | I40: =INDEX('HTM 1'!J$7:J$86,MATCH($A40,'HTM 1'!$Y$7:$Y$86,0)) | J40: =INDEX('HTM 1'!K$7:K$86,MATCH($A40,'HTM 1'!$Y$7:$Y$86,0)) | K40: =INDEX('HTM 1'!L$7:L$86,MATCH($A40,'HTM 1'!$Y$7:$Y$86,0)) | L40: =INDEX('HTM 1'!M$7:M$86,MATCH($A40,'HTM 1'!$Y$7:$Y$86,0)) | ... S40: =INDEX('HTM 1'!T$7:T$86,MATCH($A40,'HTM 1'!$Y$7:$Y$86,0)) | T40: =INDEX('HTM 1'!V$7:V$86,MATCH($A40,'HTM 1'!$Y$7:$Y$86,0)) | U40: =INDEX('HTM 1'!$W$7:$W$86,MATCH(A40,'HTM 1'!$Y$7:$Y$86,0)) | V40: =INDEX('HTM 1'!$Y$7:$Y$86,MATCH(A40,'HTM 1'!$Y$7:$Y$86,0)) | W40: =INDEX('HTM 1'!$X$7:$X$86,MATCH(A40,'HTM 1'!$Y$7:$Y$86,0))
A41: 10 | C41: =INDEX('HTM 1'!$C$7:$C$86,MATCH(A41,'HTM 1'!$Y$7:$Y$86,0)) | D41: =INDEX('HTM 1'!$D$7:$D$86,MATCH(A41,'HTM 1'!$Y$7:$Y$86,0)) | E41: =INDEX('HTM 1'!F$7:F$86,MATCH($A41,'HTM 1'!$Y$7:$Y$86,0)) | F41: =INDEX('HTM 1'!G$7:G$86,MATCH($A41,'HTM 1'!$Y$7:$Y$86,0)) | G41: =INDEX('HTM 1'!H$7:H$86,MATCH($A41,'HTM 1'!$Y$7:$Y$86,0)) | H41: =INDEX('HTM 1'!I$7:I$86,MATCH($A41,'HTM 1'!$Y$7:$Y$86,0)) | I41: =INDEX('HTM 1'!J$7:J$86,MATCH($A41,'HTM 1'!$Y$7:$Y$86,0)) | J41: =INDEX('HTM 1'!K$7:K$86,MATCH($A41,'HTM 1'!$Y$7:$Y$86,0)) | K41: =INDEX('HTM 1'!L$7:L$86,MATCH($A41,'HTM 1'!$Y$7:$Y$86,0)) | L41: =INDEX('HTM 1'!M$7:M$86,MATCH($A41,'HTM 1'!$Y$7:$Y$86,0)) | ... S41: =INDEX('HTM 1'!T$7:T$86,MATCH($A41,'HTM 1'!$Y$7:$Y$86,0)) | T41: =INDEX('HTM 1'!V$7:V$86,MATCH($A41,'HTM 1'!$Y$7:$Y$86,0)) | U41: =INDEX('HTM 1'!$W$7:$W$86,MATCH(A41,'HTM 1'!$Y$7:$Y$86,0)) | V41: =INDEX('HTM 1'!$Y$7:$Y$86,MATCH(A41,'HTM 1'!$Y$7:$Y$86,0)) | W41: =INDEX('HTM 1'!$X$7:$X$86,MATCH(A41,'HTM 1'!$Y$7:$Y$86,0))
A42: 11 | C42: =INDEX('HTM 1'!$C$7:$C$86,MATCH(A42,'HTM 1'!$Y$7:$Y$86,0)) | D42: =INDEX('HTM 1'!$D$7:$D$86,MATCH(A42,'HTM 1'!$Y$7:$Y$86,0)) | E42: =INDEX('HTM 1'!F$7:F$86,MATCH($A42,'HTM 1'!$Y$7:$Y$86,0)) | F42: =INDEX('HTM 1'!G$7:G$86,MATCH($A42,'HTM 1'!$Y$7:$Y$86,0)) | G42: =INDEX('HTM 1'!H$7:H$86,MATCH($A42,'HTM 1'!$Y$7:$Y$86,0)) | H42: =INDEX('HTM 1'!I$7:I$86,MATCH($A42,'HTM 1'!$Y$7:$Y$86,0)) | I42: =INDEX('HTM 1'!J$7:J$86,MATCH($A42,'HTM 1'!$Y$7:$Y$86,0)) | J42: =INDEX('HTM 1'!K$7:K$86,MATCH($A42,'HTM 1'!$Y$7:$Y$86,0)) | K42: =INDEX('HTM 1'!L$7:L$86,MATCH($A42,'HTM 1'!$Y$7:$Y$86,0)) | L42: =INDEX('HTM 1'!M$7:M$86,MATCH($A42,'HTM 1'!$Y$7:$Y$86,0)) | ... S42: =INDEX('HTM 1'!T$7:T$86,MATCH($A42,'HTM 1'!$Y$7:$Y$86,0)) | T42: =INDEX('HTM 1'!V$7:V$86,MATCH($A42,'HTM 1'!$Y$7:$Y$86,0)) | U42: =INDEX('HTM 1'!$W$7:$W$86,MATCH(A42,'HTM 1'!$Y$7:$Y$86,0)) | V42: =INDEX('HTM 1'!$Y$7:$Y$86,MATCH(A42,'HTM 1'!$Y$7:$Y$86,0)) | W42: =INDEX('HTM 1'!$X$7:$X$86,MATCH(A42,'HTM 1'!$Y$7:$Y$86,0))
A43: 12 | C43: =INDEX('HTM 1'!$C$7:$C$86,MATCH(A43,'HTM 1'!$Y$7:$Y$86,0)) | D43: =INDEX('HTM 1'!$D$7:$D$86,MATCH(A43,'HTM 1'!$Y$7:$Y$86,0)) | E43: =INDEX('HTM 1'!F$7:F$86,MATCH($A43,'HTM 1'!$Y$7:$Y$86,0)) | F43: =INDEX('HTM 1'!G$7:G$86,MATCH($A43,'HTM 1'!$Y$7:$Y$86,0)) | G43: =INDEX('HTM 1'!H$7:H$86,MATCH($A43,'HTM 1'!$Y$7:$Y$86,0)) | H43: =INDEX('HTM 1'!I$7:I$86,MATCH($A43,'HTM 1'!$Y$7:$Y$86,0)) | I43: =INDEX('HTM 1'!J$7:J$86,MATCH($A43,'HTM 1'!$Y$7:$Y$86,0)) | J43: =INDEX('HTM 1'!K$7:K$86,MATCH($A43,'HTM 1'!$Y$7:$Y$86,0)) | K43: =INDEX('HTM 1'!L$7:L$86,MATCH($A43,'HTM 1'!$Y$7:$Y$86,0)) | L43: =INDEX('HTM 1'!M$7:M$86,MATCH($A43,'HTM 1'!$Y$7:$Y$86,0)) | ... S43: =INDEX('HTM 1'!T$7:T$86,MATCH($A43,'HTM 1'!$Y$7:$Y$86,0)) | T43: =INDEX('HTM 1'!V$7:V$86,MATCH($A43,'HTM 1'!$Y$7:$Y$86,0)) | U43: =INDEX('HTM 1'!$W$7:$W$86,MATCH(A43,'HTM 1'!$Y$7:$Y$86,0)) | V43: =INDEX('HTM 1'!$Y$7:$Y$86,MATCH(A43,'HTM 1'!$Y$7:$Y$86,0)) | W43: =INDEX('HTM 1'!$X$7:$X$86,MATCH(A43,'HTM 1'!$Y$7:$Y$86,0))
... A51: 20 | C51: =INDEX('HTM 1'!$C$7:$C$86,MATCH(A51,'HTM 1'!$Y$7:$Y$86,0)) | D51: =INDEX('HTM 1'!$D$7:$D$86,MATCH(A51,'HTM 1'!$Y$7:$Y$86,0)) | E51: =INDEX('HTM 1'!F$7:F$86,MATCH($A51,'HTM 1'!$Y$7:$Y$86,0)) | F51: =INDEX('HTM 1'!G$7:G$86,MATCH($A51,'HTM 1'!$Y$7:$Y$86,0)) | G51: =INDEX('HTM 1'!H$7:H$86,MATCH($A51,'HTM 1'!$Y$7:$Y$86,0)) | H51: =INDEX('HTM 1'!I$7:I$86,MATCH($A51,'HTM 1'!$Y$7:$Y$86,0)) | I51: =INDEX('HTM 1'!J$7:J$86,MATCH($A51,'HTM 1'!$Y$7:$Y$86,0)) | J51: =INDEX('HTM 1'!K$7:K$86,MATCH($A51,'HTM 1'!$Y$7:$Y$86,0)) | K51: =INDEX('HTM 1'!L$7:L$86,MATCH($A51,'HTM 1'!$Y$7:$Y$86,0)) | L51: =INDEX('HTM 1'!M$7:M$86,MATCH($A51,'HTM 1'!$Y$7:$Y$86,0)) | ... S51: =INDEX('HTM 1'!T$7:T$86,MATCH($A51,'HTM 1'!$Y$7:$Y$86,0)) | T51: =INDEX('HTM 1'!V$7:V$86,MATCH($A51,'HTM 1'!$Y$7:$Y$86,0)) | U51: =INDEX('HTM 1'!$W$7:$W$86,MATCH(A51,'HTM 1'!$Y$7:$Y$86,0)) | V51: =INDEX('HTM 1'!$Y$7:$Y$86,MATCH(A51,'HTM 1'!$Y$7:$Y$86,0)) | W51: =INDEX('HTM 1'!$X$7:$X$86,MATCH(A51,'HTM 1'!$Y$7:$Y$86,0))
A53: HTM 2
E54: artistic | I54: tecnici | N54: Detrazioni di punti | U54: Risultato
A55: Posizionamento | B55: Nome | C55: Cognome | D55: Cane | E55: Team work | F55: Dinamicità | G55: Concetto | H55: Coreografia | I55: Fluidità | J55: Esecuzione | K55: Contenuto | L55: Difficoltà | M55: punti | N55: Abbaio e vocalizzazioni | O55: Salute del cane | P55: costume / Oggetti di scena | Q55: Lunghezze musicali errate | R55: Trattamento improprio del cane | S55: Contatto attivo | T55: Detrazioni di punti | U55: Totale | V55: Posizionamento | W55: punto di passaggio
A56: 1 | C56: =INDEX('HTM 2'!$C$7:$C$86,MATCH(A56,'HTM 2'!$Y$7:$Y$86,0)) | D56: =INDEX('HTM 2'!$D$7:$D$86,MATCH(A56,'HTM 2'!$Y$7:$Y$86,0)) | E56: =INDEX('HTM 2'!F$7:F$86,MATCH($A56,'HTM 2'!$Y$7:$Y$86,0)) | F56: =INDEX('HTM 2'!G$7:G$86,MATCH($A56,'HTM 2'!$Y$7:$Y$86,0)) | G56: =INDEX('HTM 2'!H$7:H$86,MATCH($A56,'HTM 2'!$Y$7:$Y$86,0)) | H56: =INDEX('HTM 2'!I$7:I$86,MATCH($A56,'HTM 2'!$Y$7:$Y$86,0)) | I56: =INDEX('HTM 2'!J$7:J$86,MATCH($A56,'HTM 2'!$Y$7:$Y$86,0)) | J56: =INDEX('HTM 2'!K$7:K$86,MATCH($A56,'HTM 2'!$Y$7:$Y$86,0)) | K56: =INDEX('HTM 2'!L$7:L$86,MATCH($A56,'HTM 2'!$Y$7:$Y$86,0)) | L56: =INDEX('HTM 2'!M$7:M$86,MATCH($A56,'HTM 2'!$Y$7:$Y$86,0)) | ... S56: =INDEX('HTM 2'!T$7:T$86,MATCH($A56,'HTM 2'!$Y$7:$Y$86,0)) | T56: =INDEX('HTM 2'!V$7:V$86,MATCH($A56,'HTM 2'!$Y$7:$Y$86,0)) | U56: =INDEX('HTM 2'!$W$7:$W$86,MATCH(A56,'HTM 2'!$Y$7:$Y$86,0)) | V56: =INDEX('HTM 2'!$Y$7:$Y$86,MATCH(A56,'HTM 2'!$Y$7:$Y$86,0)) | W56: =INDEX('HTM 2'!$X$7:$X$86,MATCH(A56,'HTM 2'!$Y$7:$Y$86,0))
A57: 2 | C57: =INDEX('HTM 2'!$C$7:$C$86,MATCH(A57,'HTM 2'!$Y$7:$Y$86,0)) | D57: =INDEX('HTM 2'!$D$7:$D$86,MATCH(A57,'HTM 2'!$Y$7:$Y$86,0)) | E57: =INDEX('HTM 2'!F$7:F$86,MATCH($A57,'HTM 2'!$Y$7:$Y$86,0)) | F57: =INDEX('HTM 2'!G$7:G$86,MATCH($A57,'HTM 2'!$Y$7:$Y$86,0)) | G57: =INDEX('HTM 2'!H$7:H$86,MATCH($A57,'HTM 2'!$Y$7:$Y$86,0)) | H57: =INDEX('HTM 2'!I$7:I$86,MATCH($A57,'HTM 2'!$Y$7:$Y$86,0)) | I57: =INDEX('HTM 2'!J$7:J$86,MATCH($A57,'HTM 2'!$Y$7:$Y$86,0)) | J57: =INDEX('HTM 2'!K$7:K$86,MATCH($A57,'HTM 2'!$Y$7:$Y$86,0)) | K57: =INDEX('HTM 2'!L$7:L$86,MATCH($A57,'HTM 2'!$Y$7:$Y$86,0)) | L57: =INDEX('HTM 2'!M$7:M$86,MATCH($A57,'HTM 2'!$Y$7:$Y$86,0)) | ... S57: =INDEX('HTM 2'!T$7:T$86,MATCH($A57,'HTM 2'!$Y$7:$Y$86,0)) | T57: =INDEX('HTM 2'!V$7:V$86,MATCH($A57,'HTM 2'!$Y$7:$Y$86,0)) | U57: =INDEX('HTM 2'!$W$7:$W$86,MATCH(A57,'HTM 2'!$Y$7:$Y$86,0)) | V57: =INDEX('HTM 2'!$Y$7:$Y$86,MATCH(A57,'HTM 2'!$Y$7:$Y$86,0)) | W57: =INDEX('HTM 2'!$X$7:$X$86,MATCH(A57,'HTM 2'!$Y$7:$Y$86,0))
A58: 3 | C58: =INDEX('HTM 2'!$C$7:$C$86,MATCH(A58,'HTM 2'!$Y$7:$Y$86,0)) | D58: =INDEX('HTM 2'!$D$7:$D$86,MATCH(A58,'HTM 2'!$Y$7:$Y$86,0)) | E58: =INDEX('HTM 2'!F$7:F$86,MATCH($A58,'HTM 2'!$Y$7:$Y$86,0)) | F58: =INDEX('HTM 2'!G$7:G$86,MATCH($A58,'HTM 2'!$Y$7:$Y$86,0)) | G58: =INDEX('HTM 2'!H$7:H$86,MATCH($A58,'HTM 2'!$Y$7:$Y$86,0)) | H58: =INDEX('HTM 2'!I$7:I$86,MATCH($A58,'HTM 2'!$Y$7:$Y$86,0)) | I58: =INDEX('HTM 2'!J$7:J$86,MATCH($A58,'HTM 2'!$Y$7:$Y$86,0)) | J58: =INDEX('HTM 2'!K$7:K$86,MATCH($A58,'HTM 2'!$Y$7:$Y$86,0)) | K58: =INDEX('HTM 2'!L$7:L$86,MATCH($A58,'HTM 2'!$Y$7:$Y$86,0)) | L58: =INDEX('HTM 2'!M$7:M$86,MATCH($A58,'HTM 2'!$Y$7:$Y$86,0)) | ... S58: =INDEX('HTM 2'!T$7:T$86,MATCH($A58,'HTM 2'!$Y$7:$Y$86,0)) | T58: =INDEX('HTM 2'!V$7:V$86,MATCH($A58,'HTM 2'!$Y$7:$Y$86,0)) | U58: =INDEX('HTM 2'!$W$7:$W$86,MATCH(A58,'HTM 2'!$Y$7:$Y$86,0)) | V58: =INDEX('HTM 2'!$Y$7:$Y$86,MATCH(A58,'HTM 2'!$Y$7:$Y$86,0)) | W58: =INDEX('HTM 2'!$X$7:$X$86,MATCH(A58,'HTM 2'!$Y$7:$Y$86,0))
A59: 4 | C59: =INDEX('HTM 2'!$C$7:$C$86,MATCH(A59,'HTM 2'!$Y$7:$Y$86,0)) | D59: =INDEX('HTM 2'!$D$7:$D$86,MATCH(A59,'HTM 2'!$Y$7:$Y$86,0)) | E59: =INDEX('HTM 2'!F$7:F$86,MATCH($A59,'HTM 2'!$Y$7:$Y$86,0)) | F59: =INDEX('HTM 2'!G$7:G$86,MATCH($A59,'HTM 2'!$Y$7:$Y$86,0)) | G59: =INDEX('HTM 2'!H$7:H$86,MATCH($A59,'HTM 2'!$Y$7:$Y$86,0)) | H59: =INDEX('HTM 2'!I$7:I$86,MATCH($A59,'HTM 2'!$Y$7:$Y$86,0)) | I59: =INDEX('HTM 2'!J$7:J$86,MATCH($A59,'HTM 2'!$Y$7:$Y$86,0)) | J59: =INDEX('HTM 2'!K$7:K$86,MATCH($A59,'HTM 2'!$Y$7:$Y$86,0)) | K59: =INDEX('HTM 2'!L$7:L$86,MATCH($A59,'HTM 2'!$Y$7:$Y$86,0)) | L59: =INDEX('HTM 2'!M$7:M$86,MATCH($A59,'HTM 2'!$Y$7:$Y$86,0)) | ... S59: =INDEX('HTM 2'!T$7:T$86,MATCH($A59,'HTM 2'!$Y$7:$Y$86,0)) | T59: =INDEX('HTM 2'!V$7:V$86,MATCH($A59,'HTM 2'!$Y$7:$Y$86,0)) | U59: =INDEX('HTM 2'!$W$7:$W$86,MATCH(A59,'HTM 2'!$Y$7:$Y$86,0)) | V59: =INDEX('HTM 2'!$Y$7:$Y$86,MATCH(A59,'HTM 2'!$Y$7:$Y$86,0)) | W59: =INDEX('HTM 2'!$X$7:$X$86,MATCH(A59,'HTM 2'!$Y$7:$Y$86,0))
A60: 5 | C60: =INDEX('HTM 2'!$C$7:$C$86,MATCH(A60,'HTM 2'!$Y$7:$Y$86,0)) | D60: =INDEX('HTM 2'!$D$7:$D$86,MATCH(A60,'HTM 2'!$Y$7:$Y$86,0)) | E60: =INDEX('HTM 2'!F$7:F$86,MATCH($A60,'HTM 2'!$Y$7:$Y$86,0)) | F60: =INDEX('HTM 2'!G$7:G$86,MATCH($A60,'HTM 2'!$Y$7:$Y$86,0)) | G60: =INDEX('HTM 2'!H$7:H$86,MATCH($A60,'HTM 2'!$Y$7:$Y$86,0)) | H60: =INDEX('HTM 2'!I$7:I$86,MATCH($A60,'HTM 2'!$Y$7:$Y$86,0)) | I60: =INDEX('HTM 2'!J$7:J$86,MATCH($A60,'HTM 2'!$Y$7:$Y$86,0)) | J60: =INDEX('HTM 2'!K$7:K$86,MATCH($A60,'HTM 2'!$Y$7:$Y$86,0)) | K60: =INDEX('HTM 2'!L$7:L$86,MATCH($A60,'HTM 2'!$Y$7:$Y$86,0)) | L60: =INDEX('HTM 2'!M$7:M$86,MATCH($A60,'HTM 2'!$Y$7:$Y$86,0)) | ... S60: =INDEX('HTM 2'!T$7:T$86,MATCH($A60,'HTM 2'!$Y$7:$Y$86,0)) | T60: =INDEX('HTM 2'!V$7:V$86,MATCH($A60,'HTM 2'!$Y$7:$Y$86,0)) | U60: =INDEX('HTM 2'!$W$7:$W$86,MATCH(A60,'HTM 2'!$Y$7:$Y$86,0)) | V60: =INDEX('HTM 2'!$Y$7:$Y$86,MATCH(A60,'HTM 2'!$Y$7:$Y$86,0)) | W60: =INDEX('HTM 2'!$X$7:$X$86,MATCH(A60,'HTM 2'!$Y$7:$Y$86,0))
A61: 6 | C61: =INDEX('HTM 2'!$C$7:$C$86,MATCH(A61,'HTM 2'!$Y$7:$Y$86,0)) | D61: =INDEX('HTM 2'!$D$7:$D$86,MATCH(A61,'HTM 2'!$Y$7:$Y$86,0)) | E61: =INDEX('HTM 2'!F$7:F$86,MATCH($A61,'HTM 2'!$Y$7:$Y$86,0)) | F61: =INDEX('HTM 2'!G$7:G$86,MATCH($A61,'HTM 2'!$Y$7:$Y$86,0)) | G61: =INDEX('HTM 2'!H$7:H$86,MATCH($A61,'HTM 2'!$Y$7:$Y$86,0)) | H61: =INDEX('HTM 2'!I$7:I$86,MATCH($A61,'HTM 2'!$Y$7:$Y$86,0)) | I61: =INDEX('HTM 2'!J$7:J$86,MATCH($A61,'HTM 2'!$Y$7:$Y$86,0)) | J61: =INDEX('HTM 2'!K$7:K$86,MATCH($A61,'HTM 2'!$Y$7:$Y$86,0)) | K61: =INDEX('HTM 2'!L$7:L$86,MATCH($A61,'HTM 2'!$Y$7:$Y$86,0)) | L61: =INDEX('HTM 2'!M$7:M$86,MATCH($A61,'HTM 2'!$Y$7:$Y$86,0)) | ... S61: =INDEX('HTM 2'!T$7:T$86,MATCH($A61,'HTM 2'!$Y$7:$Y$86,0)) | T61: =INDEX('HTM 2'!V$7:V$86,MATCH($A61,'HTM 2'!$Y$7:$Y$86,0)) | U61: =INDEX('HTM 2'!$W$7:$W$86,MATCH(A61,'HTM 2'!$Y$7:$Y$86,0)) | V61: =INDEX('HTM 2'!$Y$7:$Y$86,MATCH(A61,'HTM 2'!$Y$7:$Y$86,0)) | W61: =INDEX('HTM 2'!$X$7:$X$86,MATCH(A61,'HTM 2'!$Y$7:$Y$86,0))
A62: 7 | C62: =INDEX('HTM 2'!$C$7:$C$86,MATCH(A62,'HTM 2'!$Y$7:$Y$86,0)) | D62: =INDEX('HTM 2'!$D$7:$D$86,MATCH(A62,'HTM 2'!$Y$7:$Y$86,0)) | E62: =INDEX('HTM 2'!F$7:F$86,MATCH($A62,'HTM 2'!$Y$7:$Y$86,0)) | F62: =INDEX('HTM 2'!G$7:G$86,MATCH($A62,'HTM 2'!$Y$7:$Y$86,0)) | G62: =INDEX('HTM 2'!H$7:H$86,MATCH($A62,'HTM 2'!$Y$7:$Y$86,0)) | H62: =INDEX('HTM 2'!I$7:I$86,MATCH($A62,'HTM 2'!$Y$7:$Y$86,0)) | I62: =INDEX('HTM 2'!J$7:J$86,MATCH($A62,'HTM 2'!$Y$7:$Y$86,0)) | J62: =INDEX('HTM 2'!K$7:K$86,MATCH($A62,'HTM 2'!$Y$7:$Y$86,0)) | K62: =INDEX('HTM 2'!L$7:L$86,MATCH($A62,'HTM 2'!$Y$7:$Y$86,0)) | L62: =INDEX('HTM 2'!M$7:M$86,MATCH($A62,'HTM 2'!$Y$7:$Y$86,0)) | ... S62: =INDEX('HTM 2'!T$7:T$86,MATCH($A62,'HTM 2'!$Y$7:$Y$86,0)) | T62: =INDEX('HTM 2'!V$7:V$86,MATCH($A62,'HTM 2'!$Y$7:$Y$86,0)) | U62: =INDEX('HTM 2'!$W$7:$W$86,MATCH(A62,'HTM 2'!$Y$7:$Y$86,0)) | V62: =INDEX('HTM 2'!$Y$7:$Y$86,MATCH(A62,'HTM 2'!$Y$7:$Y$86,0)) | W62: =INDEX('HTM 2'!$X$7:$X$86,MATCH(A62,'HTM 2'!$Y$7:$Y$86,0))
A63: 8 | C63: =INDEX('HTM 2'!$C$7:$C$86,MATCH(A63,'HTM 2'!$Y$7:$Y$86,0)) | D63: =INDEX('HTM 2'!$D$7:$D$86,MATCH(A63,'HTM 2'!$Y$7:$Y$86,0)) | E63: =INDEX('HTM 2'!F$7:F$86,MATCH($A63,'HTM 2'!$Y$7:$Y$86,0)) | F63: =INDEX('HTM 2'!G$7:G$86,MATCH($A63,'HTM 2'!$Y$7:$Y$86,0)) | G63: =INDEX('HTM 2'!H$7:H$86,MATCH($A63,'HTM 2'!$Y$7:$Y$86,0)) | H63: =INDEX('HTM 2'!I$7:I$86,MATCH($A63,'HTM 2'!$Y$7:$Y$86,0)) | I63: =INDEX('HTM 2'!J$7:J$86,MATCH($A63,'HTM 2'!$Y$7:$Y$86,0)) | J63: =INDEX('HTM 2'!K$7:K$86,MATCH($A63,'HTM 2'!$Y$7:$Y$86,0)) | K63: =INDEX('HTM 2'!L$7:L$86,MATCH($A63,'HTM 2'!$Y$7:$Y$86,0)) | L63: =INDEX('HTM 2'!M$7:M$86,MATCH($A63,'HTM 2'!$Y$7:$Y$86,0)) | ... S63: =INDEX('HTM 2'!T$7:T$86,MATCH($A63,'HTM 2'!$Y$7:$Y$86,0)) | T63: =INDEX('HTM 2'!V$7:V$86,MATCH($A63,'HTM 2'!$Y$7:$Y$86,0)) | U63: =INDEX('HTM 2'!$W$7:$W$86,MATCH(A63,'HTM 2'!$Y$7:$Y$86,0)) | V63: =INDEX('HTM 2'!$Y$7:$Y$86,MATCH(A63,'HTM 2'!$Y$7:$Y$86,0)) | W63: =INDEX('HTM 2'!$X$7:$X$86,MATCH(A63,'HTM 2'!$Y$7:$Y$86,0))
A64: 9 | C64: =INDEX('HTM 2'!$C$7:$C$86,MATCH(A64,'HTM 2'!$Y$7:$Y$86,0)) | D64: =INDEX('HTM 2'!$D$7:$D$86,MATCH(A64,'HTM 2'!$Y$7:$Y$86,0)) | E64: =INDEX('HTM 2'!F$7:F$86,MATCH($A64,'HTM 2'!$Y$7:$Y$86,0)) | F64: =INDEX('HTM 2'!G$7:G$86,MATCH($A64,'HTM 2'!$Y$7:$Y$86,0)) | G64: =INDEX('HTM 2'!H$7:H$86,MATCH($A64,'HTM 2'!$Y$7:$Y$86,0)) | H64: =INDEX('HTM 2'!I$7:I$86,MATCH($A64,'HTM 2'!$Y$7:$Y$86,0)) | I64: =INDEX('HTM 2'!J$7:J$86,MATCH($A64,'HTM 2'!$Y$7:$Y$86,0)) | J64: =INDEX('HTM 2'!K$7:K$86,MATCH($A64,'HTM 2'!$Y$7:$Y$86,0)) | K64: =INDEX('HTM 2'!L$7:L$86,MATCH($A64,'HTM 2'!$Y$7:$Y$86,0)) | L64: =INDEX('HTM 2'!M$7:M$86,MATCH($A64,'HTM 2'!$Y$7:$Y$86,0)) | ... S64: =INDEX('HTM 2'!T$7:T$86,MATCH($A64,'HTM 2'!$Y$7:$Y$86,0)) | T64: =INDEX('HTM 2'!V$7:V$86,MATCH($A64,'HTM 2'!$Y$7:$Y$86,0)) | U64: =INDEX('HTM 2'!$W$7:$W$86,MATCH(A64,'HTM 2'!$Y$7:$Y$86,0)) | V64: =INDEX('HTM 2'!$Y$7:$Y$86,MATCH(A64,'HTM 2'!$Y$7:$Y$86,0)) | W64: =INDEX('HTM 2'!$X$7:$X$86,MATCH(A64,'HTM 2'!$Y$7:$Y$86,0))
A65: 10 | C65: =INDEX('HTM 2'!$C$7:$C$86,MATCH(A65,'HTM 2'!$Y$7:$Y$86,0)) | D65: =INDEX('HTM 2'!$D$7:$D$86,MATCH(A65,'HTM 2'!$Y$7:$Y$86,0)) | E65: =INDEX('HTM 2'!F$7:F$86,MATCH($A65,'HTM 2'!$Y$7:$Y$86,0)) | F65: =INDEX('HTM 2'!G$7:G$86,MATCH($A65,'HTM 2'!$Y$7:$Y$86,0)) | G65: =INDEX('HTM 2'!H$7:H$86,MATCH($A65,'HTM 2'!$Y$7:$Y$86,0)) | H65: =INDEX('HTM 2'!I$7:I$86,MATCH($A65,'HTM 2'!$Y$7:$Y$86,0)) | I65: =INDEX('HTM 2'!J$7:J$86,MATCH($A65,'HTM 2'!$Y$7:$Y$86,0)) | J65: =INDEX('HTM 2'!K$7:K$86,MATCH($A65,'HTM 2'!$Y$7:$Y$86,0)) | K65: =INDEX('HTM 2'!L$7:L$86,MATCH($A65,'HTM 2'!$Y$7:$Y$86,0)) | L65: =INDEX('HTM 2'!M$7:M$86,MATCH($A65,'HTM 2'!$Y$7:$Y$86,0)) | ... S65: =INDEX('HTM 2'!T$7:T$86,MATCH($A65,'HTM 2'!$Y$7:$Y$86,0)) | T65: =INDEX('HTM 2'!V$7:V$86,MATCH($A65,'HTM 2'!$Y$7:$Y$86,0)) | U65: =INDEX('HTM 2'!$W$7:$W$86,MATCH(A65,'HTM 2'!$Y$7:$Y$86,0)) | V65: =INDEX('HTM 2'!$Y$7:$Y$86,MATCH(A65,'HTM 2'!$Y$7:$Y$86,0)) | W65: =INDEX('HTM 2'!$X$7:$X$86,MATCH(A65,'HTM 2'!$Y$7:$Y$86,0))
A66: 11 | C66: =INDEX('HTM 2'!$C$7:$C$86,MATCH(A66,'HTM 2'!$Y$7:$Y$86,0)) | D66: =INDEX('HTM 2'!$D$7:$D$86,MATCH(A66,'HTM 2'!$Y$7:$Y$86,0)) | E66: =INDEX('HTM 2'!F$7:F$86,MATCH($A66,'HTM 2'!$Y$7:$Y$86,0)) | F66: =INDEX('HTM 2'!G$7:G$86,MATCH($A66,'HTM 2'!$Y$7:$Y$86,0)) | G66: =INDEX('HTM 2'!H$7:H$86,MATCH($A66,'HTM 2'!$Y$7:$Y$86,0)) | H66: =INDEX('HTM 2'!I$7:I$86,MATCH($A66,'HTM 2'!$Y$7:$Y$86,0)) | I66: =INDEX('HTM 2'!J$7:J$86,MATCH($A66,'HTM 2'!$Y$7:$Y$86,0)) | J66: =INDEX('HTM 2'!K$7:K$86,MATCH($A66,'HTM 2'!$Y$7:$Y$86,0)) | K66: =INDEX('HTM 2'!L$7:L$86,MATCH($A66,'HTM 2'!$Y$7:$Y$86,0)) | L66: =INDEX('HTM 2'!M$7:M$86,MATCH($A66,'HTM 2'!$Y$7:$Y$86,0)) | ... S66: =INDEX('HTM 2'!T$7:T$86,MATCH($A66,'HTM 2'!$Y$7:$Y$86,0)) | T66: =INDEX('HTM 2'!V$7:V$86,MATCH($A66,'HTM 2'!$Y$7:$Y$86,0)) | U66: =INDEX('HTM 2'!$W$7:$W$86,MATCH(A66,'HTM 2'!$Y$7:$Y$86,0)) | V66: =INDEX('HTM 2'!$Y$7:$Y$86,MATCH(A66,'HTM 2'!$Y$7:$Y$86,0)) | W66: =INDEX('HTM 2'!$X$7:$X$86,MATCH(A66,'HTM 2'!$Y$7:$Y$86,0))
A67: 12 | C67: =INDEX('HTM 2'!$C$7:$C$86,MATCH(A67,'HTM 2'!$Y$7:$Y$86,0)) | D67: =INDEX('HTM 2'!$D$7:$D$86,MATCH(A67,'HTM 2'!$Y$7:$Y$86,0)) | E67: =INDEX('HTM 2'!F$7:F$86,MATCH($A67,'HTM 2'!$Y$7:$Y$86,0)) | F67: =INDEX('HTM 2'!G$7:G$86,MATCH($A67,'HTM 2'!$Y$7:$Y$86,0)) | G67: =INDEX('HTM 2'!H$7:H$86,MATCH($A67,'HTM 2'!$Y$7:$Y$86,0)) | H67: =INDEX('HTM 2'!I$7:I$86,MATCH($A67,'HTM 2'!$Y$7:$Y$86,0)) | I67: =INDEX('HTM 2'!J$7:J$86,MATCH($A67,'HTM 2'!$Y$7:$Y$86,0)) | J67: =INDEX('HTM 2'!K$7:K$86,MATCH($A67,'HTM 2'!$Y$7:$Y$86,0)) | K67: =INDEX('HTM 2'!L$7:L$86,MATCH($A67,'HTM 2'!$Y$7:$Y$86,0)) | L67: =INDEX('HTM 2'!M$7:M$86,MATCH($A67,'HTM 2'!$Y$7:$Y$86,0)) | ... S67: =INDEX('HTM 2'!T$7:T$86,MATCH($A67,'HTM 2'!$Y$7:$Y$86,0)) | T67: =INDEX('HTM 2'!V$7:V$86,MATCH($A67,'HTM 2'!$Y$7:$Y$86,0)) | U67: =INDEX('HTM 2'!$W$7:$W$86,MATCH(A67,'HTM 2'!$Y$7:$Y$86,0)) | V67: =INDEX('HTM 2'!$Y$7:$Y$86,MATCH(A67,'HTM 2'!$Y$7:$Y$86,0)) | W67: =INDEX('HTM 2'!$X$7:$X$86,MATCH(A67,'HTM 2'!$Y$7:$Y$86,0))
... A75: 20 | C75: =INDEX('HTM 2'!$C$7:$C$86,MATCH(A75,'HTM 2'!$Y$7:$Y$86,0)) | D75: =INDEX('HTM 2'!$D$7:$D$86,MATCH(A75,'HTM 2'!$Y$7:$Y$86,0)) | E75: =INDEX('HTM 2'!F$7:F$86,MATCH($A75,'HTM 2'!$Y$7:$Y$86,0)) | F75: =INDEX('HTM 2'!G$7:G$86,MATCH($A75,'HTM 2'!$Y$7:$Y$86,0)) | G75: =INDEX('HTM 2'!H$7:H$86,MATCH($A75,'HTM 2'!$Y$7:$Y$86,0)) | H75: =INDEX('HTM 2'!I$7:I$86,MATCH($A75,'HTM 2'!$Y$7:$Y$86,0)) | I75: =INDEX('HTM 2'!J$7:J$86,MATCH($A75,'HTM 2'!$Y$7:$Y$86,0)) | J75: =INDEX('HTM 2'!K$7:K$86,MATCH($A75,'HTM 2'!$Y$7:$Y$86,0)) | K75: =INDEX('HTM 2'!L$7:L$86,MATCH($A75,'HTM 2'!$Y$7:$Y$86,0)) | L75: =INDEX('HTM 2'!M$7:M$86,MATCH($A75,'HTM 2'!$Y$7:$Y$86,0)) | ... S75: =INDEX('HTM 2'!T$7:T$86,MATCH($A75,'HTM 2'!$Y$7:$Y$86,0)) | T75: =INDEX('HTM 2'!V$7:V$86,MATCH($A75,'HTM 2'!$Y$7:$Y$86,0)) | U75: =INDEX('HTM 2'!$W$7:$W$86,MATCH(A75,'HTM 2'!$Y$7:$Y$86,0)) | V75: =INDEX('HTM 2'!$Y$7:$Y$86,MATCH(A75,'HTM 2'!$Y$7:$Y$86,0)) | W75: =INDEX('HTM 2'!$X$7:$X$86,MATCH(A75,'HTM 2'!$Y$7:$Y$86,0))
A77: HTM 3
E78: artistic | I78: tecnici | N78: Detrazioni di punti | U78: Risultato
A79: Posizionamento | B79: Nome | C79: Cognome | D79: Cane | E79: Team work | F79: Dinamicità | G79: Concetto | H79: Coreografia | I79: Fluidità | J79: Esecuzione | K79: Contenuto | L79: Difficoltà | M79: punti | N79: Abbaio e vocalizzazioni | O79: Salute del cane | P79: costume / Oggetti di scena | Q79: Lunghezze musicali errate | R79: Trattamento improprio del cane | S79: Contatto attivo | T79: Detrazioni di punti | U79: Totale | V79: Posizionamento | W79: punto di passaggio
A80: 1 | C80: =INDEX('HTM 3'!$C$7:$C$106,MATCH(A80,'HTM 3'!$X$7:$X$106,0)) -> Munoz | D80: =INDEX('HTM 3'!$D$7:$D$106,MATCH(A80,'HTM 3'!$X$7:$X$106,0)) -> Krystal | E80: =INDEX('HTM 3'!F$7:F$106,MATCH($A80,'HTM 3'!$X$7:$X$106,0)) -> 21.5 | F80: =INDEX('HTM 3'!G$7:G$106,MATCH($A80,'HTM 3'!$X$7:$X$106,0)) -> 21.5 | G80: =INDEX('HTM 3'!H$7:H$106,MATCH($A80,'HTM 3'!$X$7:$X$106,0)) -> 21.5 | H80: =INDEX('HTM 3'!I$7:I$106,MATCH($A80,'HTM 3'!$X$7:$X$106,0)) -> 20.5 | I80: =INDEX('HTM 3'!J$7:J$106,MATCH($A80,'HTM 3'!$X$7:$X$106,0)) -> 21 | J80: =INDEX('HTM 3'!K$7:K$106,MATCH($A80,'HTM 3'!$X$7:$X$106,0)) -> 20.5 | K80: =INDEX('HTM 3'!L$7:L$106,MATCH($A80,'HTM 3'!$X$7:$X$106,0)) -> 21 | L80: =INDEX('HTM 3'!M$7:M$106,MATCH($A80,'HTM 3'!$X$7:$X$106,0)) -> 21.5 | ... S80: =INDEX('HTM 3'!T$7:T$106,MATCH($A80,'HTM 3'!$X$7:$X$106,0)) -> 0 | T80: =INDEX('HTM 3'!V$7:V$106,MATCH($A80,'HTM 3'!$X$7:$X$106,0)) -> 0 | U80: =INDEX('HTM 3'!$W$7:$W$106,MATCH(A80,'HTM 3'!$X$7:$X$106,0)) -> 112.66667 | V80: =INDEX('HTM 3'!$X$7:$X$106,MATCH(A80,'HTM 3'!$X$7:$X$106,0)) -> 1
A81: 2 | C81: =INDEX('HTM 3'!$C$7:$C$106,MATCH(A81,'HTM 3'!$X$7:$X$106,0)) | D81: =INDEX('HTM 3'!$D$7:$D$106,MATCH(A81,'HTM 3'!$X$7:$X$106,0)) | E81: =INDEX('HTM 3'!F$7:F$106,MATCH($A81,'HTM 3'!$X$7:$X$106,0)) | F81: =INDEX('HTM 3'!G$7:G$106,MATCH($A81,'HTM 3'!$X$7:$X$106,0)) | G81: =INDEX('HTM 3'!H$7:H$106,MATCH($A81,'HTM 3'!$X$7:$X$106,0)) | H81: =INDEX('HTM 3'!I$7:I$106,MATCH($A81,'HTM 3'!$X$7:$X$106,0)) | I81: =INDEX('HTM 3'!J$7:J$106,MATCH($A81,'HTM 3'!$X$7:$X$106,0)) | J81: =INDEX('HTM 3'!K$7:K$106,MATCH($A81,'HTM 3'!$X$7:$X$106,0)) | K81: =INDEX('HTM 3'!L$7:L$106,MATCH($A81,'HTM 3'!$X$7:$X$106,0)) | L81: =INDEX('HTM 3'!M$7:M$106,MATCH($A81,'HTM 3'!$X$7:$X$106,0)) | ... S81: =INDEX('HTM 3'!T$7:T$106,MATCH($A81,'HTM 3'!$X$7:$X$106,0)) | T81: =INDEX('HTM 3'!V$7:V$106,MATCH($A81,'HTM 3'!$X$7:$X$106,0)) | U81: =INDEX('HTM 3'!$W$7:$W$106,MATCH(A81,'HTM 3'!$X$7:$X$106,0)) | V81: =INDEX('HTM 3'!$X$7:$X$106,MATCH(A81,'HTM 3'!$X$7:$X$106,0))
A82: 3 | C82: =INDEX('HTM 3'!$C$7:$C$106,MATCH(A82,'HTM 3'!$X$7:$X$106,0)) | D82: =INDEX('HTM 3'!$D$7:$D$106,MATCH(A82,'HTM 3'!$X$7:$X$106,0)) | E82: =INDEX('HTM 3'!F$7:F$106,MATCH($A82,'HTM 3'!$X$7:$X$106,0)) | F82: =INDEX('HTM 3'!G$7:G$106,MATCH($A82,'HTM 3'!$X$7:$X$106,0)) | G82: =INDEX('HTM 3'!H$7:H$106,MATCH($A82,'HTM 3'!$X$7:$X$106,0)) | H82: =INDEX('HTM 3'!I$7:I$106,MATCH($A82,'HTM 3'!$X$7:$X$106,0)) | I82: =INDEX('HTM 3'!J$7:J$106,MATCH($A82,'HTM 3'!$X$7:$X$106,0)) | J82: =INDEX('HTM 3'!K$7:K$106,MATCH($A82,'HTM 3'!$X$7:$X$106,0)) | K82: =INDEX('HTM 3'!L$7:L$106,MATCH($A82,'HTM 3'!$X$7:$X$106,0)) | L82: =INDEX('HTM 3'!M$7:M$106,MATCH($A82,'HTM 3'!$X$7:$X$106,0)) | ... S82: =INDEX('HTM 3'!T$7:T$106,MATCH($A82,'HTM 3'!$X$7:$X$106,0)) | T82: =INDEX('HTM 3'!V$7:V$106,MATCH($A82,'HTM 3'!$X$7:$X$106,0)) | U82: =INDEX('HTM 3'!$W$7:$W$106,MATCH(A82,'HTM 3'!$X$7:$X$106,0)) | V82: =INDEX('HTM 3'!$X$7:$X$106,MATCH(A82,'HTM 3'!$X$7:$X$106,0))
A83: 4 | C83: =INDEX('HTM 3'!$C$7:$C$106,MATCH(A83,'HTM 3'!$X$7:$X$106,0)) | D83: =INDEX('HTM 3'!$D$7:$D$106,MATCH(A83,'HTM 3'!$X$7:$X$106,0)) | E83: =INDEX('HTM 3'!F$7:F$106,MATCH($A83,'HTM 3'!$X$7:$X$106,0)) | F83: =INDEX('HTM 3'!G$7:G$106,MATCH($A83,'HTM 3'!$X$7:$X$106,0)) | G83: =INDEX('HTM 3'!H$7:H$106,MATCH($A83,'HTM 3'!$X$7:$X$106,0)) | H83: =INDEX('HTM 3'!I$7:I$106,MATCH($A83,'HTM 3'!$X$7:$X$106,0)) | I83: =INDEX('HTM 3'!J$7:J$106,MATCH($A83,'HTM 3'!$X$7:$X$106,0)) | J83: =INDEX('HTM 3'!K$7:K$106,MATCH($A83,'HTM 3'!$X$7:$X$106,0)) | K83: =INDEX('HTM 3'!L$7:L$106,MATCH($A83,'HTM 3'!$X$7:$X$106,0)) | L83: =INDEX('HTM 3'!M$7:M$106,MATCH($A83,'HTM 3'!$X$7:$X$106,0)) | ... S83: =INDEX('HTM 3'!T$7:T$106,MATCH($A83,'HTM 3'!$X$7:$X$106,0)) | T83: =INDEX('HTM 3'!V$7:V$106,MATCH($A83,'HTM 3'!$X$7:$X$106,0)) | U83: =INDEX('HTM 3'!$W$7:$W$106,MATCH(A83,'HTM 3'!$X$7:$X$106,0)) | V83: =INDEX('HTM 3'!$X$7:$X$106,MATCH(A83,'HTM 3'!$X$7:$X$106,0))
A84: 5 | C84: =INDEX('HTM 3'!$C$7:$C$106,MATCH(A84,'HTM 3'!$X$7:$X$106,0)) | D84: =INDEX('HTM 3'!$D$7:$D$106,MATCH(A84,'HTM 3'!$X$7:$X$106,0)) | E84: =INDEX('HTM 3'!F$7:F$106,MATCH($A84,'HTM 3'!$X$7:$X$106,0)) | F84: =INDEX('HTM 3'!G$7:G$106,MATCH($A84,'HTM 3'!$X$7:$X$106,0)) | G84: =INDEX('HTM 3'!H$7:H$106,MATCH($A84,'HTM 3'!$X$7:$X$106,0)) | H84: =INDEX('HTM 3'!I$7:I$106,MATCH($A84,'HTM 3'!$X$7:$X$106,0)) | I84: =INDEX('HTM 3'!J$7:J$106,MATCH($A84,'HTM 3'!$X$7:$X$106,0)) | J84: =INDEX('HTM 3'!K$7:K$106,MATCH($A84,'HTM 3'!$X$7:$X$106,0)) | K84: =INDEX('HTM 3'!L$7:L$106,MATCH($A84,'HTM 3'!$X$7:$X$106,0)) | L84: =INDEX('HTM 3'!M$7:M$106,MATCH($A84,'HTM 3'!$X$7:$X$106,0)) | ... S84: =INDEX('HTM 3'!T$7:T$106,MATCH($A84,'HTM 3'!$X$7:$X$106,0)) | T84: =INDEX('HTM 3'!V$7:V$106,MATCH($A84,'HTM 3'!$X$7:$X$106,0)) | U84: =INDEX('HTM 3'!$W$7:$W$106,MATCH(A84,'HTM 3'!$X$7:$X$106,0)) | V84: =INDEX('HTM 3'!$X$7:$X$106,MATCH(A84,'HTM 3'!$X$7:$X$106,0))
A85: 6 | C85: =INDEX('HTM 3'!$C$7:$C$106,MATCH(A85,'HTM 3'!$X$7:$X$106,0)) | D85: =INDEX('HTM 3'!$D$7:$D$106,MATCH(A85,'HTM 3'!$X$7:$X$106,0)) | E85: =INDEX('HTM 3'!F$7:F$106,MATCH($A85,'HTM 3'!$X$7:$X$106,0)) | F85: =INDEX('HTM 3'!G$7:G$106,MATCH($A85,'HTM 3'!$X$7:$X$106,0)) | G85: =INDEX('HTM 3'!H$7:H$106,MATCH($A85,'HTM 3'!$X$7:$X$106,0)) | H85: =INDEX('HTM 3'!I$7:I$106,MATCH($A85,'HTM 3'!$X$7:$X$106,0)) | I85: =INDEX('HTM 3'!J$7:J$106,MATCH($A85,'HTM 3'!$X$7:$X$106,0)) | J85: =INDEX('HTM 3'!K$7:K$106,MATCH($A85,'HTM 3'!$X$7:$X$106,0)) | K85: =INDEX('HTM 3'!L$7:L$106,MATCH($A85,'HTM 3'!$X$7:$X$106,0)) | L85: =INDEX('HTM 3'!M$7:M$106,MATCH($A85,'HTM 3'!$X$7:$X$106,0)) | ... S85: =INDEX('HTM 3'!T$7:T$106,MATCH($A85,'HTM 3'!$X$7:$X$106,0)) | T85: =INDEX('HTM 3'!V$7:V$106,MATCH($A85,'HTM 3'!$X$7:$X$106,0)) | U85: =INDEX('HTM 3'!$W$7:$W$106,MATCH(A85,'HTM 3'!$X$7:$X$106,0)) | V85: =INDEX('HTM 3'!$X$7:$X$106,MATCH(A85,'HTM 3'!$X$7:$X$106,0))
A86: 7 | C86: =INDEX('HTM 3'!$C$7:$C$106,MATCH(A86,'HTM 3'!$X$7:$X$106,0)) | D86: =INDEX('HTM 3'!$D$7:$D$106,MATCH(A86,'HTM 3'!$X$7:$X$106,0)) | E86: =INDEX('HTM 3'!F$7:F$106,MATCH($A86,'HTM 3'!$X$7:$X$106,0)) | F86: =INDEX('HTM 3'!G$7:G$106,MATCH($A86,'HTM 3'!$X$7:$X$106,0)) | G86: =INDEX('HTM 3'!H$7:H$106,MATCH($A86,'HTM 3'!$X$7:$X$106,0)) | H86: =INDEX('HTM 3'!I$7:I$106,MATCH($A86,'HTM 3'!$X$7:$X$106,0)) | I86: =INDEX('HTM 3'!J$7:J$106,MATCH($A86,'HTM 3'!$X$7:$X$106,0)) | J86: =INDEX('HTM 3'!K$7:K$106,MATCH($A86,'HTM 3'!$X$7:$X$106,0)) | K86: =INDEX('HTM 3'!L$7:L$106,MATCH($A86,'HTM 3'!$X$7:$X$106,0)) | L86: =INDEX('HTM 3'!M$7:M$106,MATCH($A86,'HTM 3'!$X$7:$X$106,0)) | ... S86: =INDEX('HTM 3'!T$7:T$106,MATCH($A86,'HTM 3'!$X$7:$X$106,0)) | T86: =INDEX('HTM 3'!V$7:V$106,MATCH($A86,'HTM 3'!$X$7:$X$106,0)) | U86: =INDEX('HTM 3'!$W$7:$W$106,MATCH(A86,'HTM 3'!$X$7:$X$106,0)) | V86: =INDEX('HTM 3'!$X$7:$X$106,MATCH(A86,'HTM 3'!$X$7:$X$106,0))
A87: 8 | C87: =INDEX('HTM 3'!$C$7:$C$106,MATCH(A87,'HTM 3'!$X$7:$X$106,0)) | D87: =INDEX('HTM 3'!$D$7:$D$106,MATCH(A87,'HTM 3'!$X$7:$X$106,0)) | E87: =INDEX('HTM 3'!F$7:F$106,MATCH($A87,'HTM 3'!$X$7:$X$106,0)) | F87: =INDEX('HTM 3'!G$7:G$106,MATCH($A87,'HTM 3'!$X$7:$X$106,0)) | G87: =INDEX('HTM 3'!H$7:H$106,MATCH($A87,'HTM 3'!$X$7:$X$106,0)) | H87: =INDEX('HTM 3'!I$7:I$106,MATCH($A87,'HTM 3'!$X$7:$X$106,0)) | I87: =INDEX('HTM 3'!J$7:J$106,MATCH($A87,'HTM 3'!$X$7:$X$106,0)) | J87: =INDEX('HTM 3'!K$7:K$106,MATCH($A87,'HTM 3'!$X$7:$X$106,0)) | K87: =INDEX('HTM 3'!L$7:L$106,MATCH($A87,'HTM 3'!$X$7:$X$106,0)) | L87: =INDEX('HTM 3'!M$7:M$106,MATCH($A87,'HTM 3'!$X$7:$X$106,0)) | ... S87: =INDEX('HTM 3'!T$7:T$106,MATCH($A87,'HTM 3'!$X$7:$X$106,0)) | T87: =INDEX('HTM 3'!V$7:V$106,MATCH($A87,'HTM 3'!$X$7:$X$106,0)) | U87: =INDEX('HTM 3'!$W$7:$W$106,MATCH(A87,'HTM 3'!$X$7:$X$106,0)) | V87: =INDEX('HTM 3'!$X$7:$X$106,MATCH(A87,'HTM 3'!$X$7:$X$106,0))
A88: 9 | C88: =INDEX('HTM 3'!$C$7:$C$106,MATCH(A88,'HTM 3'!$X$7:$X$106,0)) | D88: =INDEX('HTM 3'!$D$7:$D$106,MATCH(A88,'HTM 3'!$X$7:$X$106,0)) | E88: =INDEX('HTM 3'!F$7:F$106,MATCH($A88,'HTM 3'!$X$7:$X$106,0)) | F88: =INDEX('HTM 3'!G$7:G$106,MATCH($A88,'HTM 3'!$X$7:$X$106,0)) | G88: =INDEX('HTM 3'!H$7:H$106,MATCH($A88,'HTM 3'!$X$7:$X$106,0)) | H88: =INDEX('HTM 3'!I$7:I$106,MATCH($A88,'HTM 3'!$X$7:$X$106,0)) | I88: =INDEX('HTM 3'!J$7:J$106,MATCH($A88,'HTM 3'!$X$7:$X$106,0)) | J88: =INDEX('HTM 3'!K$7:K$106,MATCH($A88,'HTM 3'!$X$7:$X$106,0)) | K88: =INDEX('HTM 3'!L$7:L$106,MATCH($A88,'HTM 3'!$X$7:$X$106,0)) | L88: =INDEX('HTM 3'!M$7:M$106,MATCH($A88,'HTM 3'!$X$7:$X$106,0)) | ... S88: =INDEX('HTM 3'!T$7:T$106,MATCH($A88,'HTM 3'!$X$7:$X$106,0)) | T88: =INDEX('HTM 3'!V$7:V$106,MATCH($A88,'HTM 3'!$X$7:$X$106,0)) | U88: =INDEX('HTM 3'!$W$7:$W$106,MATCH(A88,'HTM 3'!$X$7:$X$106,0)) | V88: =INDEX('HTM 3'!$X$7:$X$106,MATCH(A88,'HTM 3'!$X$7:$X$106,0))
A89: 10 | C89: =INDEX('HTM 3'!$C$7:$C$106,MATCH(A89,'HTM 3'!$X$7:$X$106,0)) | D89: =INDEX('HTM 3'!$D$7:$D$106,MATCH(A89,'HTM 3'!$X$7:$X$106,0)) | E89: =INDEX('HTM 3'!F$7:F$106,MATCH($A89,'HTM 3'!$X$7:$X$106,0)) | F89: =INDEX('HTM 3'!G$7:G$106,MATCH($A89,'HTM 3'!$X$7:$X$106,0)) | G89: =INDEX('HTM 3'!H$7:H$106,MATCH($A89,'HTM 3'!$X$7:$X$106,0)) | H89: =INDEX('HTM 3'!I$7:I$106,MATCH($A89,'HTM 3'!$X$7:$X$106,0)) | I89: =INDEX('HTM 3'!J$7:J$106,MATCH($A89,'HTM 3'!$X$7:$X$106,0)) | J89: =INDEX('HTM 3'!K$7:K$106,MATCH($A89,'HTM 3'!$X$7:$X$106,0)) | K89: =INDEX('HTM 3'!L$7:L$106,MATCH($A89,'HTM 3'!$X$7:$X$106,0)) | L89: =INDEX('HTM 3'!M$7:M$106,MATCH($A89,'HTM 3'!$X$7:$X$106,0)) | ... S89: =INDEX('HTM 3'!T$7:T$106,MATCH($A89,'HTM 3'!$X$7:$X$106,0)) | T89: =INDEX('HTM 3'!V$7:V$106,MATCH($A89,'HTM 3'!$X$7:$X$106,0)) | U89: =INDEX('HTM 3'!$W$7:$W$106,MATCH(A89,'HTM 3'!$X$7:$X$106,0)) | V89: =INDEX('HTM 3'!$X$7:$X$106,MATCH(A89,'HTM 3'!$X$7:$X$106,0))
A90: 11 | C90: =INDEX('HTM 3'!$C$7:$C$106,MATCH(A90,'HTM 3'!$X$7:$X$106,0)) | D90: =INDEX('HTM 3'!$D$7:$D$106,MATCH(A90,'HTM 3'!$X$7:$X$106,0)) | E90: =INDEX('HTM 3'!F$7:F$106,MATCH($A90,'HTM 3'!$X$7:$X$106,0)) | F90: =INDEX('HTM 3'!G$7:G$106,MATCH($A90,'HTM 3'!$X$7:$X$106,0)) | G90: =INDEX('HTM 3'!H$7:H$106,MATCH($A90,'HTM 3'!$X$7:$X$106,0)) | H90: =INDEX('HTM 3'!I$7:I$106,MATCH($A90,'HTM 3'!$X$7:$X$106,0)) | I90: =INDEX('HTM 3'!J$7:J$106,MATCH($A90,'HTM 3'!$X$7:$X$106,0)) | J90: =INDEX('HTM 3'!K$7:K$106,MATCH($A90,'HTM 3'!$X$7:$X$106,0)) | K90: =INDEX('HTM 3'!L$7:L$106,MATCH($A90,'HTM 3'!$X$7:$X$106,0)) | L90: =INDEX('HTM 3'!M$7:M$106,MATCH($A90,'HTM 3'!$X$7:$X$106,0)) | ... S90: =INDEX('HTM 3'!T$7:T$106,MATCH($A90,'HTM 3'!$X$7:$X$106,0)) | T90: =INDEX('HTM 3'!V$7:V$106,MATCH($A90,'HTM 3'!$X$7:$X$106,0)) | U90: =INDEX('HTM 3'!$W$7:$W$106,MATCH(A90,'HTM 3'!$X$7:$X$106,0)) | V90: =INDEX('HTM 3'!$X$7:$X$106,MATCH(A90,'HTM 3'!$X$7:$X$106,0))
A91: 12 | C91: =INDEX('HTM 3'!$C$7:$C$106,MATCH(A91,'HTM 3'!$X$7:$X$106,0)) | D91: =INDEX('HTM 3'!$D$7:$D$106,MATCH(A91,'HTM 3'!$X$7:$X$106,0)) | E91: =INDEX('HTM 3'!F$7:F$106,MATCH($A91,'HTM 3'!$X$7:$X$106,0)) | F91: =INDEX('HTM 3'!G$7:G$106,MATCH($A91,'HTM 3'!$X$7:$X$106,0)) | G91: =INDEX('HTM 3'!H$7:H$106,MATCH($A91,'HTM 3'!$X$7:$X$106,0)) | H91: =INDEX('HTM 3'!I$7:I$106,MATCH($A91,'HTM 3'!$X$7:$X$106,0)) | I91: =INDEX('HTM 3'!J$7:J$106,MATCH($A91,'HTM 3'!$X$7:$X$106,0)) | J91: =INDEX('HTM 3'!K$7:K$106,MATCH($A91,'HTM 3'!$X$7:$X$106,0)) | K91: =INDEX('HTM 3'!L$7:L$106,MATCH($A91,'HTM 3'!$X$7:$X$106,0)) | L91: =INDEX('HTM 3'!M$7:M$106,MATCH($A91,'HTM 3'!$X$7:$X$106,0)) | ... S91: =INDEX('HTM 3'!T$7:T$106,MATCH($A91,'HTM 3'!$X$7:$X$106,0)) | T91: =INDEX('HTM 3'!V$7:V$106,MATCH($A91,'HTM 3'!$X$7:$X$106,0)) | U91: =INDEX('HTM 3'!$W$7:$W$106,MATCH(A91,'HTM 3'!$X$7:$X$106,0)) | V91: =INDEX('HTM 3'!$X$7:$X$106,MATCH(A91,'HTM 3'!$X$7:$X$106,0))
... A99: 20 | C99: =INDEX('HTM 3'!$C$7:$C$106,MATCH(A99,'HTM 3'!$X$7:$X$106,0)) | D99: =INDEX('HTM 3'!$D$7:$D$106,MATCH(A99,'HTM 3'!$X$7:$X$106,0)) | E99: =INDEX('HTM 3'!F$7:F$106,MATCH($A99,'HTM 3'!$X$7:$X$106,0)) | F99: =INDEX('HTM 3'!G$7:G$106,MATCH($A99,'HTM 3'!$X$7:$X$106,0)) | G99: =INDEX('HTM 3'!H$7:H$106,MATCH($A99,'HTM 3'!$X$7:$X$106,0)) | H99: =INDEX('HTM 3'!I$7:I$106,MATCH($A99,'HTM 3'!$X$7:$X$106,0)) | I99: =INDEX('HTM 3'!J$7:J$106,MATCH($A99,'HTM 3'!$X$7:$X$106,0)) | J99: =INDEX('HTM 3'!K$7:K$106,MATCH($A99,'HTM 3'!$X$7:$X$106,0)) | K99: =INDEX('HTM 3'!L$7:L$106,MATCH($A99,'HTM 3'!$X$7:$X$106,0)) | L99: =INDEX('HTM 3'!M$7:M$106,MATCH($A99,'HTM 3'!$X$7:$X$106,0)) | ... S99: =INDEX('HTM 3'!T$7:T$106,MATCH($A99,'HTM 3'!$X$7:$X$106,0)) | T99: =INDEX('HTM 3'!V$7:V$106,MATCH($A99,'HTM 3'!$X$7:$X$106,0)) | U99: =INDEX('HTM 3'!$W$7:$W$106,MATCH(A99,'HTM 3'!$X$7:$X$106,0)) | V99: =INDEX('HTM 3'!$X$7:$X$106,MATCH(A99,'HTM 3'!$X$7:$X$106,0))
A101: FS 0
E102: artistic | I102: tecnici | N102: Detrazioni di punti | U102: Risultato
A103: Posizionamento | B103: Nome | C103: Cognome | D103: Cane | E103: Team work | F103: Dinamicità | G103: Concetto | H103: Coreografia | I103: Fluidità | J103: Esecuzione | K103: Contenuto | L103: Difficoltà | M103: punti | N103: Abbaio e vocalizzazioni | O103: Salute del cane | P103: costume / Oggetti di scena | Q103: Lunghezze musicali errate | R103: Trattamento improprio del cane | S103: Contatto attivo | T103: Detrazioni di punti | U103: Totale | V103: Posizionamento | W103: punto di passaggio
A104: 1 | C104: =INDEX('FS 0'!C$7:C$86,MATCH(A104,'FS 0'!$X$7:$X$86,0)) -> Falco | D104: =INDEX('FS 0'!D$7:D$86,MATCH(A104,'FS 0'!$X$7:$X$86,0)) -> Argo | E104: =INDEX('FS 0'!F$7:F$86,MATCH($A104,'FS 0'!$X$7:$X$86,0)) -> 20 | F104: =INDEX('FS 0'!G$7:G$86,MATCH($A104,'FS 0'!$X$7:$X$86,0)) -> 19.5 | G104: =INDEX('FS 0'!H$7:H$86,MATCH($A104,'FS 0'!$X$7:$X$86,0)) -> 20 | H104: =INDEX('FS 0'!I$7:I$86,MATCH($A104,'FS 0'!$X$7:$X$86,0)) -> 18.5 | I104: =INDEX('FS 0'!J$7:J$86,MATCH($A104,'FS 0'!$X$7:$X$86,0)) -> 18 | J104: =INDEX('FS 0'!K$7:K$86,MATCH($A104,'FS 0'!$X$7:$X$86,0)) -> 19 | K104: =INDEX('FS 0'!L$7:L$86,MATCH($A104,'FS 0'!$X$7:$X$86,0)) -> 20 | L104: =INDEX('FS 0'!M$7:M$86,MATCH($A104,'FS 0'!$X$7:$X$86,0)) -> 20 | ... T104: =INDEX('FS 0'!U$7:U$86,MATCH($A104,'FS 0'!$X$7:$X$86,0)) -> 0 | U104: =INDEX('FS 0'!$V$7:$V$86,MATCH(A104,'FS 0'!$X$7:$X$86,0)) -> 155 | V104: =INDEX('FS 0'!$X$7:$X$86,MATCH(A104,'FS 0'!$X$7:$X$86,0)) -> 1 | W104: =INDEX('FS 0'!$W$7:$W$86,MATCH(A104,'FS 0'!$X$7:$X$86,0)) -> Si
A105: 2 | C105: =INDEX('FS 0'!$C$7:$C$86,MATCH(A105,'FS 0'!$X$7:$X$86,0)) -> Avanzini | D105: =INDEX('FS 0'!$D$7:$D$86,MATCH(A105,'FS 0'!$X$7:$X$86,0)) -> Shelby | E105: =INDEX('FS 0'!F$7:F$86,MATCH($A105,'FS 0'!$X$7:$X$86,0)) -> 19.5 | F105: =INDEX('FS 0'!G$7:G$86,MATCH($A105,'FS 0'!$X$7:$X$86,0)) -> 20 | G105: =INDEX('FS 0'!H$7:H$86,MATCH($A105,'FS 0'!$X$7:$X$86,0)) -> 20.5 | H105: =INDEX('FS 0'!I$7:I$86,MATCH($A105,'FS 0'!$X$7:$X$86,0)) -> 19 | I105: =INDEX('FS 0'!J$7:J$86,MATCH($A105,'FS 0'!$X$7:$X$86,0)) -> 18 | J105: =INDEX('FS 0'!K$7:K$86,MATCH($A105,'FS 0'!$X$7:$X$86,0)) -> 19 | K105: =INDEX('FS 0'!L$7:L$86,MATCH($A105,'FS 0'!$X$7:$X$86,0)) -> 19.5 | L105: =INDEX('FS 0'!M$7:M$86,MATCH($A105,'FS 0'!$X$7:$X$86,0)) -> 19.5 | ... T105: =INDEX('FS 0'!U$7:U$86,MATCH($A105,'FS 0'!$X$7:$X$86,0)) -> 0 | U105: =INDEX('FS 0'!$V$7:$V$86,MATCH(A105,'FS 0'!$X$7:$X$86,0)) -> 155 | V105: =INDEX('FS 0'!$X$7:$X$86,MATCH(A105,'FS 0'!$X$7:$X$86,0)) -> 2 | W105: =INDEX('FS 0'!$W$7:$W$86,MATCH(A105,'FS 0'!$X$7:$X$86,0)) -> Si
A106: 3 | C106: =INDEX('FS 0'!C$7:C$86,MATCH(A106,'FS 0'!$X$7:$X$86,0)) -> Inserra | D106: =INDEX('FS 0'!D$7:D$86,MATCH(A106,'FS 0'!$X$7:$X$86,0)) -> Blu | E106: =INDEX('FS 0'!F$7:F$86,MATCH($A106,'FS 0'!$X$7:$X$86,0)) -> 20.5 | F106: =INDEX('FS 0'!G$7:G$86,MATCH($A106,'FS 0'!$X$7:$X$86,0)) -> 20 | G106: =INDEX('FS 0'!H$7:H$86,MATCH($A106,'FS 0'!$X$7:$X$86,0)) -> 17.5 | H106: =INDEX('FS 0'!I$7:I$86,MATCH($A106,'FS 0'!$X$7:$X$86,0)) -> 17 | I106: =INDEX('FS 0'!J$7:J$86,MATCH($A106,'FS 0'!$X$7:$X$86,0)) -> 16.5 | J106: =INDEX('FS 0'!K$7:K$86,MATCH($A106,'FS 0'!$X$7:$X$86,0)) -> 18.5 | K106: =INDEX('FS 0'!L$7:L$86,MATCH($A106,'FS 0'!$X$7:$X$86,0)) -> 19 | L106: =INDEX('FS 0'!M$7:M$86,MATCH($A106,'FS 0'!$X$7:$X$86,0)) -> 19 | ... T106: =INDEX('FS 0'!U$7:U$86,MATCH($A106,'FS 0'!$X$7:$X$86,0)) -> 0.95 | U106: =INDEX('FS 0'!$V$7:$V$86,MATCH(A106,'FS 0'!$X$7:$X$86,0)) -> 147.05 | V106: =INDEX('FS 0'!$X$7:$X$86,MATCH(A106,'FS 0'!$X$7:$X$86,0)) -> 3 | W106: =INDEX('FS 0'!$W$7:$W$86,MATCH(A106,'FS 0'!$X$7:$X$86,0)) -> No
A107: 4 | C107: =INDEX('FS 0'!$C$7:$C$86,MATCH(A107,'FS 0'!$X$7:$X$86,0)) | D107: =INDEX('FS 0'!$D$7:$D$86,MATCH(A107,'FS 0'!$X$7:$X$86,0)) | E107: =INDEX('FS 0'!F$7:F$86,MATCH($A107,'FS 0'!$X$7:$X$86,0)) | F107: =INDEX('FS 0'!G$7:G$86,MATCH($A107,'FS 0'!$X$7:$X$86,0)) | G107: =INDEX('FS 0'!H$7:H$86,MATCH($A107,'FS 0'!$X$7:$X$86,0)) | H107: =INDEX('FS 0'!I$7:I$86,MATCH($A107,'FS 0'!$X$7:$X$86,0)) | I107: =INDEX('FS 0'!J$7:J$86,MATCH($A107,'FS 0'!$X$7:$X$86,0)) | J107: =INDEX('FS 0'!K$7:K$86,MATCH($A107,'FS 0'!$X$7:$X$86,0)) | K107: =INDEX('FS 0'!L$7:L$86,MATCH($A107,'FS 0'!$X$7:$X$86,0)) | L107: =INDEX('FS 0'!M$7:M$86,MATCH($A107,'FS 0'!$X$7:$X$86,0)) | ... T107: =INDEX('FS 0'!U$7:U$86,MATCH($A107,'FS 0'!$X$7:$X$86,0)) | U107: =INDEX('FS 0'!$V$7:$V$86,MATCH(A107,'FS 0'!$X$7:$X$86,0)) | V107: =INDEX('FS 0'!$X$7:$X$86,MATCH(A107,'FS 0'!$X$7:$X$86,0)) | W107: =INDEX('FS 0'!$W$7:$W$86,MATCH(A107,'FS 0'!$X$7:$X$86,0))
A108: 5 | C108: =INDEX('FS 0'!C$7:C$86,MATCH(A108,'FS 0'!$X$7:$X$86,0)) | D108: =INDEX('FS 0'!D$7:D$86,MATCH(A108,'FS 0'!$X$7:$X$86,0)) | E108: =INDEX('FS 0'!F$7:F$86,MATCH($A108,'FS 0'!$X$7:$X$86,0)) | F108: =INDEX('FS 0'!G$7:G$86,MATCH($A108,'FS 0'!$X$7:$X$86,0)) | G108: =INDEX('FS 0'!H$7:H$86,MATCH($A108,'FS 0'!$X$7:$X$86,0)) | H108: =INDEX('FS 0'!I$7:I$86,MATCH($A108,'FS 0'!$X$7:$X$86,0)) | I108: =INDEX('FS 0'!J$7:J$86,MATCH($A108,'FS 0'!$X$7:$X$86,0)) | J108: =INDEX('FS 0'!K$7:K$86,MATCH($A108,'FS 0'!$X$7:$X$86,0)) | K108: =INDEX('FS 0'!L$7:L$86,MATCH($A108,'FS 0'!$X$7:$X$86,0)) | L108: =INDEX('FS 0'!M$7:M$86,MATCH($A108,'FS 0'!$X$7:$X$86,0)) | ... T108: =INDEX('FS 0'!U$7:U$86,MATCH($A108,'FS 0'!$X$7:$X$86,0)) | U108: =INDEX('FS 0'!$V$7:$V$86,MATCH(A108,'FS 0'!$X$7:$X$86,0)) | V108: =INDEX('FS 0'!$X$7:$X$86,MATCH(A108,'FS 0'!$X$7:$X$86,0)) | W108: =INDEX('FS 0'!$W$7:$W$86,MATCH(A108,'FS 0'!$X$7:$X$86,0))
A109: 6 | C109: =INDEX('FS 0'!$C$7:$C$86,MATCH(A109,'FS 0'!$X$7:$X$86,0)) | D109: =INDEX('FS 0'!$D$7:$D$86,MATCH(A109,'FS 0'!$X$7:$X$86,0)) | E109: =INDEX('FS 0'!F$7:F$86,MATCH($A109,'FS 0'!$X$7:$X$86,0)) | F109: =INDEX('FS 0'!G$7:G$86,MATCH($A109,'FS 0'!$X$7:$X$86,0)) | G109: =INDEX('FS 0'!H$7:H$86,MATCH($A109,'FS 0'!$X$7:$X$86,0)) | H109: =INDEX('FS 0'!I$7:I$86,MATCH($A109,'FS 0'!$X$7:$X$86,0)) | I109: =INDEX('FS 0'!J$7:J$86,MATCH($A109,'FS 0'!$X$7:$X$86,0)) | J109: =INDEX('FS 0'!K$7:K$86,MATCH($A109,'FS 0'!$X$7:$X$86,0)) | K109: =INDEX('FS 0'!L$7:L$86,MATCH($A109,'FS 0'!$X$7:$X$86,0)) | L109: =INDEX('FS 0'!M$7:M$86,MATCH($A109,'FS 0'!$X$7:$X$86,0)) | ... T109: =INDEX('FS 0'!U$7:U$86,MATCH($A109,'FS 0'!$X$7:$X$86,0)) | U109: =INDEX('FS 0'!$V$7:$V$86,MATCH(A109,'FS 0'!$X$7:$X$86,0)) | V109: =INDEX('FS 0'!$X$7:$X$86,MATCH(A109,'FS 0'!$X$7:$X$86,0)) | W109: =INDEX('FS 0'!$W$7:$W$86,MATCH(A109,'FS 0'!$X$7:$X$86,0))
A110: 7 | C110: =INDEX('FS 0'!C$7:C$86,MATCH(A110,'FS 0'!$X$7:$X$86,0)) | D110: =INDEX('FS 0'!D$7:D$86,MATCH(A110,'FS 0'!$X$7:$X$86,0)) | E110: =INDEX('FS 0'!F$7:F$86,MATCH($A110,'FS 0'!$X$7:$X$86,0)) | F110: =INDEX('FS 0'!G$7:G$86,MATCH($A110,'FS 0'!$X$7:$X$86,0)) | G110: =INDEX('FS 0'!H$7:H$86,MATCH($A110,'FS 0'!$X$7:$X$86,0)) | H110: =INDEX('FS 0'!I$7:I$86,MATCH($A110,'FS 0'!$X$7:$X$86,0)) | I110: =INDEX('FS 0'!J$7:J$86,MATCH($A110,'FS 0'!$X$7:$X$86,0)) | J110: =INDEX('FS 0'!K$7:K$86,MATCH($A110,'FS 0'!$X$7:$X$86,0)) | K110: =INDEX('FS 0'!L$7:L$86,MATCH($A110,'FS 0'!$X$7:$X$86,0)) | L110: =INDEX('FS 0'!M$7:M$86,MATCH($A110,'FS 0'!$X$7:$X$86,0)) | ... T110: =INDEX('FS 0'!U$7:U$86,MATCH($A110,'FS 0'!$X$7:$X$86,0)) | U110: =INDEX('FS 0'!$V$7:$V$86,MATCH(A110,'FS 0'!$X$7:$X$86,0)) | V110: =INDEX('FS 0'!$X$7:$X$86,MATCH(A110,'FS 0'!$X$7:$X$86,0)) | W110: =INDEX('FS 0'!$W$7:$W$86,MATCH(A110,'FS 0'!$X$7:$X$86,0))
A111: 8 | C111: =INDEX('FS 0'!$C$7:$C$86,MATCH(A111,'FS 0'!$X$7:$X$86,0)) | D111: =INDEX('FS 0'!$D$7:$D$86,MATCH(A111,'FS 0'!$X$7:$X$86,0)) | E111: =INDEX('FS 0'!F$7:F$86,MATCH($A111,'FS 0'!$X$7:$X$86,0)) | F111: =INDEX('FS 0'!G$7:G$86,MATCH($A111,'FS 0'!$X$7:$X$86,0)) | G111: =INDEX('FS 0'!H$7:H$86,MATCH($A111,'FS 0'!$X$7:$X$86,0)) | H111: =INDEX('FS 0'!I$7:I$86,MATCH($A111,'FS 0'!$X$7:$X$86,0)) | I111: =INDEX('FS 0'!J$7:J$86,MATCH($A111,'FS 0'!$X$7:$X$86,0)) | J111: =INDEX('FS 0'!K$7:K$86,MATCH($A111,'FS 0'!$X$7:$X$86,0)) | K111: =INDEX('FS 0'!L$7:L$86,MATCH($A111,'FS 0'!$X$7:$X$86,0)) | L111: =INDEX('FS 0'!M$7:M$86,MATCH($A111,'FS 0'!$X$7:$X$86,0)) | ... T111: =INDEX('FS 0'!U$7:U$86,MATCH($A111,'FS 0'!$X$7:$X$86,0)) | U111: =INDEX('FS 0'!$V$7:$V$86,MATCH(A111,'FS 0'!$X$7:$X$86,0)) | V111: =INDEX('FS 0'!$X$7:$X$86,MATCH(A111,'FS 0'!$X$7:$X$86,0)) | W111: =INDEX('FS 0'!$W$7:$W$86,MATCH(A111,'FS 0'!$X$7:$X$86,0))
A112: 9 | C112: =INDEX('FS 0'!C$7:C$86,MATCH(A112,'FS 0'!$X$7:$X$86,0)) | D112: =INDEX('FS 0'!D$7:D$86,MATCH(A112,'FS 0'!$X$7:$X$86,0)) | E112: =INDEX('FS 0'!F$7:F$86,MATCH($A112,'FS 0'!$X$7:$X$86,0)) | F112: =INDEX('FS 0'!G$7:G$86,MATCH($A112,'FS 0'!$X$7:$X$86,0)) | G112: =INDEX('FS 0'!H$7:H$86,MATCH($A112,'FS 0'!$X$7:$X$86,0)) | H112: =INDEX('FS 0'!I$7:I$86,MATCH($A112,'FS 0'!$X$7:$X$86,0)) | I112: =INDEX('FS 0'!J$7:J$86,MATCH($A112,'FS 0'!$X$7:$X$86,0)) | J112: =INDEX('FS 0'!K$7:K$86,MATCH($A112,'FS 0'!$X$7:$X$86,0)) | K112: =INDEX('FS 0'!L$7:L$86,MATCH($A112,'FS 0'!$X$7:$X$86,0)) | L112: =INDEX('FS 0'!M$7:M$86,MATCH($A112,'FS 0'!$X$7:$X$86,0)) | ... T112: =INDEX('FS 0'!U$7:U$86,MATCH($A112,'FS 0'!$X$7:$X$86,0)) | U112: =INDEX('FS 0'!$V$7:$V$86,MATCH(A112,'FS 0'!$X$7:$X$86,0)) | V112: =INDEX('FS 0'!$X$7:$X$86,MATCH(A112,'FS 0'!$X$7:$X$86,0)) | W112: =INDEX('FS 0'!$W$7:$W$86,MATCH(A112,'FS 0'!$X$7:$X$86,0))
A113: 10 | C113: =INDEX('FS 0'!$C$7:$C$86,MATCH(A113,'FS 0'!$X$7:$X$86,0)) | D113: =INDEX('FS 0'!$D$7:$D$86,MATCH(A113,'FS 0'!$X$7:$X$86,0)) | E113: =INDEX('FS 0'!F$7:F$86,MATCH($A113,'FS 0'!$X$7:$X$86,0)) | F113: =INDEX('FS 0'!G$7:G$86,MATCH($A113,'FS 0'!$X$7:$X$86,0)) | G113: =INDEX('FS 0'!H$7:H$86,MATCH($A113,'FS 0'!$X$7:$X$86,0)) | H113: =INDEX('FS 0'!I$7:I$86,MATCH($A113,'FS 0'!$X$7:$X$86,0)) | I113: =INDEX('FS 0'!J$7:J$86,MATCH($A113,'FS 0'!$X$7:$X$86,0)) | J113: =INDEX('FS 0'!K$7:K$86,MATCH($A113,'FS 0'!$X$7:$X$86,0)) | K113: =INDEX('FS 0'!L$7:L$86,MATCH($A113,'FS 0'!$X$7:$X$86,0)) | L113: =INDEX('FS 0'!M$7:M$86,MATCH($A113,'FS 0'!$X$7:$X$86,0)) | ... T113: =INDEX('FS 0'!U$7:U$86,MATCH($A113,'FS 0'!$X$7:$X$86,0)) | U113: =INDEX('FS 0'!$V$7:$V$86,MATCH(A113,'FS 0'!$X$7:$X$86,0)) | V113: =INDEX('FS 0'!$X$7:$X$86,MATCH(A113,'FS 0'!$X$7:$X$86,0)) | W113: =INDEX('FS 0'!$W$7:$W$86,MATCH(A113,'FS 0'!$X$7:$X$86,0))
A114: 11 | C114: =INDEX('FS 0'!C$7:C$86,MATCH(A114,'FS 0'!$X$7:$X$86,0)) | D114: =INDEX('FS 0'!D$7:D$86,MATCH(A114,'FS 0'!$X$7:$X$86,0)) | E114: =INDEX('FS 0'!F$7:F$86,MATCH($A114,'FS 0'!$X$7:$X$86,0)) | F114: =INDEX('FS 0'!G$7:G$86,MATCH($A114,'FS 0'!$X$7:$X$86,0)) | G114: =INDEX('FS 0'!H$7:H$86,MATCH($A114,'FS 0'!$X$7:$X$86,0)) | H114: =INDEX('FS 0'!I$7:I$86,MATCH($A114,'FS 0'!$X$7:$X$86,0)) | I114: =INDEX('FS 0'!J$7:J$86,MATCH($A114,'FS 0'!$X$7:$X$86,0)) | J114: =INDEX('FS 0'!K$7:K$86,MATCH($A114,'FS 0'!$X$7:$X$86,0)) | K114: =INDEX('FS 0'!L$7:L$86,MATCH($A114,'FS 0'!$X$7:$X$86,0)) | L114: =INDEX('FS 0'!M$7:M$86,MATCH($A114,'FS 0'!$X$7:$X$86,0)) | ... T114: =INDEX('FS 0'!U$7:U$86,MATCH($A114,'FS 0'!$X$7:$X$86,0)) | U114: =INDEX('FS 0'!$V$7:$V$86,MATCH(A114,'FS 0'!$X$7:$X$86,0)) | V114: =INDEX('FS 0'!$X$7:$X$86,MATCH(A114,'FS 0'!$X$7:$X$86,0)) | W114: =INDEX('FS 0'!$W$7:$W$86,MATCH(A114,'FS 0'!$X$7:$X$86,0))
A115: 12 | C115: =INDEX('FS 0'!$C$7:$C$86,MATCH(A115,'FS 0'!$X$7:$X$86,0)) | D115: =INDEX('FS 0'!$D$7:$D$86,MATCH(A115,'FS 0'!$X$7:$X$86,0)) | E115: =INDEX('FS 0'!F$7:F$86,MATCH($A115,'FS 0'!$X$7:$X$86,0)) | F115: =INDEX('FS 0'!G$7:G$86,MATCH($A115,'FS 0'!$X$7:$X$86,0)) | G115: =INDEX('FS 0'!H$7:H$86,MATCH($A115,'FS 0'!$X$7:$X$86,0)) | H115: =INDEX('FS 0'!I$7:I$86,MATCH($A115,'FS 0'!$X$7:$X$86,0)) | I115: =INDEX('FS 0'!J$7:J$86,MATCH($A115,'FS 0'!$X$7:$X$86,0)) | J115: =INDEX('FS 0'!K$7:K$86,MATCH($A115,'FS 0'!$X$7:$X$86,0)) | K115: =INDEX('FS 0'!L$7:L$86,MATCH($A115,'FS 0'!$X$7:$X$86,0)) | L115: =INDEX('FS 0'!M$7:M$86,MATCH($A115,'FS 0'!$X$7:$X$86,0)) | ... T115: =INDEX('FS 0'!U$7:U$86,MATCH($A115,'FS 0'!$X$7:$X$86,0)) | U115: =INDEX('FS 0'!$V$7:$V$86,MATCH(A115,'FS 0'!$X$7:$X$86,0)) | V115: =INDEX('FS 0'!$X$7:$X$86,MATCH(A115,'FS 0'!$X$7:$X$86,0)) | W115: =INDEX('FS 0'!$W$7:$W$86,MATCH(A115,'FS 0'!$X$7:$X$86,0))
A116: 13 | C116: =INDEX('FS 0'!C$7:C$86,MATCH(A116,'FS 0'!$X$7:$X$86,0)) | D116: =INDEX('FS 0'!D$7:D$86,MATCH(A116,'FS 0'!$X$7:$X$86,0)) | E116: =INDEX('FS 0'!F$7:F$86,MATCH($A116,'FS 0'!$X$7:$X$86,0)) | F116: =INDEX('FS 0'!G$7:G$86,MATCH($A116,'FS 0'!$X$7:$X$86,0)) | G116: =INDEX('FS 0'!H$7:H$86,MATCH($A116,'FS 0'!$X$7:$X$86,0)) | H116: =INDEX('FS 0'!I$7:I$86,MATCH($A116,'FS 0'!$X$7:$X$86,0)) | I116: =INDEX('FS 0'!J$7:J$86,MATCH($A116,'FS 0'!$X$7:$X$86,0)) | J116: =INDEX('FS 0'!K$7:K$86,MATCH($A116,'FS 0'!$X$7:$X$86,0)) | K116: =INDEX('FS 0'!L$7:L$86,MATCH($A116,'FS 0'!$X$7:$X$86,0)) | L116: =INDEX('FS 0'!M$7:M$86,MATCH($A116,'FS 0'!$X$7:$X$86,0)) | ... T116: =INDEX('FS 0'!U$7:U$86,MATCH($A116,'FS 0'!$X$7:$X$86,0)) | U116: =INDEX('FS 0'!$V$7:$V$86,MATCH(A116,'FS 0'!$X$7:$X$86,0)) | V116: =INDEX('FS 0'!$X$7:$X$86,MATCH(A116,'FS 0'!$X$7:$X$86,0)) | W116: =INDEX('FS 0'!$W$7:$W$86,MATCH(A116,'FS 0'!$X$7:$X$86,0))
A117: 14 | C117: =INDEX('FS 0'!$C$7:$C$86,MATCH(A117,'FS 0'!$X$7:$X$86,0)) | D117: =INDEX('FS 0'!$D$7:$D$86,MATCH(A117,'FS 0'!$X$7:$X$86,0)) | E117: =INDEX('FS 0'!F$7:F$86,MATCH($A117,'FS 0'!$X$7:$X$86,0)) | F117: =INDEX('FS 0'!G$7:G$86,MATCH($A117,'FS 0'!$X$7:$X$86,0)) | G117: =INDEX('FS 0'!H$7:H$86,MATCH($A117,'FS 0'!$X$7:$X$86,0)) | H117: =INDEX('FS 0'!I$7:I$86,MATCH($A117,'FS 0'!$X$7:$X$86,0)) | I117: =INDEX('FS 0'!J$7:J$86,MATCH($A117,'FS 0'!$X$7:$X$86,0)) | J117: =INDEX('FS 0'!K$7:K$86,MATCH($A117,'FS 0'!$X$7:$X$86,0)) | K117: =INDEX('FS 0'!L$7:L$86,MATCH($A117,'FS 0'!$X$7:$X$86,0)) | L117: =INDEX('FS 0'!M$7:M$86,MATCH($A117,'FS 0'!$X$7:$X$86,0)) | ... T117: =INDEX('FS 0'!U$7:U$86,MATCH($A117,'FS 0'!$X$7:$X$86,0)) | U117: =INDEX('FS 0'!$V$7:$V$86,MATCH(A117,'FS 0'!$X$7:$X$86,0)) | V117: =INDEX('FS 0'!$X$7:$X$86,MATCH(A117,'FS 0'!$X$7:$X$86,0)) | W117: =INDEX('FS 0'!$W$7:$W$86,MATCH(A117,'FS 0'!$X$7:$X$86,0))
A118: 15 | C118: =INDEX('FS 0'!C$7:C$86,MATCH(A118,'FS 0'!$X$7:$X$86,0)) | D118: =INDEX('FS 0'!D$7:D$86,MATCH(A118,'FS 0'!$X$7:$X$86,0)) | E118: =INDEX('FS 0'!F$7:F$86,MATCH($A118,'FS 0'!$X$7:$X$86,0)) | F118: =INDEX('FS 0'!G$7:G$86,MATCH($A118,'FS 0'!$X$7:$X$86,0)) | G118: =INDEX('FS 0'!H$7:H$86,MATCH($A118,'FS 0'!$X$7:$X$86,0)) | H118: =INDEX('FS 0'!I$7:I$86,MATCH($A118,'FS 0'!$X$7:$X$86,0)) | I118: =INDEX('FS 0'!J$7:J$86,MATCH($A118,'FS 0'!$X$7:$X$86,0)) | J118: =INDEX('FS 0'!K$7:K$86,MATCH($A118,'FS 0'!$X$7:$X$86,0)) | K118: =INDEX('FS 0'!L$7:L$86,MATCH($A118,'FS 0'!$X$7:$X$86,0)) | L118: =INDEX('FS 0'!M$7:M$86,MATCH($A118,'FS 0'!$X$7:$X$86,0)) | ... T118: =INDEX('FS 0'!U$7:U$86,MATCH($A118,'FS 0'!$X$7:$X$86,0)) | U118: =INDEX('FS 0'!$V$7:$V$86,MATCH(A118,'FS 0'!$X$7:$X$86,0)) | V118: =INDEX('FS 0'!$X$7:$X$86,MATCH(A118,'FS 0'!$X$7:$X$86,0)) | W118: =INDEX('FS 0'!$W$7:$W$86,MATCH(A118,'FS 0'!$X$7:$X$86,0))
A119: 16 | C119: =INDEX('FS 0'!$C$7:$C$86,MATCH(A119,'FS 0'!$X$7:$X$86,0)) | D119: =INDEX('FS 0'!$D$7:$D$86,MATCH(A119,'FS 0'!$X$7:$X$86,0)) | E119: =INDEX('FS 0'!F$7:F$86,MATCH($A119,'FS 0'!$X$7:$X$86,0)) | F119: =INDEX('FS 0'!G$7:G$86,MATCH($A119,'FS 0'!$X$7:$X$86,0)) | G119: =INDEX('FS 0'!H$7:H$86,MATCH($A119,'FS 0'!$X$7:$X$86,0)) | H119: =INDEX('FS 0'!I$7:I$86,MATCH($A119,'FS 0'!$X$7:$X$86,0)) | I119: =INDEX('FS 0'!J$7:J$86,MATCH($A119,'FS 0'!$X$7:$X$86,0)) | J119: =INDEX('FS 0'!K$7:K$86,MATCH($A119,'FS 0'!$X$7:$X$86,0)) | K119: =INDEX('FS 0'!L$7:L$86,MATCH($A119,'FS 0'!$X$7:$X$86,0)) | L119: =INDEX('FS 0'!M$7:M$86,MATCH($A119,'FS 0'!$X$7:$X$86,0)) | ... T119: =INDEX('FS 0'!U$7:U$86,MATCH($A119,'FS 0'!$X$7:$X$86,0)) | U119: =INDEX('FS 0'!$V$7:$V$86,MATCH(A119,'FS 0'!$X$7:$X$86,0)) | V119: =INDEX('FS 0'!$X$7:$X$86,MATCH(A119,'FS 0'!$X$7:$X$86,0)) | W119: =INDEX('FS 0'!$W$7:$W$86,MATCH(A119,'FS 0'!$X$7:$X$86,0))
A120: 17 | C120: =INDEX('FS 0'!C$7:C$86,MATCH(A120,'FS 0'!$X$7:$X$86,0)) | D120: =INDEX('FS 0'!D$7:D$86,MATCH(A120,'FS 0'!$X$7:$X$86,0)) | E120: =INDEX('FS 0'!F$7:F$86,MATCH($A120,'FS 0'!$X$7:$X$86,0)) | F120: =INDEX('FS 0'!G$7:G$86,MATCH($A120,'FS 0'!$X$7:$X$86,0)) | G120: =INDEX('FS 0'!H$7:H$86,MATCH($A120,'FS 0'!$X$7:$X$86,0)) | H120: =INDEX('FS 0'!I$7:I$86,MATCH($A120,'FS 0'!$X$7:$X$86,0)) | I120: =INDEX('FS 0'!J$7:J$86,MATCH($A120,'FS 0'!$X$7:$X$86,0)) | J120: =INDEX('FS 0'!K$7:K$86,MATCH($A120,'FS 0'!$X$7:$X$86,0)) | K120: =INDEX('FS 0'!L$7:L$86,MATCH($A120,'FS 0'!$X$7:$X$86,0)) | L120: =INDEX('FS 0'!M$7:M$86,MATCH($A120,'FS 0'!$X$7:$X$86,0)) | ... T120: =INDEX('FS 0'!U$7:U$86,MATCH($A120,'FS 0'!$X$7:$X$86,0)) | U120: =INDEX('FS 0'!$V$7:$V$86,MATCH(A120,'FS 0'!$X$7:$X$86,0)) | V120: =INDEX('FS 0'!$X$7:$X$86,MATCH(A120,'FS 0'!$X$7:$X$86,0)) | W120: =INDEX('FS 0'!$W$7:$W$86,MATCH(A120,'FS 0'!$X$7:$X$86,0))
A121: 18 | C121: =INDEX('FS 0'!$C$7:$C$86,MATCH(A121,'FS 0'!$X$7:$X$86,0)) | D121: =INDEX('FS 0'!$D$7:$D$86,MATCH(A121,'FS 0'!$X$7:$X$86,0)) | E121: =INDEX('FS 0'!F$7:F$86,MATCH($A121,'FS 0'!$X$7:$X$86,0)) | F121: =INDEX('FS 0'!G$7:G$86,MATCH($A121,'FS 0'!$X$7:$X$86,0)) | G121: =INDEX('FS 0'!H$7:H$86,MATCH($A121,'FS 0'!$X$7:$X$86,0)) | H121: =INDEX('FS 0'!I$7:I$86,MATCH($A121,'FS 0'!$X$7:$X$86,0)) | I121: =INDEX('FS 0'!J$7:J$86,MATCH($A121,'FS 0'!$X$7:$X$86,0)) | J121: =INDEX('FS 0'!K$7:K$86,MATCH($A121,'FS 0'!$X$7:$X$86,0)) | K121: =INDEX('FS 0'!L$7:L$86,MATCH($A121,'FS 0'!$X$7:$X$86,0)) | L121: =INDEX('FS 0'!M$7:M$86,MATCH($A121,'FS 0'!$X$7:$X$86,0)) | ... T121: =INDEX('FS 0'!U$7:U$86,MATCH($A121,'FS 0'!$X$7:$X$86,0)) | U121: =INDEX('FS 0'!$V$7:$V$86,MATCH(A121,'FS 0'!$X$7:$X$86,0)) | V121: =INDEX('FS 0'!$X$7:$X$86,MATCH(A121,'FS 0'!$X$7:$X$86,0)) | W121: =INDEX('FS 0'!$W$7:$W$86,MATCH(A121,'FS 0'!$X$7:$X$86,0))
A122: 19 | C122: =INDEX('FS 0'!C$7:C$86,MATCH(A122,'FS 0'!$X$7:$X$86,0)) | D122: =INDEX('FS 0'!D$7:D$86,MATCH(A122,'FS 0'!$X$7:$X$86,0)) | E122: =INDEX('FS 0'!F$7:F$86,MATCH($A122,'FS 0'!$X$7:$X$86,0)) | F122: =INDEX('FS 0'!G$7:G$86,MATCH($A122,'FS 0'!$X$7:$X$86,0)) | G122: =INDEX('FS 0'!H$7:H$86,MATCH($A122,'FS 0'!$X$7:$X$86,0)) | H122: =INDEX('FS 0'!I$7:I$86,MATCH($A122,'FS 0'!$X$7:$X$86,0)) | I122: =INDEX('FS 0'!J$7:J$86,MATCH($A122,'FS 0'!$X$7:$X$86,0)) | J122: =INDEX('FS 0'!K$7:K$86,MATCH($A122,'FS 0'!$X$7:$X$86,0)) | K122: =INDEX('FS 0'!L$7:L$86,MATCH($A122,'FS 0'!$X$7:$X$86,0)) | L122: =INDEX('FS 0'!M$7:M$86,MATCH($A122,'FS 0'!$X$7:$X$86,0)) | ... T122: =INDEX('FS 0'!U$7:U$86,MATCH($A122,'FS 0'!$X$7:$X$86,0)) | U122: =INDEX('FS 0'!$V$7:$V$86,MATCH(A122,'FS 0'!$X$7:$X$86,0)) | V122: =INDEX('FS 0'!$X$7:$X$86,MATCH(A122,'FS 0'!$X$7:$X$86,0)) | W122: =INDEX('FS 0'!$W$7:$W$86,MATCH(A122,'FS 0'!$X$7:$X$86,0))
A123: 20 | C123: =INDEX('FS 0'!$C$7:$C$86,MATCH(A123,'FS 0'!$X$7:$X$86,0)) | D123: =INDEX('FS 0'!$D$7:$D$86,MATCH(A123,'FS 0'!$X$7:$X$86,0)) | E123: =INDEX('FS 0'!F$7:F$86,MATCH($A123,'FS 0'!$X$7:$X$86,0)) | F123: =INDEX('FS 0'!G$7:G$86,MATCH($A123,'FS 0'!$X$7:$X$86,0)) | G123: =INDEX('FS 0'!H$7:H$86,MATCH($A123,'FS 0'!$X$7:$X$86,0)) | H123: =INDEX('FS 0'!I$7:I$86,MATCH($A123,'FS 0'!$X$7:$X$86,0)) | I123: =INDEX('FS 0'!J$7:J$86,MATCH($A123,'FS 0'!$X$7:$X$86,0)) | J123: =INDEX('FS 0'!K$7:K$86,MATCH($A123,'FS 0'!$X$7:$X$86,0)) | K123: =INDEX('FS 0'!L$7:L$86,MATCH($A123,'FS 0'!$X$7:$X$86,0)) | L123: =INDEX('FS 0'!M$7:M$86,MATCH($A123,'FS 0'!$X$7:$X$86,0)) | ... T123: =INDEX('FS 0'!U$7:U$86,MATCH($A123,'FS 0'!$X$7:$X$86,0)) | U123: =INDEX('FS 0'!$V$7:$V$86,MATCH(A123,'FS 0'!$X$7:$X$86,0)) | V123: =INDEX('FS 0'!$X$7:$X$86,MATCH(A123,'FS 0'!$X$7:$X$86,0)) | W123: =INDEX('FS 0'!$W$7:$W$86,MATCH(A123,'FS 0'!$X$7:$X$86,0))
A125: FS 1
E126: artistic | I126: tecnici | N126: Detrazioni di punti | U126: Risultato
A127: Posizionamento | B127: Nome | C127: Cognome | D127: Cane | E127: Team work | F127: Dinamicità | G127: Concetto | H127: Coreografia | I127: Fluidità | J127: Esecuzione | K127: Contenuto | L127: Difficoltà | M127: punti | N127: Abbaio e vocalizzazioni | O127: Salute del cane | P127: costume / Oggetti di scena | Q127: Lunghezze musicali errate | R127: Trattamento improprio del cane | S127: Contatto attivo | T127: Detrazioni di punti | U127: Totale | V127: Posizionamento | W127: punto di passaggio
A128: 1 | C128: =INDEX('FS 1'!C$7:C$86,MATCH(A128,'FS 1'!$X$7:$X$86,0)) -> Munoz | D128: =INDEX('FS 1'!D$7:D$86,MATCH(A128,'FS 1'!$X$7:$X$86,0)) -> Tazmania | E128: =INDEX('FS 1'!F$7:F$86,MATCH($A128,'FS 1'!$X$7:$X$86,0)) -> 23.5 | F128: =INDEX('FS 1'!G$7:G$86,MATCH($A128,'FS 1'!$X$7:$X$86,0)) -> 22.5 | G128: =INDEX('FS 1'!H$7:H$86,MATCH($A128,'FS 1'!$X$7:$X$86,0)) -> 21 | H128: =INDEX('FS 1'!I$7:I$86,MATCH($A128,'FS 1'!$X$7:$X$86,0)) -> 21 | I128: =INDEX('FS 1'!J$7:J$86,MATCH($A128,'FS 1'!$X$7:$X$86,0)) -> 21.5 | J128: =INDEX('FS 1'!K$7:K$86,MATCH($A128,'FS 1'!$X$7:$X$86,0)) -> 22 | K128: =INDEX('FS 1'!L$7:L$86,MATCH($A128,'FS 1'!$X$7:$X$86,0)) -> 22 | L128: =INDEX('FS 1'!M$7:M$86,MATCH($A128,'FS 1'!$X$7:$X$86,0)) -> 22 | ... T128: =INDEX('FS 1'!U$7:U$86,MATCH($A128,'FS 1'!$X$7:$X$86,0)) -> 0 | U128: =INDEX('FS 1'!$V$7:$V$86,MATCH(A128,'FS 1'!$X$7:$X$86,0)) -> 175.5 | V128: =INDEX('FS 1'!$X$7:$X$86,MATCH(A128,'FS 1'!$X$7:$X$86,0)) -> 1 | W128: =INDEX('FS 1'!$W$7:$W$86,MATCH(A128,'FS 1'!$X$7:$X$86,0)) -> Si
A129: 2 | C129: =INDEX('FS 1'!$C$7:$C$86,MATCH(A129,'FS 1'!$X$7:$X$86,0)) -> Allegri | D129: =INDEX('FS 1'!$D$7:$D$86,MATCH(A129,'FS 1'!$X$7:$X$86,0)) -> Flash | E129: =INDEX('FS 1'!F$7:F$86,MATCH($A129,'FS 1'!$X$7:$X$86,0)) -> 21 | F129: =INDEX('FS 1'!G$7:G$86,MATCH($A129,'FS 1'!$X$7:$X$86,0)) -> 20.5 | G129: =INDEX('FS 1'!H$7:H$86,MATCH($A129,'FS 1'!$X$7:$X$86,0)) -> 20.5 | H129: =INDEX('FS 1'!I$7:I$86,MATCH($A129,'FS 1'!$X$7:$X$86,0)) -> 18 | I129: =INDEX('FS 1'!J$7:J$86,MATCH($A129,'FS 1'!$X$7:$X$86,0)) -> 18 | J129: =INDEX('FS 1'!K$7:K$86,MATCH($A129,'FS 1'!$X$7:$X$86,0)) -> 18 | K129: =INDEX('FS 1'!L$7:L$86,MATCH($A129,'FS 1'!$X$7:$X$86,0)) -> 17.5 | L129: =INDEX('FS 1'!M$7:M$86,MATCH($A129,'FS 1'!$X$7:$X$86,0)) -> 19.5 | ... T129: =INDEX('FS 1'!U$7:U$86,MATCH($A129,'FS 1'!$X$7:$X$86,0)) -> 0.55 | U129: =INDEX('FS 1'!$V$7:$V$86,MATCH(A129,'FS 1'!$X$7:$X$86,0)) -> 152.45 | V129: =INDEX('FS 1'!$X$7:$X$86,MATCH(A129,'FS 1'!$X$7:$X$86,0)) -> 2 | W129: =INDEX('FS 1'!$W$7:$W$86,MATCH(A129,'FS 1'!$X$7:$X$86,0)) -> Si
A130: 3 | C130: =INDEX('FS 1'!C$7:C$86,MATCH(A130,'FS 1'!$X$7:$X$86,0)) -> Valori | D130: =INDEX('FS 1'!D$7:D$86,MATCH(A130,'FS 1'!$X$7:$X$86,0)) -> Nala | E130: =INDEX('FS 1'!F$7:F$86,MATCH($A130,'FS 1'!$X$7:$X$86,0)) -> 18 | F130: =INDEX('FS 1'!G$7:G$86,MATCH($A130,'FS 1'!$X$7:$X$86,0)) -> 19.5 | G130: =INDEX('FS 1'!H$7:H$86,MATCH($A130,'FS 1'!$X$7:$X$86,0)) -> 20 | H130: =INDEX('FS 1'!I$7:I$86,MATCH($A130,'FS 1'!$X$7:$X$86,0)) -> 18.5 | I130: =INDEX('FS 1'!J$7:J$86,MATCH($A130,'FS 1'!$X$7:$X$86,0)) -> 17 | J130: =INDEX('FS 1'!K$7:K$86,MATCH($A130,'FS 1'!$X$7:$X$86,0)) -> 17 | K130: =INDEX('FS 1'!L$7:L$86,MATCH($A130,'FS 1'!$X$7:$X$86,0)) -> 18 | L130: =INDEX('FS 1'!M$7:M$86,MATCH($A130,'FS 1'!$X$7:$X$86,0)) -> 17.5 | ... T130: =INDEX('FS 1'!U$7:U$86,MATCH($A130,'FS 1'!$X$7:$X$86,0)) -> 0 | U130: =INDEX('FS 1'!$V$7:$V$86,MATCH(A130,'FS 1'!$X$7:$X$86,0)) -> 145.5 | V130: =INDEX('FS 1'!$X$7:$X$86,MATCH(A130,'FS 1'!$X$7:$X$86,0)) -> 3 | W130: =INDEX('FS 1'!$W$7:$W$86,MATCH(A130,'FS 1'!$X$7:$X$86,0)) -> No
A131: 4 | C131: =INDEX('FS 1'!$C$7:$C$86,MATCH(A131,'FS 1'!$X$7:$X$86,0)) -> Puccinelli | D131: =INDEX('FS 1'!$D$7:$D$86,MATCH(A131,'FS 1'!$X$7:$X$86,0)) -> Daisy | E131: =INDEX('FS 1'!F$7:F$86,MATCH($A131,'FS 1'!$X$7:$X$86,0)) -> 17.5 | F131: =INDEX('FS 1'!G$7:G$86,MATCH($A131,'FS 1'!$X$7:$X$86,0)) -> 18 | G131: =INDEX('FS 1'!H$7:H$86,MATCH($A131,'FS 1'!$X$7:$X$86,0)) -> 19 | H131: =INDEX('FS 1'!I$7:I$86,MATCH($A131,'FS 1'!$X$7:$X$86,0)) -> 18.5 | I131: =INDEX('FS 1'!J$7:J$86,MATCH($A131,'FS 1'!$X$7:$X$86,0)) -> 16.5 | J131: =INDEX('FS 1'!K$7:K$86,MATCH($A131,'FS 1'!$X$7:$X$86,0)) -> 16.5 | K131: =INDEX('FS 1'!L$7:L$86,MATCH($A131,'FS 1'!$X$7:$X$86,0)) -> 19.5 | L131: =INDEX('FS 1'!M$7:M$86,MATCH($A131,'FS 1'!$X$7:$X$86,0)) -> 20 | ... T131: =INDEX('FS 1'!U$7:U$86,MATCH($A131,'FS 1'!$X$7:$X$86,0)) -> 0.15 | U131: =INDEX('FS 1'!$V$7:$V$86,MATCH(A131,'FS 1'!$X$7:$X$86,0)) -> 145.35 | V131: =INDEX('FS 1'!$X$7:$X$86,MATCH(A131,'FS 1'!$X$7:$X$86,0)) -> 4 | W131: =INDEX('FS 1'!$W$7:$W$86,MATCH(A131,'FS 1'!$X$7:$X$86,0)) -> No
A132: 5 | C132: =INDEX('FS 1'!C$7:C$86,MATCH(A132,'FS 1'!$X$7:$X$86,0)) -> Colombo | D132: =INDEX('FS 1'!D$7:D$86,MATCH(A132,'FS 1'!$X$7:$X$86,0)) -> Aaron | E132: =INDEX('FS 1'!F$7:F$86,MATCH($A132,'FS 1'!$X$7:$X$86,0)) -> 18 | F132: =INDEX('FS 1'!G$7:G$86,MATCH($A132,'FS 1'!$X$7:$X$86,0)) -> 19 | G132: =INDEX('FS 1'!H$7:H$86,MATCH($A132,'FS 1'!$X$7:$X$86,0)) -> 19 | H132: =INDEX('FS 1'!I$7:I$86,MATCH($A132,'FS 1'!$X$7:$X$86,0)) -> 19 | I132: =INDEX('FS 1'!J$7:J$86,MATCH($A132,'FS 1'!$X$7:$X$86,0)) -> 16.5 | J132: =INDEX('FS 1'!K$7:K$86,MATCH($A132,'FS 1'!$X$7:$X$86,0)) -> 17 | K132: =INDEX('FS 1'!L$7:L$86,MATCH($A132,'FS 1'!$X$7:$X$86,0)) -> 17.5 | L132: =INDEX('FS 1'!M$7:M$86,MATCH($A132,'FS 1'!$X$7:$X$86,0)) -> 18 | ... T132: =INDEX('FS 1'!U$7:U$86,MATCH($A132,'FS 1'!$X$7:$X$86,0)) -> 0 | U132: =INDEX('FS 1'!$V$7:$V$86,MATCH(A132,'FS 1'!$X$7:$X$86,0)) -> 144 | V132: =INDEX('FS 1'!$X$7:$X$86,MATCH(A132,'FS 1'!$X$7:$X$86,0)) -> 5 | W132: =INDEX('FS 1'!$W$7:$W$86,MATCH(A132,'FS 1'!$X$7:$X$86,0)) -> No
A133: 6 | C133: =INDEX('FS 1'!$C$7:$C$86,MATCH(A133,'FS 1'!$X$7:$X$86,0)) | D133: =INDEX('FS 1'!$D$7:$D$86,MATCH(A133,'FS 1'!$X$7:$X$86,0)) | E133: =INDEX('FS 1'!F$7:F$86,MATCH($A133,'FS 1'!$X$7:$X$86,0)) | F133: =INDEX('FS 1'!G$7:G$86,MATCH($A133,'FS 1'!$X$7:$X$86,0)) | G133: =INDEX('FS 1'!H$7:H$86,MATCH($A133,'FS 1'!$X$7:$X$86,0)) | H133: =INDEX('FS 1'!I$7:I$86,MATCH($A133,'FS 1'!$X$7:$X$86,0)) | I133: =INDEX('FS 1'!J$7:J$86,MATCH($A133,'FS 1'!$X$7:$X$86,0)) | J133: =INDEX('FS 1'!K$7:K$86,MATCH($A133,'FS 1'!$X$7:$X$86,0)) | K133: =INDEX('FS 1'!L$7:L$86,MATCH($A133,'FS 1'!$X$7:$X$86,0)) | L133: =INDEX('FS 1'!M$7:M$86,MATCH($A133,'FS 1'!$X$7:$X$86,0)) | ... T133: =INDEX('FS 1'!U$7:U$86,MATCH($A133,'FS 1'!$X$7:$X$86,0)) | U133: =INDEX('FS 1'!$V$7:$V$86,MATCH(A133,'FS 1'!$X$7:$X$86,0)) | V133: =INDEX('FS 1'!$X$7:$X$86,MATCH(A133,'FS 1'!$X$7:$X$86,0)) | W133: =INDEX('FS 1'!$W$7:$W$86,MATCH(A133,'FS 1'!$X$7:$X$86,0))
A134: 7 | C134: =INDEX('FS 1'!C$7:C$86,MATCH(A134,'FS 1'!$X$7:$X$86,0)) | D134: =INDEX('FS 1'!D$7:D$86,MATCH(A134,'FS 1'!$X$7:$X$86,0)) | E134: =INDEX('FS 1'!F$7:F$86,MATCH($A134,'FS 1'!$X$7:$X$86,0)) | F134: =INDEX('FS 1'!G$7:G$86,MATCH($A134,'FS 1'!$X$7:$X$86,0)) | G134: =INDEX('FS 1'!H$7:H$86,MATCH($A134,'FS 1'!$X$7:$X$86,0)) | H134: =INDEX('FS 1'!I$7:I$86,MATCH($A134,'FS 1'!$X$7:$X$86,0)) | I134: =INDEX('FS 1'!J$7:J$86,MATCH($A134,'FS 1'!$X$7:$X$86,0)) | J134: =INDEX('FS 1'!K$7:K$86,MATCH($A134,'FS 1'!$X$7:$X$86,0)) | K134: =INDEX('FS 1'!L$7:L$86,MATCH($A134,'FS 1'!$X$7:$X$86,0)) | L134: =INDEX('FS 1'!M$7:M$86,MATCH($A134,'FS 1'!$X$7:$X$86,0)) | ... T134: =INDEX('FS 1'!U$7:U$86,MATCH($A134,'FS 1'!$X$7:$X$86,0)) | U134: =INDEX('FS 1'!$V$7:$V$86,MATCH(A134,'FS 1'!$X$7:$X$86,0)) | V134: =INDEX('FS 1'!$X$7:$X$86,MATCH(A134,'FS 1'!$X$7:$X$86,0)) | W134: =INDEX('FS 1'!$W$7:$W$86,MATCH(A134,'FS 1'!$X$7:$X$86,0))
A135: 8 | C135: =INDEX('FS 1'!$C$7:$C$86,MATCH(A135,'FS 1'!$X$7:$X$86,0)) | D135: =INDEX('FS 1'!$D$7:$D$86,MATCH(A135,'FS 1'!$X$7:$X$86,0)) | E135: =INDEX('FS 1'!F$7:F$86,MATCH($A135,'FS 1'!$X$7:$X$86,0)) | F135: =INDEX('FS 1'!G$7:G$86,MATCH($A135,'FS 1'!$X$7:$X$86,0)) | G135: =INDEX('FS 1'!H$7:H$86,MATCH($A135,'FS 1'!$X$7:$X$86,0)) | H135: =INDEX('FS 1'!I$7:I$86,MATCH($A135,'FS 1'!$X$7:$X$86,0)) | I135: =INDEX('FS 1'!J$7:J$86,MATCH($A135,'FS 1'!$X$7:$X$86,0)) | J135: =INDEX('FS 1'!K$7:K$86,MATCH($A135,'FS 1'!$X$7:$X$86,0)) | K135: =INDEX('FS 1'!L$7:L$86,MATCH($A135,'FS 1'!$X$7:$X$86,0)) | L135: =INDEX('FS 1'!M$7:M$86,MATCH($A135,'FS 1'!$X$7:$X$86,0)) | ... T135: =INDEX('FS 1'!U$7:U$86,MATCH($A135,'FS 1'!$X$7:$X$86,0)) | U135: =INDEX('FS 1'!$V$7:$V$86,MATCH(A135,'FS 1'!$X$7:$X$86,0)) | V135: =INDEX('FS 1'!$X$7:$X$86,MATCH(A135,'FS 1'!$X$7:$X$86,0)) | W135: =INDEX('FS 1'!$W$7:$W$86,MATCH(A135,'FS 1'!$X$7:$X$86,0))
...

Sheet HTM 0
B1: HTM 0 | E1: ='List of Competitors'!B2
E2: ='List of Competitors'!C2
A4: # | B4: Nome | C4: Cognome | D4: Cane | E4: Judge | F4: Team work | G4: Dinamicità | H4: Progetto | I4: Coreografia | J4: Fluidità | K4: Esecuzione | L4: Contenuto | M4: Difficoltà | N4: Punit | O4: Detrazioni di punti | W4: Totale | X4: punto di passaggio | Y4: Posizionamento | Z4: Korr Punkte Teamwork, Fluss
O5: Abbaio e vocalizzazioni | P5: Salute del cane | Q5: costume / Oggetti di scena | R5: Lunghezze musicali errate | S5: Trattamento improprio del cane | T5: Contatto attivo | U5: % HTM | V5: Totale
F6: max. 25 | G6: max. 25 | H6: max. 25 | I6: max. 25 | J6: max. 25 | K6: max. 25 | L6: max. 25 | M6: max. 25 | O6: max. 20 | P6: max. 20 | Q6: max. 20 | R6: 1 Punkt / sec | S6: max. 20 | T6: max. 20 | U6: [X]
A7: 1 | B7: =INDEX('List of Competitors'!C$5:C$24,MATCH($A7,'List of Competitors'!$A$5:$A$24,0)) -> Lisa | C7: =INDEX('List of Competitors'!D$5:D$24,MATCH($A7,'List of Competitors'!$A$5:$A$24,0)) -> Puccinelli | D7: =INDEX('List of Competitors'!E$5:E$24,MATCH($A7,'List of Competitors'!$A$5:$A$24,0)) -> Daisy | E7: Average | F7: =AVERAGE(F8:F10) -> 20.5 | G7: =AVERAGE(G8:G10) -> 19 | H7: =AVERAGE(H8:H10) -> 20.5 | I7: =AVERAGE(I8:I10) -> 19.5 | J7: =AVERAGE(J8:J10) -> 20 | K7: =AVERAGE(K8:K10) -> 20 | L7: =AVERAGE(L8:L10) -> 19.5 | M7: =AVERAGE(M8:M10) -> 20 | N7: =SUM(N8:N10)/IF(N10=0,2,3) -> 159 | O7: =SUM(O8:O10)/IF($N10=0,2,3) -> 0 | P7: =SUM(P8:P10)/IF($N10=0,2,3) -> 0 | Q7: =SUM(Q8:Q10)/IF($N10=0,2,3) -> 0 | R7: =SUM(R8:R10)/IF($N10=0,2,3) -> 0 | S7: =SUM(S8:S10)/IF($N10=0,2,3) -> 0 | T7: =SUM(T8:T10)/IF($N10=0,2,3) -> 0 | V7: =SUM(V8:V10)/IF(N10=0,2,3) -> 0 | W7: =N7-V7 -> 159 | X7: =IF(W7>=150,"Si","No") -> Si | Y7: =IF(W7=0,0,IF(ISERROR(RANK(W7,W1:W86)),"",RANK(Z7,Z1:Z86))) -> 1 | Z7: =IFERROR(W7+F7/100000+J7/10000000+G7/1000000000,0) -> 159.00021
E8: J1 | F8: 21 | G8: 20 | H8: 21 | I8: 20 | J8: 20 | K8: 21 | L8: 20 | M8: 20 | N8: =SUM(F8:M8) -> 163 | V8: =SUM(O8:T8) -> 0
E9: J2 | F9: 20 | G9: 18 | H9: 20 | I9: 19 | J9: 20 | K9: 19 | L9: 19 | M9: 20 | N9: =SUM(F9:M9) -> 155 | V9: =SUM(O9:T9) -> 0
E10: J3 | N10: =SUM(F10:M10) -> 0 | V10: =SUM(O10:T10) -> 0
A11: 2 | B11: =INDEX('List of Competitors'!C$5:C$24,MATCH($A11,'List of Competitors'!$A$5:$A$24,0)) | C11: =INDEX('List of Competitors'!D$5:D$24,MATCH($A11,'List of Competitors'!$A$5:$A$24,0)) | D11: =INDEX('List of Competitors'!E$5:E$24,MATCH($A11,'List of Competitors'!$A$5:$A$24,0)) | E11: Average | F11: =AVERAGE(F12:F14) | G11: =AVERAGE(G12:G14) | H11: =AVERAGE(H12:H14) | I11: =AVERAGE(I12:I14) | J11: =AVERAGE(J12:J14) | K11: =AVERAGE(K12:K14) | L11: =AVERAGE(L12:L14) | M11: =AVERAGE(M12:M14) | N11: =SUM(N12:N14)/IF(N14=0,2,3) -> 0 | O11: =SUM(O12:O14)/IF($N14=0,2,3) -> 0 | P11: =SUM(P12:P14)/IF($N14=0,2,3) -> 0 | Q11: =SUM(Q12:Q14)/IF($N14=0,2,3) -> 0 | R11: =SUM(R12:R14)/IF($N14=0,2,3) -> 0 | S11: =SUM(S12:S14)/IF($N14=0,2,3) -> 0 | T11: =SUM(T12:T14)/IF($N14=0,2,3) -> 0 | V11: =SUM(V12:V14)/IF(N14=0,2,3) -> 0 | W11: =N11-V11 -> 0 | X11: =IF(W11>=150,"Si","No") -> No | Y11: =IF(W11=0,0,IF(ISERROR(RANK(W11,W1:W86)),"",RANK(Z11,Z1:Z86))) -> 0 | Z11: =IFERROR(W11+F11/100000+J11/10000000+G11/1000000000,0) -> 0
E12: J1 | N12: =SUM(F12:M12) -> 0 | V12: =SUM(O12:T12) -> 0
E13: J2 | N13: =SUM(F13:M13) -> 0 | V13: =SUM(O13:T13) -> 0
E14: J3 | N14: =SUM(F14:M14) -> 0 | V14: =SUM(O14:T14) -> 0
A15: 3 | B15: =INDEX('List of Competitors'!C$5:C$24,MATCH($A15,'List of Competitors'!$A$5:$A$24,0)) | C15: =INDEX('List of Competitors'!D$5:D$24,MATCH($A15,'List of Competitors'!$A$5:$A$24,0)) | D15: =INDEX('List of Competitors'!E$5:E$24,MATCH($A15,'List of Competitors'!$A$5:$A$24,0)) | E15: Average | F15: =AVERAGE(F16:F18) | G15: =AVERAGE(G16:G18) | H15: =AVERAGE(H16:H18) | I15: =AVERAGE(I16:I18) | J15: =AVERAGE(J16:J18) | K15: =AVERAGE(K16:K18) | L15: =AVERAGE(L16:L18) | M15: =AVERAGE(M16:M18) | N15: =SUM(N16:N18)/IF(N18=0,2,3) -> 0 | O15: =SUM(O16:O18)/IF($N18=0,2,3) -> 0 | P15: =SUM(P16:P18)/IF($N18=0,2,3) -> 0 | Q15: =SUM(Q16:Q18)/IF($N18=0,2,3) -> 0 | R15: =SUM(R16:R18)/IF($N18=0,2,3) -> 0 | S15: =SUM(S16:S18)/IF($N18=0,2,3) -> 0 | T15: =SUM(T16:T18)/IF($N18=0,2,3) -> 0 | V15: =SUM(V16:V18)/IF(N18=0,2,3) -> 0 | W15: =N15-V15 -> 0 | X15: =IF(W15>=150,"Si","No") -> No | Y15: =IF(W15=0,0,IF(ISERROR(RANK(W15,W1:W86)),"",RANK(Z15,Z1:Z86))) -> 0 | Z15: =IFERROR(W15+F15/100000+J15/10000000+G15/1000000000,0) -> 0
E16: J1 | N16: =SUM(F16:M16) -> 0 | V16: =SUM(O16:T16) -> 0
E17: J2 | N17: =SUM(F17:M17) -> 0 | V17: =SUM(O17:T17) -> 0
E18: J3 | N18: =SUM(F18:M18) -> 0 | V18: =SUM(O18:T18) -> 0
A19: 4 | B19: =INDEX('List of Competitors'!C$5:C$24,MATCH($A19,'List of Competitors'!$A$5:$A$24,0)) | C19: =INDEX('List of Competitors'!D$5:D$24,MATCH($A19,'List of Competitors'!$A$5:$A$24,0)) | D19: =INDEX('List of Competitors'!E$5:E$24,MATCH($A19,'List of Competitors'!$A$5:$A$24,0)) | E19: Average | F19: =AVERAGE(F20:F22) | G19: =AVERAGE(G20:G22) | H19: =AVERAGE(H20:H22) | I19: =AVERAGE(I20:I22) | J19: =AVERAGE(J20:J22) | K19: =AVERAGE(K20:K22) | L19: =AVERAGE(L20:L22) | M19: =AVERAGE(M20:M22) | N19: =SUM(N20:N22)/IF(N22=0,2,3) -> 0 | O19: =SUM(O20:O22)/IF($N22=0,2,3) -> 0 | P19: =SUM(P20:P22)/IF($N22=0,2,3) -> 0 | Q19: =SUM(Q20:Q22)/IF($N22=0,2,3) -> 0 | R19: =SUM(R20:R22)/IF($N22=0,2,3) -> 0 | S19: =SUM(S20:S22)/IF($N22=0,2,3) -> 0 | T19: =SUM(T20:T22)/IF($N22=0,2,3) -> 0 | V19: =SUM(V20:V22)/IF(N22=0,2,3) -> 0 | W19: =N19-V19 -> 0 | X19: =IF(W19>=150,"Si","No") -> No | Y19: =IF(W19=0,0,IF(ISERROR(RANK(W19,W1:W86)),"",RANK(Z19,Z1:Z86))) -> 0 | Z19: =IFERROR(W19+F19/100000+J19/10000000+G19/1000000000,0) -> 0
E20: J1 | N20: =SUM(F20:M20) -> 0 | V20: =SUM(O20:T20) -> 0
E21: J2 | N21: =SUM(F21:M21) -> 0 | V21: =SUM(O21:T21) -> 0
E22: J3 | N22: =SUM(F22:M22) -> 0 | V22: =SUM(O22:T22) -> 0
A23: 5 | B23: =INDEX('List of Competitors'!C$5:C$24,MATCH($A23,'List of Competitors'!$A$5:$A$24,0)) | C23: =INDEX('List of Competitors'!D$5:D$24,MATCH($A23,'List of Competitors'!$A$5:$A$24,0)) | D23: =INDEX('List of Competitors'!E$5:E$24,MATCH($A23,'List of Competitors'!$A$5:$A$24,0)) | E23: Average | F23: =AVERAGE(F24:F26) | G23: =AVERAGE(G24:G26) | H23: =AVERAGE(H24:H26) | I23: =AVERAGE(I24:I26) | J23: =AVERAGE(J24:J26) | K23: =AVERAGE(K24:K26) | L23: =AVERAGE(L24:L26) | M23: =AVERAGE(M24:M26) | N23: =SUM(N24:N26)/IF(N26=0,2,3) -> 0 | O23: =SUM(O24:O26)/IF($N26=0,2,3) -> 0 | P23: =SUM(P24:P26)/IF($N26=0,2,3) -> 0 | Q23: =SUM(Q24:Q26)/IF($N26=0,2,3) -> 0 | R23: =SUM(R24:R26)/IF($N26=0,2,3) -> 0 | S23: =SUM(S24:S26)/IF($N26=0,2,3) -> 0 | T23: =SUM(T24:T26)/IF($N26=0,2,3) -> 0 | V23: =SUM(V24:V26)/IF(N26=0,2,3) -> 0 | W23: =N23-V23 -> 0 | X23: =IF(W23>=150,"Si","No") -> No | Y23: =IF(W23=0,0,IF(ISERROR(RANK(W23,W1:W86)),"",RANK(Z23,Z1:Z86))) -> 0 | Z23: =IFERROR(W23+F23/100000+J23/10000000+G23/1000000000,0) -> 0
E24: J1 | N24: =SUM(F24:M24) -> 0 | V24: =SUM(O24:T24) -> 0
E25: J2 | N25: =SUM(F25:M25) -> 0 | V25: =SUM(O25:T25) -> 0
E26: J3 | N26: =SUM(F26:M26) -> 0 | V26: =SUM(O26:T26) -> 0
A27: 6 | B27: =INDEX('List of Competitors'!C$5:C$24,MATCH($A27,'List of Competitors'!$A$5:$A$24,0)) | C27: =INDEX('List of Competitors'!D$5:D$24,MATCH($A27,'List of Competitors'!$A$5:$A$24,0)) | D27: =INDEX('List of Competitors'!E$5:E$24,MATCH($A27,'List of Competitors'!$A$5:$A$24,0)) | E27: Average | F27: =AVERAGE(F28:F30) | G27: =AVERAGE(G28:G30) | H27: =AVERAGE(H28:H30) | I27: =AVERAGE(I28:I30) | J27: =AVERAGE(J28:J30) | K27: =AVERAGE(K28:K30) | L27: =AVERAGE(L28:L30) | M27: =AVERAGE(M28:M30) | N27: =SUM(N28:N30)/IF(N30=0,2,3) -> 0 | O27: =SUM(O28:O30)/IF($N30=0,2,3) -> 0 | P27: =SUM(P28:P30)/IF($N30=0,2,3) -> 0 | Q27: =SUM(Q28:Q30)/IF($N30=0,2,3) -> 0 | R27: =SUM(R28:R30)/IF($N30=0,2,3) -> 0 | S27: =SUM(S28:S30)/IF($N30=0,2,3) -> 0 | T27: =SUM(T28:T30)/IF($N30=0,2,3) -> 0 | V27: =SUM(V28:V30)/IF(N30=0,2,3) -> 0 | W27: =N27-V27 -> 0 | X27: =IF(W27>=150,"Si","No") -> No | Y27: =IF(W27=0,0,IF(ISERROR(RANK(W27,W1:W86)),"",RANK(Z27,Z1:Z86))) -> 0 | Z27: =IFERROR(W27+F27/100000+J27/10000000+G27/1000000000,0) -> 0
E28: J1 | N28: =SUM(F28:M28) -> 0 | V28: =SUM(O28:T28) -> 0
E29: J2 | N29: =SUM(F29:M29) -> 0 | V29: =SUM(O29:T29) -> 0
E30: J3 | N30: =SUM(F30:M30) -> 0 | V30: =SUM(O30:T30) -> 0
A31: 7 | B31: =INDEX('List of Competitors'!C$5:C$24,MATCH($A31,'List of Competitors'!$A$5:$A$24,0)) | C31: =INDEX('List of Competitors'!D$5:D$24,MATCH($A31,'List of Competitors'!$A$5:$A$24,0)) | D31: =INDEX('List of Competitors'!E$5:E$24,MATCH($A31,'List of Competitors'!$A$5:$A$24,0)) | E31: Average | F31: =AVERAGE(F32:F34) | G31: =AVERAGE(G32:G34) | H31: =AVERAGE(H32:H34) | I31: =AVERAGE(I32:I34) | J31: =AVERAGE(J32:J34) | K31: =AVERAGE(K32:K34) | L31: =AVERAGE(L32:L34) | M31: =AVERAGE(M32:M34) | N31: =SUM(N32:N34)/IF(N34=0,2,3) -> 0 | O31: =SUM(O32:O34)/IF($N34=0,2,3) -> 0 | P31: =SUM(P32:P34)/IF($N34=0,2,3) -> 0 | Q31: =SUM(Q32:Q34)/IF($N34=0,2,3) -> 0 | R31: =SUM(R32:R34)/IF($N34=0,2,3) -> 0 | S31: =SUM(S32:S34)/IF($N34=0,2,3) -> 0 | T31: =SUM(T32:T34)/IF($N34=0,2,3) -> 0 | V31: =SUM(V32:V34)/IF(N34=0,2,3) -> 0 | W31: =N31-V31 -> 0 | X31: =IF(W31>=150,"Si","No") -> No | Y31: =IF(W31=0,0,IF(ISERROR(RANK(W31,W1:W86)),"",RANK(Z31,Z1:Z86))) -> 0 | Z31: =IFERROR(W31+F31/100000+J31/10000000+G31/1000000000,0) -> 0
E32: J1 | N32: =SUM(F32:M32) -> 0 | V32: =SUM(O32:T32) -> 0
E33: J2 | N33: =SUM(F33:M33) -> 0 | V33: =SUM(O33:T33) -> 0
E34: J3 | N34: =SUM(F34:M34) -> 0 | V34: =SUM(O34:T34) -> 0
A35: 8 | B35: =INDEX('List of Competitors'!C$5:C$24,MATCH($A35,'List of Competitors'!$A$5:$A$24,0)) | C35: =INDEX('List of Competitors'!D$5:D$24,MATCH($A35,'List of Competitors'!$A$5:$A$24,0)) | D35: =INDEX('List of Competitors'!E$5:E$24,MATCH($A35,'List of Competitors'!$A$5:$A$24,0)) | E35: Average | F35: =AVERAGE(F36:F38) | G35: =AVERAGE(G36:G38) | H35: =AVERAGE(H36:H38) | I35: =AVERAGE(I36:I38) | J35: =AVERAGE(J36:J38) | K35: =AVERAGE(K36:K38) | L35: =AVERAGE(L36:L38) | M35: =AVERAGE(M36:M38) | N35: =SUM(N36:N38)/IF(N38=0,2,3) -> 0 | O35: =SUM(O36:O38)/IF($N38=0,2,3) -> 0 | P35: =SUM(P36:P38)/IF($N38=0,2,3) -> 0 | Q35: =SUM(Q36:Q38)/IF($N38=0,2,3) -> 0 | R35: =SUM(R36:R38)/IF($N38=0,2,3) -> 0 | S35: =SUM(S36:S38)/IF($N38=0,2,3) -> 0 | T35: =SUM(T36:T38)/IF($N38=0,2,3) -> 0 | V35: =SUM(V36:V38)/IF(N38=0,2,3) -> 0 | W35: =N35-V35 -> 0 | X35: =IF(W35>=150,"Si","No") -> No | Y35: =IF(W35=0,0,IF(ISERROR(RANK(W35,W1:W86)),"",RANK(Z35,Z1:Z86))) -> 0 | Z35: =IFERROR(W35+F35/100000+J35/10000000+G35/1000000000,0) -> 0
E36: J1 | N36: =SUM(F36:M36) -> 0 | V36: =SUM(O36:T36) -> 0
E37: J2 | N37: =SUM(F37:M37) -> 0 | V37: =SUM(O37:T37) -> 0
E38: J3 | N38: =SUM(F38:M38) -> 0 | V38: =SUM(O38:T38) -> 0
A39: 9 | B39: =INDEX('List of Competitors'!C$5:C$24,MATCH($A39,'List of Competitors'!$A$5:$A$24,0)) | C39: =INDEX('List of Competitors'!D$5:D$24,MATCH($A39,'List of Competitors'!$A$5:$A$24,0)) | D39: =INDEX('List of Competitors'!E$5:E$24,MATCH($A39,'List of Competitors'!$A$5:$A$24,0)) | E39: Average | F39: =AVERAGE(F40:F42) | G39: =AVERAGE(G40:G42) | H39: =AVERAGE(H40:H42) | I39: =AVERAGE(I40:I42) | J39: =AVERAGE(J40:J42) | K39: =AVERAGE(K40:K42) | L39: =AVERAGE(L40:L42) | M39: =AVERAGE(M40:M42) | N39: =SUM(N40:N42)/IF(N42=0,2,3) -> 0 | O39: =SUM(O40:O42)/IF($N42=0,2,3) -> 0 | P39: =SUM(P40:P42)/IF($N42=0,2,3) -> 0 | Q39: =SUM(Q40:Q42)/IF($N42=0,2,3) -> 0 | R39: =SUM(R40:R42)/IF($N42=0,2,3) -> 0 | S39: =SUM(S40:S42)/IF($N42=0,2,3) -> 0 | T39: =SUM(T40:T42)/IF($N42=0,2,3) -> 0 | V39: =SUM(V40:V42)/IF(N42=0,2,3) -> 0 | W39: =N39-V39 -> 0 | X39: =IF(W39>=150,"Si","No") -> No | Y39: =IF(W39=0,0,IF(ISERROR(RANK(W39,W1:W86)),"",RANK(Z39,Z1:Z86))) -> 0 | Z39: =IFERROR(W39+F39/100000+J39/10000000+G39/1000000000,0) -> 0
E40: J1 | N40: =SUM(F40:M40) -> 0 | V40: =SUM(O40:T40) -> 0
E41: J2 | N41: =SUM(F41:M41) -> 0 | V41: =SUM(O41:T41) -> 0
E42: J3 | N42: =SUM(F42:M42) -> 0 | V42: =SUM(O42:T42) -> 0
A43: 10 | B43: =INDEX('List of Competitors'!C$5:C$24,MATCH($A43,'List of Competitors'!$A$5:$A$24,0)) | C43: =INDEX('List of Competitors'!D$5:D$24,MATCH($A43,'List of Competitors'!$A$5:$A$24,0)) | D43: =INDEX('List of Competitors'!E$5:E$24,MATCH($A43,'List of Competitors'!$A$5:$A$24,0)) | E43: Average | F43: =AVERAGE(F44:F46) | G43: =AVERAGE(G44:G46) | H43: =AVERAGE(H44:H46) | I43: =AVERAGE(I44:I46) | J43: =AVERAGE(J44:J46) | K43: =AVERAGE(K44:K46) | L43: =AVERAGE(L44:L46) | M43: =AVERAGE(M44:M46) | N43: =SUM(N44:N46)/IF(N46=0,2,3) -> 0 | O43: =SUM(O44:O46)/IF($N46=0,2,3) -> 0 | P43: =SUM(P44:P46)/IF($N46=0,2,3) -> 0 | Q43: =SUM(Q44:Q46)/IF($N46=0,2,3) -> 0 | R43: =SUM(R44:R46)/IF($N46=0,2,3) -> 0 | S43: =SUM(S44:S46)/IF($N46=0,2,3) -> 0 | T43: =SUM(T44:T46)/IF($N46=0,2,3) -> 0 | V43: =SUM(V44:V46)/IF(N46=0,2,3) -> 0 | W43: =N43-V43 -> 0 | X43: =IF(W43>=150,"Si","No") -> No | Y43: =IF(W43=0,0,IF(ISERROR(RANK(W43,W1:W86)),"",RANK(Z43,Z1:Z86))) -> 0 | Z43: =IFERROR(W43+F43/100000+J43/10000000+G43/1000000000,0) -> 0
E44: J1 | N44: =SUM(F44:M44) -> 0 | V44: =SUM(O44:T44) -> 0
E45: J2 | N45: =SUM(F45:M45) -> 0 | V45: =SUM(O45:T45) -> 0
E46: J3 | N46: =SUM(F46:M46) -> 0 | V46: =SUM(O46:T46) -> 0
A47: 11 | B47: =INDEX('List of Competitors'!C$5:C$24,MATCH($A47,'List of Competitors'!$A$5:$A$24,0)) | C47: =INDEX('List of Competitors'!D$5:D$24,MATCH($A47,'List of Competitors'!$A$5:$A$24,0)) | D47: =INDEX('List of Competitors'!E$5:E$24,MATCH($A47,'List of Competitors'!$A$5:$A$24,0)) | E47: Average | F47: =AVERAGE(F48:F50) | G47: =AVERAGE(G48:G50) | H47: =AVERAGE(H48:H50) | I47: =AVERAGE(I48:I50) | J47: =AVERAGE(J48:J50) | K47: =AVERAGE(K48:K50) | L47: =AVERAGE(L48:L50) | M47: =AVERAGE(M48:M50) | N47: =SUM(N48:N50)/IF(N50=0,2,3) -> 0 | O47: =SUM(O48:O50)/IF($N50=0,2,3) -> 0 | P47: =SUM(P48:P50)/IF($N50=0,2,3) -> 0 | Q47: =SUM(Q48:Q50)/IF($N50=0,2,3) -> 0 | R47: =SUM(R48:R50)/IF($N50=0,2,3) -> 0 | S47: =SUM(S48:S50)/IF($N50=0,2,3) -> 0 | T47: =SUM(T48:T50)/IF($N50=0,2,3) -> 0 | V47: =SUM(V48:V50)/IF(N50=0,2,3) -> 0 | W47: =N47-V47 -> 0 | X47: =IF(W47>=150,"Si","No") -> No | Y47: =IF(W47=0,0,IF(ISERROR(RANK(W47,W1:W86)),"",RANK(Z47,Z1:Z86))) -> 0 | Z47: =IFERROR(W47+F47/100000+J47/10000000+G47/1000000000,0) -> 0
E48: J1 | N48: =SUM(F48:M48) -> 0 | V48: =SUM(O48:T48) -> 0
E49: J2 | N49: =SUM(F49:M49) -> 0 | V49: =SUM(O49:T49) -> 0
E50: J3 | N50: =SUM(F50:M50) -> 0 | V50: =SUM(O50:T50) -> 0
A51: 12 | B51: =INDEX('List of Competitors'!C$5:C$24,MATCH($A51,'List of Competitors'!$A$5:$A$24,0)) | C51: =INDEX('List of Competitors'!D$5:D$24,MATCH($A51,'List of Competitors'!$A$5:$A$24,0)) | D51: =INDEX('List of Competitors'!E$5:E$24,MATCH($A51,'List of Competitors'!$A$5:$A$24,0)) | E51: Average | F51: =AVERAGE(F52:F54) | G51: =AVERAGE(G52:G54) | H51: =AVERAGE(H52:H54) | I51: =AVERAGE(I52:I54) | J51: =AVERAGE(J52:J54) | K51: =AVERAGE(K52:K54) | L51: =AVERAGE(L52:L54) | M51: =AVERAGE(M52:M54) | N51: =SUM(N52:N54)/IF(N54=0,2,3) -> 0 | O51: =SUM(O52:O54)/IF($N54=0,2,3) -> 0 | P51: =SUM(P52:P54)/IF($N54=0,2,3) -> 0 | Q51: =SUM(Q52:Q54)/IF($N54=0,2,3) -> 0 | R51: =SUM(R52:R54)/IF($N54=0,2,3) -> 0 | S51: =SUM(S52:S54)/IF($N54=0,2,3) -> 0 | T51: =SUM(T52:T54)/IF($N54=0,2,3) -> 0 | V51: =SUM(V52:V54)/IF(N54=0,2,3) -> 0 | W51: =N51-V51 -> 0 | X51: =IF(W51>=150,"Si","No") -> No | Y51: =IF(W51=0,0,IF(ISERROR(RANK(W51,W1:W86)),"",RANK(Z51,Z1:Z86))) -> 0 | Z51: =IFERROR(W51+F51/100000+J51/10000000+G51/1000000000,0) -> 0
E52: J1 | N52: =SUM(F52:M52) -> 0 | V52: =SUM(O52:T52) -> 0
E53: J2 | N53: =SUM(F53:M53) -> 0 | V53: =SUM(O53:T53) -> 0
E54: J3 | N54: =SUM(F54:M54) -> 0 | V54: =SUM(O54:T54) -> 0
A55: 13 | B55: =INDEX('List of Competitors'!C$5:C$24,MATCH($A55,'List of Competitors'!$A$5:$A$24,0)) | C55: =INDEX('List of Competitors'!D$5:D$24,MATCH($A55,'List of Competitors'!$A$5:$A$24,0)) | D55: =INDEX('List of Competitors'!E$5:E$24,MATCH($A55,'List of Competitors'!$A$5:$A$24,0)) | E55: Average | F55: =AVERAGE(F56:F58) | G55: =AVERAGE(G56:G58) | H55: =AVERAGE(H56:H58) | I55: =AVERAGE(I56:I58) | J55: =AVERAGE(J56:J58) | K55: =AVERAGE(K56:K58) | L55: =AVERAGE(L56:L58) | M55: =AVERAGE(M56:M58) | N55: =SUM(N56:N58)/IF(N58=0,2,3) -> 0 | O55: =SUM(O56:O58)/IF($N58=0,2,3) -> 0 | P55: =SUM(P56:P58)/IF($N58=0,2,3) -> 0 | Q55: =SUM(Q56:Q58)/IF($N58=0,2,3) -> 0 | R55: =SUM(R56:R58)/IF($N58=0,2,3) -> 0 | S55: =SUM(S56:S58)/IF($N58=0,2,3) -> 0 | T55: =SUM(T56:T58)/IF($N58=0,2,3) -> 0 | V55: =SUM(V56:V58)/IF(N58=0,2,3) -> 0 | W55: =N55-V55 -> 0 | X55: =IF(W55>=150,"Si","No") -> No | Y55: =IF(W55=0,0,IF(ISERROR(RANK(W55,W1:W86)),"",RANK(Z55,Z1:Z86))) -> 0 | Z55: =IFERROR(W55+F55/100000+J55/10000000+G55/1000000000,0) -> 0
E56: J1 | N56: =SUM(F56:M56) -> 0 | V56: =SUM(O56:T56) -> 0
E57: J2 | N57: =SUM(F57:M57) -> 0 | V57: =SUM(O57:T57) -> 0
E58: J3 | N58: =SUM(F58:M58) -> 0 | V58: =SUM(O58:T58) -> 0
A59: 14 | B59: =INDEX('List of Competitors'!C$5:C$24,MATCH($A59,'List of Competitors'!$A$5:$A$24,0)) | C59: =INDEX('List of Competitors'!D$5:D$24,MATCH($A59,'List of Competitors'!$A$5:$A$24,0)) | D59: =INDEX('List of Competitors'!E$5:E$24,MATCH($A59,'List of Competitors'!$A$5:$A$24,0)) | E59: Average | F59: =AVERAGE(F60:F62) | G59: =AVERAGE(G60:G62) | H59: =AVERAGE(H60:H62) | I59: =AVERAGE(I60:I62) | J59: =AVERAGE(J60:J62) | K59: =AVERAGE(K60:K62) | L59: =AVERAGE(L60:L62) | M59: =AVERAGE(M60:M62) | N59: =SUM(N60:N62)/IF(N62=0,2,3) -> 0 | O59: =SUM(O60:O62)/IF($N62=0,2,3) -> 0 | P59: =SUM(P60:P62)/IF($N62=0,2,3) -> 0 | Q59: =SUM(Q60:Q62)/IF($N62=0,2,3) -> 0 | R59: =SUM(R60:R62)/IF($N62=0,2,3) -> 0 | S59: =SUM(S60:S62)/IF($N62=0,2,3) -> 0 | T59: =SUM(T60:T62)/IF($N62=0,2,3) -> 0 | V59: =SUM(V60:V62)/IF(N62=0,2,3) -> 0 | W59: =N59-V59 -> 0 | X59: =IF(W59>=150,"Si","No") -> No | Y59: =IF(W59=0,0,IF(ISERROR(RANK(W59,W1:W86)),"",RANK(Z59,Z1:Z86))) -> 0 | Z59: =IFERROR(W59+F59/100000+J59/10000000+G59/1000000000,0) -> 0
E60: J1 | N60: =SUM(F60:M60) -> 0 | V60: =SUM(O60:T60) -> 0
E61: J2 | N61: =SUM(F61:M61) -> 0 | V61: =SUM(O61:T61) -> 0
E62: J3 | N62: =SUM(F62:M62) -> 0 | V62: =SUM(O62:T62) -> 0
A63: 15 | B63: =INDEX('List of Competitors'!C$5:C$24,MATCH($A63,'List of Competitors'!$A$5:$A$24,0)) | C63: =INDEX('List of Competitors'!D$5:D$24,MATCH($A63,'List of Competitors'!$A$5:$A$24,0)) | D63: =INDEX('List of Competitors'!E$5:E$24,MATCH($A63,'List of Competitors'!$A$5:$A$24,0)) | E63: Average | F63: =AVERAGE(F64:F66) | G63: =AVERAGE(G64:G66) | H63: =AVERAGE(H64:H66) | I63: =AVERAGE(I64:I66) | J63: =AVERAGE(J64:J66) | K63: =AVERAGE(K64:K66) | L63: =AVERAGE(L64:L66) | M63: =AVERAGE(M64:M66) | N63: =SUM(N64:N66)/IF(N66=0,2,3) -> 0 | O63: =SUM(O64:O66)/IF($N66=0,2,3) -> 0 | P63: =SUM(P64:P66)/IF($N66=0,2,3) -> 0 | Q63: =SUM(Q64:Q66)/IF($N66=0,2,3) -> 0 | R63: =SUM(R64:R66)/IF($N66=0,2,3) -> 0 | S63: =SUM(S64:S66)/IF($N66=0,2,3) -> 0 | T63: =SUM(T64:T66)/IF($N66=0,2,3) -> 0 | V63: =SUM(V64:V66)/IF(N66=0,2,3) -> 0 | W63: =N63-V63 -> 0 | X63: =IF(W63>=150,"Si","No") -> No | Y63: =IF(W63=0,0,IF(ISERROR(RANK(W63,W1:W86)),"",RANK(Z63,Z1:Z86))) -> 0 | Z63: =IFERROR(W63+F63/100000+J63/10000000+G63/1000000000,0) -> 0
E64: J1 | N64: =SUM(F64:M64) -> 0 | V64: =SUM(O64:T64) -> 0
E65: J2 | N65: =SUM(F65:M65) -> 0 | V65: =SUM(O65:T65) -> 0
E66: J3 | N66: =SUM(F66:M66) -> 0 | V66: =SUM(O66:T66) -> 0
A67: 16 | B67: =INDEX('List of Competitors'!C$5:C$24,MATCH($A67,'List of Competitors'!$A$5:$A$24,0)) | C67: =INDEX('List of Competitors'!D$5:D$24,MATCH($A67,'List of Competitors'!$A$5:$A$24,0)) | D67: =INDEX('List of Competitors'!E$5:E$24,MATCH($A67,'List of Competitors'!$A$5:$A$24,0)) | E67: Average | F67: =AVERAGE(F68:F70) | G67: =AVERAGE(G68:G70) | H67: =AVERAGE(H68:H70) | I67: =AVERAGE(I68:I70) | J67: =AVERAGE(J68:J70) | K67: =AVERAGE(K68:K70) | L67: =AVERAGE(L68:L70) | M67: =AVERAGE(M68:M70) | N67: =SUM(N68:N70)/IF(N70=0,2,3) -> 0 | O67: =SUM(O68:O70)/IF($N70=0,2,3) -> 0 | P67: =SUM(P68:P70)/IF($N70=0,2,3) -> 0 | Q67: =SUM(Q68:Q70)/IF($N70=0,2,3) -> 0 | R67: =SUM(R68:R70)/IF($N70=0,2,3) -> 0 | S67: =SUM(S68:S70)/IF($N70=0,2,3) -> 0 | T67: =SUM(T68:T70)/IF($N70=0,2,3) -> 0 | V67: =SUM(V68:V70)/IF(N70=0,2,3) -> 0 | W67: =N67-V67 -> 0 | X67: =IF(W67>=150,"Si","No") -> No | Y67: =IF(W67=0,0,IF(ISERROR(RANK(W67,W1:W86)),"",RANK(Z67,Z1:Z86))) -> 0 | Z67: =IFERROR(W67+F67/100000+J67/10000000+G67/1000000000,0) -> 0
E68: J1 | N68: =SUM(F68:M68) -> 0 | V68: =SUM(O68:T68) -> 0
E69: J2 | N69: =SUM(F69:M69) -> 0 | V69: =SUM(O69:T69) -> 0
E70: J3 | N70: =SUM(F70:M70) -> 0 | V70: =SUM(O70:T70) -> 0
A71: 17 | B71: =INDEX('List of Competitors'!C$5:C$24,MATCH($A71,'List of Competitors'!$A$5:$A$24,0)) | C71: =INDEX('List of Competitors'!D$5:D$24,MATCH($A71,'List of Competitors'!$A$5:$A$24,0)) | D71: =INDEX('List of Competitors'!E$5:E$24,MATCH($A71,'List of Competitors'!$A$5:$A$24,0)) | E71: Average | F71: =AVERAGE(F72:F74) | G71: =AVERAGE(G72:G74) | H71: =AVERAGE(H72:H74) | I71: =AVERAGE(I72:I74) | J71: =AVERAGE(J72:J74) | K71: =AVERAGE(K72:K74) | L71: =AVERAGE(L72:L74) | M71: =AVERAGE(M72:M74) | N71: =SUM(N72:N74)/IF(N74=0,2,3) -> 0 | O71: =SUM(O72:O74)/IF($N74=0,2,3) -> 0 | P71: =SUM(P72:P74)/IF($N74=0,2,3) -> 0 | Q71: =SUM(Q72:Q74)/IF($N74=0,2,3) -> 0 | R71: =SUM(R72:R74)/IF($N74=0,2,3) -> 0 | S71: =SUM(S72:S74)/IF($N74=0,2,3) -> 0 | T71: =SUM(T72:T74)/IF($N74=0,2,3) -> 0 | V71: =SUM(V72:V74)/IF(N74=0,2,3) -> 0 | W71: =N71-V71 -> 0 | X71: =IF(W71>=150,"Si","No") -> No | Y71: =IF(W71=0,0,IF(ISERROR(RANK(W71,W1:W86)),"",RANK(Z71,Z1:Z86))) -> 0 | Z71: =IFERROR(W71+F71/100000+J71/10000000+G71/1000000000,0) -> 0
E72: J1 | N72: =SUM(F72:M72) -> 0 | V72: =SUM(O72:T72) -> 0
E73: J2 | N73: =SUM(F73:M73) -> 0 | V73: =SUM(O73:T73) -> 0
E74: J3 | N74: =SUM(F74:M74) -> 0 | V74: =SUM(O74:T74) -> 0
A75: 18 | B75: =INDEX('List of Competitors'!C$5:C$24,MATCH($A75,'List of Competitors'!$A$5:$A$24,0)) | C75: =INDEX('List of Competitors'!D$5:D$24,MATCH($A75,'List of Competitors'!$A$5:$A$24,0)) | D75: =INDEX('List of Competitors'!E$5:E$24,MATCH($A75,'List of Competitors'!$A$5:$A$24,0)) | E75: Average | F75: =AVERAGE(F76:F78) | G75: =AVERAGE(G76:G78) | H75: =AVERAGE(H76:H78) | I75: =AVERAGE(I76:I78) | J75: =AVERAGE(J76:J78) | K75: =AVERAGE(K76:K78) | L75: =AVERAGE(L76:L78) | M75: =AVERAGE(M76:M78) | N75: =SUM(N76:N78)/IF(N78=0,2,3) -> 0 | O75: =SUM(O76:O78)/IF($N78=0,2,3) -> 0 | P75: =SUM(P76:P78)/IF($N78=0,2,3) -> 0 | Q75: =SUM(Q76:Q78)/IF($N78=0,2,3) -> 0 | R75: =SUM(R76:R78)/IF($N78=0,2,3) -> 0 | S75: =SUM(S76:S78)/IF($N78=0,2,3) -> 0 | T75: =SUM(T76:T78)/IF($N78=0,2,3) -> 0 | V75: =SUM(V76:V78)/IF(N78=0,2,3) -> 0 | W75: =N75-V75 -> 0 | X75: =IF(W75>=150,"Si","No") -> No | Y75: =IF(W75=0,0,IF(ISERROR(RANK(W75,W1:W86)),"",RANK(Z75,Z1:Z86))) -> 0 | Z75: =IFERROR(W75+F75/100000+J75/10000000+G75/1000000000,0) -> 0
E76: J1 | N76: =SUM(F76:M76) -> 0 | V76: =SUM(O76:T76) -> 0
E77: J2 | N77: =SUM(F77:M77) -> 0 | V77: =SUM(O77:T77) -> 0
E78: J3 | N78: =SUM(F78:M78) -> 0 | V78: =SUM(O78:T78) -> 0
A79: 19 | B79: =INDEX('List of Competitors'!C$5:C$24,MATCH($A79,'List of Competitors'!$A$5:$A$24,0)) | C79: =INDEX('List of Competitors'!D$5:D$24,MATCH($A79,'List of Competitors'!$A$5:$A$24,0)) | D79: =INDEX('List of Competitors'!E$5:E$24,MATCH($A79,'List of Competitors'!$A$5:$A$24,0)) | E79: Average | F79: =AVERAGE(F80:F82) | G79: =AVERAGE(G80:G82) | H79: =AVERAGE(H80:H82) | I79: =AVERAGE(I80:I82) | J79: =AVERAGE(J80:J82) | K79: =AVERAGE(K80:K82) | L79: =AVERAGE(L80:L82) | M79: =AVERAGE(M80:M82) | N79: =SUM(N80:N82)/IF(N82=0,2,3) -> 0 | O79: =SUM(O80:O82)/IF($N82=0,2,3) -> 0 | P79: =SUM(P80:P82)/IF($N82=0,2,3) -> 0 | Q79: =SUM(Q80:Q82)/IF($N82=0,2,3) -> 0 | R79: =SUM(R80:R82)/IF($N82=0,2,3) -> 0 | S79: =SUM(S80:S82)/IF($N82=0,2,3) -> 0 | T79: =SUM(T80:T82)/IF($N82=0,2,3) -> 0 | V79: =SUM(V80:V82)/IF(N82=0,2,3) -> 0 | W79: =N79-V79 -> 0 | X79: =IF(W79>=150,"Si","No") -> No | Y79: =IF(W79=0,0,IF(ISERROR(RANK(W79,W1:W86)),"",RANK(Z79,Z1:Z86))) -> 0 | Z79: =IFERROR(W79+F79/100000+J79/10000000+G79/1000000000,0) -> 0
E80: J1 | N80: =SUM(F80:M80) -> 0 | V80: =SUM(O80:T80) -> 0
E81: J2 | N81: =SUM(F81:M81) -> 0 | V81: =SUM(O81:T81) -> 0
E82: J3 | N82: =SUM(F82:M82) -> 0 | V82: =SUM(O82:T82) -> 0
A83: 20 | B83: =INDEX('List of Competitors'!C$5:C$24,MATCH($A83,'List of Competitors'!$A$5:$A$24,0)) | C83: =INDEX('List of Competitors'!D$5:D$24,MATCH($A83,'List of Competitors'!$A$5:$A$24,0)) | D83: =INDEX('List of Competitors'!E$5:E$24,MATCH($A83,'List of Competitors'!$A$5:$A$24,0)) | E83: Average | F83: =AVERAGE(F84:F86) | G83: =AVERAGE(G84:G86) | H83: =AVERAGE(H84:H86) | I83: =AVERAGE(I84:I86) | J83: =AVERAGE(J84:J86) | K83: =AVERAGE(K84:K86) | L83: =AVERAGE(L84:L86) | M83: =AVERAGE(M84:M86) | N83: =SUM(N84:N86)/IF(N86=0,2,3) -> 0 | O83: =SUM(O84:O86)/IF($N86=0,2,3) -> 0 | P83: =SUM(P84:P86)/IF($N86=0,2,3) -> 0 | Q83: =SUM(Q84:Q86)/IF($N86=0,2,3) -> 0 | R83: =SUM(R84:R86)/IF($N86=0,2,3) -> 0 | S83: =SUM(S84:S86)/IF($N86=0,2,3) -> 0 | T83: =SUM(T84:T86)/IF($N86=0,2,3) -> 0 | V83: =SUM(V84:V86)/IF(N86=0,2,3) -> 0 | W83: =N83-V83 -> 0 | X83: =IF(W83>=150,"Si","No") -> No | Y83: =IF(W83=0,0,IF(ISERROR(RANK(W83,W1:W86)),"",RANK(Z83,Z1:Z86))) -> 0 | Z83: =IFERROR(W83+F83/100000+J83/10000000+G83/1000000000,0) -> 0
E84: J1 | N84: =SUM(F84:M84) -> 0 | V84: =SUM(O84:T84) -> 0
E85: J2 | N85: =SUM(F85:M85) -> 0 | V85: =SUM(O85:T85) -> 0
E86: J3 | N86: =SUM(F86:M86) -> 0 | V86: =SUM(O86:T86) -> 0

Sheet HTM 1
B1: HTM 1 | E1: ='List of Competitors'!B2
E2: ='List of Competitors'!C2
A4: # | B4: Nome | C4: Cognome | D4: Cane | E4: Judge | F4: Team work | G4: Dinamicità | H4: Progetto | I4: Coreografia | J4: Fluidità | K4: Esecuzione | L4: Contenuto | M4: Difficoltà | N4: Punit | O4: Detrazioni di punti | W4: Totale | X4: punto di passaggio | Y4: Posizionamento | Z4: Korr Punkte Teamwork, Fluss
O5: Abbaio e vocalizzazioni | P5: Salute del cane | Q5: costume / Oggetti di scena | R5: Lunghezze musicali errate | S5: Trattamento improprio del cane | T5: Contatto attivo | U5: % HTM | V5: Totale
F6: max. 25 | G6: max. 25 | H6: max. 25 | I6: max. 25 | J6: max. 25 | K6: max. 25 | L6: max. 25 | M6: max. 25 | O6: max. 20 | P6: max. 20 | Q6: max. 20 | R6: 1 Punkt / sec | S6: max. 20 | T6: max. 20 | U6: [X]
A7: 1 | B7: =INDEX('List of Competitors'!I$5:I$24,MATCH($A7,'List of Competitors'!$G$5:$G$24,0)) | C7: =INDEX('List of Competitors'!J$5:J$24,MATCH($A7,'List of Competitors'!$G$5:$G$24,0)) | D7: =INDEX('List of Competitors'!K$5:K$24,MATCH($A7,'List of Competitors'!$G$5:$G$24,0)) | E7: Average | F7: =AVERAGE(F8:F10) | G7: =AVERAGE(G8:G10) | H7: =AVERAGE(H8:H10) | I7: =AVERAGE(I8:I10) | J7: =AVERAGE(J8:J10) | K7: =AVERAGE(K8:K10) | L7: =AVERAGE(L8:L10) | M7: =AVERAGE(M8:M10) | N7: =SUM(N8:N10)/IF(N10=0,2,3) -> 0 | O7: =SUM(O8:O10)/IF($N10=0,2,3) -> 0 | P7: =SUM(P8:P10)/IF($N10=0,2,3) -> 0 | Q7: =SUM(Q8:Q10)/IF($N10=0,2,3) -> 0 | R7: =SUM(R8:R10)/IF($N10=0,2,3) -> 0 | S7: =SUM(S8:S10)/IF($N10=0,2,3) -> 0 | T7: =SUM(T8:T10)/IF($N10=0,2,3) -> 0 | V7: =SUM(V8:V10)/IF(N10=0,2,3) -> 0 | W7: =N7-V7 -> 0 | X7: =IF(W7>=150,"Si","No") -> No | Y7: =IF(W7=0,0,IF(ISERROR(RANK(W7,W1:W86)),"",RANK(Z7,Z1:Z86))) -> 0 | Z7: =IFERROR(W7+F7/100000+J7/10000000+G7/1000000000,0) -> 0
E8: J1 | N8: =SUM(F8:M8) -> 0 | V8: =SUM(O8:T8) -> 0
E9: J2 | N9: =SUM(F9:M9) -> 0 | V9: =SUM(O9:T9) -> 0
E10: J3 | N10: =SUM(F10:M10) -> 0 | V10: =SUM(O10:T10) -> 0
A11: 2 | B11: =INDEX('List of Competitors'!I$5:I$24,MATCH($A11,'List of Competitors'!$G$5:$G$24,0)) | C11: =INDEX('List of Competitors'!J$5:J$24,MATCH($A11,'List of Competitors'!$G$5:$G$24,0)) | D11: =INDEX('List of Competitors'!K$5:K$24,MATCH($A11,'List of Competitors'!$G$5:$G$24,0)) | E11: Average | F11: =AVERAGE(F12:F14) | G11: =AVERAGE(G12:G14) | H11: =AVERAGE(H12:H14) | I11: =AVERAGE(I12:I14) | J11: =AVERAGE(J12:J14) | K11: =AVERAGE(K12:K14) | L11: =AVERAGE(L12:L14) | M11: =AVERAGE(M12:M14) | N11: =SUM(N12:N14)/IF(N14=0,2,3) -> 0 | O11: =SUM(O12:O14)/IF($N14=0,2,3) -> 0 | P11: =SUM(P12:P14)/IF($N14=0,2,3) -> 0 | Q11: =SUM(Q12:Q14)/IF($N14=0,2,3) -> 0 | R11: =SUM(R12:R14)/IF($N14=0,2,3) -> 0 | S11: =SUM(S12:S14)/IF($N14=0,2,3) -> 0 | T11: =SUM(T12:T14)/IF($N14=0,2,3) -> 0 | V11: =SUM(V12:V14)/IF(N14=0,2,3) -> 0 | W11: =N11-V11 -> 0 | X11: =IF(W11>=150,"Si","No") -> No | Y11: =IF(W11=0,0,IF(ISERROR(RANK(W11,W1:W86)),"",RANK(Z11,Z1:Z86))) -> 0 | Z11: =IFERROR(W11+F11/100000+J11/10000000+G11/1000000000,0) -> 0
E12: J1 | N12: =SUM(F12:M12) -> 0 | V12: =SUM(O12:T12) -> 0
E13: J2 | N13: =SUM(F13:M13) -> 0 | V13: =SUM(O13:T13) -> 0
E14: J3 | N14: =SUM(F14:M14) -> 0 | V14: =SUM(O14:T14) -> 0
A15: 3 | B15: =INDEX('List of Competitors'!I$5:I$24,MATCH($A15,'List of Competitors'!$G$5:$G$24,0)) | C15: =INDEX('List of Competitors'!J$5:J$24,MATCH($A15,'List of Competitors'!$G$5:$G$24,0)) | D15: =INDEX('List of Competitors'!K$5:K$24,MATCH($A15,'List of Competitors'!$G$5:$G$24,0)) | E15: Average | F15: =AVERAGE(F16:F18) | G15: =AVERAGE(G16:G18) | H15: =AVERAGE(H16:H18) | I15: =AVERAGE(I16:I18) | J15: =AVERAGE(J16:J18) | K15: =AVERAGE(K16:K18) | L15: =AVERAGE(L16:L18) | M15: =AVERAGE(M16:M18) | N15: =SUM(N16:N18)/IF(N18=0,2,3) -> 0 | O15: =SUM(O16:O18)/IF($N18=0,2,3) -> 0 | P15: =SUM(P16:P18)/IF($N18=0,2,3) -> 0 | Q15: =SUM(Q16:Q18)/IF($N18=0,2,3) -> 0 | R15: =SUM(R16:R18)/IF($N18=0,2,3) -> 0 | S15: =SUM(S16:S18)/IF($N18=0,2,3) -> 0 | T15: =SUM(T16:T18)/IF($N18=0,2,3) -> 0 | V15: =SUM(V16:V18)/IF(N18=0,2,3) -> 0 | W15: =N15-V15 -> 0 | X15: =IF(W15>=150,"Si","No") -> No | Y15: =IF(W15=0,0,IF(ISERROR(RANK(W15,W1:W86)),"",RANK(Z15,Z1:Z86))) -> 0 | Z15: =IFERROR(W15+F15/100000+J15/10000000+G15/1000000000,0) -> 0
E16: J1 | N16: =SUM(F16:M16) -> 0 | V16: =SUM(O16:T16) -> 0
E17: J2 | N17: =SUM(F17:M17) -> 0 | V17: =SUM(O17:T17) -> 0
E18: J3 | N18: =SUM(F18:M18) -> 0 | V18: =SUM(O18:T18) -> 0
A19: 4 | B19: =INDEX('List of Competitors'!I$5:I$24,MATCH($A19,'List of Competitors'!$G$5:$G$24,0)) | C19: =INDEX('List of Competitors'!J$5:J$24,MATCH($A19,'List of Competitors'!$G$5:$G$24,0)) | D19: =INDEX('List of Competitors'!K$5:K$24,MATCH($A19,'List of Competitors'!$G$5:$G$24,0)) | E19: Average | F19: =AVERAGE(F20:F22) | G19: =AVERAGE(G20:G22) | H19: =AVERAGE(H20:H22) | I19: =AVERAGE(I20:I22) | J19: =AVERAGE(J20:J22) | K19: =AVERAGE(K20:K22) | L19: =AVERAGE(L20:L22) | M19: =AVERAGE(M20:M22) | N19: =SUM(N20:N22)/IF(N22=0,2,3) -> 0 | O19: =SUM(O20:O22)/IF($N22=0,2,3) -> 0 | P19: =SUM(P20:P22)/IF($N22=0,2,3) -> 0 | Q19: =SUM(Q20:Q22)/IF($N22=0,2,3) -> 0 | R19: =SUM(R20:R22)/IF($N22=0,2,3) -> 0 | S19: =SUM(S20:S22)/IF($N22=0,2,3) -> 0 | T19: =SUM(T20:T22)/IF($N22=0,2,3) -> 0 | V19: =SUM(V20:V22)/IF(N22=0,2,3) -> 0 | W19: =N19-V19 -> 0 | X19: =IF(W19>=150,"Si","No") -> No | Y19: =IF(W19=0,0,IF(ISERROR(RANK(W19,W1:W86)),"",RANK(Z19,Z1:Z86))) -> 0 | Z19: =IFERROR(W19+F19/100000+J19/10000000+G19/1000000000,0) -> 0
E20: J1 | N20: =SUM(F20:M20) -> 0 | V20: =SUM(O20:T20) -> 0
E21: J2 | N21: =SUM(F21:M21) -> 0 | V21: =SUM(O21:T21) -> 0
E22: J3 | N22: =SUM(F22:M22) -> 0 | V22: =SUM(O22:T22) -> 0
A23: 5 | B23: =INDEX('List of Competitors'!I$5:I$24,MATCH($A23,'List of Competitors'!$G$5:$G$24,0)) | C23: =INDEX('List of Competitors'!J$5:J$24,MATCH($A23,'List of Competitors'!$G$5:$G$24,0)) | D23: =INDEX('List of Competitors'!K$5:K$24,MATCH($A23,'List of Competitors'!$G$5:$G$24,0)) | E23: Average | F23: =AVERAGE(F24:F26) | G23: =AVERAGE(G24:G26) | H23: =AVERAGE(H24:H26) | I23: =AVERAGE(I24:I26) | J23: =AVERAGE(J24:J26) | K23: =AVERAGE(K24:K26) | L23: =AVERAGE(L24:L26) | M23: =AVERAGE(M24:M26) | N23: =SUM(N24:N26)/IF(N26=0,2,3) -> 0 | O23: =SUM(O24:O26)/IF($N26=0,2,3) -> 0 | P23: =SUM(P24:P26)/IF($N26=0,2,3) -> 0 | Q23: =SUM(Q24:Q26)/IF($N26=0,2,3) -> 0 | R23: =SUM(R24:R26)/IF($N26=0,2,3) -> 0 | S23: =SUM(S24:S26)/IF($N26=0,2,3) -> 0 | T23: =SUM(T24:T26)/IF($N26=0,2,3) -> 0 | V23: =SUM(V24:V26)/IF(N26=0,2,3) -> 0 | W23: =N23-V23 -> 0 | X23: =IF(W23>=150,"Si","No") -> No | Y23: =IF(W23=0,0,IF(ISERROR(RANK(W23,W1:W86)),"",RANK(Z23,Z1:Z86))) -> 0 | Z23: =IFERROR(W23+F23/100000+J23/10000000+G23/1000000000,0) -> 0
E24: J1 | N24: =SUM(F24:M24) -> 0 | V24: =SUM(O24:T24) -> 0
E25: J2 | N25: =SUM(F25:M25) -> 0 | V25: =SUM(O25:T25) -> 0
E26: J3 | N26: =SUM(F26:M26) -> 0 | V26: =SUM(O26:T26) -> 0
A27: 6 | B27: =INDEX('List of Competitors'!I$5:I$24,MATCH($A27,'List of Competitors'!$G$5:$G$24,0)) | C27: =INDEX('List of Competitors'!J$5:J$24,MATCH($A27,'List of Competitors'!$G$5:$G$24,0)) | D27: =INDEX('List of Competitors'!K$5:K$24,MATCH($A27,'List of Competitors'!$G$5:$G$24,0)) | E27: Average | F27: =AVERAGE(F28:F30) | G27: =AVERAGE(G28:G30) | H27: =AVERAGE(H28:H30) | I27: =AVERAGE(I28:I30) | J27: =AVERAGE(J28:J30) | K27: =AVERAGE(K28:K30) | L27: =AVERAGE(L28:L30) | M27: =AVERAGE(M28:M30) | N27: =SUM(N28:N30)/IF(N30=0,2,3) -> 0 | O27: =SUM(O28:O30)/IF($N30=0,2,3) -> 0 | P27: =SUM(P28:P30)/IF($N30=0,2,3) -> 0 | Q27: =SUM(Q28:Q30)/IF($N30=0,2,3) -> 0 | R27: =SUM(R28:R30)/IF($N30=0,2,3) -> 0 | S27: =SUM(S28:S30)/IF($N30=0,2,3) -> 0 | T27: =SUM(T28:T30)/IF($N30=0,2,3) -> 0 | V27: =SUM(V28:V30)/IF(N30=0,2,3) -> 0 | W27: =N27-V27 -> 0 | X27: =IF(W27>=150,"Si","No") -> No | Y27: =IF(W27=0,0,IF(ISERROR(RANK(W27,W1:W86)),"",RANK(Z27,Z1:Z86))) -> 0 | Z27: =IFERROR(W27+F27/100000+J27/10000000+G27/1000000000,0) -> 0
E28: J1 | N28: =SUM(F28:M28) -> 0 | V28: =SUM(O28:T28) -> 0
E29: J2 | N29: =SUM(F29:M29) -> 0 | V29: =SUM(O29:T29) -> 0
E30: J3 | N30: =SUM(F30:M30) -> 0 | V30: =SUM(O30:T30) -> 0
A31: 7 | B31: =INDEX('List of Competitors'!I$5:I$24,MATCH($A31,'List of Competitors'!$G$5:$G$24,0)) | C31: =INDEX('List of Competitors'!J$5:J$24,MATCH($A31,'List of Competitors'!$G$5:$G$24,0)) | D31: =INDEX('List of Competitors'!K$5:K$24,MATCH($A31,'List of Competitors'!$G$5:$G$24,0)) | E31: Average | F31: =AVERAGE(F32:F34) | G31: =AVERAGE(G32:G34) | H31: =AVERAGE(H32:H34) | I31: =AVERAGE(I32:I34) | J31: =AVERAGE(J32:J34) | K31: =AVERAGE(K32:K34) | L31: =AVERAGE(L32:L34) | M31: =AVERAGE(M32:M34) | N31: =SUM(N32:N34)/IF(N34=0,2,3) -> 0 | O31: =SUM(O32:O34)/IF($N34=0,2,3) -> 0 | P31: =SUM(P32:P34)/IF($N34=0,2,3) -> 0 | Q31: =SUM(Q32:Q34)/IF($N34=0,2,3) -> 0 | R31: =SUM(R32:R34)/IF($N34=0,2,3) -> 0 | S31: =SUM(S32:S34)/IF($N34=0,2,3) -> 0 | T31: =SUM(T32:T34)/IF($N34=0,2,3) -> 0 | V31: =SUM(V32:V34)/IF(N34=0,2,3) -> 0 | W31: =N31-V31 -> 0 | X31: =IF(W31>=150,"Si","No") -> No | Y31: =IF(W31=0,0,IF(ISERROR(RANK(W31,W1:W86)),"",RANK(Z31,Z1:Z86))) -> 0 | Z31: =IFERROR(W31+F31/100000+J31/10000000+G31/1000000000,0) -> 0
E32: J1 | N32: =SUM(F32:M32) -> 0 | V32: =SUM(O32:T32) -> 0
E33: J2 | N33: =SUM(F33:M33) -> 0 | V33: =SUM(O33:T33) -> 0
E34: J3 | N34: =SUM(F34:M34) -> 0 | V34: =SUM(O34:T34) -> 0
A35: 8 | B35: =INDEX('List of Competitors'!I$5:I$24,MATCH($A35,'List of Competitors'!$G$5:$G$24,0)) | C35: =INDEX('List of Competitors'!J$5:J$24,MATCH($A35,'List of Competitors'!$G$5:$G$24,0)) | D35: =INDEX('List of Competitors'!K$5:K$24,MATCH($A35,'List of Competitors'!$G$5:$G$24,0)) | E35: Average | F35: =AVERAGE(F36:F38) | G35: =AVERAGE(G36:G38) | H35: =AVERAGE(H36:H38) | I35: =AVERAGE(I36:I38) | J35: =AVERAGE(J36:J38) | K35: =AVERAGE(K36:K38) | L35: =AVERAGE(L36:L38) | M35: =AVERAGE(M36:M38) | N35: =SUM(N36:N38)/IF(N38=0,2,3) -> 0 | O35: =SUM(O36:O38)/IF($N38=0,2,3) -> 0 | P35: =SUM(P36:P38)/IF($N38=0,2,3) -> 0 | Q35: =SUM(Q36:Q38)/IF($N38=0,2,3) -> 0 | R35: =SUM(R36:R38)/IF($N38=0,2,3) -> 0 | S35: =SUM(S36:S38)/IF($N38=0,2,3) -> 0 | T35: =SUM(T36:T38)/IF($N38=0,2,3) -> 0 | V35: =SUM(V36:V38)/IF(N38=0,2,3) -> 0 | W35: =N35-V35 -> 0 | X35: =IF(W35>=150,"Si","No") -> No | Y35: =IF(W35=0,0,IF(ISERROR(RANK(W35,W1:W86)),"",RANK(Z35,Z1:Z86))) -> 0 | Z35: =IFERROR(W35+F35/100000+J35/10000000+G35/1000000000,0) -> 0
E36: J1 | N36: =SUM(F36:M36) -> 0 | V36: =SUM(O36:T36) -> 0
E37: J2 | N37: =SUM(F37:M37) -> 0 | V37: =SUM(O37:T37) -> 0
E38: J3 | N38: =SUM(F38:M38) -> 0 | V38: =SUM(O38:T38) -> 0
A39: 9 | B39: =INDEX('List of Competitors'!I$5:I$24,MATCH($A39,'List of Competitors'!$G$5:$G$24,0)) | C39: =INDEX('List of Competitors'!J$5:J$24,MATCH($A39,'List of Competitors'!$G$5:$G$24,0)) | D39: =INDEX('List of Competitors'!K$5:K$24,MATCH($A39,'List of Competitors'!$G$5:$G$24,0)) | E39: Average | F39: =AVERAGE(F40:F42) | G39: =AVERAGE(G40:G42) | H39: =AVERAGE(H40:H42) | I39: =AVERAGE(I40:I42) | J39: =AVERAGE(J40:J42) | K39: =AVERAGE(K40:K42) | L39: =AVERAGE(L40:L42) | M39: =AVERAGE(M40:M42) | N39: =SUM(N40:N42)/IF(N42=0,2,3) -> 0 | O39: =SUM(O40:O42)/IF($N42=0,2,3) -> 0 | P39: =SUM(P40:P42)/IF($N42=0,2,3) -> 0 | Q39: =SUM(Q40:Q42)/IF($N42=0,2,3) -> 0 | R39: =SUM(R40:R42)/IF($N42=0,2,3) -> 0 | S39: =SUM(S40:S42)/IF($N42=0,2,3) -> 0 | T39: =SUM(T40:T42)/IF($N42=0,2,3) -> 0 | V39: =SUM(V40:V42)/IF(N42=0,2,3) -> 0 | W39: =N39-V39 -> 0 | X39: =IF(W39>=150,"Si","No") -> No | Y39: =IF(W39=0,0,IF(ISERROR(RANK(W39,W1:W86)),"",RANK(Z39,Z1:Z86))) -> 0 | Z39: =IFERROR(W39+F39/100000+J39/10000000+G39/1000000000,0) -> 0
E40: J1 | N40: =SUM(F40:M40) -> 0 | V40: =SUM(O40:T40) -> 0
E41: J2 | N41: =SUM(F41:M41) -> 0 | V41: =SUM(O41:T41) -> 0
E42: J3 | N42: =SUM(F42:M42) -> 0 | V42: =SUM(O42:T42) -> 0
A43: 10 | B43: =INDEX('List of Competitors'!I$5:I$24,MATCH($A43,'List of Competitors'!$G$5:$G$24,0)) | C43: =INDEX('List of Competitors'!J$5:J$24,MATCH($A43,'List of Competitors'!$G$5:$G$24,0)) | D43: =INDEX('List of Competitors'!K$5:K$24,MATCH($A43,'List of Competitors'!$G$5:$G$24,0)) | E43: Average | F43: =AVERAGE(F44:F46) | G43: =AVERAGE(G44:G46) | H43: =AVERAGE(H44:H46) | I43: =AVERAGE(I44:I46) | J43: =AVERAGE(J44:J46) | K43: =AVERAGE(K44:K46) | L43: =AVERAGE(L44:L46) | M43: =AVERAGE(M44:M46) | N43: =SUM(N44:N46)/IF(N46=0,2,3) -> 0 | O43: =SUM(O44:O46)/IF($N46=0,2,3) -> 0 | P43: =SUM(P44:P46)/IF($N46=0,2,3) -> 0 | Q43: =SUM(Q44:Q46)/IF($N46=0,2,3) -> 0 | R43: =SUM(R44:R46)/IF($N46=0,2,3) -> 0 | S43: =SUM(S44:S46)/IF($N46=0,2,3) -> 0 | T43: =SUM(T44:T46)/IF($N46=0,2,3) -> 0 | V43: =SUM(V44:V46)/IF(N46=0,2,3) -> 0 | W43: =N43-V43 -> 0 | X43: =IF(W43>=150,"Si","No") -> No | Y43: =IF(W43=0,0,IF(ISERROR(RANK(W43,W1:W86)),"",RANK(Z43,Z1:Z86))) -> 0 | Z43: =IFERROR(W43+F43/100000+J43/10000000+G43/1000000000,0) -> 0
E44: J1 | N44: =SUM(F44:M44) -> 0 | V44: =SUM(O44:T44) -> 0
E45: J2 | N45: =SUM(F45:M45) -> 0 | V45: =SUM(O45:T45) -> 0
E46: J3 | N46: =SUM(F46:M46) -> 0 | V46: =SUM(O46:T46) -> 0
A47: 11 | B47: =INDEX('List of Competitors'!I$5:I$24,MATCH($A47,'List of Competitors'!$G$5:$G$24,0)) | C47: =INDEX('List of Competitors'!J$5:J$24,MATCH($A47,'List of Competitors'!$G$5:$G$24,0)) | D47: =INDEX('List of Competitors'!K$5:K$24,MATCH($A47,'List of Competitors'!$G$5:$G$24,0)) | E47: Average | F47: =AVERAGE(F48:F50) | G47: =AVERAGE(G48:G50) | H47: =AVERAGE(H48:H50) | I47: =AVERAGE(I48:I50) | J47: =AVERAGE(J48:J50) | K47: =AVERAGE(K48:K50) | L47: =AVERAGE(L48:L50) | M47: =AVERAGE(M48:M50) | N47: =SUM(N48:N50)/IF(N50=0,2,3) -> 0 | O47: =SUM(O48:O50)/IF($N50=0,2,3) -> 0 | P47: =SUM(P48:P50)/IF($N50=0,2,3) -> 0 | Q47: =SUM(Q48:Q50)/IF($N50=0,2,3) -> 0 | R47: =SUM(R48:R50)/IF($N50=0,2,3) -> 0 | S47: =SUM(S48:S50)/IF($N50=0,2,3) -> 0 | T47: =SUM(T48:T50)/IF($N50=0,2,3) -> 0 | V47: =SUM(V48:V50)/IF(N50=0,2,3) -> 0 | W47: =N47-V47 -> 0 | X47: =IF(W47>=150,"Si","No") -> No | Y47: =IF(W47=0,0,IF(ISERROR(RANK(W47,W1:W86)),"",RANK(Z47,Z1:Z86))) -> 0 | Z47: =IFERROR(W47+F47/100000+J47/10000000+G47/1000000000,0) -> 0
E48: J1 | N48: =SUM(F48:M48) -> 0 | V48: =SUM(O48:T48) -> 0
E49: J2 | N49: =SUM(F49:M49) -> 0 | V49: =SUM(O49:T49) -> 0
E50: J3 | N50: =SUM(F50:M50) -> 0 | V50: =SUM(O50:T50) -> 0
A51: 12 | B51: =INDEX('List of Competitors'!I$5:I$24,MATCH($A51,'List of Competitors'!$G$5:$G$24,0)) | C51: =INDEX('List of Competitors'!J$5:J$24,MATCH($A51,'List of Competitors'!$G$5:$G$24,0)) | D51: =INDEX('List of Competitors'!K$5:K$24,MATCH($A51,'List of Competitors'!$G$5:$G$24,0)) | E51: Average | F51: =AVERAGE(F52:F54) | G51: =AVERAGE(G52:G54) | H51: =AVERAGE(H52:H54) | I51: =AVERAGE(I52:I54) | J51: =AVERAGE(J52:J54) | K51: =AVERAGE(K52:K54) | L51: =AVERAGE(L52:L54) | M51: =AVERAGE(M52:M54) | N51: =SUM(N52:N54)/IF(N54=0,2,3) -> 0 | O51: =SUM(O52:O54)/IF($N54=0,2,3) -> 0 | P51: =SUM(P52:P54)/IF($N54=0,2,3) -> 0 | Q51: =SUM(Q52:Q54)/IF($N54=0,2,3) -> 0 | R51: =SUM(R52:R54)/IF($N54=0,2,3) -> 0 | S51: =SUM(S52:S54)/IF($N54=0,2,3) -> 0 | T51: =SUM(T52:T54)/IF($N54=0,2,3) -> 0 | V51: =SUM(V52:V54)/IF(N54=0,2,3) -> 0 | W51: =N51-V51 -> 0 | X51: =IF(W51>=150,"Si","No") -> No | Y51: =IF(W51=0,0,IF(ISERROR(RANK(W51,W1:W86)),"",RANK(Z51,Z1:Z86))) -> 0 | Z51: =IFERROR(W51+F51/100000+J51/10000000+G51/1000000000,0) -> 0
E52: J1 | N52: =SUM(F52:M52) -> 0 | V52: =SUM(O52:T52) -> 0
E53: J2 | N53: =SUM(F53:M53) -> 0 | V53: =SUM(O53:T53) -> 0
E54: J3 | N54: =SUM(F54:M54) -> 0 | V54: =SUM(O54:T54) -> 0
A55: 13 | B55: =INDEX('List of Competitors'!I$5:I$24,MATCH($A55,'List of Competitors'!$G$5:$G$24,0)) | C55: =INDEX('List of Competitors'!J$5:J$24,MATCH($A55,'List of Competitors'!$G$5:$G$24,0)) | D55: =INDEX('List of Competitors'!K$5:K$24,MATCH($A55,'List of Competitors'!$G$5:$G$24,0)) | E55: Average | F55: =AVERAGE(F56:F58) | G55: =AVERAGE(G56:G58) | H55: =AVERAGE(H56:H58) | I55: =AVERAGE(I56:I58) | J55: =AVERAGE(J56:J58) | K55: =AVERAGE(K56:K58) | L55: =AVERAGE(L56:L58) | M55: =AVERAGE(M56:M58) | N55: =SUM(N56:N58)/IF(N58=0,2,3) -> 0 | O55: =SUM(O56:O58)/IF($N58=0,2,3) -> 0 | P55: =SUM(P56:P58)/IF($N58=0,2,3) -> 0 | Q55: =SUM(Q56:Q58)/IF($N58=0,2,3) -> 0 | R55: =SUM(R56:R58)/IF($N58=0,2,3) -> 0 | S55: =SUM(S56:S58)/IF($N58=0,2,3) -> 0 | T55: =SUM(T56:T58)/IF($N58=0,2,3) -> 0 | V55: =SUM(V56:V58)/IF(N58=0,2,3) -> 0 | W55: =N55-V55 -> 0 | X55: =IF(W55>=150,"Si","No") -> No | Y55: =IF(W55=0,0,IF(ISERROR(RANK(W55,W1:W86)),"",RANK(Z55,Z1:Z86))) -> 0 | Z55: =IFERROR(W55+F55/100000+J55/10000000+G55/1000000000,0) -> 0
E56: J1 | N56: =SUM(F56:M56) -> 0 | V56: =SUM(O56:T56) -> 0
E57: J2 | N57: =SUM(F57:M57) -> 0 | V57: =SUM(O57:T57) -> 0
E58: J3 | N58: =SUM(F58:M58) -> 0 | V58: =SUM(O58:T58) -> 0
A59: 14 | B59: =INDEX('List of Competitors'!I$5:I$24,MATCH($A59,'List of Competitors'!$G$5:$G$24,0)) | C59: =INDEX('List of Competitors'!J$5:J$24,MATCH($A59,'List of Competitors'!$G$5:$G$24,0)) | D59: =INDEX('List of Competitors'!K$5:K$24,MATCH($A59,'List of Competitors'!$G$5:$G$24,0)) | E59: Average | F59: =AVERAGE(F60:F62) | G59: =AVERAGE(G60:G62) | H59: =AVERAGE(H60:H62) | I59: =AVERAGE(I60:I62) | J59: =AVERAGE(J60:J62) | K59: =AVERAGE(K60:K62) | L59: =AVERAGE(L60:L62) | M59: =AVERAGE(M60:M62) | N59: =SUM(N60:N62)/IF(N62=0,2,3) -> 0 | O59: =SUM(O60:O62)/IF($N62=0,2,3) -> 0 | P59: =SUM(P60:P62)/IF($N62=0,2,3) -> 0 | Q59: =SUM(Q60:Q62)/IF($N62=0,2,3) -> 0 | R59: =SUM(R60:R62)/IF($N62=0,2,3) -> 0 | S59: =SUM(S60:S62)/IF($N62=0,2,3) -> 0 | T59: =SUM(T60:T62)/IF($N62=0,2,3) -> 0 | V59: =SUM(V60:V62)/IF(N62=0,2,3) -> 0 | W59: =N59-V59 -> 0 | X59: =IF(W59>=150,"Si","No") -> No | Y59: =IF(W59=0,0,IF(ISERROR(RANK(W59,W1:W86)),"",RANK(Z59,Z1:Z86))) -> 0 | Z59: =IFERROR(W59+F59/100000+J59/10000000+G59/1000000000,0) -> 0
E60: J1 | N60: =SUM(F60:M60) -> 0 | V60: =SUM(O60:T60) -> 0
E61: J2 | N61: =SUM(F61:M61) -> 0 | V61: =SUM(O61:T61) -> 0
E62: J3 | N62: =SUM(F62:M62) -> 0 | V62: =SUM(O62:T62) -> 0
A63: 15 | B63: =INDEX('List of Competitors'!I$5:I$24,MATCH($A63,'List of Competitors'!$G$5:$G$24,0)) | C63: =INDEX('List of Competitors'!J$5:J$24,MATCH($A63,'List of Competitors'!$G$5:$G$24,0)) | D63: =INDEX('List of Competitors'!K$5:K$24,MATCH($A63,'List of Competitors'!$G$5:$G$24,0)) | E63: Average | F63: =AVERAGE(F64:F66) | G63: =AVERAGE(G64:G66) | H63: =AVERAGE(H64:H66) | I63: =AVERAGE(I64:I66) | J63: =AVERAGE(J64:J66) | K63: =AVERAGE(K64:K66) | L63: =AVERAGE(L64:L66) | M63: =AVERAGE(M64:M66) | N63: =SUM(N64:N66)/IF(N66=0,2,3) -> 0 | O63: =SUM(O64:O66)/IF($N66=0,2,3) -> 0 | P63: =SUM(P64:P66)/IF($N66=0,2,3) -> 0 | Q63: =SUM(Q64:Q66)/IF($N66=0,2,3) -> 0 | R63: =SUM(R64:R66)/IF($N66=0,2,3) -> 0 | S63: =SUM(S64:S66)/IF($N66=0,2,3) -> 0 | T63: =SUM(T64:T66)/IF($N66=0,2,3) -> 0 | V63: =SUM(V64:V66)/IF(N66=0,2,3) -> 0 | W63: =N63-V63 -> 0 | X63: =IF(W63>=150,"Si","No") -> No | Y63: =IF(W63=0,0,IF(ISERROR(RANK(W63,W1:W86)),"",RANK(Z63,Z1:Z86))) -> 0 | Z63: =IFERROR(W63+F63/100000+J63/10000000+G63/1000000000,0) -> 0
E64: J1 | N64: =SUM(F64:M64) -> 0 | V64: =SUM(O64:T64) -> 0
E65: J2 | N65: =SUM(F65:M65) -> 0 | V65: =SUM(O65:T65) -> 0
E66: J3 | N66: =SUM(F66:M66) -> 0 | V66: =SUM(O66:T66) -> 0
A67: 16 | B67: =INDEX('List of Competitors'!I$5:I$24,MATCH($A67,'List of Competitors'!$G$5:$G$24,0)) | C67: =INDEX('List of Competitors'!J$5:J$24,MATCH($A67,'List of Competitors'!$G$5:$G$24,0)) | D67: =INDEX('List of Competitors'!K$5:K$24,MATCH($A67,'List of Competitors'!$G$5:$G$24,0)) | E67: Average | F67: =AVERAGE(F68:F70) | G67: =AVERAGE(G68:G70) | H67: =AVERAGE(H68:H70) | I67: =AVERAGE(I68:I70) | J67: =AVERAGE(J68:J70) | K67: =AVERAGE(K68:K70) | L67: =AVERAGE(L68:L70) | M67: =AVERAGE(M68:M70) | N67: =SUM(N68:N70)/IF(N70=0,2,3) -> 0 | O67: =SUM(O68:O70)/IF($N70=0,2,3) -> 0 | P67: =SUM(P68:P70)/IF($N70=0,2,3) -> 0 | Q67: =SUM(Q68:Q70)/IF($N70=0,2,3) -> 0 | R67: =SUM(R68:R70)/IF($N70=0,2,3) -> 0 | S67: =SUM(S68:S70)/IF($N70=0,2,3) -> 0 | T67: =SUM(T68:T70)/IF($N70=0,2,3) -> 0 | V67: =SUM(V68:V70)/IF(N70=0,2,3) -> 0 | W67: =N67-V67 -> 0 | X67: =IF(W67>=150,"Si","No") -> No | Y67: =IF(W67=0,0,IF(ISERROR(RANK(W67,W1:W86)),"",RANK(Z67,Z1:Z86))) -> 0 | Z67: =IFERROR(W67+F67/100000+J67/10000000+G67/1000000000,0) -> 0
E68: J1 | N68: =SUM(F68:M68) -> 0 | V68: =SUM(O68:T68) -> 0
E69: J2 | N69: =SUM(F69:M69) -> 0 | V69: =SUM(O69:T69) -> 0
E70: J3 | N70: =SUM(F70:M70) -> 0 | V70: =SUM(O70:T70) -> 0
A71: 17 | B71: =INDEX('List of Competitors'!I$5:I$24,MATCH($A71,'List of Competitors'!$G$5:$G$24,0)) | C71: =INDEX('List of Competitors'!J$5:J$24,MATCH($A71,'List of Competitors'!$G$5:$G$24,0)) | D71: =INDEX('List of Competitors'!K$5:K$24,MATCH($A71,'List of Competitors'!$G$5:$G$24,0)) | E71: Average | F71: =AVERAGE(F72:F74) | G71: =AVERAGE(G72:G74) | H71: =AVERAGE(H72:H74) | I71: =AVERAGE(I72:I74) | J71: =AVERAGE(J72:J74) | K71: =AVERAGE(K72:K74) | L71: =AVERAGE(L72:L74) | M71: =AVERAGE(M72:M74) | N71: =SUM(N72:N74)/IF(N74=0,2,3) -> 0 | O71: =SUM(O72:O74)/IF($N74=0,2,3) -> 0 | P71: =SUM(P72:P74)/IF($N74=0,2,3) -> 0 | Q71: =SUM(Q72:Q74)/IF($N74=0,2,3) -> 0 | R71: =SUM(R72:R74)/IF($N74=0,2,3) -> 0 | S71: =SUM(S72:S74)/IF($N74=0,2,3) -> 0 | T71: =SUM(T72:T74)/IF($N74=0,2,3) -> 0 | V71: =SUM(V72:V74)/IF(N74=0,2,3) -> 0 | W71: =N71-V71 -> 0 | X71: =IF(W71>=150,"Si","No") -> No | Y71: =IF(W71=0,0,IF(ISERROR(RANK(W71,W1:W86)),"",RANK(Z71,Z1:Z86))) -> 0 | Z71: =IFERROR(W71+F71/100000+J71/10000000+G71/1000000000,0) -> 0
E72: J1 | N72: =SUM(F72:M72) -> 0 | V72: =SUM(O72:T72) -> 0
E73: J2 | N73: =SUM(F73:M73) -> 0 | V73: =SUM(O73:T73) -> 0
E74: J3 | N74: =SUM(F74:M74) -> 0 | V74: =SUM(O74:T74) -> 0
A75: 18 | B75: =INDEX('List of Competitors'!I$5:I$24,MATCH($A75,'List of Competitors'!$G$5:$G$24,0)) | C75: =INDEX('List of Competitors'!J$5:J$24,MATCH($A75,'List of Competitors'!$G$5:$G$24,0)) | D75: =INDEX('List of Competitors'!K$5:K$24,MATCH($A75,'List of Competitors'!$G$5:$G$24,0)) | E75: Average | F75: =AVERAGE(F76:F78) | G75: =AVERAGE(G76:G78) | H75: =AVERAGE(H76:H78) | I75: =AVERAGE(I76:I78) | J75: =AVERAGE(J76:J78) | K75: =AVERAGE(K76:K78) | L75: =AVERAGE(L76:L78) | M75: =AVERAGE(M76:M78) | N75: =SUM(N76:N78)/IF(N78=0,2,3) -> 0 | O75: =SUM(O76:O78)/IF($N78=0,2,3) -> 0 | P75: =SUM(P76:P78)/IF($N78=0,2,3) -> 0 | Q75: =SUM(Q76:Q78)/IF($N78=0,2,3) -> 0 | R75: =SUM(R76:R78)/IF($N78=0,2,3) -> 0 | S75: =SUM(S76:S78)/IF($N78=0,2,3) -> 0 | T75: =SUM(T76:T78)/IF($N78=0,2,3) -> 0 | V75: =SUM(V76:V78)/IF(N78=0,2,3) -> 0 | W75: =N75-V75 -> 0 | X75: =IF(W75>=150,"Si","No") -> No | Y75: =IF(W75=0,0,IF(ISERROR(RANK(W75,W1:W86)),"",RANK(Z75,Z1:Z86))) -> 0 | Z75: =IFERROR(W75+F75/100000+J75/10000000+G75/1000000000,0) -> 0
E76: J1 | N76: =SUM(F76:M76) -> 0 | V76: =SUM(O76:T76) -> 0
E77: J2 | N77: =SUM(F77:M77) -> 0 | V77: =SUM(O77:T77) -> 0
E78: J3 | N78: =SUM(F78:M78) -> 0 | V78: =SUM(O78:T78) -> 0
A79: 19 | B79: =INDEX('List of Competitors'!I$5:I$24,MATCH($A79,'List of Competitors'!$G$5:$G$24,0)) | C79: =INDEX('List of Competitors'!J$5:J$24,MATCH($A79,'List of Competitors'!$G$5:$G$24,0)) | D79: =INDEX('List of Competitors'!K$5:K$24,MATCH($A79,'List of Competitors'!$G$5:$G$24,0)) | E79: Average | F79: =AVERAGE(F80:F82) | G79: =AVERAGE(G80:G82) | H79: =AVERAGE(H80:H82) | I79: =AVERAGE(I80:I82) | J79: =AVERAGE(J80:J82) | K79: =AVERAGE(K80:K82) | L79: =AVERAGE(L80:L82) | M79: =AVERAGE(M80:M82) | N79: =SUM(N80:N82)/IF(N82=0,2,3) -> 0 | O79: =SUM(O80:O82)/IF($N82=0,2,3) -> 0 | P79: =SUM(P80:P82)/IF($N82=0,2,3) -> 0 | Q79: =SUM(Q80:Q82)/IF($N82=0,2,3) -> 0 | R79: =SUM(R80:R82)/IF($N82=0,2,3) -> 0 | S79: =SUM(S80:S82)/IF($N82=0,2,3) -> 0 | T79: =SUM(T80:T82)/IF($N82=0,2,3) -> 0 | V79: =SUM(V80:V82)/IF(N82=0,2,3) -> 0 | W79: =N79-V79 -> 0 | X79: =IF(W79>=150,"Si","No") -> No | Y79: =IF(W79=0,0,IF(ISERROR(RANK(W79,W1:W86)),"",RANK(Z79,Z1:Z86))) -> 0 | Z79: =IFERROR(W79+F79/100000+J79/10000000+G79/1000000000,0) -> 0
E80: J1 | N80: =SUM(F80:M80) -> 0 | V80: =SUM(O80:T80) -> 0
E81: J2 | N81: =SUM(F81:M81) -> 0 | V81: =SUM(O81:T81) -> 0
E82: J3 | N82: =SUM(F82:M82) -> 0 | V82: =SUM(O82:T82) -> 0
A83: 20 | B83: =INDEX('List of Competitors'!I$5:I$24,MATCH($A83,'List of Competitors'!$G$5:$G$24,0)) | C83: =INDEX('List of Competitors'!J$5:J$24,MATCH($A83,'List of Competitors'!$G$5:$G$24,0)) | D83: =INDEX('List of Competitors'!K$5:K$24,MATCH($A83,'List of Competitors'!$G$5:$G$24,0)) | E83: Average | F83: =AVERAGE(F84:F86) | G83: =AVERAGE(G84:G86) | H83: =AVERAGE(H84:H86) | I83: =AVERAGE(I84:I86) | J83: =AVERAGE(J84:J86) | K83: =AVERAGE(K84:K86) | L83: =AVERAGE(L84:L86) | M83: =AVERAGE(M84:M86) | N83: =SUM(N84:N86)/IF(N86=0,2,3) -> 0 | O83: =SUM(O84:O86)/IF($N86=0,2,3) -> 0 | P83: =SUM(P84:P86)/IF($N86=0,2,3) -> 0 | Q83: =SUM(Q84:Q86)/IF($N86=0,2,3) -> 0 | R83: =SUM(R84:R86)/IF($N86=0,2,3) -> 0 | S83: =SUM(S84:S86)/IF($N86=0,2,3) -> 0 | T83: =SUM(T84:T86)/IF($N86=0,2,3) -> 0 | V83: =SUM(V84:V86)/IF(N86=0,2,3) -> 0 | W83: =N83-V83 -> 0 | X83: =IF(W83>=150,"Si","No") -> No | Y83: =IF(W83=0,0,IF(ISERROR(RANK(W83,W1:W86)),"",RANK(Z83,Z1:Z86))) -> 0 | Z83: =IFERROR(W83+F83/100000+J83/10000000+G83/1000000000,0) -> 0
E84: J1 | N84: =SUM(F84:M84) -> 0 | V84: =SUM(O84:T84) -> 0
E85: J2 | N85: =SUM(F85:M85) -> 0 | V85: =SUM(O85:T85) -> 0
E86: J3 | N86: =SUM(F86:M86) -> 0 | V86: =SUM(O86:T86) -> 0

Sheet HTM 2
B1: HTM 2 | E1: ='List of Competitors'!B2
E2: ='List of Competitors'!C2
A4: # | B4: Nome | C4: Cognome | D4: Cane | E4: Judge | F4: Team work | G4: Dinamicità | H4: Progetto | I4: Coreografia | J4: Fluidità | K4: Esecuzione | L4: Contenuto | M4: Difficoltà | N4: Punit | O4: Detrazioni di punti | W4: Totale | X4: punto di passaggio | Y4: Posizionamento | Z4: Korr Punkte Teamwork, Fluss
O5: Abbaio e vocalizzazioni | P5: Salute del cane | Q5: costume / Oggetti di scena | R5: Lunghezze musicali errate | S5: Trattamento improprio del cane | T5: Contatto attivo | U5: % HTM | V5: Totale
F6: max. 25 | G6: max. 25 | H6: max. 25 | I6: max. 25 | J6: max. 25 | K6: max. 25 | L6: max. 25 | M6: max. 25 | O6: max. 20 | P6: max. 20 | Q6: max. 20 | R6: 1 Punkt / sec | S6: max. 20 | T6: max. 20 | U6: [X]
A7: 1 | B7: =INDEX('List of Competitors'!O$5:O$24,MATCH($A7,'List of Competitors'!$M$5:$M$24,0)) | C7: =INDEX('List of Competitors'!P$5:P$24,MATCH($A7,'List of Competitors'!$M$5:$M$24,0)) | D7: =INDEX('List of Competitors'!Q$5:Q$24,MATCH($A7,'List of Competitors'!$M$5:$M$24,0)) | E7: Average | F7: =AVERAGE(F8:F10) | G7: =AVERAGE(G8:G10) | H7: =AVERAGE(H8:H10) | I7: =AVERAGE(I8:I10) | J7: =AVERAGE(J8:J10) | K7: =AVERAGE(K8:K10) | L7: =AVERAGE(L8:L10) | M7: =AVERAGE(M8:M10) | N7: =SUM(N8:N10)/IF(N10=0,2,3) -> 0 | O7: =SUM(O8:O10)/IF($N10=0,2,3) -> 0 | P7: =SUM(P8:P10)/IF($N10=0,2,3) -> 0 | Q7: =SUM(Q8:Q10)/IF($N10=0,2,3) -> 0 | R7: =SUM(R8:R10)/IF($N10=0,2,3) -> 0 | S7: =SUM(S8:S10)/IF($N10=0,2,3) -> 0 | T7: =SUM(T8:T10)/IF($N10=0,2,3) -> 0 | V7: =SUM(V8:V10)/IF(N10=0,2,3) -> 0 | W7: =N7-V7 -> 0 | X7: =IF(W7>=150,"Si","No") -> No | Y7: =IF(W7=0,0,IF(ISERROR(RANK(W7,W1:W86)),"",RANK(Z7,Z1:Z86))) -> 0 | Z7: =IFERROR(W7+F7/100000+J7/10000000+G7/1000000000,0) -> 0
E8: J1 | N8: =SUM(F8:M8) -> 0 | V8: =SUM(O8:T8) -> 0
E9: J2 | N9: =SUM(F9:M9) -> 0 | V9: =SUM(O9:T9) -> 0
E10: J3 | N10: =SUM(F10:M10) -> 0 | V10: =SUM(O10:T10) -> 0
A11: 2 | B11: =INDEX('List of Competitors'!O$5:O$24,MATCH($A11,'List of Competitors'!$M$5:$M$24,0)) | C11: =INDEX('List of Competitors'!P$5:P$24,MATCH($A11,'List of Competitors'!$M$5:$M$24,0)) | D11: =INDEX('List of Competitors'!Q$5:Q$24,MATCH($A11,'List of Competitors'!$M$5:$M$24,0)) | E11: Average | F11: =AVERAGE(F12:F14) | G11: =AVERAGE(G12:G14) | H11: =AVERAGE(H12:H14) | I11: =AVERAGE(I12:I14) | J11: =AVERAGE(J12:J14) | K11: =AVERAGE(K12:K14) | L11: =AVERAGE(L12:L14) | M11: =AVERAGE(M12:M14) | N11: =SUM(N12:N14)/IF(N14=0,2,3) -> 0 | O11: =SUM(O12:O14)/IF($N14=0,2,3) -> 0 | P11: =SUM(P12:P14)/IF($N14=0,2,3) -> 0 | Q11: =SUM(Q12:Q14)/IF($N14=0,2,3) -> 0 | R11: =SUM(R12:R14)/IF($N14=0,2,3) -> 0 | S11: =SUM(S12:S14)/IF($N14=0,2,3) -> 0 | T11: =SUM(T12:T14)/IF($N14=0,2,3) -> 0 | V11: =SUM(V12:V14)/IF(N14=0,2,3) -> 0 | W11: =N11-V11 -> 0 | X11: =IF(W11>=150,"Si","No") -> No | Y11: =IF(W11=0,0,IF(ISERROR(RANK(W11,W1:W86)),"",RANK(Z11,Z1:Z86))) -> 0 | Z11: =IFERROR(W11+F11/100000+J11/10000000+G11/1000000000,0) -> 0
E12: J1 | N12: =SUM(F12:M12) -> 0 | V12: =SUM(O12:T12) -> 0
E13: J2 | N13: =SUM(F13:M13) -> 0 | V13: =SUM(O13:T13) -> 0
E14: J3 | N14: =SUM(F14:M14) -> 0 | V14: =SUM(O14:T14) -> 0
A15: 3 | B15: =INDEX('List of Competitors'!O$5:O$24,MATCH($A15,'List of Competitors'!$M$5:$M$24,0)) | C15: =INDEX('List of Competitors'!P$5:P$24,MATCH($A15,'List of Competitors'!$M$5:$M$24,0)) | D15: =INDEX('List of Competitors'!Q$5:Q$24,MATCH($A15,'List of Competitors'!$M$5:$M$24,0)) | E15: Average | F15: =AVERAGE(F16:F18) | G15: =AVERAGE(G16:G18) | H15: =AVERAGE(H16:H18) | I15: =AVERAGE(I16:I18) | J15: =AVERAGE(J16:J18) | K15: =AVERAGE(K16:K18) | L15: =AVERAGE(L16:L18) | M15: =AVERAGE(M16:M18) | N15: =SUM(N16:N18)/IF(N18=0,2,3) -> 0 | O15: =SUM(O16:O18)/IF($N18=0,2,3) -> 0 | P15: =SUM(P16:P18)/IF($N18=0,2,3) -> 0 | Q15: =SUM(Q16:Q18)/IF($N18=0,2,3) -> 0 | R15: =SUM(R16:R18)/IF($N18=0,2,3) -> 0 | S15: =SUM(S16:S18)/IF($N18=0,2,3) -> 0 | T15: =SUM(T16:T18)/IF($N18=0,2,3) -> 0 | V15: =SUM(V16:V18)/IF(N18=0,2,3) -> 0 | W15: =N15-V15 -> 0 | X15: =IF(W15>=150,"Si","No") -> No | Y15: =IF(W15=0,0,IF(ISERROR(RANK(W15,W1:W86)),"",RANK(Z15,Z1:Z86))) -> 0 | Z15: =IFERROR(W15+F15/100000+J15/10000000+G15/1000000000,0) -> 0
E16: J1 | N16: =SUM(F16:M16) -> 0 | V16: =SUM(O16:T16) -> 0
E17: J2 | N17: =SUM(F17:M17) -> 0 | V17: =SUM(O17:T17) -> 0
E18: J3 | N18: =SUM(F18:M18) -> 0 | V18: =SUM(O18:T18) -> 0
A19: 4 | B19: =INDEX('List of Competitors'!O$5:O$24,MATCH($A19,'List of Competitors'!$M$5:$M$24,0)) | C19: =INDEX('List of Competitors'!P$5:P$24,MATCH($A19,'List of Competitors'!$M$5:$M$24,0)) | D19: =INDEX('List of Competitors'!Q$5:Q$24,MATCH($A19,'List of Competitors'!$M$5:$M$24,0)) | E19: Average | F19: =AVERAGE(F20:F22) | G19: =AVERAGE(G20:G22) | H19: =AVERAGE(H20:H22) | I19: =AVERAGE(I20:I22) | J19: =AVERAGE(J20:J22) | K19: =AVERAGE(K20:K22) | L19: =AVERAGE(L20:L22) | M19: =AVERAGE(M20:M22) | N19: =SUM(N20:N22)/IF(N22=0,2,3) -> 0 | O19: =SUM(O20:O22)/IF($N22=0,2,3) -> 0 | P19: =SUM(P20:P22)/IF($N22=0,2,3) -> 0 | Q19: =SUM(Q20:Q22)/IF($N22=0,2,3) -> 0 | R19: =SUM(R20:R22)/IF($N22=0,2,3) -> 0 | S19: =SUM(S20:S22)/IF($N22=0,2,3) -> 0 | T19: =SUM(T20:T22)/IF($N22=0,2,3) -> 0 | V19: =SUM(V20:V22)/IF(N22=0,2,3) -> 0 | W19: =N19-V19 -> 0 | X19: =IF(W19>=150,"Si","No") -> No | Y19: =IF(W19=0,0,IF(ISERROR(RANK(W19,W1:W86)),"",RANK(Z19,Z1:Z86))) -> 0 | Z19: =IFERROR(W19+F19/100000+J19/10000000+G19/1000000000,0) -> 0
E20: J1 | N20: =SUM(F20:M20) -> 0 | V20: =SUM(O20:T20) -> 0
E21: J2 | N21: =SUM(F21:M21) -> 0 | V21: =SUM(O21:T21) -> 0
E22: J3 | N22: =SUM(F22:M22) -> 0 | V22: =SUM(O22:T22) -> 0
A23: 5 | B23: =INDEX('List of Competitors'!O$5:O$24,MATCH($A23,'List of Competitors'!$M$5:$M$24,0)) | C23: =INDEX('List of Competitors'!P$5:P$24,MATCH($A23,'List of Competitors'!$M$5:$M$24,0)) | D23: =INDEX('List of Competitors'!Q$5:Q$24,MATCH($A23,'List of Competitors'!$M$5:$M$24,0)) | E23: Average | F23: =AVERAGE(F24:F26) | G23: =AVERAGE(G24:G26) | H23: =AVERAGE(H24:H26) | I23: =AVERAGE(I24:I26) | J23: =AVERAGE(J24:J26) | K23: =AVERAGE(K24:K26) | L23: =AVERAGE(L24:L26) | M23: =AVERAGE(M24:M26) | N23: =SUM(N24:N26)/IF(N26=0,2,3) -> 0 | O23: =SUM(O24:O26)/IF($N26=0,2,3) -> 0 | P23: =SUM(P24:P26)/IF($N26=0,2,3) -> 0 | Q23: =SUM(Q24:Q26)/IF($N26=0,2,3) -> 0 | R23: =SUM(R24:R26)/IF($N26=0,2,3) -> 0 | S23: =SUM(S24:S26)/IF($N26=0,2,3) -> 0 | T23: =SUM(T24:T26)/IF($N26=0,2,3) -> 0 | V23: =SUM(V24:V26)/IF(N26=0,2,3) -> 0 | W23: =N23-V23 -> 0 | X23: =IF(W23>=150,"Si","No") -> No | Y23: =IF(W23=0,0,IF(ISERROR(RANK(W23,W1:W86)),"",RANK(Z23,Z1:Z86))) -> 0 | Z23: =IFERROR(W23+F23/100000+J23/10000000+G23/1000000000,0) -> 0
E24: J1 | N24: =SUM(F24:M24) -> 0 | V24: =SUM(O24:T24) -> 0
E25: J2 | N25: =SUM(F25:M25) -> 0 | V25: =SUM(O25:T25) -> 0
E26: J3 | N26: =SUM(F26:M26) -> 0 | V26: =SUM(O26:T26) -> 0
A27: 6 | B27: =INDEX('List of Competitors'!O$5:O$24,MATCH($A27,'List of Competitors'!$M$5:$M$24,0)) | C27: =INDEX('List of Competitors'!P$5:P$24,MATCH($A27,'List of Competitors'!$M$5:$M$24,0)) | D27: =INDEX('List of Competitors'!Q$5:Q$24,MATCH($A27,'List of Competitors'!$M$5:$M$24,0)) | E27: Average | F27: =AVERAGE(F28:F30) | G27: =AVERAGE(G28:G30) | H27: =AVERAGE(H28:H30) | I27: =AVERAGE(I28:I30) | J27: =AVERAGE(J28:J30) | K27: =AVERAGE(K28:K30) | L27: =AVERAGE(L28:L30) | M27: =AVERAGE(M28:M30) | N27: =SUM(N28:N30)/IF(N30=0,2,3) -> 0 | O27: =SUM(O28:O30)/IF($N30=0,2,3) -> 0 | P27: =SUM(P28:P30)/IF($N30=0,2,3) -> 0 | Q27: =SUM(Q28:Q30)/IF($N30=0,2,3) -> 0 | R27: =SUM(R28:R30)/IF($N30=0,2,3) -> 0 | S27: =SUM(S28:S30)/IF($N30=0,2,3) -> 0 | T27: =SUM(T28:T30)/IF($N30=0,2,3) -> 0 | V27: =SUM(V28:V30)/IF(N30=0,2,3) -> 0 | W27: =N27-V27 -> 0 | X27: =IF(W27>=150,"Si","No") -> No | Y27: =IF(W27=0,0,IF(ISERROR(RANK(W27,W1:W86)),"",RANK(Z27,Z1:Z86))) -> 0 | Z27: =IFERROR(W27+F27/100000+J27/10000000+G27/1000000000,0) -> 0
E28: J1 | N28: =SUM(F28:M28) -> 0 | V28: =SUM(O28:T28) -> 0
E29: J2 | N29: =SUM(F29:M29) -> 0 | V29: =SUM(O29:T29) -> 0
E30: J3 | N30: =SUM(F30:M30) -> 0 | V30: =SUM(O30:T30) -> 0
A31: 7 | B31: =INDEX('List of Competitors'!O$5:O$24,MATCH($A31,'List of Competitors'!$M$5:$M$24,0)) | C31: =INDEX('List of Competitors'!P$5:P$24,MATCH($A31,'List of Competitors'!$M$5:$M$24,0)) | D31: =INDEX('List of Competitors'!Q$5:Q$24,MATCH($A31,'List of Competitors'!$M$5:$M$24,0)) | E31: Average | F31: =AVERAGE(F32:F34) | G31: =AVERAGE(G32:G34) | H31: =AVERAGE(H32:H34) | I31: =AVERAGE(I32:I34) | J31: =AVERAGE(J32:J34) | K31: =AVERAGE(K32:K34) | L31: =AVERAGE(L32:L34) | M31: =AVERAGE(M32:M34) | N31: =SUM(N32:N34)/IF(N34=0,2,3) -> 0 | O31: =SUM(O32:O34)/IF($N34=0,2,3) -> 0 | P31: =SUM(P32:P34)/IF($N34=0,2,3) -> 0 | Q31: =SUM(Q32:Q34)/IF($N34=0,2,3) -> 0 | R31: =SUM(R32:R34)/IF($N34=0,2,3) -> 0 | S31: =SUM(S32:S34)/IF($N34=0,2,3) -> 0 | T31: =SUM(T32:T34)/IF($N34=0,2,3) -> 0 | V31: =SUM(V32:V34)/IF(N34=0,2,3) -> 0 | W31: =N31-V31 -> 0 | X31: =IF(W31>=150,"Si","No") -> No | Y31: =IF(W31=0,0,IF(ISERROR(RANK(W31,W1:W86)),"",RANK(Z31,Z1:Z86))) -> 0 | Z31: =IFERROR(W31+F31/100000+J31/10000000+G31/1000000000,0) -> 0
E32: J1 | N32: =SUM(F32:M32) -> 0 | V32: =SUM(O32:T32) -> 0
E33: J2 | N33: =SUM(F33:M33) -> 0 | V33: =SUM(O33:T33) -> 0
E34: J3 | N34: =SUM(F34:M34) -> 0 | V34: =SUM(O34:T34) -> 0
A35: 8 | B35: =INDEX('List of Competitors'!O$5:O$24,MATCH($A35,'List of Competitors'!$M$5:$M$24,0)) | C35: =INDEX('List of Competitors'!P$5:P$24,MATCH($A35,'List of Competitors'!$M$5:$M$24,0)) | D35: =INDEX('List of Competitors'!Q$5:Q$24,MATCH($A35,'List of Competitors'!$M$5:$M$24,0)) | E35: Average | F35: =AVERAGE(F36:F38) | G35: =AVERAGE(G36:G38) | H35: =AVERAGE(H36:H38) | I35: =AVERAGE(I36:I38) | J35: =AVERAGE(J36:J38) | K35: =AVERAGE(K36:K38) | L35: =AVERAGE(L36:L38) | M35: =AVERAGE(M36:M38) | N35: =SUM(N36:N38)/IF(N38=0,2,3) -> 0 | O35: =SUM(O36:O38)/IF($N38=0,2,3) -> 0 | P35: =SUM(P36:P38)/IF($N38=0,2,3) -> 0 | Q35: =SUM(Q36:Q38)/IF($N38=0,2,3) -> 0 | R35: =SUM(R36:R38)/IF($N38=0,2,3) -> 0 | S35: =SUM(S36:S38)/IF($N38=0,2,3) -> 0 | T35: =SUM(T36:T38)/IF($N38=0,2,3) -> 0 | V35: =SUM(V36:V38)/IF(N38=0,2,3) -> 0 | W35: =N35-V35 -> 0 | X35: =IF(W35>=150,"Si","No") -> No | Y35: =IF(W35=0,0,IF(ISERROR(RANK(W35,W1:W86)),"",RANK(Z35,Z1:Z86))) -> 0 | Z35: =IFERROR(W35+F35/100000+J35/10000000+G35/1000000000,0) -> 0
E36: J1 | N36: =SUM(F36:M36) -> 0 | V36: =SUM(O36:T36) -> 0
E37: J2 | N37: =SUM(F37:M37) -> 0 | V37: =SUM(O37:T37) -> 0
E38: J3 | N38: =SUM(F38:M38) -> 0 | V38: =SUM(O38:T38) -> 0
A39: 9 | B39: =INDEX('List of Competitors'!O$5:O$24,MATCH($A39,'List of Competitors'!$M$5:$M$24,0)) | C39: =INDEX('List of Competitors'!P$5:P$24,MATCH($A39,'List of Competitors'!$M$5:$M$24,0)) | D39: =INDEX('List of Competitors'!Q$5:Q$24,MATCH($A39,'List of Competitors'!$M$5:$M$24,0)) | E39: Average | F39: =AVERAGE(F40:F42) | G39: =AVERAGE(G40:G42) | H39: =AVERAGE(H40:H42) | I39: =AVERAGE(I40:I42) | J39: =AVERAGE(J40:J42) | K39: =AVERAGE(K40:K42) | L39: =AVERAGE(L40:L42) | M39: =AVERAGE(M40:M42) | N39: =SUM(N40:N42)/IF(N42=0,2,3) -> 0 | O39: =SUM(O40:O42)/IF($N42=0,2,3) -> 0 | P39: =SUM(P40:P42)/IF($N42=0,2,3) -> 0 | Q39: =SUM(Q40:Q42)/IF($N42=0,2,3) -> 0 | R39: =SUM(R40:R42)/IF($N42=0,2,3) -> 0 | S39: =SUM(S40:S42)/IF($N42=0,2,3) -> 0 | T39: =SUM(T40:T42)/IF($N42=0,2,3) -> 0 | V39: =SUM(V40:V42)/IF(N42=0,2,3) -> 0 | W39: =N39-V39 -> 0 | X39: =IF(W39>=150,"Si","No") -> No | Y39: =IF(W39=0,0,IF(ISERROR(RANK(W39,W1:W86)),"",RANK(Z39,Z1:Z86))) -> 0 | Z39: =IFERROR(W39+F39/100000+J39/10000000+G39/1000000000,0) -> 0
E40: J1 | N40: =SUM(F40:M40) -> 0 | V40: =SUM(O40:T40) -> 0
E41: J2 | N41: =SUM(F41:M41) -> 0 | V41: =SUM(O41:T41) -> 0
E42: J3 | N42: =SUM(F42:M42) -> 0 | V42: =SUM(O42:T42) -> 0
A43: 10 | B43: =INDEX('List of Competitors'!O$5:O$24,MATCH($A43,'List of Competitors'!$M$5:$M$24,0)) | C43: =INDEX('List of Competitors'!P$5:P$24,MATCH($A43,'List of Competitors'!$M$5:$M$24,0)) | D43: =INDEX('List of Competitors'!Q$5:Q$24,MATCH($A43,'List of Competitors'!$M$5:$M$24,0)) | E43: Average | F43: =AVERAGE(F44:F46) | G43: =AVERAGE(G44:G46) | H43: =AVERAGE(H44:H46) | I43: =AVERAGE(I44:I46) | J43: =AVERAGE(J44:J46) | K43: =AVERAGE(K44:K46) | L43: =AVERAGE(L44:L46) | M43: =AVERAGE(M44:M46) | N43: =SUM(N44:N46)/IF(N46=0,2,3) -> 0 | O43: =SUM(O44:O46)/IF($N46=0,2,3) -> 0 | P43: =SUM(P44:P46)/IF($N46=0,2,3) -> 0 | Q43: =SUM(Q44:Q46)/IF($N46=0,2,3) -> 0 | R43: =SUM(R44:R46)/IF($N46=0,2,3) -> 0 | S43: =SUM(S44:S46)/IF($N46=0,2,3) -> 0 | T43: =SUM(T44:T46)/IF($N46=0,2,3) -> 0 | V43: =SUM(V44:V46)/IF(N46=0,2,3) -> 0 | W43: =N43-V43 -> 0 | X43: =IF(W43>=150,"Si","No") -> No | Y43: =IF(W43=0,0,IF(ISERROR(RANK(W43,W1:W86)),"",RANK(Z43,Z1:Z86))) -> 0 | Z43: =IFERROR(W43+F43/100000+J43/10000000+G43/1000000000,0) -> 0
E44: J1 | N44: =SUM(F44:M44) -> 0 | V44: =SUM(O44:T44) -> 0
E45: J2 | N45: =SUM(F45:M45) -> 0 | V45: =SUM(O45:T45) -> 0
E46: J3 | N46: =SUM(F46:M46) -> 0 | V46: =SUM(O46:T46) -> 0
A47: 11 | B47: =INDEX('List of Competitors'!O$5:O$24,MATCH($A47,'List of Competitors'!$M$5:$M$24,0)) | C47: =INDEX('List of Competitors'!P$5:P$24,MATCH($A47,'List of Competitors'!$M$5:$M$24,0)) | D47: =INDEX('List of Competitors'!Q$5:Q$24,MATCH($A47,'List of Competitors'!$M$5:$M$24,0)) | E47: Average | F47: =AVERAGE(F48:F50) | G47: =AVERAGE(G48:G50) | H47: =AVERAGE(H48:H50) | I47: =AVERAGE(I48:I50) | J47: =AVERAGE(J48:J50) | K47: =AVERAGE(K48:K50) | L47: =AVERAGE(L48:L50) | M47: =AVERAGE(M48:M50) | N47: =SUM(N48:N50)/IF(N50=0,2,3) -> 0 | O47: =SUM(O48:O50)/IF($N50=0,2,3) -> 0 | P47: =SUM(P48:P50)/IF($N50=0,2,3) -> 0 | Q47: =SUM(Q48:Q50)/IF($N50=0,2,3) -> 0 | R47: =SUM(R48:R50)/IF($N50=0,2,3) -> 0 | S47: =SUM(S48:S50)/IF($N50=0,2,3) -> 0 | T47: =SUM(T48:T50)/IF($N50=0,2,3) -> 0 | V47: =SUM(V48:V50)/IF(N50=0,2,3) -> 0 | W47: =N47-V47 -> 0 | X47: =IF(W47>=150,"Si","No") -> No | Y47: =IF(W47=0,0,IF(ISERROR(RANK(W47,W1:W86)),"",RANK(Z47,Z1:Z86))) -> 0 | Z47: =IFERROR(W47+F47/100000+J47/10000000+G47/1000000000,0) -> 0
E48: J1 | N48: =SUM(F48:M48) -> 0 | V48: =SUM(O48:T48) -> 0
E49: J2 | N49: =SUM(F49:M49) -> 0 | V49: =SUM(O49:T49) -> 0
E50: J3 | N50: =SUM(F50:M50) -> 0 | V50: =SUM(O50:T50) -> 0
A51: 12 | B51: =INDEX('List of Competitors'!O$5:O$24,MATCH($A51,'List of Competitors'!$M$5:$M$24,0)) | C51: =INDEX('List of Competitors'!P$5:P$24,MATCH($A51,'List of Competitors'!$M$5:$M$24,0)) | D51: =INDEX('List of Competitors'!Q$5:Q$24,MATCH($A51,'List of Competitors'!$M$5:$M$24,0)) | E51: Average | F51: =AVERAGE(F52:F54) | G51: =AVERAGE(G52:G54) | H51: =AVERAGE(H52:H54) | I51: =AVERAGE(I52:I54) | J51: =AVERAGE(J52:J54) | K51: =AVERAGE(K52:K54) | L51: =AVERAGE(L52:L54) | M51: =AVERAGE(M52:M54) | N51: =SUM(N52:N54)/IF(N54=0,2,3) -> 0 | O51: =SUM(O52:O54)/IF($N54=0,2,3) -> 0 | P51: =SUM(P52:P54)/IF($N54=0,2,3) -> 0 | Q51: =SUM(Q52:Q54)/IF($N54=0,2,3) -> 0 | R51: =SUM(R52:R54)/IF($N54=0,2,3) -> 0 | S51: =SUM(S52:S54)/IF($N54=0,2,3) -> 0 | T51: =SUM(T52:T54)/IF($N54=0,2,3) -> 0 | V51: =SUM(V52:V54)/IF(N54=0,2,3) -> 0 | W51: =N51-V51 -> 0 | X51: =IF(W51>=150,"Si","No") -> No | Y51: =IF(W51=0,0,IF(ISERROR(RANK(W51,W1:W86)),"",RANK(Z51,Z1:Z86))) -> 0 | Z51: =IFERROR(W51+F51/100000+J51/10000000+G51/1000000000,0) -> 0
E52: J1 | N52: =SUM(F52:M52) -> 0 | V52: =SUM(O52:T52) -> 0
E53: J2 | N53: =SUM(F53:M53) -> 0 | V53: =SUM(O53:T53) -> 0
E54: J3 | N54: =SUM(F54:M54) -> 0 | V54: =SUM(O54:T54) -> 0
A55: 13 | B55: =INDEX('List of Competitors'!O$5:O$24,MATCH($A55,'List of Competitors'!$M$5:$M$24,0)) | C55: =INDEX('List of Competitors'!P$5:P$24,MATCH($A55,'List of Competitors'!$M$5:$M$24,0)) | D55: =INDEX('List of Competitors'!Q$5:Q$24,MATCH($A55,'List of Competitors'!$M$5:$M$24,0)) | E55: Average | F55: =AVERAGE(F56:F58) | G55: =AVERAGE(G56:G58) | H55: =AVERAGE(H56:H58) | I55: =AVERAGE(I56:I58) | J55: =AVERAGE(J56:J58) | K55: =AVERAGE(K56:K58) | L55: =AVERAGE(L56:L58) | M55: =AVERAGE(M56:M58) | N55: =SUM(N56:N58)/IF(N58=0,2,3) -> 0 | O55: =SUM(O56:O58)/IF($N58=0,2,3) -> 0 | P55: =SUM(P56:P58)/IF($N58=0,2,3) -> 0 | Q55: =SUM(Q56:Q58)/IF($N58=0,2,3) -> 0 | R55: =SUM(R56:R58)/IF($N58=0,2,3) -> 0 | S55: =SUM(S56:S58)/IF($N58=0,2,3) -> 0 | T55: =SUM(T56:T58)/IF($N58=0,2,3) -> 0 | V55: =SUM(V56:V58)/IF(N58=0,2,3) -> 0 | W55: =N55-V55 -> 0 | X55: =IF(W55>=150,"Si","No") -> No | Y55: =IF(W55=0,0,IF(ISERROR(RANK(W55,W1:W86)),"",RANK(Z55,Z1:Z86))) -> 0 | Z55: =IFERROR(W55+F55/100000+J55/10000000+G55/1000000000,0) -> 0
E56: J1 | N56: =SUM(F56:M56) -> 0 | V56: =SUM(O56:T56) -> 0
E57: J2 | N57: =SUM(F57:M57) -> 0 | V57: =SUM(O57:T57) -> 0
E58: J3 | N58: =SUM(F58:M58) -> 0 | V58: =SUM(O58:T58) -> 0
A59: 14 | B59: =INDEX('List of Competitors'!O$5:O$24,MATCH($A59,'List of Competitors'!$M$5:$M$24,0)) | C59: =INDEX('List of Competitors'!P$5:P$24,MATCH($A59,'List of Competitors'!$M$5:$M$24,0)) | D59: =INDEX('List of Competitors'!Q$5:Q$24,MATCH($A59,'List of Competitors'!$M$5:$M$24,0)) | E59: Average | F59: =AVERAGE(F60:F62) | G59: =AVERAGE(G60:G62) | H59: =AVERAGE(H60:H62) | I59: =AVERAGE(I60:I62) | J59: =AVERAGE(J60:J62) | K59: =AVERAGE(K60:K62) | L59: =AVERAGE(L60:L62) | M59: =AVERAGE(M60:M62) | N59: =SUM(N60:N62)/IF(N62=0,2,3) -> 0 | O59: =SUM(O60:O62)/IF($N62=0,2,3) -> 0 | P59: =SUM(P60:P62)/IF($N62=0,2,3) -> 0 | Q59: =SUM(Q60:Q62)/IF($N62=0,2,3) -> 0 | R59: =SUM(R60:R62)/IF($N62=0,2,3) -> 0 | S59: =SUM(S60:S62)/IF($N62=0,2,3) -> 0 | T59: =SUM(T60:T62)/IF($N62=0,2,3) -> 0 | V59: =SUM(V60:V62)/IF(N62=0,2,3) -> 0 | W59: =N59-V59 -> 0 | X59: =IF(W59>=150,"Si","No") -> No | Y59: =IF(W59=0,0,IF(ISERROR(RANK(W59,W1:W86)),"",RANK(Z59,Z1:Z86))) -> 0 | Z59: =IFERROR(W59+F59/100000+J59/10000000+G59/1000000000,0) -> 0
E60: J1 | N60: =SUM(F60:M60) -> 0 | V60: =SUM(O60:T60) -> 0
E61: J2 | N61: =SUM(F61:M61) -> 0 | V61: =SUM(O61:T61) -> 0
E62: J3 | N62: =SUM(F62:M62) -> 0 | V62: =SUM(O62:T62) -> 0
A63: 15 | B63: =INDEX('List of Competitors'!O$5:O$24,MATCH($A63,'List of Competitors'!$M$5:$M$24,0)) | C63: =INDEX('List of Competitors'!P$5:P$24,MATCH($A63,'List of Competitors'!$M$5:$M$24,0)) | D63: =INDEX('List of Competitors'!Q$5:Q$24,MATCH($A63,'List of Competitors'!$M$5:$M$24,0)) | E63: Average | F63: =AVERAGE(F64:F66) | G63: =AVERAGE(G64:G66) | H63: =AVERAGE(H64:H66) | I63: =AVERAGE(I64:I66) | J63: =AVERAGE(J64:J66) | K63: =AVERAGE(K64:K66) | L63: =AVERAGE(L64:L66) | M63: =AVERAGE(M64:M66) | N63: =SUM(N64:N66)/IF(N66=0,2,3) -> 0 | O63: =SUM(O64:O66)/IF($N66=0,2,3) -> 0 | P63: =SUM(P64:P66)/IF($N66=0,2,3) -> 0 | Q63: =SUM(Q64:Q66)/IF($N66=0,2,3) -> 0 | R63: =SUM(R64:R66)/IF($N66=0,2,3) -> 0 | S63: =SUM(S64:S66)/IF($N66=0,2,3) -> 0 | T63: =SUM(T64:T66)/IF($N66=0,2,3) -> 0 | V63: =SUM(V64:V66)/IF(N66=0,2,3) -> 0 | W63: =N63-V63 -> 0 | X63: =IF(W63>=150,"Si","No") -> No | Y63: =IF(W63=0,0,IF(ISERROR(RANK(W63,W1:W86)),"",RANK(Z63,Z1:Z86))) -> 0 | Z63: =IFERROR(W63+F63/100000+J63/10000000+G63/1000000000,0) -> 0
E64: J1 | N64: =SUM(F64:M64) -> 0 | V64: =SUM(O64:T64) -> 0
E65: J2 | N65: =SUM(F65:M65) -> 0 | V65: =SUM(O65:T65) -> 0
E66: J3 | N66: =SUM(F66:M66) -> 0 | V66: =SUM(O66:T66) -> 0
A67: 16 | B67: =INDEX('List of Competitors'!O$5:O$24,MATCH($A67,'List of Competitors'!$M$5:$M$24,0)) | C67: =INDEX('List of Competitors'!P$5:P$24,MATCH($A67,'List of Competitors'!$M$5:$M$24,0)) | D67: =INDEX('List of Competitors'!Q$5:Q$24,MATCH($A67,'List of Competitors'!$M$5:$M$24,0)) | E67: Average | F67: =AVERAGE(F68:F70) | G67: =AVERAGE(G68:G70) | H67: =AVERAGE(H68:H70) | I67: =AVERAGE(I68:I70) | J67: =AVERAGE(J68:J70) | K67: =AVERAGE(K68:K70) | L67: =AVERAGE(L68:L70) | M67: =AVERAGE(M68:M70) | N67: =SUM(N68:N70)/IF(N70=0,2,3) -> 0 | O67: =SUM(O68:O70)/IF($N70=0,2,3) -> 0 | P67: =SUM(P68:P70)/IF($N70=0,2,3) -> 0 | Q67: =SUM(Q68:Q70)/IF($N70=0,2,3) -> 0 | R67: =SUM(R68:R70)/IF($N70=0,2,3) -> 0 | S67: =SUM(S68:S70)/IF($N70=0,2,3) -> 0 | T67: =SUM(T68:T70)/IF($N70=0,2,3) -> 0 | V67: =SUM(V68:V70)/IF(N70=0,2,3) -> 0 | W67: =N67-V67 -> 0 | X67: =IF(W67>=150,"Si","No") -> No | Y67: =IF(W67=0,0,IF(ISERROR(RANK(W67,W1:W86)),"",RANK(Z67,Z1:Z86))) -> 0 | Z67: =IFERROR(W67+F67/100000+J67/10000000+G67/1000000000,0) -> 0
E68: J1 | N68: =SUM(F68:M68) -> 0 | V68: =SUM(O68:T68) -> 0
E69: J2 | N69: =SUM(F69:M69) -> 0 | V69: =SUM(O69:T69) -> 0
E70: J3 | N70: =SUM(F70:M70) -> 0 | V70: =SUM(O70:T70) -> 0
A71: 17 | B71: =INDEX('List of Competitors'!O$5:O$24,MATCH($A71,'List of Competitors'!$M$5:$M$24,0)) | C71: =INDEX('List of Competitors'!P$5:P$24,MATCH($A71,'List of Competitors'!$M$5:$M$24,0)) | D71: =INDEX('List of Competitors'!Q$5:Q$24,MATCH($A71,'List of Competitors'!$M$5:$M$24,0)) | E71: Average | F71: =AVERAGE(F72:F74) | G71: =AVERAGE(G72:G74) | H71: =AVERAGE(H72:H74) | I71: =AVERAGE(I72:I74) | J71: =AVERAGE(J72:J74) | K71: =AVERAGE(K72:K74) | L71: =AVERAGE(L72:L74) | M71: =AVERAGE(M72:M74) | N71: =SUM(N72:N74)/IF(N74=0,2,3) -> 0 | O71: =SUM(O72:O74)/IF($N74=0,2,3) -> 0 | P71: =SUM(P72:P74)/IF($N74=0,2,3) -> 0 | Q71: =SUM(Q72:Q74)/IF($N74=0,2,3) -> 0 | R71: =SUM(R72:R74)/IF($N74=0,2,3) -> 0 | S71: =SUM(S72:S74)/IF($N74=0,2,3) -> 0 | T71: =SUM(T72:T74)/IF($N74=0,2,3) -> 0 | V71: =SUM(V72:V74)/IF(N74=0,2,3) -> 0 | W71: =N71-V71 -> 0 | X71: =IF(W71>=150,"Si","No") -> No | Y71: =IF(W71=0,0,IF(ISERROR(RANK(W71,W1:W86)),"",RANK(Z71,Z1:Z86))) -> 0 | Z71: =IFERROR(W71+F71/100000+J71/10000000+G71/1000000000,0) -> 0
E72: J1 | N72: =SUM(F72:M72) -> 0 | V72: =SUM(O72:T72) -> 0
E73: J2 | N73: =SUM(F73:M73) -> 0 | V73: =SUM(O73:T73) -> 0
E74: J3 | N74: =SUM(F74:M74) -> 0 | V74: =SUM(O74:T74) -> 0
A75: 18 | B75: =INDEX('List of Competitors'!O$5:O$24,MATCH($A75,'List of Competitors'!$M$5:$M$24,0)) | C75: =INDEX('List of Competitors'!P$5:P$24,MATCH($A75,'List of Competitors'!$M$5:$M$24,0)) | D75: =INDEX('List of Competitors'!Q$5:Q$24,MATCH($A75,'List of Competitors'!$M$5:$M$24,0)) | E75: Average | F75: =AVERAGE(F76:F78) | G75: =AVERAGE(G76:G78) | H75: =AVERAGE(H76:H78) | I75: =AVERAGE(I76:I78) | J75: =AVERAGE(J76:J78) | K75: =AVERAGE(K76:K78) | L75: =AVERAGE(L76:L78) | M75: =AVERAGE(M76:M78) | N75: =SUM(N76:N78)/IF(N78=0,2,3) -> 0 | O75: =SUM(O76:O78)/IF($N78=0,2,3) -> 0 | P75: =SUM(P76:P78)/IF($N78=0,2,3) -> 0 | Q75: =SUM(Q76:Q78)/IF($N78=0,2,3) -> 0 | R75: =SUM(R76:R78)/IF($N78=0,2,3) -> 0 | S75: =SUM(S76:S78)/IF($N78=0,2,3) -> 0 | T75: =SUM(T76:T78)/IF($N78=0,2,3) -> 0 | V75: =SUM(V76:V78)/IF(N78=0,2,3) -> 0 | W75: =N75-V75 -> 0 | X75: =IF(W75>=150,"Si","No") -> No | Y75: =IF(W75=0,0,IF(ISERROR(RANK(W75,W1:W86)),"",RANK(Z75,Z1:Z86))) -> 0 | Z75: =IFERROR(W75+F75/100000+J75/10000000+G75/1000000000,0) -> 0
E76: J1 | N76: =SUM(F76:M76) -> 0 | V76: =SUM(O76:T76) -> 0
E77: J2 | N77: =SUM(F77:M77) -> 0 | V77: =SUM(O77:T77) -> 0
E78: J3 | N78: =SUM(F78:M78) -> 0 | V78: =SUM(O78:T78) -> 0
A79: 19 | B79: =INDEX('List of Competitors'!O$5:O$24,MATCH($A79,'List of Competitors'!$M$5:$M$24,0)) | C79: =INDEX('List of Competitors'!P$5:P$24,MATCH($A79,'List of Competitors'!$M$5:$M$24,0)) | D79: =INDEX('List of Competitors'!Q$5:Q$24,MATCH($A79,'List of Competitors'!$M$5:$M$24,0)) | E79: Average | F79: =AVERAGE(F80:F82) | G79: =AVERAGE(G80:G82) | H79: =AVERAGE(H80:H82) | I79: =AVERAGE(I80:I82) | J79: =AVERAGE(J80:J82) | K79: =AVERAGE(K80:K82) | L79: =AVERAGE(L80:L82) | M79: =AVERAGE(M80:M82) | N79: =SUM(N80:N82)/IF(N82=0,2,3) -> 0 | O79: =SUM(O80:O82)/IF($N82=0,2,3) -> 0 | P79: =SUM(P80:P82)/IF($N82=0,2,3) -> 0 | Q79: =SUM(Q80:Q82)/IF($N82=0,2,3) -> 0 | R79: =SUM(R80:R82)/IF($N82=0,2,3) -> 0 | S79: =SUM(S80:S82)/IF($N82=0,2,3) -> 0 | T79: =SUM(T80:T82)/IF($N82=0,2,3) -> 0 | V79: =SUM(V80:V82)/IF(N82=0,2,3) -> 0 | W79: =N79-V79 -> 0 | X79: =IF(W79>=150,"Si","No") -> No | Y79: =IF(W79=0,0,IF(ISERROR(RANK(W79,W1:W86)),"",RANK(Z79,Z1:Z86))) -> 0 | Z79: =IFERROR(W79+F79/100000+J79/10000000+G79/1000000000,0) -> 0
E80: J1 | N80: =SUM(F80:M80) -> 0 | V80: =SUM(O80:T80) -> 0
E81: J2 | N81: =SUM(F81:M81) -> 0 | V81: =SUM(O81:T81) -> 0
E82: J3 | N82: =SUM(F82:M82) -> 0 | V82: =SUM(O82:T82) -> 0
A83: 20 | B83: =INDEX('List of Competitors'!O$5:O$24,MATCH($A83,'List of Competitors'!$M$5:$M$24,0)) | C83: =INDEX('List of Competitors'!P$5:P$24,MATCH($A83,'List of Competitors'!$M$5:$M$24,0)) | D83: =INDEX('List of Competitors'!Q$5:Q$24,MATCH($A83,'List of Competitors'!$M$5:$M$24,0)) | E83: Average | F83: =AVERAGE(F84:F86) | G83: =AVERAGE(G84:G86) | H83: =AVERAGE(H84:H86) | I83: =AVERAGE(I84:I86) | J83: =AVERAGE(J84:J86) | K83: =AVERAGE(K84:K86) | L83: =AVERAGE(L84:L86) | M83: =AVERAGE(M84:M86) | N83: =SUM(N84:N86)/IF(N86=0,2,3) -> 0 | O83: =SUM(O84:O86)/IF($N86=0,2,3) -> 0 | P83: =SUM(P84:P86)/IF($N86=0,2,3) -> 0 | Q83: =SUM(Q84:Q86)/IF($N86=0,2,3) -> 0 | R83: =SUM(R84:R86)/IF($N86=0,2,3) -> 0 | S83: =SUM(S84:S86)/IF($N86=0,2,3) -> 0 | T83: =SUM(T84:T86)/IF($N86=0,2,3) -> 0 | V83: =SUM(V84:V86)/IF(N86=0,2,3) -> 0 | W83: =N83-V83 -> 0 | X83: =IF(W83>=150,"Si","No") -> No | Y83: =IF(W83=0,0,IF(ISERROR(RANK(W83,W1:W86)),"",RANK(Z83,Z1:Z86))) -> 0 | Z83: =IFERROR(W83+F83/100000+J83/10000000+G83/1000000000,0) -> 0
E84: J1 | N84: =SUM(F84:M84) -> 0 | V84: =SUM(O84:T84) -> 0
E85: J2 | N85: =SUM(F85:M85) -> 0 | V85: =SUM(O85:T85) -> 0
E86: J3 | N86: =SUM(F86:M86) -> 0 | V86: =SUM(O86:T86) -> 0

Sheet HTM 3
B1: HTM 3 | E1: ='List of Competitors'!B2
E2: ='List of Competitors'!C2
A4: # | B4: Nome | C4: Cognome | D4: Cane | E4: Judge | F4: Team work | G4: Dinamicità | H4: Progetto | I4: Coreografia | J4: Fluidità | K4: Esecuzione | L4: Contenuto | M4: Difficoltà | N4: Punit | O4: Detrazioni di punti | W4: Totale | X4: Posizionamento | Y4: Korr Punkte Teamwork, Fluss
O5: Abbaio e vocalizzazioni | P5: Salute del cane | Q5: costume / Oggetti di scena | R5: Lunghezze musicali errate | S5: Trattamento improprio del cane | T5: Contatto attivo | U5: % HTM | V5: Totale
F6: max. 25 | G6: max. 25 | H6: max. 25 | I6: max. 25 | J6: max. 25 | K6: max. 25 | L6: max. 25 | M6: max. 25 | O6: max. 20 | P6: max. 20 | Q6: max. 20 | R6: 1 Punkt / sec | S6: max. 20 | T6: max. 20 | U6: [X]
A7: 1 | B7: =INDEX('List of Competitors'!U$5:U$24,MATCH($A7,'List of Competitors'!$S$5:$S$24,0)) -> Melissa | C7: =INDEX('List of Competitors'!V$5:V$24,MATCH($A7,'List of Competitors'!$S$5:$S$24,0)) -> Munoz | D7: =INDEX('List of Competitors'!W$5:W$24,MATCH($A7,'List of Competitors'!$S$5:$S$24,0)) -> Krystal | E7: Average | F7: =AVERAGE(F8:F11) -> 21.5 | G7: =AVERAGE(G8:G11) -> 21.5 | H7: =AVERAGE(H8:H11) -> 21.5 | I7: =AVERAGE(I8:I11) -> 20.5 | J7: =AVERAGE(J8:J11) -> 21 | K7: =AVERAGE(K8:K11) -> 20.5 | L7: =AVERAGE(L8:L11) -> 21 | M7: =AVERAGE(M8:M11) -> 21.5 | N7: =SUM(N8:N11)/IF(N11=0,3,4) -> 112.66667 | O7: =SUM(O8:O11)/IF($N11=0,3,4) -> 0 | P7: =SUM(P8:P11)/IF($N11=0,3,4) -> 0 | Q7: =SUM(Q8:Q11)/IF($N11=0,3,4) -> 0 | R7: =SUM(R8:R11)/IF($N11=0,3,4) -> 0 | S7: =SUM(S8:S11)/IF($N11=0,3,4) -> 0 | T7: =SUM(T8:T11)/IF($N11=0,3,4) -> 0 | V7: =SUM(V8:V11)/IF(N11=0,3,4) -> 0 | W7: =N7-V7 -> 112.66667 | X7: =IF(W7=0,0,IF(ISERROR(RANK(W7,W1:W106)),"",RANK(Y7,Y1:Y106))) -> 1 | Y7: =IFERROR(W7+F7/100000+J7/10000000+G7/1000000000,0) -> 112.66688
E8: J1 | F8: 22 | G8: 23 | H8: 22 | I8: 20 | J8: 21 | K8: 21 | L8: 22 | M8: 23 | N8: =SUM(F8:M8) -> 174 | V8: =SUM(O8:T8) -> 0
E9: J2 | F9: 21 | G9: 20 | H9: 21 | I9: 21 | J9: 21 | K9: 20 | L9: 20 | M9: 20 | N9: =SUM(F9:M9) -> 164 | V9: =SUM(O9:T9) -> 0
E10: J3 | N10: =SUM(F10:M10) -> 0 | V10: =SUM(O10:T10) -> 0
E11: J4 | N11: =SUM(F11:M11) -> 0 | V11: =SUM(O11:T11) -> 0
A12: 2 | B12: =INDEX('List of Competitors'!U$5:U$24,MATCH($A12,'List of Competitors'!$S$5:$S$24,0)) | C12: =INDEX('List of Competitors'!V$5:V$24,MATCH($A12,'List of Competitors'!$S$5:$S$24,0)) | D12: =INDEX('List of Competitors'!W$5:W$24,MATCH($A12,'List of Competitors'!$S$5:$S$24,0)) | E12: Average | F12: =AVERAGE(F13:F16) | G12: =AVERAGE(G13:G16) | H12: =AVERAGE(H13:H16) | I12: =AVERAGE(I13:I16) | J12: =AVERAGE(J13:J16) | K12: =AVERAGE(K13:K16) | L12: =AVERAGE(L13:L16) | M12: =AVERAGE(M13:M16) | N12: =SUM(N13:N16)/IF(N16=0,3,4) -> 0 | O12: =SUM(O13:O16)/IF($N16=0,3,4) -> 0 | P12: =SUM(P13:P16)/IF($N16=0,3,4) -> 0 | Q12: =SUM(Q13:Q16)/IF($N16=0,3,4) -> 0 | R12: =SUM(R13:R16)/IF($N16=0,3,4) -> 0 | S12: =SUM(S13:S16)/IF($N16=0,3,4) -> 0 | T12: =SUM(T13:T16)/IF($N16=0,3,4) -> 0 | V12: =SUM(V13:V16)/IF(N16=0,3,4) -> 0 | W12: =N12-V12 -> 0 | X12: =IF(W12=0,0,IF(ISERROR(RANK(W12,W1:W106)),"",RANK(Y12,Y1:Y106))) -> 0 | Y12: =IFERROR(W12+F12/100000+J12/10000000+G12/1000000000,0) -> 0
E13: J1 | N13: =SUM(F13:M13) -> 0 | V13: =SUM(O13:T13) -> 0
E14: J2 | N14: =SUM(F14:M14) -> 0 | V14: =SUM(O14:T14) -> 0
E15: J3 | N15: =SUM(F15:M15) -> 0 | V15: =SUM(O15:T15) -> 0
E16: J4 | N16: =SUM(F16:M16) -> 0 | V16: =SUM(O16:T16) -> 0
A17: 3 | B17: =INDEX('List of Competitors'!U$5:U$24,MATCH($A17,'List of Competitors'!$S$5:$S$24,0)) | C17: =INDEX('List of Competitors'!V$5:V$24,MATCH($A17,'List of Competitors'!$S$5:$S$24,0)) | D17: =INDEX('List of Competitors'!W$5:W$24,MATCH($A17,'List of Competitors'!$S$5:$S$24,0)) | E17: Average | F17: =AVERAGE(F18:F21) | G17: =AVERAGE(G18:G21) | H17: =AVERAGE(H18:H21) | I17: =AVERAGE(I18:I21) | J17: =AVERAGE(J18:J21) | K17: =AVERAGE(K18:K21) | L17: =AVERAGE(L18:L21) | M17: =AVERAGE(M18:M21) | N17: =SUM(N18:N21)/IF(N21=0,3,4) -> 0 | O17: =SUM(O18:O21)/IF($N21=0,3,4) -> 0 | P17: =SUM(P18:P21)/IF($N21=0,3,4) -> 0 | Q17: =SUM(Q18:Q21)/IF($N21=0,3,4) -> 0 | R17: =SUM(R18:R21)/IF($N21=0,3,4) -> 0 | S17: =SUM(S18:S21)/IF($N21=0,3,4) -> 0 | T17: =SUM(T18:T21)/IF($N21=0,3,4) -> 0 | V17: =SUM(V18:V21)/IF(N21=0,3,4) -> 0 | W17: =N17-V17 -> 0 | X17: =IF(W17=0,0,IF(ISERROR(RANK(W17,W1:W106)),"",RANK(Y17,Y1:Y106))) -> 0 | Y17: =IFERROR(W17+F17/100000+J17/10000000+G17/1000000000,0) -> 0
E18: J1 | N18: =SUM(F18:M18) -> 0 | V18: =SUM(O18:T18) -> 0
E19: J2 | N19: =SUM(F19:M19) -> 0 | V19: =SUM(O19:T19) -> 0
E20: J3 | N20: =SUM(F20:M20) -> 0 | V20: =SUM(O20:T20) -> 0
E21: J4 | N21: =SUM(F21:M21) -> 0 | V21: =SUM(O21:T21) -> 0
A22: 4 | B22: =INDEX('List of Competitors'!U$5:U$24,MATCH($A22,'List of Competitors'!$S$5:$S$24,0)) | C22: =INDEX('List of Competitors'!V$5:V$24,MATCH($A22,'List of Competitors'!$S$5:$S$24,0)) | D22: =INDEX('List of Competitors'!W$5:W$24,MATCH($A22,'List of Competitors'!$S$5:$S$24,0)) | E22: Average | F22: =AVERAGE(F23:F26) | G22: =AVERAGE(G23:G26) | H22: =AVERAGE(H23:H26) | I22: =AVERAGE(I23:I26) | J22: =AVERAGE(J23:J26) | K22: =AVERAGE(K23:K26) | L22: =AVERAGE(L23:L26) | M22: =AVERAGE(M23:M26) | N22: =SUM(N23:N26)/IF(N26=0,3,4) -> 0 | O22: =SUM(O23:O26)/IF($N26=0,3,4) -> 0 | P22: =SUM(P23:P26)/IF($N26=0,3,4) -> 0 | Q22: =SUM(Q23:Q26)/IF($N26=0,3,4) -> 0 | R22: =SUM(R23:R26)/IF($N26=0,3,4) -> 0 | S22: =SUM(S23:S26)/IF($N26=0,3,4) -> 0 | T22: =SUM(T23:T26)/IF($N26=0,3,4) -> 0 | V22: =SUM(V23:V26)/IF(N26=0,3,4) -> 0 | W22: =N22-V22 -> 0 | X22: =IF(W22=0,0,IF(ISERROR(RANK(W22,W1:W106)),"",RANK(Y22,Y1:Y106))) -> 0 | Y22: =IFERROR(W22+F22/100000+J22/10000000+G22/1000000000,0) -> 0
E23: J1 | N23: =SUM(F23:M23) -> 0 | V23: =SUM(O23:T23) -> 0
E24: J2 | N24: =SUM(F24:M24) -> 0 | V24: =SUM(O24:T24) -> 0
E25: J3 | N25: =SUM(F25:M25) -> 0 | V25: =SUM(O25:T25) -> 0
E26: J4 | N26: =SUM(F26:M26) -> 0 | V26: =SUM(O26:T26) -> 0
A27: 5 | B27: =INDEX('List of Competitors'!U$5:U$24,MATCH($A27,'List of Competitors'!$S$5:$S$24,0)) | C27: =INDEX('List of Competitors'!V$5:V$24,MATCH($A27,'List of Competitors'!$S$5:$S$24,0)) | D27: =INDEX('List of Competitors'!W$5:W$24,MATCH($A27,'List of Competitors'!$S$5:$S$24,0)) | E27: Average | F27: =AVERAGE(F28:F31) | G27: =AVERAGE(G28:G31) | H27: =AVERAGE(H28:H31) | I27: =AVERAGE(I28:I31) | J27: =AVERAGE(J28:J31) | K27: =AVERAGE(K28:K31) | L27: =AVERAGE(L28:L31) | M27: =AVERAGE(M28:M31) | N27: =SUM(N28:N31)/IF(N31=0,3,4) -> 0 | O27: =SUM(O28:O31)/IF($N31=0,3,4) -> 0 | P27: =SUM(P28:P31)/IF($N31=0,3,4) -> 0 | Q27: =SUM(Q28:Q31)/IF($N31=0,3,4) -> 0 | R27: =SUM(R28:R31)/IF($N31=0,3,4) -> 0 | S27: =SUM(S28:S31)/IF($N31=0,3,4) -> 0 | T27: =SUM(T28:T31)/IF($N31=0,3,4) -> 0 | V27: =SUM(V28:V31)/IF(N31=0,3,4) -> 0 | W27: =N27-V27 -> 0 | X27: =IF(W27=0,0,IF(ISERROR(RANK(W27,W1:W106)),"",RANK(Y27,Y1:Y106))) -> 0 | Y27: =IFERROR(W27+F27/100000+J27/10000000+G27/1000000000,0) -> 0
E28: J1 | N28: =SUM(F28:M28) -> 0 | V28: =SUM(O28:T28) -> 0
E29: J2 | N29: =SUM(F29:M29) -> 0 | V29: =SUM(O29:T29) -> 0
E30: J3 | N30: =SUM(F30:M30) -> 0 | V30: =SUM(O30:T30) -> 0
E31: J4 | N31: =SUM(F31:M31) -> 0 | V31: =SUM(O31:T31) -> 0
A32: 6 | B32: =INDEX('List of Competitors'!U$5:U$24,MATCH($A32,'List of Competitors'!$S$5:$S$24,0)) | C32: =INDEX('List of Competitors'!V$5:V$24,MATCH($A32,'List of Competitors'!$S$5:$S$24,0)) | D32: =INDEX('List of Competitors'!W$5:W$24,MATCH($A32,'List of Competitors'!$S$5:$S$24,0)) | E32: Average | F32: =AVERAGE(F33:F36) | G32: =AVERAGE(G33:G36) | H32: =AVERAGE(H33:H36) | I32: =AVERAGE(I33:I36) | J32: =AVERAGE(J33:J36) | K32: =AVERAGE(K33:K36) | L32: =AVERAGE(L33:L36) | M32: =AVERAGE(M33:M36) | N32: =SUM(N33:N36)/IF(N36=0,3,4) -> 0 | O32: =SUM(O33:O36)/IF($N36=0,3,4) -> 0 | P32: =SUM(P33:P36)/IF($N36=0,3,4) -> 0 | Q32: =SUM(Q33:Q36)/IF($N36=0,3,4) -> 0 | R32: =SUM(R33:R36)/IF($N36=0,3,4) -> 0 | S32: =SUM(S33:S36)/IF($N36=0,3,4) -> 0 | T32: =SUM(T33:T36)/IF($N36=0,3,4) -> 0 | V32: =SUM(V33:V36)/IF(N36=0,3,4) -> 0 | W32: =N32-V32 -> 0 | X32: =IF(W32=0,0,IF(ISERROR(RANK(W32,W1:W106)),"",RANK(Y32,Y1:Y106))) -> 0 | Y32: =IFERROR(W32+F32/100000+J32/10000000+G32/1000000000,0) -> 0
E33: J1 | N33: =SUM(F33:M33) -> 0 | V33: =SUM(O33:T33) -> 0
E34: J2 | N34: =SUM(F34:M34) -> 0 | V34: =SUM(O34:T34) -> 0
E35: J3 | N35: =SUM(F35:M35) -> 0 | V35: =SUM(O35:T35) -> 0
E36: J4 | N36: =SUM(F36:M36) -> 0 | V36: =SUM(O36:T36) -> 0
A37: 7 | B37: =INDEX('List of Competitors'!U$5:U$24,MATCH($A37,'List of Competitors'!$S$5:$S$24,0)) | C37: =INDEX('List of Competitors'!V$5:V$24,MATCH($A37,'List of Competitors'!$S$5:$S$24,0)) | D37: =INDEX('List of Competitors'!W$5:W$24,MATCH($A37,'List of Competitors'!$S$5:$S$24,0)) | E37: Average | F37: =AVERAGE(F38:F41) | G37: =AVERAGE(G38:G41) | H37: =AVERAGE(H38:H41) | I37: =AVERAGE(I38:I41) | J37: =AVERAGE(J38:J41) | K37: =AVERAGE(K38:K41) | L37: =AVERAGE(L38:L41) | M37: =AVERAGE(M38:M41) | N37: =SUM(N38:N41)/IF(N41=0,3,4) -> 0 | O37: =SUM(O38:O41)/IF($N41=0,3,4) -> 0 | P37: =SUM(P38:P41)/IF($N41=0,3,4) -> 0 | Q37: =SUM(Q38:Q41)/IF($N41=0,3,4) -> 0 | R37: =SUM(R38:R41)/IF($N41=0,3,4) -> 0 | S37: =SUM(S38:S41)/IF($N41=0,3,4) -> 0 | T37: =SUM(T38:T41)/IF($N41=0,3,4) -> 0 | V37: =SUM(V38:V41)/IF(N41=0,3,4) -> 0 | W37: =N37-V37 -> 0 | X37: =IF(W37=0,0,IF(ISERROR(RANK(W37,W1:W106)),"",RANK(Y37,Y1:Y106))) -> 0 | Y37: =IFERROR(W37+F37/100000+J37/10000000+G37/1000000000,0) -> 0
E38: J1 | N38: =SUM(F38:M38) -> 0 | V38: =SUM(O38:T38) -> 0
E39: J2 | N39: =SUM(F39:M39) -> 0 | V39: =SUM(O39:T39) -> 0
E40: J3 | N40: =SUM(F40:M40) -> 0 | V40: =SUM(O40:T40) -> 0
E41: J4 | N41: =SUM(F41:M41) -> 0 | V41: =SUM(O41:T41) -> 0
A42: 8 | B42: =INDEX('List of Competitors'!U$5:U$24,MATCH($A42,'List of Competitors'!$S$5:$S$24,0)) | C42: =INDEX('List of Competitors'!V$5:V$24,MATCH($A42,'List of Competitors'!$S$5:$S$24,0)) | D42: =INDEX('List of Competitors'!W$5:W$24,MATCH($A42,'List of Competitors'!$S$5:$S$24,0)) | E42: Average | F42: =AVERAGE(F43:F46) | G42: =AVERAGE(G43:G46) | H42: =AVERAGE(H43:H46) | I42: =AVERAGE(I43:I46) | J42: =AVERAGE(J43:J46) | K42: =AVERAGE(K43:K46) | L42: =AVERAGE(L43:L46) | M42: =AVERAGE(M43:M46) | N42: =SUM(N43:N46)/IF(N46=0,3,4) -> 0 | O42: =SUM(O43:O46)/IF($N46=0,3,4) -> 0 | P42: =SUM(P43:P46)/IF($N46=0,3,4) -> 0 | Q42: =SUM(Q43:Q46)/IF($N46=0,3,4) -> 0 | R42: =SUM(R43:R46)/IF($N46=0,3,4) -> 0 | S42: =SUM(S43:S46)/IF($N46=0,3,4) -> 0 | T42: =SUM(T43:T46)/IF($N46=0,3,4) -> 0 | V42: =SUM(V43:V46)/IF(N46=0,3,4) -> 0 | W42: =N42-V42 -> 0 | X42: =IF(W42=0,0,IF(ISERROR(RANK(W42,W1:W106)),"",RANK(Y42,Y1:Y106))) -> 0 | Y42: =IFERROR(W42+F42/100000+J42/10000000+G42/1000000000,0) -> 0
E43: J1 | N43: =SUM(F43:M43) -> 0 | V43: =SUM(O43:T43) -> 0
E44: J2 | N44: =SUM(F44:M44) -> 0 | V44: =SUM(O44:T44) -> 0
E45: J3 | N45: =SUM(F45:M45) -> 0 | V45: =SUM(O45:T45) -> 0
E46: J4 | N46: =SUM(F46:M46) -> 0 | V46: =SUM(O46:T46) -> 0
A47: 9 | B47: =INDEX('List of Competitors'!U$5:U$24,MATCH($A47,'List of Competitors'!$S$5:$S$24,0)) | C47: =INDEX('List of Competitors'!V$5:V$24,MATCH($A47,'List of Competitors'!$S$5:$S$24,0)) | D47: =INDEX('List of Competitors'!W$5:W$24,MATCH($A47,'List of Competitors'!$S$5:$S$24,0)) | E47: Average | F47: =AVERAGE(F48:F51) | G47: =AVERAGE(G48:G51) | H47: =AVERAGE(H48:H51) | I47: =AVERAGE(I48:I51) | J47: =AVERAGE(J48:J51) | K47: =AVERAGE(K48:K51) | L47: =AVERAGE(L48:L51) | M47: =AVERAGE(M48:M51) | N47: =SUM(N48:N51)/IF(N51=0,3,4) -> 0 | O47: =SUM(O48:O51)/IF($N51=0,3,4) -> 0 | P47: =SUM(P48:P51)/IF($N51=0,3,4) -> 0 | Q47: =SUM(Q48:Q51)/IF($N51=0,3,4) -> 0 | R47: =SUM(R48:R51)/IF($N51=0,3,4) -> 0 | S47: =SUM(S48:S51)/IF($N51=0,3,4) -> 0 | T47: =SUM(T48:T51)/IF($N51=0,3,4) -> 0 | V47: =SUM(V48:V51)/IF(N51=0,3,4) -> 0 | W47: =N47-V47 -> 0 | X47: =IF(W47=0,0,IF(ISERROR(RANK(W47,W1:W106)),"",RANK(Y47,Y1:Y106))) -> 0 | Y47: =IFERROR(W47+F47/100000+J47/10000000+G47/1000000000,0) -> 0
E48: J1 | N48: =SUM(F48:M48) -> 0 | V48: =SUM(O48:T48) -> 0
E49: J2 | N49: =SUM(F49:M49) -> 0 | V49: =SUM(O49:T49) -> 0
E50: J3 | N50: =SUM(F50:M50) -> 0 | V50: =SUM(O50:T50) -> 0
E51: J4 | N51: =SUM(F51:M51) -> 0 | V51: =SUM(O51:T51) -> 0
A52: 10 | B52: =INDEX('List of Competitors'!U$5:U$24,MATCH($A52,'List of Competitors'!$S$5:$S$24,0)) | C52: =INDEX('List of Competitors'!V$5:V$24,MATCH($A52,'List of Competitors'!$S$5:$S$24,0)) | D52: =INDEX('List of Competitors'!W$5:W$24,MATCH($A52,'List of Competitors'!$S$5:$S$24,0)) | E52: Average | F52: =AVERAGE(F53:F56) | G52: =AVERAGE(G53:G56) | H52: =AVERAGE(H53:H56) | I52: =AVERAGE(I53:I56) | J52: =AVERAGE(J53:J56) | K52: =AVERAGE(K53:K56) | L52: =AVERAGE(L53:L56) | M52: =AVERAGE(M53:M56) | N52: =SUM(N53:N56)/IF(N56=0,3,4) -> 0 | O52: =SUM(O53:O56)/IF($N56=0,3,4) -> 0 | P52: =SUM(P53:P56)/IF($N56=0,3,4) -> 0 | Q52: =SUM(Q53:Q56)/IF($N56=0,3,4) -> 0 | R52: =SUM(R53:R56)/IF($N56=0,3,4) -> 0 | S52: =SUM(S53:S56)/IF($N56=0,3,4) -> 0 | T52: =SUM(T53:T56)/IF($N56=0,3,4) -> 0 | V52: =SUM(V53:V56)/IF(N56=0,3,4) -> 0 | W52: =N52-V52 -> 0 | X52: =IF(W52=0,0,IF(ISERROR(RANK(W52,W1:W106)),"",RANK(Y52,Y1:Y106))) -> 0 | Y52: =IFERROR(W52+F52/100000+J52/10000000+G52/1000000000,0) -> 0
E53: J1 | N53: =SUM(F53:M53) -> 0 | V53: =SUM(O53:T53) -> 0
E54: J2 | N54: =SUM(F54:M54) -> 0 | V54: =SUM(O54:T54) -> 0
E55: J3 | N55: =SUM(F55:M55) -> 0 | V55: =SUM(O55:T55) -> 0
E56: J4 | N56: =SUM(F56:M56) -> 0 | V56: =SUM(O56:T56) -> 0
A57: 11 | B57: =INDEX('List of Competitors'!U$5:U$24,MATCH($A57,'List of Competitors'!$S$5:$S$24,0)) | C57: =INDEX('List of Competitors'!V$5:V$24,MATCH($A57,'List of Competitors'!$S$5:$S$24,0)) | D57: =INDEX('List of Competitors'!W$5:W$24,MATCH($A57,'List of Competitors'!$S$5:$S$24,0)) | E57: Average | F57: =AVERAGE(F58:F61) | G57: =AVERAGE(G58:G61) | H57: =AVERAGE(H58:H61) | I57: =AVERAGE(I58:I61) | J57: =AVERAGE(J58:J61) | K57: =AVERAGE(K58:K61) | L57: =AVERAGE(L58:L61) | M57: =AVERAGE(M58:M61) | N57: =SUM(N58:N61)/IF(N61=0,3,4) -> 0 | O57: =SUM(O58:O61)/IF($N61=0,3,4) -> 0 | P57: =SUM(P58:P61)/IF($N61=0,3,4) -> 0 | Q57: =SUM(Q58:Q61)/IF($N61=0,3,4) -> 0 | R57: =SUM(R58:R61)/IF($N61=0,3,4) -> 0 | S57: =SUM(S58:S61)/IF($N61=0,3,4) -> 0 | T57: =SUM(T58:T61)/IF($N61=0,3,4) -> 0 | V57: =SUM(V58:V61)/IF(N61=0,3,4) -> 0 | W57: =N57-V57 -> 0 | X57: =IF(W57=0,0,IF(ISERROR(RANK(W57,W1:W106)),"",RANK(Y57,Y1:Y106))) -> 0 | Y57: =IFERROR(W57+F57/100000+J57/10000000+G57/1000000000,0) -> 0
E58: J1 | N58: =SUM(F58:M58) -> 0 | V58: =SUM(O58:T58) -> 0
E59: J2 | N59: =SUM(F59:M59) -> 0 | V59: =SUM(O59:T59) -> 0
E60: J3 | N60: =SUM(F60:M60) -> 0 | V60: =SUM(O60:T60) -> 0
E61: J4 | N61: =SUM(F61:M61) -> 0 | V61: =SUM(O61:T61) -> 0
A62: 12 | B62: =INDEX('List of Competitors'!U$5:U$24,MATCH($A62,'List of Competitors'!$S$5:$S$24,0)) | C62: =INDEX('List of Competitors'!V$5:V$24,MATCH($A62,'List of Competitors'!$S$5:$S$24,0)) | D62: =INDEX('List of Competitors'!W$5:W$24,MATCH($A62,'List of Competitors'!$S$5:$S$24,0)) | E62: Average | F62: =AVERAGE(F63:F66) | G62: =AVERAGE(G63:G66) | H62: =AVERAGE(H63:H66) | I62: =AVERAGE(I63:I66) | J62: =AVERAGE(J63:J66) | K62: =AVERAGE(K63:K66) | L62: =AVERAGE(L63:L66) | M62: =AVERAGE(M63:M66) | N62: =SUM(N63:N66)/IF(N66=0,3,4) -> 0 | O62: =SUM(O63:O66)/IF($N66=0,3,4) -> 0 | P62: =SUM(P63:P66)/IF($N66=0,3,4) -> 0 | Q62: =SUM(Q63:Q66)/IF($N66=0,3,4) -> 0 | R62: =SUM(R63:R66)/IF($N66=0,3,4) -> 0 | S62: =SUM(S63:S66)/IF($N66=0,3,4) -> 0 | T62: =SUM(T63:T66)/IF($N66=0,3,4) -> 0 | V62: =SUM(V63:V66)/IF(N66=0,3,4) -> 0 | W62: =N62-V62 -> 0 | X62: =IF(W62=0,0,IF(ISERROR(RANK(W62,W1:W106)),"",RANK(Y62,Y1:Y106))) -> 0 | Y62: =IFERROR(W62+F62/100000+J62/10000000+G62/1000000000,0) -> 0
E63: J1 | N63: =SUM(F63:M63) -> 0 | V63: =SUM(O63:T63) -> 0
E64: J2 | N64: =SUM(F64:M64) -> 0 | V64: =SUM(O64:T64) -> 0
E65: J3 | N65: =SUM(F65:M65) -> 0 | V65: =SUM(O65:T65) -> 0
E66: J4 | N66: =SUM(F66:M66) -> 0 | V66: =SUM(O66:T66) -> 0
A67: 13 | B67: =INDEX('List of Competitors'!U$5:U$24,MATCH($A67,'List of Competitors'!$S$5:$S$24,0)) | C67: =INDEX('List of Competitors'!V$5:V$24,MATCH($A67,'List of Competitors'!$S$5:$S$24,0)) | D67: =INDEX('List of Competitors'!W$5:W$24,MATCH($A67,'List of Competitors'!$S$5:$S$24,0)) | E67: Average | F67: =AVERAGE(F68:F71) | G67: =AVERAGE(G68:G71) | H67: =AVERAGE(H68:H71) | I67: =AVERAGE(I68:I71) | J67: =AVERAGE(J68:J71) | K67: =AVERAGE(K68:K71) | L67: =AVERAGE(L68:L71) | M67: =AVERAGE(M68:M71) | N67: =SUM(N68:N71)/IF(N71=0,3,4) -> 0 | O67: =SUM(O68:O71)/IF($N71=0,3,4) -> 0 | P67: =SUM(P68:P71)/IF($N71=0,3,4) -> 0 | Q67: =SUM(Q68:Q71)/IF($N71=0,3,4) -> 0 | R67: =SUM(R68:R71)/IF($N71=0,3,4) -> 0 | S67: =SUM(S68:S71)/IF($N71=0,3,4) -> 0 | T67: =SUM(T68:T71)/IF($N71=0,3,4) -> 0 | V67: =SUM(V68:V71)/IF(N71=0,3,4) -> 0 | W67: =N67-V67 -> 0 | X67: =IF(W67=0,0,IF(ISERROR(RANK(W67,W1:W106)),"",RANK(Y67,Y1:Y106))) -> 0 | Y67: =IFERROR(W67+F67/100000+J67/10000000+G67/1000000000,0) -> 0
E68: J1 | N68: =SUM(F68:M68) -> 0 | V68: =SUM(O68:T68) -> 0
E69: J2 | N69: =SUM(F69:M69) -> 0 | V69: =SUM(O69:T69) -> 0
E70: J3 | N70: =SUM(F70:M70) -> 0 | V70: =SUM(O70:T70) -> 0
E71: J4 | N71: =SUM(F71:M71) -> 0 | V71: =SUM(O71:T71) -> 0
A72: 14 | B72: =INDEX('List of Competitors'!U$5:U$24,MATCH($A72,'List of Competitors'!$S$5:$S$24,0)) | C72: =INDEX('List of Competitors'!V$5:V$24,MATCH($A72,'List of Competitors'!$S$5:$S$24,0)) | D72: =INDEX('List of Competitors'!W$5:W$24,MATCH($A72,'List of Competitors'!$S$5:$S$24,0)) | E72: Average | F72: =AVERAGE(F73:F76) | G72: =AVERAGE(G73:G76) | H72: =AVERAGE(H73:H76) | I72: =AVERAGE(I73:I76) | J72: =AVERAGE(J73:J76) | K72: =AVERAGE(K73:K76) | L72: =AVERAGE(L73:L76) | M72: =AVERAGE(M73:M76) | N72: =SUM(N73:N76)/IF(N76=0,3,4) -> 0 | O72: =SUM(O73:O76)/IF($N76=0,3,4) -> 0 | P72: =SUM(P73:P76)/IF($N76=0,3,4) -> 0 | Q72: =SUM(Q73:Q76)/IF($N76=0,3,4) -> 0 | R72: =SUM(R73:R76)/IF($N76=0,3,4) -> 0 | S72: =SUM(S73:S76)/IF($N76=0,3,4) -> 0 | T72: =SUM(T73:T76)/IF($N76=0,3,4) -> 0 | V72: =SUM(V73:V76)/IF(N76=0,3,4) -> 0 | W72: =N72-V72 -> 0 | X72: =IF(W72=0,0,IF(ISERROR(RANK(W72,W1:W106)),"",RANK(Y72,Y1:Y106))) -> 0 | Y72: =IFERROR(W72+F72/100000+J72/10000000+G72/1000000000,0) -> 0
E73: J1 | N73: =SUM(F73:M73) -> 0 | V73: =SUM(O73:T73) -> 0
E74: J2 | N74: =SUM(F74:M74) -> 0 | V74: =SUM(O74:T74) -> 0
E75: J3 | N75: =SUM(F75:M75) -> 0 | V75: =SUM(O75:T75) -> 0
E76: J4 | N76: =SUM(F76:M76) -> 0 | V76: =SUM(O76:T76) -> 0
A77: 15 | B77: =INDEX('List of Competitors'!U$5:U$24,MATCH($A77,'List of Competitors'!$S$5:$S$24,0)) | C77: =INDEX('List of Competitors'!V$5:V$24,MATCH($A77,'List of Competitors'!$S$5:$S$24,0)) | D77: =INDEX('List of Competitors'!W$5:W$24,MATCH($A77,'List of Competitors'!$S$5:$S$24,0)) | E77: Average | F77: =AVERAGE(F78:F81) | G77: =AVERAGE(G78:G81) | H77: =AVERAGE(H78:H81) | I77: =AVERAGE(I78:I81) | J77: =AVERAGE(J78:J81) | K77: =AVERAGE(K78:K81) | L77: =AVERAGE(L78:L81) | M77: =AVERAGE(M78:M81) | N77: =SUM(N78:N81)/IF(N81=0,3,4) -> 0 | O77: =SUM(O78:O81)/IF($N81=0,3,4) -> 0 | P77: =SUM(P78:P81)/IF($N81=0,3,4) -> 0 | Q77: =SUM(Q78:Q81)/IF($N81=0,3,4) -> 0 | R77: =SUM(R78:R81)/IF($N81=0,3,4) -> 0 | S77: =SUM(S78:S81)/IF($N81=0,3,4) -> 0 | T77: =SUM(T78:T81)/IF($N81=0,3,4) -> 0 | V77: =SUM(V78:V81)/IF(N81=0,3,4) -> 0 | W77: =N77-V77 -> 0 | X77: =IF(W77=0,0,IF(ISERROR(RANK(W77,W1:W106)),"",RANK(Y77,Y1:Y106))) -> 0 | Y77: =IFERROR(W77+F77/100000+J77/10000000+G77/1000000000,0) -> 0
E78: J1 | N78: =SUM(F78:M78) -> 0 | V78: =SUM(O78:T78) -> 0
E79: J2 | N79: =SUM(F79:M79) -> 0 | V79: =SUM(O79:T79) -> 0
E80: J3 | N80: =SUM(F80:M80) -> 0 | V80: =SUM(O80:T80) -> 0
E81: J4 | N81: =SUM(F81:M81) -> 0 | V81: =SUM(O81:T81) -> 0
A82: 16 | B82: =INDEX('List of Competitors'!U$5:U$24,MATCH($A82,'List of Competitors'!$S$5:$S$24,0)) | C82: =INDEX('List of Competitors'!V$5:V$24,MATCH($A82,'List of Competitors'!$S$5:$S$24,0)) | D82: =INDEX('List of Competitors'!W$5:W$24,MATCH($A82,'List of Competitors'!$S$5:$S$24,0)) | E82: Average | F82: =AVERAGE(F83:F86) | G82: =AVERAGE(G83:G86) | H82: =AVERAGE(H83:H86) | I82: =AVERAGE(I83:I86) | J82: =AVERAGE(J83:J86) | K82: =AVERAGE(K83:K86) | L82: =AVERAGE(L83:L86) | M82: =AVERAGE(M83:M86) | N82: =SUM(N83:N86)/IF(N86=0,3,4) -> 0 | O82: =SUM(O83:O86)/IF($N86=0,3,4) -> 0 | P82: =SUM(P83:P86)/IF($N86=0,3,4) -> 0 | Q82: =SUM(Q83:Q86)/IF($N86=0,3,4) -> 0 | R82: =SUM(R83:R86)/IF($N86=0,3,4) -> 0 | S82: =SUM(S83:S86)/IF($N86=0,3,4) -> 0 | T82: =SUM(T83:T86)/IF($N86=0,3,4) -> 0 | V82: =SUM(V83:V86)/IF(N86=0,3,4) -> 0 | W82: =N82-V82 -> 0 | X82: =IF(W82=0,0,IF(ISERROR(RANK(W82,W1:W106)),"",RANK(Y82,Y1:Y106))) -> 0 | Y82: =IFERROR(W82+F82/100000+J82/10000000+G82/1000000000,0) -> 0
E83: J1 | N83: =SUM(F83:M83) -> 0 | V83: =SUM(O83:T83) -> 0
E84: J2 | N84: =SUM(F84:M84) -> 0 | V84: =SUM(O84:T84) -> 0
E85: J3 | N85: =SUM(F85:M85) -> 0 | V85: =SUM(O85:T85) -> 0
E86: J4 | N86: =SUM(F86:M86) -> 0 | V86: =SUM(O86:T86) -> 0
A87: 17 | B87: =INDEX('List of Competitors'!U$5:U$24,MATCH($A87,'List of Competitors'!$S$5:$S$24,0)) | C87: =INDEX('List of Competitors'!V$5:V$24,MATCH($A87,'List of Competitors'!$S$5:$S$24,0)) | D87: =INDEX('List of Competitors'!W$5:W$24,MATCH($A87,'List of Competitors'!$S$5:$S$24,0)) | E87: Average | F87: =AVERAGE(F88:F91) | G87: =AVERAGE(G88:G91) | H87: =AVERAGE(H88:H91) | I87: =AVERAGE(I88:I91) | J87: =AVERAGE(J88:J91) | K87: =AVERAGE(K88:K91) | L87: =AVERAGE(L88:L91) | M87: =AVERAGE(M88:M91) | N87: =SUM(N88:N91)/IF(N91=0,3,4) -> 0 | O87: =SUM(O88:O91)/IF($N91=0,3,4) -> 0 | P87: =SUM(P88:P91)/IF($N91=0,3,4) -> 0 | Q87: =SUM(Q88:Q91)/IF($N91=0,3,4) -> 0 | R87: =SUM(R88:R91)/IF($N91=0,3,4) -> 0 | S87: =SUM(S88:S91)/IF($N91=0,3,4) -> 0 | T87: =SUM(T88:T91)/IF($N91=0,3,4) -> 0 | V87: =SUM(V88:V91)/IF(N91=0,3,4) -> 0 | W87: =N87-V87 -> 0 | X87: =IF(W87=0,0,IF(ISERROR(RANK(W87,W1:W106)),"",RANK(Y87,Y1:Y106))) -> 0 | Y87: =IFERROR(W87+F87/100000+J87/10000000+G87/1000000000,0) -> 0
E88: J1 | N88: =SUM(F88:M88) -> 0 | V88: =SUM(O88:T88) -> 0
E89: J2 | N89: =SUM(F89:M89) -> 0 | V89: =SUM(O89:T89) -> 0
E90: J3 | N90: =SUM(F90:M90) -> 0 | V90: =SUM(O90:T90) -> 0
E91: J4 | N91: =SUM(F91:M91) -> 0 | V91: =SUM(O91:T91) -> 0
A92: 18 | B92: =INDEX('List of Competitors'!U$5:U$24,MATCH($A92,'List of Competitors'!$S$5:$S$24,0)) | C92: =INDEX('List of Competitors'!V$5:V$24,MATCH($A92,'List of Competitors'!$S$5:$S$24,0)) | D92: =INDEX('List of Competitors'!W$5:W$24,MATCH($A92,'List of Competitors'!$S$5:$S$24,0)) | E92: Average | F92: =AVERAGE(F93:F96) | G92: =AVERAGE(G93:G96) | H92: =AVERAGE(H93:H96) | I92: =AVERAGE(I93:I96) | J92: =AVERAGE(J93:J96) | K92: =AVERAGE(K93:K96) | L92: =AVERAGE(L93:L96) | M92: =AVERAGE(M93:M96) | N92: =SUM(N93:N96)/IF(N96=0,3,4) -> 0 | O92: =SUM(O93:O96)/IF($N96=0,3,4) -> 0 | P92: =SUM(P93:P96)/IF($N96=0,3,4) -> 0 | Q92: =SUM(Q93:Q96)/IF($N96=0,3,4) -> 0 | R92: =SUM(R93:R96)/IF($N96=0,3,4) -> 0 | S92: =SUM(S93:S96)/IF($N96=0,3,4) -> 0 | T92: =SUM(T93:T96)/IF($N96=0,3,4) -> 0 | V92: =SUM(V93:V96)/IF(N96=0,3,4) -> 0 | W92: =N92-V92 -> 0 | X92: =IF(W92=0,0,IF(ISERROR(RANK(W92,W1:W106)),"",RANK(Y92,Y1:Y106))) -> 0 | Y92: =IFERROR(W92+F92/100000+J92/10000000+G92/1000000000,0) -> 0
E93: J1 | N93: =SUM(F93:M93) -> 0 | V93: =SUM(O93:T93) -> 0
E94: J2 | N94: =SUM(F94:M94) -> 0 | V94: =SUM(O94:T94) -> 0
E95: J3 | N95: =SUM(F95:M95) -> 0 | V95: =SUM(O95:T95) -> 0
E96: J4 | N96: =SUM(F96:M96) -> 0 | V96: =SUM(O96:T96) -> 0
A97: 19 | B97: =INDEX('List of Competitors'!U$5:U$24,MATCH($A97,'List of Competitors'!$S$5:$S$24,0)) | C97: =INDEX('List of Competitors'!V$5:V$24,MATCH($A97,'List of Competitors'!$S$5:$S$24,0)) | D97: =INDEX('List of Competitors'!W$5:W$24,MATCH($A97,'List of Competitors'!$S$5:$S$24,0)) | E97: Average | F97: =AVERAGE(F98:F101) | G97: =AVERAGE(G98:G101) | H97: =AVERAGE(H98:H101) | I97: =AVERAGE(I98:I101) | J97: =AVERAGE(J98:J101) | K97: =AVERAGE(K98:K101) | L97: =AVERAGE(L98:L101) | M97: =AVERAGE(M98:M101) | N97: =SUM(N98:N101)/IF(N101=0,3,4) -> 0 | O97: =SUM(O98:O101)/IF($N101=0,3,4) -> 0 | P97: =SUM(P98:P101)/IF($N101=0,3,4) -> 0 | Q97: =SUM(Q98:Q101)/IF($N101=0,3,4) -> 0 | R97: =SUM(R98:R101)/IF($N101=0,3,4) -> 0 | S97: =SUM(S98:S101)/IF($N101=0,3,4) -> 0 | T97: =SUM(T98:T101)/IF($N101=0,3,4) -> 0 | V97: =SUM(V98:V101)/IF(N101=0,3,4) -> 0 | W97: =N97-V97 -> 0 | X97: =IF(W97=0,0,IF(ISERROR(RANK(W97,W1:W106)),"",RANK(Y97,Y1:Y106))) -> 0 | Y97: =IFERROR(W97+F97/100000+J97/10000000+G97/1000000000,0) -> 0
E98: J1 | N98: =SUM(F98:M98) -> 0 | V98: =SUM(O98:T98) -> 0
E99: J2 | N99: =SUM(F99:M99) -> 0 | V99: =SUM(O99:T99) -> 0
E100: J3 | N100: =SUM(F100:M100) -> 0 | V100: =SUM(O100:T100) -> 0
E101: J4 | N101: =SUM(F101:M101) -> 0 | V101: =SUM(O101:T101) -> 0
...

Sheet FS 0
B1: FS 0 | E1: ='List of Competitors'!B2
E2: ='List of Competitors'!C2
A4: # | B4: Nome | C4: Cognome | D4: Cane | E4: Judge | F4: Team work | G4: Dinamicità | H4: Progetto | I4: Coreografia | J4: Fluidità | K4: Esecuzione | L4: Contenuto | M4: Difficoltà | N4: Punit | O4: Detrazioni di punti | V4: Totale | W4: punto di passaggio | X4: Posizionamento | Y4: Korr Punkte Teamwork, Fluss
O5: Abbaio e vocalizzazioni | P5: Salute del cane | Q5: costume / Oggetti di scena | R5: Lunghezze musicali errate | S5: Trattamento improprio del cane | T5: Contatto attivo | U5: Totale
F6: max. 25 | G6: max. 25 | H6: max. 25 | I6: max. 25 | J6: max. 25 | K6: max. 25 | L6: max. 25 | M6: max. 25 | O6: max. 20 | P6: max. 20 | Q6: max. 20 | R6: 1 Punkt / sec | S6: max. 20 | T6: max. 20
A7: 1 | B7: =INDEX('List of Competitors'!C$27:C$46,MATCH($A7,'List of Competitors'!$A$27:$A$46,0)) -> Camilla | C7: =INDEX('List of Competitors'!D$27:D$46,MATCH($A7,'List of Competitors'!$A$27:$A$46,0)) -> Falco | D7: =INDEX('List of Competitors'!E$27:E$46,MATCH($A7,'List of Competitors'!$A$27:$A$46,0)) -> Argo | E7: Average | F7: =AVERAGE(F8:F10) -> 20 | G7: =AVERAGE(G8:G10) -> 19.5 | H7: =AVERAGE(H8:H10) -> 20 | I7: =AVERAGE(I8:I10) -> 18.5 | J7: =AVERAGE(J8:J10) -> 18 | K7: =AVERAGE(K8:K10) -> 19 | L7: =AVERAGE(L8:L10) -> 20 | M7: =AVERAGE(M8:M10) -> 20 | N7: =SUM(N8:N10)/IF(N10=0,2,3) -> 155 | O7: =SUM(O8:O10)/IF($N10=0,2,3) -> 0 | P7: =SUM(P8:P10)/IF($N10=0,2,3) -> 0 | Q7: =SUM(Q8:Q10)/IF($N10=0,2,3) -> 0 | R7: =SUM(R8:R10)/IF($N10=0,2,3) -> 0 | S7: =SUM(S8:S10)/IF($N10=0,2,3) -> 0 | T7: =SUM(T8:T10)/IF($N10=0,2,3) -> 0 | U7: =SUM(U8:U10)/IF(N10=0,2,3) -> 0 | V7: =N7-U7 -> 155 | W7: =IF(V7>=150,"Si","No") -> Si | X7: =IF(V7=0,0,IF(ISERROR(RANK(V7,V1:V86)),"",RANK(Y7,Y1:Y86))) -> 1 | Y7: =IFERROR(V7+F7/100000+J7/10000000+G7/1000000000,0) -> 155.0002
E8: J1 | F8: 21 | G8: 20 | H8: 20 | I8: 20 | J8: 19 | K8: 20 | L8: 21 | M8: 21 | N8: =SUM(F8:M8) -> 162 | U8: =SUM(O8:T8) -> 0
E9: J2 | F9: 19 | G9: 19 | H9: 20 | I9: 17 | J9: 17 | K9: 18 | L9: 19 | M9: 19 | N9: =SUM(F9:M9) -> 148 | U9: =SUM(O9:T9) -> 0
E10: J3 | N10: =SUM(F10:M10) -> 0 | U10: =SUM(O10:T10) -> 0
A11: 2 | B11: =INDEX('List of Competitors'!C$27:C$46,MATCH($A11,'List of Competitors'!$A$27:$A$46,0)) -> Marica | C11: =INDEX('List of Competitors'!D$27:D$46,MATCH($A11,'List of Competitors'!$A$27:$A$46,0)) -> Inserra | D11: =INDEX('List of Competitors'!E$27:E$46,MATCH($A11,'List of Competitors'!$A$27:$A$46,0)) -> Blu | E11: Average | F11: =AVERAGE(F12:F14) -> 20.5 | G11: =AVERAGE(G12:G14) -> 20 | H11: =AVERAGE(H12:H14) -> 17.5 | I11: =AVERAGE(I12:I14) -> 17 | J11: =AVERAGE(J12:J14) -> 16.5 | K11: =AVERAGE(K12:K14) -> 18.5 | L11: =AVERAGE(L12:L14) -> 19 | M11: =AVERAGE(M12:M14) -> 19 | N11: =SUM(N12:N14)/IF(N14=0,2,3) -> 148 | O11: =SUM(O12:O14)/IF($N14=0,2,3) -> 0.95 | P11: =SUM(P12:P14)/IF($N14=0,2,3) -> 0 | Q11: =SUM(Q12:Q14)/IF($N14=0,2,3) -> 0 | R11: =SUM(R12:R14)/IF($N14=0,2,3) -> 0 | S11: =SUM(S12:S14)/IF($N14=0,2,3) -> 0 | T11: =SUM(T12:T14)/IF($N14=0,2,3) -> 0 | U11: =SUM(U12:U14)/IF(N14=0,2,3) -> 0.95 | V11: =N11-U11 -> 147.05 | W11: =IF(V11>=150,"Si","No") -> No | X11: =IF(V11=0,0,IF(ISERROR(RANK(V11,V1:V86)),"",RANK(Y11,Y1:Y86))) -> 3 | Y11: =IFERROR(V11+F11/100000+J11/10000000+G11/1000000000,0) -> 147.05021
E12: J1 | F12: 21 | G12: 20 | H12: 17 | I12: 17 | J12: 17 | K12: 20 | L12: 20 | M12: 20 | N12: =SUM(F12:M12) -> 152 | O12: 0.7 | U12: =SUM(O12:T12) -> 0.7
E13: J2 | F13: 20 | G13: 20 | H13: 18 | I13: 17 | J13: 16 | K13: 17 | L13: 18 | M13: 18 | N13: =SUM(F13:M13) -> 144 | O13: 1.2 | U13: =SUM(O13:T13) -> 1.2
E14: J3 | N14: =SUM(F14:M14) -> 0 | U14: =SUM(O14:T14) -> 0
A15: 3 | B15: =INDEX('List of Competitors'!C$27:C$46,MATCH($A15,'List of Competitors'!$A$27:$A$46,0)) -> Mersia | C15: =INDEX('List of Competitors'!D$27:D$46,MATCH($A15,'List of Competitors'!$A$27:$A$46,0)) -> Avanzini | D15: Shelby | E15: 2 | F15: =AVERAGE(F16:F18) -> 19.5 | G15: =AVERAGE(G16:G18) -> 20 | H15: =AVERAGE(H16:H18) -> 20.5 | I15: =AVERAGE(I16:I18) -> 19 | J15: =AVERAGE(J16:J18) -> 18 | K15: =AVERAGE(K16:K18) -> 19 | L15: =AVERAGE(L16:L18) -> 19.5 | M15: =AVERAGE(M16:M18) -> 19.5 | N15: =SUM(N16:N18)/IF(N18=0,2,3) -> 155 | O15: =SUM(O16:O18)/IF($N18=0,2,3) -> 0 | P15: =SUM(P16:P18)/IF($N18=0,2,3) -> 0 | Q15: =SUM(Q16:Q18)/IF($N18=0,2,3) -> 0 | R15: =SUM(R16:R18)/IF($N18=0,2,3) -> 0 | S15: =SUM(S16:S18)/IF($N18=0,2,3) -> 0 | T15: =SUM(T16:T18)/IF($N18=0,2,3) -> 0 | U15: =SUM(U16:U18)/IF(N18=0,2,3) -> 0 | V15: =N15-U15 -> 155 | W15: =IF(V15>=150,"Si","No") -> Si | X15: =IF(V15=0,0,IF(ISERROR(RANK(V15,V1:V86)),"",RANK(Y15,Y1:Y86))) -> 2 | Y15: =IFERROR(V15+F15/100000+J15/10000000+G15/1000000000,0) -> 155.0002
E16: J1 | F16: 22 | G16: 22 | H16: 21 | I16: 20 | J16: 20 | K16: 21 | L16: 20 | M16: 21 | N16: =SUM(F16:M16) -> 167 | U16: =SUM(O16:T16) -> 0
E17: J2 | F17: 17 | G17: 18 | H17: 20 | I17: 18 | J17: 16 | K17: 17 | L17: 19 | M17: 18 | N17: =SUM(F17:M17) -> 143 | U17: =SUM(O17:T17) -> 0
E18: J3 | N18: =SUM(F18:M18) -> 0 | U18: =SUM(O18:T18) -> 0
A19: 4 | B19: =INDEX('List of Competitors'!C$27:C$46,MATCH($A19,'List of Competitors'!$A$27:$A$46,0)) | C19: =INDEX('List of Competitors'!D$27:D$46,MATCH($A19,'List of Competitors'!$A$27:$A$46,0)) | D19: =INDEX('List of Competitors'!E$27:E$46,MATCH($A19,'List of Competitors'!$A$27:$A$46,0)) | E19: Average | F19: =AVERAGE(F20:F22) | G19: =AVERAGE(G20:G22) | H19: =AVERAGE(H20:H22) | I19: =AVERAGE(I20:I22) | J19: =AVERAGE(J20:J22) | K19: =AVERAGE(K20:K22) | L19: =AVERAGE(L20:L22) | M19: =AVERAGE(M20:M22) | N19: =SUM(N20:N22)/IF(N22=0,2,3) -> 0 | O19: =SUM(O20:O22)/IF($N22=0,2,3) -> 0 | P19: =SUM(P20:P22)/IF($N22=0,2,3) -> 0 | Q19: =SUM(Q20:Q22)/IF($N22=0,2,3) -> 0 | R19: =SUM(R20:R22)/IF($N22=0,2,3) -> 0 | S19: =SUM(S20:S22)/IF($N22=0,2,3) -> 0 | T19: =SUM(T20:T22)/IF($N22=0,2,3) -> 0 | U19: =SUM(U20:U22)/IF(N22=0,2,3) -> 0 | V19: =N19-U19 -> 0 | W19: =IF(V19>=150,"Si","No") -> No | X19: =IF(V19=0,0,IF(ISERROR(RANK(V19,V1:V86)),"",RANK(Y19,Y1:Y86))) -> 0 | Y19: =IFERROR(V19+F19/100000+J19/10000000+G19/1000000000,0) -> 0
E20: J1 | N20: =SUM(F20:M20) -> 0 | U20: =SUM(O20:T20) -> 0
E21: J2 | N21: =SUM(F21:M21) -> 0 | U21: =SUM(O21:T21) -> 0
E22: J3 | N22: =SUM(F22:M22) -> 0 | U22: =SUM(O22:T22) -> 0
A23: 5 | B23: =INDEX('List of Competitors'!C$27:C$46,MATCH($A23,'List of Competitors'!$A$27:$A$46,0)) | C23: =INDEX('List of Competitors'!D$27:D$46,MATCH($A23,'List of Competitors'!$A$27:$A$46,0)) | D23: =INDEX('List of Competitors'!E$27:E$46,MATCH($A23,'List of Competitors'!$A$27:$A$46,0)) | E23: Average | F23: =AVERAGE(F24:F26) | G23: =AVERAGE(G24:G26) | H23: =AVERAGE(H24:H26) | I23: =AVERAGE(I24:I26) | J23: =AVERAGE(J24:J26) | K23: =AVERAGE(K24:K26) | L23: =AVERAGE(L24:L26) | M23: =AVERAGE(M24:M26) | N23: =SUM(N24:N26)/IF(N26=0,2,3) -> 0 | O23: =SUM(O24:O26)/IF($N26=0,2,3) -> 0 | P23: =SUM(P24:P26)/IF($N26=0,2,3) -> 0 | Q23: =SUM(Q24:Q26)/IF($N26=0,2,3) -> 0 | R23: =SUM(R24:R26)/IF($N26=0,2,3) -> 0 | S23: =SUM(S24:S26)/IF($N26=0,2,3) -> 0 | T23: =SUM(T24:T26)/IF($N26=0,2,3) -> 0 | U23: =SUM(U24:U26)/IF(N26=0,2,3) -> 0 | V23: =N23-U23 -> 0 | W23: =IF(V23>=150,"Si","No") -> No | X23: =IF(V23=0,0,IF(ISERROR(RANK(V23,V1:V86)),"",RANK(Y23,Y1:Y86))) -> 0 | Y23: =IFERROR(V23+F23/100000+J23/10000000+G23/1000000000,0) -> 0
E24: J1 | N24: =SUM(F24:M24) -> 0 | U24: =SUM(O24:T24) -> 0
E25: J2 | N25: =SUM(F25:M25) -> 0 | U25: =SUM(O25:T25) -> 0
E26: J3 | N26: =SUM(F26:M26) -> 0 | U26: =SUM(O26:T26) -> 0
A27: 6 | B27: =INDEX('List of Competitors'!C$27:C$46,MATCH($A27,'List of Competitors'!$A$27:$A$46,0)) | C27: =INDEX('List of Competitors'!D$27:D$46,MATCH($A27,'List of Competitors'!$A$27:$A$46,0)) | D27: =INDEX('List of Competitors'!E$27:E$46,MATCH($A27,'List of Competitors'!$A$27:$A$46,0)) | E27: Average | F27: =AVERAGE(F28:F30) | G27: =AVERAGE(G28:G30) | H27: =AVERAGE(H28:H30) | I27: =AVERAGE(I28:I30) | J27: =AVERAGE(J28:J30) | K27: =AVERAGE(K28:K30) | L27: =AVERAGE(L28:L30) | M27: =AVERAGE(M28:M30) | N27: =SUM(N28:N30)/IF(N30=0,2,3) -> 0 | O27: =SUM(O28:O30)/IF($N30=0,2,3) -> 0 | P27: =SUM(P28:P30)/IF($N30=0,2,3) -> 0 | Q27: =SUM(Q28:Q30)/IF($N30=0,2,3) -> 0 | R27: =SUM(R28:R30)/IF($N30=0,2,3) -> 0 | S27: =SUM(S28:S30)/IF($N30=0,2,3) -> 0 | T27: =SUM(T28:T30)/IF($N30=0,2,3) -> 0 | U27: =SUM(U28:U30)/IF(N30=0,2,3) -> 0 | V27: =N27-U27 -> 0 | W27: =IF(V27>=150,"Si","No") -> No | X27: =IF(V27=0,0,IF(ISERROR(RANK(V27,V1:V86)),"",RANK(Y27,Y1:Y86))) -> 0 | Y27: =IFERROR(V27+F27/100000+J27/10000000+G27/1000000000,0) -> 0
E28: J1 | N28: =SUM(F28:M28) -> 0 | U28: =SUM(O28:T28) -> 0
E29: J2 | N29: =SUM(F29:M29) -> 0 | U29: =SUM(O29:T29) -> 0
E30: J3 | N30: =SUM(F30:M30) -> 0 | U30: =SUM(O30:T30) -> 0
A31: 7 | B31: =INDEX('List of Competitors'!C$27:C$46,MATCH($A31,'List of Competitors'!$A$27:$A$46,0)) | C31: =INDEX('List of Competitors'!D$27:D$46,MATCH($A31,'List of Competitors'!$A$27:$A$46,0)) | D31: =INDEX('List of Competitors'!E$27:E$46,MATCH($A31,'List of Competitors'!$A$27:$A$46,0)) | E31: Average | F31: =AVERAGE(F32:F34) | G31: =AVERAGE(G32:G34) | H31: =AVERAGE(H32:H34) | I31: =AVERAGE(I32:I34) | J31: =AVERAGE(J32:J34) | K31: =AVERAGE(K32:K34) | L31: =AVERAGE(L32:L34) | M31: =AVERAGE(M32:M34) | N31: =SUM(N32:N34)/IF(N34=0,2,3) -> 0 | O31: =SUM(O32:O34)/IF($N34=0,2,3) -> 0 | P31: =SUM(P32:P34)/IF($N34=0,2,3) -> 0 | Q31: =SUM(Q32:Q34)/IF($N34=0,2,3) -> 0 | R31: =SUM(R32:R34)/IF($N34=0,2,3) -> 0 | S31: =SUM(S32:S34)/IF($N34=0,2,3) -> 0 | T31: =SUM(T32:T34)/IF($N34=0,2,3) -> 0 | U31: =SUM(U32:U34)/IF(N34=0,2,3) -> 0 | V31: =N31-U31 -> 0 | W31: =IF(V31>=150,"Si","No") -> No | X31: =IF(V31=0,0,IF(ISERROR(RANK(V31,V1:V86)),"",RANK(Y31,Y1:Y86))) -> 0 | Y31: =IFERROR(V31+F31/100000+J31/10000000+G31/1000000000,0) -> 0
E32: J1 | N32: =SUM(F32:M32) -> 0 | U32: =SUM(O32:T32) -> 0
E33: J2 | N33: =SUM(F33:M33) -> 0 | U33: =SUM(O33:T33) -> 0
E34: J3 | N34: =SUM(F34:M34) -> 0 | U34: =SUM(O34:T34) -> 0
A35: 8 | B35: =INDEX('List of Competitors'!C$27:C$46,MATCH($A35,'List of Competitors'!$A$27:$A$46,0)) | C35: =INDEX('List of Competitors'!D$27:D$46,MATCH($A35,'List of Competitors'!$A$27:$A$46,0)) | D35: =INDEX('List of Competitors'!E$27:E$46,MATCH($A35,'List of Competitors'!$A$27:$A$46,0)) | E35: Average | F35: =AVERAGE(F36:F38) | G35: =AVERAGE(G36:G38) | H35: =AVERAGE(H36:H38) | I35: =AVERAGE(I36:I38) | J35: =AVERAGE(J36:J38) | K35: =AVERAGE(K36:K38) | L35: =AVERAGE(L36:L38) | M35: =AVERAGE(M36:M38) | N35: =SUM(N36:N38)/IF(N38=0,2,3) -> 0 | O35: =SUM(O36:O38)/IF($N38=0,2,3) -> 0 | P35: =SUM(P36:P38)/IF($N38=0,2,3) -> 0 | Q35: =SUM(Q36:Q38)/IF($N38=0,2,3) -> 0 | R35: =SUM(R36:R38)/IF($N38=0,2,3) -> 0 | S35: =SUM(S36:S38)/IF($N38=0,2,3) -> 0 | T35: =SUM(T36:T38)/IF($N38=0,2,3) -> 0 | U35: =SUM(U36:U38)/IF(N38=0,2,3) -> 0 | V35: =N35-U35 -> 0 | W35: =IF(V35>=150,"Si","No") -> No | X35: =IF(V35=0,0,IF(ISERROR(RANK(V35,V1:V86)),"",RANK(Y35,Y1:Y86))) -> 0 | Y35: =IFERROR(V35+F35/100000+J35/10000000+G35/1000000000,0) -> 0
E36: J1 | N36: =SUM(F36:M36) -> 0 | U36: =SUM(O36:T36) -> 0
E37: J2 | N37: =SUM(F37:M37) -> 0 | U37: =SUM(O37:T37) -> 0
E38: J3 | N38: =SUM(F38:M38) -> 0 | U38: =SUM(O38:T38) -> 0
