Workbook

Sheet List of Competitors
B1: Torneo / Luogo | C1: Data
B2: NARNI (TR) | C2: 03/05/2026
A4: # | B4: Classi | C4: Nome | D4: Cognome | E4: Cane | G4: # | H4: Classi | I4: Nome | J4: Cognome | K4: Cane | M4: # | N4: Classi | O4: Nome | P4: Cognome | Q4: Cane | S4: # | T4: Classi | U4: Nome | V4: Cognome | W4: Cane
A5: 1 | B5: HTM 0 | C5: DANIELA | D5: MORSIANI | E5: KORI | G5: 1 | H5: HTM 1 | M5: 1 | N5: HTM 2 | O5: EVA LISA | P5: NEGRO | Q5: REDHONEY MADAME | S5: 1 | T5: HTM 3
A6: 2 | B6: HTM 0 | G6: 2 | H6: HTM 1 | M6: 2 | N6: HTM 2 | O6: LAURA | P6: FARAONI | Q6: DREAM | S6: 2 | T6: HTM 3
A7: 3 | B7: HTM 0 | G7: 3 | H7: HTM 1 | M7: 3 | N7: HTM 2 | S7: 3 | T7: HTM 3
A8: 4 | B8: HTM 0 | G8: 4 | H8: HTM 1 | M8: 4 | N8: HTM 2 | S8: 4 | T8: HTM 3
A9: 5 | B9: HTM 0 | G9: 5 | H9: HTM 1 | M9: 5 | N9: HTM 2 | S9: 5 | T9: HTM 3
A10: 6 | B10: HTM 0 | G10: 6 | H10: HTM 1 | M10: 6 | N10: HTM 2 | S10: 6 | T10: HTM 3
A11: 7 | B11: HTM 0 | G11: 7 | H11: HTM 1 | M11: 7 | N11: HTM 2 | S11: 7 | T11: HTM 3
A12: 8 | B12: HTM 0 | G12: 8 | H12: HTM 1 | M12: 8 | N12: HTM 2 | S12: 8 | T12: HTM 3
A13: 9 | B13: HTM 0 | G13: 9 | H13: HTM 1 | M13: 9 | N13: HTM 2 | S13: 9 | T13: HTM 3
A14: 10 | B14: HTM 0 | G14: 10 | H14: HTM 1 | M14: 10 | N14: HTM 2 | S14: 10 | T14: HTM 3
A15: 11 | B15: HTM 0 | G15: 11 | H15: HTM 1 | M15: 11 | N15: HTM 2 | S15: 11 | T15: HTM 3
A16: 12 | B16: HTM 0 | G16: 12 | H16: HTM 1 | M16: 12 | N16: HTM 2 | S16: 12 | T16: HTM 3
A17: 13 | B17: HTM 0 | G17: 13 | H17: HTM 1 | M17: 13 | N17: HTM 2 | S17: 13 | T17: HTM 3
A18: 14 | B18: HTM 0 | G18: 14 | H18: HTM 1 | M18: 14 | N18: HTM 2 | S18: 14 | T18: HTM 3
... A24: 20 | B24: HTM 0 | G24: 20 | H24: HTM 1 | M24: 20 | N24: HTM 2 | S24: 20 | T24: HTM 3
A26: # | B26: Classi | C26: Nome | D26: Cognome | E26: Cane | G26: # | H26: Classi | I26: Nome | J26: Cognome | K26: Cane | M26: # | N26: Classi | O26: Nome | P26: Cognome | Q26: Cane | S26: # | T26: Classi | U26: Nome | V26: Cognome | W26: Cane
A27: 1 | B27: FS 0 | C27: ALESSIA | D27: GIANNINI | E27: BAGHEERA | G27: 1 | H27: FS 1 | I27: RITA | J27: ALTIGIERI | K27: LORD BYRON | M27: 1 | N27: FS 2 | O27: BARBARA | P27: GERMANI | Q27: ZERO | S27: 1 | T27: FS 3
A28: 2 | B28: FS 0 | C28: ILARIA | D28: GUGLIELMAN | E28: BLU | G28: 2 | H28: FS 1 | I28: RACHELE | J28: TULLI | K28: MELODY | M28: 2 | N28: FS 2 | O28: LAURA | P28: FARAONI | Q28: DREM | S28: 2 | T28: FS 3
A29: 3 | B29: FS 0 | C29: BARBARA | D29: CASTELLI | E29: VIOLETTA | G29: 3 | H29: FS 1 | M29: 3 | N29: FS 2 | O29: BARBARA | P29: CASTELLI | Q29: DELIZIA | S29: 3 | T29: FS 3
A30: 4 | B30: FS 0 | G30: 4 | H30: FS 1 | M30: 4 | N30: FS 2 | S30: 4 | T30: FS 3
A31: 5 | B31: FS 0 | G31: 5 | H31: FS 1 | M31: 5 | N31: FS 2 | S31: 5 | T31: FS 3
A32: 6 | B32: FS 0 | G32: 6 | H32: FS 1 | M32: 6 | N32: FS 2 | S32: 6 | T32: FS 3
A33: 7 | B33: FS 0 | G33: 7 | H33: FS 1 | M33: 7 | N33: FS 2 | S33: 7 | T33: FS 3
A34: 8 | B34: FS 0 | G34: 8 | H34: FS 1 | M34: 8 | N34: FS 2 | S34: 8 | T34: FS 3
A35: 9 | B35: FS 0 | G35: 9 | H35: FS 1 | M35: 9 | N35: FS 2 | S35: 9 | T35: FS 3
A36: 10 | B36: FS 0 | G36: 10 | H36: FS 1 | M36: 10 | N36: FS 2 | S36: 10 | T36: FS 3
A37: 11 | B37: FS 0 | G37: 11 | H37: FS 1 | M37: 11 | N37: FS 2 | S37: 11 | T37: FS 3
A38: 12 | B38: FS 0 | G38: 12 | H38: FS 1 | M38: 12 | N38: FS 2 | S38: 12 | T38: FS 3
A39: 13 | B39: FS 0 | G39: 13 | H39: FS 1 | M39: 13 | N39: FS 2 | S39: 13 | T39: FS 3
A40: 14 | B40: FS 0 | G40: 14 | H40: FS 1 | M40: 14 | N40: FS 2 | S40: 14 | T40: FS 3
A41: 15 | B41: FS 0 | G41: 15 | H41: FS 1 | M41: 15 | N41: FS 2 | S41: 15 | T41: FS 3
... A46: 20 | B46: FS 0 | G46: 20 | H46: FS 1 | M46: 20 | N46: FS 2 | S46: 20 | T46: FS 3
A48: # | B48: Classi | C48: Nome | D48: Cognome | E48: Cane | G48: # | H48: Classi | I48: Nome | J48: Cognome | K48: Cane | M48: # | N48: Classi | O48: Nome | P48: Cognome | Q48: Cane | S48: # | T48: Classi | U48: Nome | V48: Cognome | W48: Cane
A49: 1 | B49: Senioren Handicap | G49: 1 | H49: Trio | M49: 1 | N49: Quartett | S49: 1 | T49: Junior
A50: 2 | B50: Senioren Handicap | G50: 2 | H50: Trio | M50: 2 | N50: Quartett | S50: 2 | T50: Junior
A51: 3 | B51: Senioren Handicap | G51: 3 | H51: Trio | M51: 3 | N51: Quartett | S51: 3 | T51: Junior
A52: 4 | B52: Senioren Handicap | G52: 4 | H52: Trio | M52: 4 | N52: Quartett | S52: 4 | T52: Junior
A53: 5 | B53: Senioren Handicap | G53: 5 | H53: Trio | M53: 5 | N53: Quartett | S53: 5 | T53: Junior
A54: 6 | B54: Senioren Handicap | G54: 6 | H54: Trio | M54: 6 | N54: Quartett | S54: 6 | T54: Junior
A55: 7 | B55: Senioren Handicap | G55: 7 | H55: Trio | M55: 7 | N55: Quartett | S55: 7 | T55: Junior
A56: 8 | B56: Senioren Handicap | G56: 8 | H56: Trio | M56: 8 | N56: Quartett | S56: 8 | T56: Junior
A57: 9 | B57: Senioren Handicap | G57: 9 | H57: Trio | M57: 9 | N57: Quartett | S57: 9 | T57: Junior
A58: 10 | B58: Senioren Handicap | G58: 10 | H58: Trio | M58: 10 | N58: Quartett | S58: 10 | T58: Junior
A59: 11 | B59: Senioren Handicap | G59: 11 | H59: Trio | M59: 11 | N59: Quartett | S59: 11 | T59: Junior
A60: 12 | B60: Senioren Handicap | G60: 12 | H60: Trio | M60: 12 | N60: Quartett | S60: 12 | T60: Junior
... A68: 20 | B68: Senioren Handicap | G68: 20 | H68: Trio | M68: 20 | N68: Quartett | S68: 20 | T68: Junior

Sheet FS 2
B1: FS 2 | E1: ='List of Competitors'!B2 -> NARNI (TR)
E2: ='List of Competitors'!C2 -> 03/05/2026
A4: # | B4: Nome | C4: Cognome | D4: Cane | E4: Judge | F4: Team work | G4: Dinamicità | H4: Progetto | I4: Coreografia | J4: Fluidità | K4: Esecuzione | L4: Contenuto | M4: Difficoltà | N4: Punit | O4: Detrazioni di punti | V4: Totale | W4: punto di passaggio | X4: Posizionamento | Y4: Korr Punkte Teamwork, Fluss
O5: Abbaio e vocalizzazioni | P5: Salute del cane | Q5: costume / Oggetti di scena | R5: Lunghezze musicali errate | S5: Trattamento improprio del cane | T5: Contatto attivo | U5: Totale
F6: max. 25 | G6: max. 25 | H6: max. 25 | I6: max. 25 | J6: max. 25 | K6: max. 25 | L6: max. 25 | M6: max. 25 | O6: max. 20 | P6: max. 20 | Q6: max. 20 | R6: 1 Punkt / sec | S6: max. 20 | T6: max. 20
A7: 1 | B7: {=INDEX('List of Competitors'!O$27:O$46,MATCH($A7,'List of Competitors'!$M$27:$M$46,0))} -> BARBARA | C7: {=INDEX('List of Competitors'!P$27:P$46,MATCH($A7,'List of Competitors'!$M$27:$M$46,0))} -> GERMANI | D7: {=INDEX('List of Competitors'!Q$27:Q$46,MATCH($A7,'List of Competitors'!$M$27:$M$46,0))} -> ZERO | E7: Average | F7: =AVERAGE(F8:F10) -> 18.5 | G7: =AVERAGE(G8:G10) -> 19 | H7: =AVERAGE(H8:H10) -> 20 | I7: =AVERAGE(I8:I10) -> 19 | J7: =AVERAGE(J8:J10) -> 16.5 | K7: =AVERAGE(K8:K10) -> 17.5 | L7: =AVERAGE(L8:L10) -> 19 | M7: =AVERAGE(M8:M10) -> 19 | N7: =SUM(N8:N10)/IF(N10=0,2,3) -> 148.5 | O7: =SUM(O8:O10)/IF($N10=0,2,3) -> 1 | P7: =SUM(P8:P10)/IF($N10=0,2,3) -> 0 | Q7: =SUM(Q8:Q10)/IF($N10=0,2,3) -> 0 | R7: =SUM(R8:R10)/IF($N10=0,2,3) -> 0 | S7: =SUM(S8:S10)/IF($N10=0,2,3) -> 0 | T7: =SUM(T8:T10)/IF($N10=0,2,3) -> 0 | U7: =SUM(U8:U10)/IF(N10=0,2,3) -> 1 | V7: =N7-U7 -> 147.5 | W7: =IF(V7>=150,"Si","No") -> No | X7: =IF(V7=0,0,IF(ISERROR(RANK(V7,V:V)),"",RANK(Y7,Y:Y))) -> 3 | Y7: =IFERROR(V7+F7/100000+J7/10000000+G7/1000000000,0) -> 147.50019
E8: J3 | F8: 19 | G8: 19 | H8: 20 | I8: 19 | J8: 17 | K8: 18 | L8: 19 | M8: 19 | N8: =SUM(F8:M8) -> 150 | O8: 1 | U8: =SUM(O8:T8) -> 1
E9: J2 | F9: 18 | G9: 19 | H9: 20 | I9: 19 | J9: 16 | K9: 17 | L9: 19 | M9: 19 | N9: =SUM(F9:M9) -> 147 | O9: 1 | U9: =SUM(O9:T9) -> 1 | X9: =IF(ISERROR(RANK(#REF!,#REF!)),"",RANK(#REF!,#REF!))
E10: J3 | N10: =SUM(F10:M10) -> 0 | U10: =SUM(O10:T10) -> 0 | X10: =IF(ISERROR(RANK(#REF!,#REF!)),"",RANK(#REF!,#REF!))
A11: 2 | B11: {=INDEX('List of Competitors'!O$27:O$46,MATCH($A11,'List of Competitors'!$M$27:$M$46,0))} -> LAURA | C11: {=INDEX('List of Competitors'!P$27:P$46,MATCH($A11,'List of Competitors'!$M$27:$M$46,0))} -> FARAONI | D11: {=INDEX('List of Competitors'!Q$27:Q$46,MATCH($A11,'List of Competitors'!$M$27:$M$46,0))} -> DREM | E11: Average | F11: =AVERAGE(F12:F14) -> 21.5 | G11: =AVERAGE(G12:G14) -> 19.5 | H11: =AVERAGE(H12:H14) -> 20 | I11: =AVERAGE(I12:I14) -> 11 | J11: =AVERAGE(J12:J14) -> 20.5 | K11: =AVERAGE(K12:K14) -> 21 | L11: =AVERAGE(L12:L14) -> 21 | M11: =AVERAGE(M12:M14) -> 20.5 | N11: =SUM(N12:N14)/IF(N14=0,2,3) -> 155 | O11: =SUM(O12:O14)/IF($N14=0,2,3) -> 0.25 | P11: =SUM(P12:P14)/IF($N14=0,2,3) -> 0 | Q11: =SUM(Q12:Q14)/IF($N14=0,2,3) -> 0 | R11: =SUM(R12:R14)/IF($N14=0,2,3) -> 0 | S11: =SUM(S12:S14)/IF($N14=0,2,3) -> 0 | T11: =SUM(T12:T14)/IF($N14=0,2,3) -> 0 | U11: =SUM(U12:U14)/IF(N14=0,2,3) -> 0.25 | V11: =N11-U11 -> 154.75 | W11: =IF(V11>=150,"Si","No") -> Si | X11: =IF(V11=0,0,IF(ISERROR(RANK(V11,V:V)),"",RANK(Y11,Y:Y))) -> 1 | Y11: =IFERROR(V11+F11/100000+J11/10000000+G11/1000000000,0) -> 154.75022
E12: J3 | F12: 22 | G12: 20 | H12: 20 | I12: 20 | J12: 21 | K12: 20 | L12: 21 | M12: 21 | N12: =SUM(F12:M12) -> 165 | O12: 0.1 | U12: =SUM(O12:T12) -> 0.1
E13: J2 | F13: 21 | G13: 19 | H13: 20 | I13: 2 | J13: 20 | K13: 22 | L13: 21 | M13: 20 | N13: =SUM(F13:M13) -> 145 | O13: 0.4 | U13: =SUM(O13:T13) -> 0.4 | X13: =IF(ISERROR(RANK(#REF!,#REF!)),"",RANK(#REF!,#REF!))
E14: J3 | N14: =SUM(F14:M14) -> 0 | U14: =SUM(O14:T14) -> 0 | X14: =IF(ISERROR(RANK(#REF!,#REF!)),"",RANK(#REF!,#REF!))
A15: 3 | B15: {=INDEX('List of Competitors'!O$27:O$46,MATCH($A15,'List of Competitors'!$M$27:$M$46,0))} -> BARBARA | C15: {=INDEX('List of Competitors'!P$27:P$46,MATCH($A15,'List of Competitors'!$M$27:$M$46,0))} -> CASTELLI | D15: {=INDEX('List of Competitors'!Q$27:Q$46,MATCH($A15,'List of Competitors'!$M$27:$M$46,0))} -> DELIZIA | E15: Average | F15: =AVERAGE(F16:F18) -> 19 | G15: =AVERAGE(G16:G18) -> 19.5 | H15: =AVERAGE(H16:H18) -> 20 | I15: =AVERAGE(I16:I18) -> 19.5 | J15: =AVERAGE(J16:J18) -> 16 | K15: =AVERAGE(K16:K18) -> 17.5 | L15: =AVERAGE(L16:L18) -> 18.5 | M15: =AVERAGE(M16:M18) -> 18.5 | N15: =SUM(N16:N18)/IF(N18=0,2,3) -> 148.5 | O15: =SUM(O16:O18)/IF($N18=0,2,3) -> 0 | P15: =SUM(P16:P18)/IF($N18=0,2,3) -> 0 | Q15: =SUM(Q16:Q18)/IF($N18=0,2,3) -> 0 | R15: =SUM(R16:R18)/IF($N18=0,2,3) -> 0 | S15: =SUM(S16:S18)/IF($N18=0,2,3) -> 0 | T15: =SUM(T16:T18)/IF($N18=0,2,3) -> 0 | U15: =SUM(U16:U18)/IF(N18=0,2,3) -> 0 | V15: =N15-U15 -> 148.5 | W15: =IF(V15>=150,"Si","No") -> No | X15: =IF(V15=0,0,IF(ISERROR(RANK(V15,V:V)),"",RANK(Y15,Y:Y))) -> 2 | Y15: =IFERROR(V15+F15/100000+J15/10000000+G15/1000000000,0) -> 148.50019
E16: J3 | F16: 20 | G16: 19 | H16: 19 | I16: 20 | J16: 17 | K16: 19 | L16: 19 | M16: 19 | N16: =SUM(F16:M16) -> 152 | U16: =SUM(O16:T16) -> 0
E17: J2 | F17: 18 | G17: 20 | H17: 21 | I17: 19 | J17: 15 | K17: 16 | L17: 18 | M17: 18 | N17: =SUM(F17:M17) -> 145 | U17: =SUM(O17:T17) -> 0 | X17: =IF(ISERROR(RANK(#REF!,#REF!)),"",RANK(#REF!,#REF!))
E18: J3 | N18: =SUM(F18:M18) -> 0 | U18: =SUM(O18:T18) -> 0 | X18: =IF(ISERROR(RANK(#REF!,#REF!)),"",RANK(#REF!,#REF!))
A19: 4 | B19: {=INDEX('List of Competitors'!O$27:O$46,MATCH($A19,'List of Competitors'!$M$27:$M$46,0))} -> 0 | C19: {=INDEX('List of Competitors'!P$27:P$46,MATCH($A19,'List of Competitors'!$M$27:$M$46,0))} -> 0 | D19: {=INDEX('List of Competitors'!Q$27:Q$46,MATCH($A19,'List of Competitors'!$M$27:$M$46,0))} -> 0 | E19: Average | F19: =AVERAGE(F20:F22) -> #DIV/0! | G19: =AVERAGE(G20:G22) -> #DIV/0! | H19: =AVERAGE(H20:H22) -> #DIV/0! | I19: =AVERAGE(I20:I22) -> #DIV/0! | J19: =AVERAGE(J20:J22) -> #DIV/0! | K19: =AVERAGE(K20:K22) -> #DIV/0! | L19: =AVERAGE(L20:L22) -> #DIV/0! | M19: =AVERAGE(M20:M22) -> #DIV/0! | N19: =SUM(N20:N22)/IF(N22=0,2,3) -> 0 | O19: =SUM(O20:O22)/IF($N22=0,2,3) -> 0 | P19: =SUM(P20:P22)/IF($N22=0,2,3) -> 0 | Q19: =SUM(Q20:Q22)/IF($N22=0,2,3) -> 0 | R19: =SUM(R20:R22)/IF($N22=0,2,3) -> 0 | S19: =SUM(S20:S22)/IF($N22=0,2,3) -> 0 | T19: =SUM(T20:T22)/IF($N22=0,2,3) -> 0 | U19: =SUM(U20:U22)/IF(N22=0,2,3) -> 0 | V19: =N19-U19 -> 0 | W19: =IF(V19>=150,"Si","No") -> No | X19: =IF(V19=0,0,IF(ISERROR(RANK(V19,V:V)),"",RANK(Y19,Y:Y))) -> 0 | Y19: =IFERROR(V19+F19/100000+J19/10000000+G19/1000000000,0) -> 0
E20: J1 | N20: =SUM(F20:M20) -> 0 | U20: =SUM(O20:T20) -> 0
E21: J2 | N21: =SUM(F21:M21) -> 0 | U21: =SUM(O21:T21) -> 0 | X21: =IF(ISERROR(RANK(#REF!,#REF!)),"",RANK(#REF!,#REF!))
E22: J3 | N22: =SUM(F22:M22) -> 0 | U22: =SUM(O22:T22) -> 0 | X22: =IF(ISERROR(RANK(#REF!,#REF!)),"",RANK(#REF!,#REF!))
A23: 5 | B23: {=INDEX('List of Competitors'!O$27:O$46,MATCH($A23,'List of Competitors'!$M$27:$M$46,0))} -> 0 | C23: {=INDEX('List of Competitors'!P$27:P$46,MATCH($A23,'List of Competitors'!$M$27:$M$46,0))} -> 0 | D23: {=INDEX('List of Competitors'!Q$27:Q$46,MATCH($A23,'List of Competitors'!$M$27:$M$46,0))} -> 0 | E23: Average | F23: =AVERAGE(F24:F26) -> #DIV/0! | G23: =AVERAGE(G24:G26) -> #DIV/0! | H23: =AVERAGE(H24:H26) -> #DIV/0! | I23: =AVERAGE(I24:I26) -> #DIV/0! | J23: =AVERAGE(J24:J26) -> #DIV/0! | K23: =AVERAGE(K24:K26) -> #DIV/0! | L23: =AVERAGE(L24:L26) -> #DIV/0! | M23: =AVERAGE(M24:M26) -> #DIV/0! | N23: =SUM(N24:N26)/IF(N26=0,2,3) -> 0 | O23: =SUM(O24:O26)/IF($N26=0,2,3) -> 0 | P23: =SUM(P24:P26)/IF($N26=0,2,3) -> 0 | Q23: =SUM(Q24:Q26)/IF($N26=0,2,3) -> 0 | R23: =SUM(R24:R26)/IF($N26=0,2,3) -> 0 | S23: =SUM(S24:S26)/IF($N26=0,2,3) -> 0 | T23: =SUM(T24:T26)/IF($N26=0,2,3) -> 0 | U23: =SUM(U24:U26)/IF(N26=0,2,3) -> 0 | V23: =N23-U23 -> 0 | W23: =IF(V23>=150,"Si","No") -> No | X23: =IF(V23=0,0,IF(ISERROR(RANK(V23,V:V)),"",RANK(Y23,Y:Y))) -> 0 | Y23: =IFERROR(V23+F23/100000+J23/10000000+G23/1000000000,0) -> 0
E24: J1 | N24: =SUM(F24:M24) -> 0 | U24: =SUM(O24:T24) -> 0
E25: J2 | N25: =SUM(F25:M25) -> 0 | U25: =SUM(O25:T25) -> 0 | X25: =IF(ISERROR(RANK(#REF!,#REF!)),"",RANK(#REF!,#REF!))
E26: J3 | N26: =SUM(F26:M26) -> 0 | U26: =SUM(O26:T26) -> 0 | X26: =IF(ISERROR(RANK(#REF!,#REF!)),"",RANK(#REF!,#REF!))
A27: 6 | B27: {=INDEX('List of Competitors'!O$27:O$46,MATCH($A27,'List of Competitors'!$M$27:$M$46,0))} -> 0 | C27: {=INDEX('List of Competitors'!P$27:P$46,MATCH($A27,'List of Competitors'!$M$27:$M$46,0))} -> 0 | D27: {=INDEX('List of Competitors'!Q$27:Q$46,MATCH($A27,'List of Competitors'!$M$27:$M$46,0))} -> 0 | E27: Average | F27: =AVERAGE(F28:F30) -> #DIV/0! | G27: =AVERAGE(G28:G30) -> #DIV/0! | H27: =AVERAGE(H28:H30) -> #DIV/0! | I27: =AVERAGE(I28:I30) -> #DIV/0! | J27: =AVERAGE(J28:J30) -> #DIV/0! | K27: =AVERAGE(K28:K30) -> #DIV/0! | L27: =AVERAGE(L28:L30) -> #DIV/0! | M27: =AVERAGE(M28:M30) -> #DIV/0! | N27: =SUM(N28:N30)/IF(N30=0,2,3) -> 0 | O27: =SUM(O28:O30)/IF($N30=0,2,3) -> 0 | P27: =SUM(P28:P30)/IF($N30=0,2,3) -> 0 | Q27: =SUM(Q28:Q30)/IF($N30=0,2,3) -> 0 | R27: =SUM(R28:R30)/IF($N30=0,2,3) -> 0 | S27: =SUM(S28:S30)/IF($N30=0,2,3) -> 0 | T27: =SUM(T28:T30)/IF($N30=0,2,3) -> 0 | U27: =SUM(U28:U30)/IF(N30=0,2,3) -> 0 | V27: =N27-U27 -> 0 | W27: =IF(V27>=150,"Si","No") -> No | X27: =IF(V27=0,0,IF(ISERROR(RANK(V27,V:V)),"",RANK(Y27,Y:Y))) -> 0 | Y27: =IFERROR(V27+F27/100000+J27/10000000+G27/1000000000,0) -> 0
E28: J1 | N28: =SUM(F28:M28) -> 0 | U28: =SUM(O28:T28) -> 0
E29: J2 | N29: =SUM(F29:M29) -> 0 | U29: =SUM(O29:T29) -> 0 | X29: =IF(ISERROR(RANK(#REF!,#REF!)),"",RANK(#REF!,#REF!))
E30: J3 | N30: =SUM(F30:M30) -> 0 | U30: =SUM(O30:T30) -> 0 | X30: =IF(ISERROR(RANK(#REF!,#REF!)),"",RANK(#REF!,#REF!))
A31: 7 | B31: {=INDEX('List of Competitors'!O$27:O$46,MATCH($A31,'List of Competitors'!$M$27:$M$46,0))} -> 0 | C31: {=INDEX('List of Competitors'!P$27:P$46,MATCH($A31,'List of Competitors'!$M$27:$M$46,0))} -> 0 | D31: {=INDEX('List of Competitors'!Q$27:Q$46,MATCH($A31,'List of Competitors'!$M$27:$M$46,0))} -> 0 | E31: Average | F31: =AVERAGE(F32:F34) -> #DIV/0! | G31: =AVERAGE(G32:G34) -> #DIV/0! | H31: =AVERAGE(H32:H34) -> #DIV/0! | I31: =AVERAGE(I32:I34) -> #DIV/0! | J31: =AVERAGE(J32:J34) -> #DIV/0! | K31: =AVERAGE(K32:K34) -> #DIV/0! | L31: =AVERAGE(L32:L34) -> #DIV/0! | M31: =AVERAGE(M32:M34) -> #DIV/0! | N31: =SUM(N32:N34)/IF(N34=0,2,3) -> 0 | O31: =SUM(O32:O34)/IF($N34=0,2,3) -> 0 | P31: =SUM(P32:P34)/IF($N34=0,2,3) -> 0 | Q31: =SUM(Q32:Q34)/IF($N34=0,2,3) -> 0 | R31: =SUM(R32:R34)/IF($N34=0,2,3) -> 0 | S31: =SUM(S32:S34)/IF($N34=0,2,3) -> 0 | T31: =SUM(T32:T34)/IF($N34=0,2,3) -> 0 | U31: =SUM(U32:U34)/IF(N34=0,2,3) -> 0 | V31: =N31-U31 -> 0 | W31: =IF(V31>=150,"Si","No") -> No | X31: =IF(V31=0,0,IF(ISERROR(RANK(V31,V:V)),"",RANK(Y31,Y:Y))) -> 0 | Y31: =IFERROR(V31+F31/100000+J31/10000000+G31/1000000000,0) -> 0
E32: J1 | N32: =SUM(F32:M32) -> 0 | U32: =SUM(O32:T32) -> 0
E33: J2 | N33: =SUM(F33:M33) -> 0 | U33: =SUM(O33:T33) -> 0 | X33: =IF(ISERROR(RANK(#REF!,#REF!)),"",RANK(#REF!,#REF!))
E34: J3 | N34: =SUM(F34:M34) -> 0 | U34: =SUM(O34:T34) -> 0 | X34: =IF(ISERROR(RANK(#REF!,#REF!)),"",RANK(#REF!,#REF!))
A35: 8 | B35: {=INDEX('List of Competitors'!O$27:O$46,MATCH($A35,'List of Competitors'!$M$27:$M$46,0))} -> 0 | C35: {=INDEX('List of Competitors'!P$27:P$46,MATCH($A35,'List of Competitors'!$M$27:$M$46,0))} -> 0 | D35: {=INDEX('List of Competitors'!Q$27:Q$46,MATCH($A35,'List of Competitors'!$M$27:$M$46,0))} -> 0 | E35: Average | F35: =AVERAGE(F36:F38) -> #DIV/0! | G35: =AVERAGE(G36:G38) -> #DIV/0! | H35: =AVERAGE(H36:H38) -> #DIV/0! | I35: =AVERAGE(I36:I38) -> #DIV/0! | J35: =AVERAGE(J36:J38) -> #DIV/0! | K35: =AVERAGE(K36:K38) -> #DIV/0! | L35: =AVERAGE(L36:L38) -> #DIV/0! | M35: =AVERAGE(M36:M38) -> #DIV/0! | N35: =SUM(N36:N38)/IF(N38=0,2,3) -> 0 | O35: =SUM(O36:O38)/IF($N38=0,2,3) -> 0 | P35: =SUM(P36:P38)/IF($N38=0,2,3) -> 0 | Q35: =SUM(Q36:Q38)/IF($N38=0,2,3) -> 0 | R35: =SUM(R36:R38)/IF($N38=0,2,3) -> 0 | S35: =SUM(S36:S38)/IF($N38=0,2,3) -> 0 | T35: =SUM(T36:T38)/IF($N38=0,2,3) -> 0 | U35: =SUM(U36:U38)/IF(N38=0,2,3) -> 0 | V35: =N35-U35 -> 0 | W35: =IF(V35>=150,"Si","No") -> No | X35: =IF(V35=0,0,IF(ISERROR(RANK(V35,V:V)),"",RANK(Y35,Y:Y))) -> 0 | Y35: =IFERROR(V35+F35/100000+J35/10000000+G35/1000000000,0) -> 0
E36: J1 | N36: =SUM(F36:M36) -> 0 | U36: =SUM(O36:T36) -> 0
E37: J2 | N37: =SUM(F37:M37) -> 0 | U37: =SUM(O37:T37) -> 0 | X37: =IF(ISERROR(RANK(#REF!,#REF!)),"",RANK(#REF!,#REF!))
E38: J3 | N38: =SUM(F38:M38) -> 0 | U38: =SUM(O38:T38) -> 0 | X38: =IF(ISERROR(RANK(#REF!,#REF!)),"",RANK(#REF!,#REF!))
A39: 9 | B39: {=INDEX('List of Competitors'!O$27:O$46,MATCH($A39,'List of Competitors'!$M$27:$M$46,0))} -> 0 | C39: {=INDEX('List of Competitors'!P$27:P$46,MATCH($A39,'List of Competitors'!$M$27:$M$46,0))} -> 0 | D39: {=INDEX('List of Competitors'!Q$27:Q$46,MATCH($A39,'List of Competitors'!$M$27:$M$46,0))} -> 0 | E39: Average | F39: =AVERAGE(F40:F42) -> #DIV/0! | G39: =AVERAGE(G40:G42) -> #DIV/0! | H39: =AVERAGE(H40:H42) -> #DIV/0! | I39: =AVERAGE(I40:I42) -> #DIV/0! | J39: =AVERAGE(J40:J42) -> #DIV/0! | K39: =AVERAGE(K40:K42) -> #DIV/0! | L39: =AVERAGE(L40:L42) -> #DIV/0! | M39: =AVERAGE(M40:M42) -> #DIV/0! | N39: =SUM(N40:N42)/IF(N42=0,2,3) -> 0 | O39: =SUM(O40:O42)/IF($N42=0,2,3) -> 0 | P39: =SUM(P40:P42)/IF($N42=0,2,3) -> 0 | Q39: =SUM(Q40:Q42)/IF($N42=0,2,3) -> 0 | R39: =SUM(R40:R42)/IF($N42=0,2,3) -> 0 | S39: =SUM(S40:S42)/IF($N42=0,2,3) -> 0 | T39: =SUM(T40:T42)/IF($N42=0,2,3) -> 0 | U39: =SUM(U40:U42)/IF(N42=0,2,3) -> 0 | V39: =N39-U39 -> 0 | W39: =IF(V39>=150,"Si","No") -> No | X39: =IF(V39=0,0,IF(ISERROR(RANK(V39,V:V)),"",RANK(Y39,Y:Y))) -> 0 | Y39: =IFERROR(V39+F39/100000+J39/10000000+G39/1000000000,0) -> 0
E40: J1 | N40: =SUM(F40:M40) -> 0 | U40: =SUM(O40:T40) -> 0
E41: J2 | N41: =SUM(F41:M41) -> 0 | U41: =SUM(O41:T41) -> 0 | X41: =IF(ISERROR(RANK(#REF!,#REF!)),"",RANK(#REF!,#REF!))
E42: J3 | N42: =SUM(F42:M42) -> 0 | U42: =SUM(O42:T42) -> 0 | X42: =IF(ISERROR(RANK(#REF!,#REF!)),"",RANK(#REF!,#REF!))
A43: 10 | B43: {=INDEX('List of Competitors'!O$27:O$46,MATCH($A43,'List of Competitors'!$M$27:$M$46,0))} -> 0 | C43: {=INDEX('List of Competitors'!P$27:P$46,MATCH($A43,'List of Competitors'!$M$27:$M$46,0))} -> 0 | D43: {=INDEX('List of Competitors'!Q$27:Q$46,MATCH($A43,'List of Competitors'!$M$27:$M$46,0))} -> 0 | E43: Average | F43: =AVERAGE(F44:F46) -> #DIV/0! | G43: =AVERAGE(G44:G46) -> #DIV/0! | H43: =AVERAGE(H44:H46) -> #DIV/0! | I43: =AVERAGE(I44:I46) -> #DIV/0! | J43: =AVERAGE(J44:J46) -> #DIV/0! | K43: =AVERAGE(K44:K46) -> #DIV/0! | L43: =AVERAGE(L44:L46) -> #DIV/0! | M43: =AVERAGE(M44:M46) -> #DIV/0! | N43: =SUM(N44:N46)/IF(N46=0,2,3) -> 0 | O43: =SUM(O44:O46)/IF($N46=0,2,3) -> 0 | P43: =SUM(P44:P46)/IF($N46=0,2,3) -> 0 | Q43: =SUM(Q44:Q46)/IF($N46=0,2,3) -> 0 | R43: =SUM(R44:R46)/IF($N46=0,2,3) -> 0 | S43: =SUM(S44:S46)/IF($N46=0,2,3) -> 0 | T43: =SUM(T44:T46)/IF($N46=0,2,3) -> 0 | U43: =SUM(U44:U46)/IF(N46=0,2,3) -> 0 | V43: =N43-U43 -> 0 | W43: =IF(V43>=150,"Si","No") -> No | X43: =IF(V43=0,0,IF(ISERROR(RANK(V43,V:V)),"",RANK(Y43,Y:Y))) -> 0 | Y43: =IFERROR(V43+F43/100000+J43/10000000+G43/1000000000,0) -> 0
E44: J1 | N44: =SUM(F44:M44) -> 0 | U44: =SUM(O44:T44) -> 0
E45: J2 | N45: =SUM(F45:M45) -> 0 | U45: =SUM(O45:T45) -> 0 | X45: =IF(ISERROR(RANK(#REF!,#REF!)),"",RANK(#REF!,#REF!))
E46: J3 | N46: =SUM(F46:M46) -> 0 | U46: =SUM(O46:T46) -> 0 | X46: =IF(ISERROR(RANK(#REF!,#REF!)),"",RANK(#REF!,#REF!))
A47: 11 | B47: {=INDEX('List of Competitors'!O$27:O$46,MATCH($A47,'List of Competitors'!$M$27:$M$46,0))} -> 0 | C47: {=INDEX('List of Competitors'!P$27:P$46,MATCH($A47,'List of Competitors'!$M$27:$M$46,0))} -> 0 | D47: {=INDEX('List of Competitors'!Q$27:Q$46,MATCH($A47,'List of Competitors'!$M$27:$M$46,0))} -> 0 | E47: Average | F47: =AVERAGE(F48:F50) -> #DIV/0! | G47: =AVERAGE(G48:G50) -> #DIV/0! | H47: =AVERAGE(H48:H50) -> #DIV/0! | I47: =AVERAGE(I48:I50) -> #DIV/0! | J47: =AVERAGE(J48:J50) -> #DIV/0! | K47: =AVERAGE(K48:K50) -> #DIV/0! | L47: =AVERAGE(L48:L50) -> #DIV/0! | M47: =AVERAGE(M48:M50) -> #DIV/0! | N47: =SUM(N48:N50)/IF(N50=0,2,3) -> 0 | O47: =SUM(O48:O50)/IF($N50=0,2,3) -> 0 | P47: =SUM(P48:P50)/IF($N50=0,2,3) -> 0 | Q47: =SUM(Q48:Q50)/IF($N50=0,2,3) -> 0 | R47: =SUM(R48:R50)/IF($N50=0,2,3) -> 0 | S47: =SUM(S48:S50)/IF($N50=0,2,3) -> 0 | T47: =SUM(T48:T50)/IF($N50=0,2,3) -> 0 | U47: =SUM(U48:U50)/IF(N50=0,2,3) -> 0 | V47: =N47-U47 -> 0 | W47: =IF(V47>=150,"Si","No") -> No | X47: =IF(V47=0,0,IF(ISERROR(RANK(V47,V:V)),"",RANK(Y47,Y:Y))) -> 0 | Y47: =IFERROR(V47+F47/100000+J47/10000000+G47/1000000000,0) -> 0
E48: J1 | N48: =SUM(F48:M48) -> 0 | U48: =SUM(O48:T48) -> 0
E49: J2 | N49: =SUM(F49:M49) -> 0 | U49: =SUM(O49:T49) -> 0 | X49: =IF(ISERROR(RANK(#REF!,#REF!)),"",RANK(#REF!,#REF!))
E50: J3 | N50: =SUM(F50:M50) -> 0 | U50: =SUM(O50:T50) -> 0 | X50: =IF(ISERROR(RANK(#REF!,#REF!)),"",RANK(#REF!,#REF!))
A51: 12 | B51: {=INDEX('List of Competitors'!O$27:O$46,MATCH($A51,'List of Competitors'!$M$27:$M$46,0))} -> 0 | C51: {=INDEX('List of Competitors'!P$27:P$46,MATCH($A51,'List of Competitors'!$M$27:$M$46,0))} -> 0 | D51: {=INDEX('List of Competitors'!Q$27:Q$46,MATCH($A51,'List of Competitors'!$M$27:$M$46,0))} -> 0 | E51: Average | F51: =AVERAGE(F52:F54) -> #DIV/0! | G51: =AVERAGE(G52:G54) -> #DIV/0! | H51: =AVERAGE(H52:H54) -> #DIV/0! | I51: =AVERAGE(I52:I54) -> #DIV/0! | J51: =AVERAGE(J52:J54) -> #DIV/0! | K51: =AVERAGE(K52:K54) -> #DIV/0! | L51: =AVERAGE(L52:L54) -> #DIV/0! | M51: =AVERAGE(M52:M54) -> #DIV/0! | N51: =SUM(N52:N54)/IF(N54=0,2,3) -> 0 | O51: =SUM(O52:O54)/IF($N54=0,2,3) -> 0 | P51: =SUM(P52:P54)/IF($N54=0,2,3) -> 0 | Q51: =SUM(Q52:Q54)/IF($N54=0,2,3) -> 0 | R51: =SUM(R52:R54)/IF($N54=0,2,3) -> 0 | S51: =SUM(S52:S54)/IF($N54=0,2,3) -> 0 | T51: =SUM(T52:T54)/IF($N54=0,2,3) -> 0 | U51: =SUM(U52:U54)/IF(N54=0,2,3) -> 0 | V51: =N51-U51 -> 0 | W51: =IF(V51>=150,"Si","No") -> No | X51: =IF(V51=0,0,IF(ISERROR(RANK(V51,V:V)),"",RANK(Y51,Y:Y))) -> 0 | Y51: =IFERROR(V51+F51/100000+J51/10000000+G51/1000000000,0) -> 0
E52: J1 | N52: =SUM(F52:M52) -> 0 | U52: =SUM(O52:T52) -> 0
E53: J2 | N53: =SUM(F53:M53) -> 0 | U53: =SUM(O53:T53) -> 0 | X53: =IF(ISERROR(RANK(#REF!,#REF!)),"",RANK(#REF!,#REF!))
E54: J3 | N54: =SUM(F54:M54) -> 0 | U54: =SUM(O54:T54) -> 0 | X54: =IF(ISERROR(RANK(#REF!,#REF!)),"",RANK(#REF!,#REF!))
A55: 13 | B55: {=INDEX('List of Competitors'!O$27:O$46,MATCH($A55,'List of Competitors'!$M$27:$M$46,0))} -> 0 | C55: {=INDEX('List of Competitors'!P$27:P$46,MATCH($A55,'List of Competitors'!$M$27:$M$46,0))} -> 0 | D55: {=INDEX('List of Competitors'!Q$27:Q$46,MATCH($A55,'List of Competitors'!$M$27:$M$46,0))} -> 0 | E55: Average | F55: =AVERAGE(F56:F58) -> #DIV/0! | G55: =AVERAGE(G56:G58) -> #DIV/0! | H55: =AVERAGE(H56:H58) -> #DIV/0! | I55: =AVERAGE(I56:I58) -> #DIV/0! | J55: =AVERAGE(J56:J58) -> #DIV/0! | K55: =AVERAGE(K56:K58) -> #DIV/0! | L55: =AVERAGE(L56:L58) -> #DIV/0! | M55: =AVERAGE(M56:M58) -> #DIV/0! | N55: =SUM(N56:N58)/IF(N58=0,2,3) -> 0 | O55: =SUM(O56:O58)/IF($N58=0,2,3) -> 0 | P55: =SUM(P56:P58)/IF($N58=0,2,3) -> 0 | Q55: =SUM(Q56:Q58)/IF($N58=0,2,3) -> 0 | R55: =SUM(R56:R58)/IF($N58=0,2,3) -> 0 | S55: =SUM(S56:S58)/IF($N58=0,2,3) -> 0 | T55: =SUM(T56:T58)/IF($N58=0,2,3) -> 0 | U55: =SUM(U56:U58)/IF(N58=0,2,3) -> 0 | V55: =N55-U55 -> 0 | W55: =IF(V55>=150,"Si","No") -> No | X55: =IF(V55=0,0,IF(ISERROR(RANK(V55,V:V)),"",RANK(Y55,Y:Y))) -> 0 | Y55: =IFERROR(V55+F55/100000+J55/10000000+G55/1000000000,0) -> 0
E56: J1 | N56: =SUM(F56:M56) -> 0 | U56: =SUM(O56:T56) -> 0
E57: J2 | N57: =SUM(F57:M57) -> 0 | U57: =SUM(O57:T57) -> 0 | X57: =IF(ISERROR(RANK(#REF!,#REF!)),"",RANK(#REF!,#REF!))
E58: J3 | N58: =SUM(F58:M58) -> 0 | U58: =SUM(O58:T58) -> 0 | X58: =IF(ISERROR(RANK(#REF!,#REF!)),"",RANK(#REF!,#REF!))
A59: 14 | B59: {=INDEX('List of Competitors'!O$27:O$46,MATCH($A59,'List of Competitors'!$M$27:$M$46,0))} -> 0 | C59: {=INDEX('List of Competitors'!P$27:P$46,MATCH($A59,'List of Competitors'!$M$27:$M$46,0))} -> 0 | D59: {=INDEX('List of Competitors'!Q$27:Q$46,MATCH($A59,'List of Competitors'!$M$27:$M$46,0))} -> 0 | E59: Average | F59: =AVERAGE(F60:F62) -> #DIV/0! | G59: =AVERAGE(G60:G62) -> #DIV/0! | H59: =AVERAGE(H60:H62) -> #DIV/0! | I59: =AVERAGE(I60:I62) -> #DIV/0! | J59: =AVERAGE(J60:J62) -> #DIV/0! | K59: =AVERAGE(K60:K62) -> #DIV/0! | L59: =AVERAGE(L60:L62) -> #DIV/0! | M59: =AVERAGE(M60:M62) -> #DIV/0! | N59: =SUM(N60:N62)/IF(N62=0,2,3) -> 0 | O59: =SUM(O60:O62)/IF($N62=0,2,3) -> 0 | P59: =SUM(P60:P62)/IF($N62=0,2,3) -> 0 | Q59: =SUM(Q60:Q62)/IF($N62=0,2,3) -> 0 | R59: =SUM(R60:R62)/IF($N62=0,2,3) -> 0 | S59: =SUM(S60:S62)/IF($N62=0,2,3) -> 0 | T59: =SUM(T60:T62)/IF($N62=0,2,3) -> 0 | U59: =SUM(U60:U62)/IF(N62=0,2,3) -> 0 | V59: =N59-U59 -> 0 | W59: =IF(V59>=150,"Si","No") -> No | X59: =IF(V59=0,0,IF(ISERROR(RANK(V59,V:V)),"",RANK(Y59,Y:Y))) -> 0 | Y59: =IFERROR(V59+F59/100000+J59/10000000+G59/1000000000,0) -> 0
E60: J1 | N60: =SUM(F60:M60) -> 0 | U60: =SUM(O60:T60) -> 0
E61: J2 | N61: =SUM(F61:M61) -> 0 | U61: =SUM(O61:T61) -> 0 | X61: =IF(ISERROR(RANK(#REF!,#REF!)),"",RANK(#REF!,#REF!))
E62: J3 | N62: =SUM(F62:M62) -> 0 | U62: =SUM(O62:T62) -> 0 | X62: =IF(ISERROR(RANK(#REF!,#REF!)),"",RANK(#REF!,#REF!))
A63: 15 | B63: {=INDEX('List of Competitors'!O$27:O$46,MATCH($A63,'List of Competitors'!$M$27:$M$46,0))} -> 0 | C63: {=INDEX('List of Competitors'!P$27:P$46,MATCH($A63,'List of Competitors'!$M$27:$M$46,0))} -> 0 | D63: {=INDEX('List of Competitors'!Q$27:Q$46,MATCH($A63,'List of Competitors'!$M$27:$M$46,0))} -> 0 | E63: Average | F63: =AVERAGE(F64:F66) -> #DIV/0! | G63: =AVERAGE(G64:G66) -> #DIV/0! | H63: =AVERAGE(H64:H66) -> #DIV/0! | I63: =AVERAGE(I64:I66) -> #DIV/0! | J63: =AVERAGE(J64:J66) -> #DIV/0! | K63: =AVERAGE(K64:K66) -> #DIV/0! | L63: =AVERAGE(L64:L66) -> #DIV/0! | M63: =AVERAGE(M64:M66) -> #DIV/0! | N63: =SUM(N64:N66)/IF(N66=0,2,3) -> 0 | O63: =SUM(O64:O66)/IF($N66=0,2,3) -> 0 | P63: =SUM(P64:P66)/IF($N66=0,2,3) -> 0 | Q63: =SUM(Q64:Q66)/IF($N66=0,2,3) -> 0 | R63: =SUM(R64:R66)/IF($N66=0,2,3) -> 0 | S63: =SUM(S64:S66)/IF($N66=0,2,3) -> 0 | T63: =SUM(T64:T66)/IF($N66=0,2,3) -> 0 | U63: =SUM(U64:U66)/IF(N66=0,2,3) -> 0 | V63: =N63-U63 -> 0 | W63: =IF(V63>=150,"Si","No") -> No | X63: =IF(V63=0,0,IF(ISERROR(RANK(V63,V:V)),"",RANK(Y63,Y:Y))) -> 0 | Y63: =IFERROR(V63+F63/100000+J63/10000000+G63/1000000000,0) -> 0
E64: J1 | N64: =SUM(F64:M64) -> 0 | U64: =SUM(O64:T64) -> 0
E65: J2 | N65: =SUM(F65:M65) -> 0 | U65: =SUM(O65:T65) -> 0 | X65: =IF(ISERROR(RANK(#REF!,#REF!)),"",RANK(#REF!,#REF!))
E66: J3 | N66: =SUM(F66:M66) -> 0 | U66: =SUM(O66:T66) -> 0 | X66: =IF(ISERROR(RANK(#REF!,#REF!)),"",RANK(#REF!,#REF!))
A67: 16 | B67: {=INDEX('List of Competitors'!O$27:O$46,MATCH($A67,'List of Competitors'!$M$27:$M$46,0))} -> 0 | C67: {=INDEX('List of Competitors'!P$27:P$46,MATCH($A67,'List of Competitors'!$M$27:$M$46,0))} -> 0 | D67: {=INDEX('List of Competitors'!Q$27:Q$46,MATCH($A67,'List of Competitors'!$M$27:$M$46,0))} -> 0 | E67: Average | F67: =AVERAGE(F68:F70) -> #DIV/0! | G67: =AVERAGE(G68:G70) -> #DIV/0! | H67: =AVERAGE(H68:H70) -> #DIV/0! | I67: =AVERAGE(I68:I70) -> #DIV/0! | J67: =AVERAGE(J68:J70) -> #DIV/0! | K67: =AVERAGE(K68:K70) -> #DIV/0! | L67: =AVERAGE(L68:L70) -> #DIV/0! | M67: =AVERAGE(M68:M70) -> #DIV/0! | N67: =SUM(N68:N70)/IF(N70=0,2,3) -> 0 | O67: =SUM(O68:O70)/IF($N70=0,2,3) -> 0 | P67: =SUM(P68:P70)/IF($N70=0,2,3) -> 0 | Q67: =SUM(Q68:Q70)/IF($N70=0,2,3) -> 0 | R67: =SUM(R68:R70)/IF($N70=0,2,3) -> 0 | S67: =SUM(S68:S70)/IF($N70=0,2,3) -> 0 | T67: =SUM(T68:T70)/IF($N70=0,2,3) -> 0 | U67: =SUM(U68:U70)/IF(N70=0,2,3) -> 0 | V67: =N67-U67 -> 0 | W67: =IF(V67>=150,"Si","No") -> No | X67: =IF(V67=0,0,IF(ISERROR(RANK(V67,V:V)),"",RANK(Y67,Y:Y))) -> 0 | Y67: =IFERROR(V67+F67/100000+J67/10000000+G67/1000000000,0) -> 0
E68: J1 | N68: =SUM(F68:M68) -> 0 | U68: =SUM(O68:T68) -> 0
E69: J2 | N69: =SUM(F69:M69) -> 0 | U69: =SUM(O69:T69) -> 0 | X69: =IF(ISERROR(RANK(#REF!,#REF!)),"",RANK(#REF!,#REF!))
E70: J3 | N70: =SUM(F70:M70) -> 0 | U70: =SUM(O70:T70) -> 0 | X70: =IF(ISERROR(RANK(#REF!,#REF!)),"",RANK(#REF!,#REF!))
A71: 17 | B71: {=INDEX('List of Competitors'!O$27:O$46,MATCH($A71,'List of Competitors'!$M$27:$M$46,0))} -> 0 | C71: {=INDEX('List of Competitors'!P$27:P$46,MATCH($A71,'List of Competitors'!$M$27:$M$46,0))} -> 0 | D71: {=INDEX('List of Competitors'!Q$27:Q$46,MATCH($A71,'List of Competitors'!$M$27:$M$46,0))} -> 0 | E71: Average | F71: =AVERAGE(F72:F74) -> #DIV/0! | G71: =AVERAGE(G72:G74) -> #DIV/0! | H71: =AVERAGE(H72:H74) -> #DIV/0! | I71: =AVERAGE(I72:I74) -> #DIV/0! | J71: =AVERAGE(J72:J74) -> #DIV/0! | K71: =AVERAGE(K72:K74) -> #DIV/0! | L71: =AVERAGE(L72:L74) -> #DIV/0! | M71: =AVERAGE(M72:M74) -> #DIV/0! | N71: =SUM(N72:N74)/IF(N74=0,2,3) -> 0 | O71: =SUM(O72:O74)/IF($N74=0,2,3) -> 0 | P71: =SUM(P72:P74)/IF($N74=0,2,3) -> 0 | Q71: =SUM(Q72:Q74)/IF($N74=0,2,3) -> 0 | R71: =SUM(R72:R74)/IF($N74=0,2,3) -> 0 | S71: =SUM(S72:S74)/IF($N74=0,2,3) -> 0 | T71: =SUM(T72:T74)/IF($N74=0,2,3) -> 0 | U71: =SUM(U72:U74)/IF(N74=0,2,3) -> 0 | V71: =N71-U71 -> 0 | W71: =IF(V71>=150,"Si","No") -> No | X71: =IF(V71=0,0,IF(ISERROR(RANK(V71,V:V)),"",RANK(Y71,Y:Y))) -> 0 | Y71: =IFERROR(V71+F71/100000+J71/10000000+G71/1000000000,0) -> 0
E72: J1 | N72: =SUM(F72:M72) -> 0 | U72: =SUM(O72:T72) -> 0
E73: J2 | N73: =SUM(F73:M73) -> 0 | U73: =SUM(O73:T73) -> 0 | X73: =IF(ISERROR(RANK(#REF!,#REF!)),"",RANK(#REF!,#REF!))
E74: J3 | N74: =SUM(F74:M74) -> 0 | U74: =SUM(O74:T74) -> 0 | X74: =IF(ISERROR(RANK(#REF!,#REF!)),"",RANK(#REF!,#REF!))
A75: 18 | B75: {=INDEX('List of Competitors'!O$27:O$46,MATCH($A75,'List of Competitors'!$M$27:$M$46,0))} -> 0 | C75: {=INDEX('List of Competitors'!P$27:P$46,MATCH($A75,'List of Competitors'!$M$27:$M$46,0))} -> 0 | D75: {=INDEX('List of Competitors'!Q$27:Q$46,MATCH($A75,'List of Competitors'!$M$27:$M$46,0))} -> 0 | E75: Average | F75: =AVERAGE(F76:F78) -> #DIV/0! | G75: =AVERAGE(G76:G78) -> #DIV/0! | H75: =AVERAGE(H76:H78) -> #DIV/0! | I75: =AVERAGE(I76:I78) -> #DIV/0! | J75: =AVERAGE(J76:J78) -> #DIV/0! | K75: =AVERAGE(K76:K78) -> #DIV/0! | L75: =AVERAGE(L76:L78) -> #DIV/0! | M75: =AVERAGE(M76:M78) -> #DIV/0! | N75: =SUM(N76:N78)/IF(N78=0,2,3) -> 0 | O75: =SUM(O76:O78)/IF($N78=0,2,3) -> 0 | P75: =SUM(P76:P78)/IF($N78=0,2,3) -> 0 | Q75: =SUM(Q76:Q78)/IF($N78=0,2,3) -> 0 | R75: =SUM(R76:R78)/IF($N78=0,2,3) -> 0 | S75: =SUM(S76:S78)/IF($N78=0,2,3) -> 0 | T75: =SUM(T76:T78)/IF($N78=0,2,3) -> 0 | U75: =SUM(U76:U78)/IF(N78=0,2,3) -> 0 | V75: =N75-U75 -> 0 | W75: =IF(V75>=150,"Si","No") -> No | X75: =IF(V75=0,0,IF(ISERROR(RANK(V75,V:V)),"",RANK(Y75,Y:Y))) -> 0 | Y75: =IFERROR(V75+F75/100000+J75/10000000+G75/1000000000,0) -> 0
E76: J1 | N76: =SUM(F76:M76) -> 0 | U76: =SUM(O76:T76) -> 0
E77: J2 | N77: =SUM(F77:M77) -> 0 | U77: =SUM(O77:T77) -> 0 | X77: =IF(ISERROR(RANK(#REF!,#REF!)),"",RANK(#REF!,#REF!))
E78: J3 | N78: =SUM(F78:M78) -> 0 | U78: =SUM(O78:T78) -> 0 | X78: =IF(ISERROR(RANK(#REF!,#REF!)),"",RANK(#REF!,#REF!))
A79: 19 | B79: {=INDEX('List of Competitors'!O$27:O$46,MATCH($A79,'List of Competitors'!$M$27:$M$46,0))} -> 0 | C79: {=INDEX('List of Competitors'!P$27:P$46,MATCH($A79,'List of Competitors'!$M$27:$M$46,0))} -> 0 | D79: {=INDEX('List of Competitors'!Q$27:Q$46,MATCH($A79,'List of Competitors'!$M$27:$M$46,0))} -> 0 | E79: Average | F79: =AVERAGE(F80:F82) -> #DIV/0! | G79: =AVERAGE(G80:G82) -> #DIV/0! | H79: =AVERAGE(H80:H82) -> #DIV/0! | I79: =AVERAGE(I80:I82) -> #DIV/0! | J79: =AVERAGE(J80:J82) -> #DIV/0! | K79: =AVERAGE(K80:K82) -> #DIV/0! | L79: =AVERAGE(L80:L82) -> #DIV/0! | M79: =AVERAGE(M80:M82) -> #DIV/0! | N79: =SUM(N80:N82)/IF(N82=0,2,3) -> 0 | O79: =SUM(O80:O82)/IF($N82=0,2,3) -> 0 | P79: =SUM(P80:P82)/IF($N82=0,2,3) -> 0 | Q79: =SUM(Q80:Q82)/IF($N82=0,2,3) -> 0 | R79: =SUM(R80:R82)/IF($N82=0,2,3) -> 0 | S79: =SUM(S80:S82)/IF($N82=0,2,3) -> 0 | T79: =SUM(T80:T82)/IF($N82=0,2,3) -> 0 | U79: =SUM(U80:U82)/IF(N82=0,2,3) -> 0 | V79: =N79-U79 -> 0 | W79: =IF(V79>=150,"Si","No") -> No | X79: =IF(V79=0,0,IF(ISERROR(RANK(V79,V:V)),"",RANK(Y79,Y:Y))) -> 0 | Y79: =IFERROR(V79+F79/100000+J79/10000000+G79/1000000000,0) -> 0
E80: J1 | N80: =SUM(F80:M80) -> 0 | U80: =SUM(O80:T80) -> 0
E81: J2 | N81: =SUM(F81:M81) -> 0 | U81: =SUM(O81:T81) -> 0 | X81: =IF(ISERROR(RANK(#REF!,#REF!)),"",RANK(#REF!,#REF!))
E82: J3 | N82: =SUM(F82:M82) -> 0 | U82: =SUM(O82:T82) -> 0 | X82: =IF(ISERROR(RANK(#REF!,#REF!)),"",RANK(#REF!,#REF!))
A83: 20 | B83: {=INDEX('List of Competitors'!O$27:O$46,MATCH($A83,'List of Competitors'!$M$27:$M$46,0))} -> 0 | C83: {=INDEX('List of Competitors'!P$27:P$46,MATCH($A83,'List of Competitors'!$M$27:$M$46,0))} -> 0 | D83: {=INDEX('List of Competitors'!Q$27:Q$46,MATCH($A83,'List of Competitors'!$M$27:$M$46,0))} -> 0 | E83: Average | F83: =AVERAGE(F84:F86) -> #DIV/0! | G83: =AVERAGE(G84:G86) -> #DIV/0! | H83: =AVERAGE(H84:H86) -> #DIV/0! | I83: =AVERAGE(I84:I86) -> #DIV/0! | J83: =AVERAGE(J84:J86) -> #DIV/0! | K83: =AVERAGE(K84:K86) -> #DIV/0! | L83: =AVERAGE(L84:L86) -> #DIV/0! | M83: =AVERAGE(M84:M86) -> #DIV/0! | N83: =SUM(N84:N86)/IF(N86=0,2,3) -> 0 | O83: =SUM(O84:O86)/IF($N86=0,2,3) -> 0 | P83: =SUM(P84:P86)/IF($N86=0,2,3) -> 0 | Q83: =SUM(Q84:Q86)/IF($N86=0,2,3) -> 0 | R83: =SUM(R84:R86)/IF($N86=0,2,3) -> 0 | S83: =SUM(S84:S86)/IF($N86=0,2,3) -> 0 | T83: =SUM(T84:T86)/IF($N86=0,2,3) -> 0 | U83: =SUM(U84:U86)/IF(N86=0,2,3) -> 0 | V83: =N83-U83 -> 0 | W83: =IF(V83>=150,"Si","No") -> No | X83: =IF(V83=0,0,IF(ISERROR(RANK(V83,V:V)),"",RANK(Y83,Y:Y))) -> 0 | Y83: =IFERROR(V83+F83/100000+J83/10000000+G83/1000000000,0) -> 0
E84: J1 | N84: =SUM(F84:M84) -> 0 | U84: =SUM(O84:T84) -> 0
E85: J2 | N85: =SUM(F85:M85) -> 0 | U85: =SUM(O85:T85) -> 0 | X85: =IF(ISERROR(RANK(#REF!,#REF!)),"",RANK(#REF!,#REF!))
E86: J3 | N86: =SUM(F86:M86) -> 0 | U86: =SUM(O86:T86) -> 0 | X86: =IF(ISERROR(RANK(#REF!,#REF!)),"",RANK(#REF!,#REF!))

Sheet HTM 2
B1: HTM 2 | E1: ='List of Competitors'!B2 -> NARNI (TR)
E2: ='List of Competitors'!C2 -> 03/05/2026
A4: # | B4: Nome | C4: Cognome | D4: Cane | E4: Judge | F4: Team work | G4: Dinamicità | H4: Progetto | I4: Coreografia | J4: Fluidità | K4: Esecuzione | L4: Contenuto | M4: Difficoltà | N4: Punit | O4: Detrazioni di punti | W4: Totale | X4: punto di passaggio | Y4: Posizionamento | Z4: Korr Punkte Teamwork, Fluss
O5: Abbaio e vocalizzazioni | P5: Salute del cane | Q5: costume / Oggetti di scena | R5: Lunghezze musicali errate | S5: Trattamento improprio del cane | T5: Contatto attivo | U5: % HTM | V5: Totale
F6: max. 25 | G6: max. 25 | H6: max. 25 | I6: max. 25 | J6: max. 25 | K6: max. 25 | L6: max. 25 | M6: max. 25 | O6: max. 20 | P6: max. 20 | Q6: max. 20 | R6: 1 Punkt / sec | S6: max. 20 | T6: max. 20 | U6: [X]
A7: 1 | B7: {=INDEX('List of Competitors'!O$5:O$24,MATCH($A7,'List of Competitors'!$M$5:$M$24,0))} -> EVA LISA | C7: {=INDEX('List of Competitors'!P$5:P$24,MATCH($A7,'List of Competitors'!$M$5:$M$24,0))} -> NEGRO | D7: {=INDEX('List of Competitors'!Q$5:Q$24,MATCH($A7,'List of Competitors'!$M$5:$M$24,0))} -> REDHONEY MADAME | E7: Average | F7: =AVERAGE(F8:F10) -> 18 | G7: =AVERAGE(G8:G10) -> 18.5 | H7: =AVERAGE(H8:H10) -> 20 | I7: =AVERAGE(I8:I10) -> 20 | J7: =AVERAGE(J8:J10) -> 16.5 | K7: =AVERAGE(K8:K10) -> 17 | L7: =AVERAGE(L8:L10) -> 20.5 | M7: =AVERAGE(M8:M10) -> 21 | N7: =SUM(N8:N10)/IF(N10=0,2,3) -> 151.5 | O7: =SUM(O8:O10)/IF($N10=0,2,3) -> 0 | P7: =SUM(P8:P10)/IF($N10=0,2,3) -> 0 | Q7: =SUM(Q8:Q10)/IF($N10=0,2,3) -> 0 | R7: =SUM(R8:R10)/IF($N10=0,2,3) -> 0 | S7: =SUM(S8:S10)/IF($N10=0,2,3) -> 0 | T7: =SUM(T8:T10)/IF($N10=0,2,3) -> 0 | V7: =SUM(V8:V10)/IF(N10=0,2,3) -> 0 | W7: =N7-V7 -> 151.5 | X7: =IF(W7>=150,"Si","No") -> Si | Y7: =IF(W7=0,0,IF(ISERROR(RANK(W7,W:W)),"",RANK(Z7,Z:Z))) -> 2 | Z7: =IFERROR(W7+F7/100000+J7/10000000+G7/1000000000,0) -> 151.50018
E8: J1 | F8: 18 | G8: 18 | H8: 20 | I8: 20 | J8: 16 | K8: 16 | L8: 21 | M8: 21 | N8: =SUM(F8:M8) -> 150 | V8: =SUM(O8:T8) -> 0
E9: J2 | F9: 18 | G9: 19 | H9: 20 | I9: 20 | J9: 17 | K9: 18 | L9: 20 | M9: 21 | N9: =SUM(F9:M9) -> 153 | V9: =SUM(O9:T9) -> 0 | Y9: =IF(ISERROR(RANK(#REF!,#REF!)),"",RANK(#REF!,#REF!))
E10: J3 | N10: =SUM(F10:M10) -> 0 | V10: =SUM(O10:T10) -> 0 | Y10: =IF(ISERROR(RANK(#REF!,#REF!)),"",RANK(#REF!,#REF!))
A11: 2 | B11: {=INDEX('List of Competitors'!O$5:O$24,MATCH($A11,'List of Competitors'!$M$5:$M$24,0))} -> LAURA | C11: {=INDEX('List of Competitors'!P$5:P$24,MATCH($A11,'List of Competitors'!$M$5:$M$24,0))} -> FARAONI | D11: {=INDEX('List of Competitors'!Q$5:Q$24,MATCH($A11,'List of Competitors'!$M$5:$M$24,0))} -> DREAM | E11: Average | F11: =AVERAGE(F12:F14) -> 20 | G11: =AVERAGE(G12:G14) -> 18.5 | H11: =AVERAGE(H12:H14) -> 20 | I11: =AVERAGE(I12:I14) -> 20.5 | J11: =AVERAGE(J12:J14) -> 18 | K11: =AVERAGE(K12:K14) -> 18 | L11: =AVERAGE(L12:L14) -> 19 | M11: =AVERAGE(M12:M14) -> 18.5 | N11: =SUM(N12:N14)/IF(N14=0,2,3) -> 152.5 | O11: =SUM(O12:O14)/IF($N14=0,2,3) -> 0 | P11: =SUM(P12:P14)/IF($N14=0,2,3) -> 0 | Q11: =SUM(Q12:Q14)/IF($N14=0,2,3) -> 0 | R11: =SUM(R12:R14)/IF($N14=0,2,3) -> 0 | S11: =SUM(S12:S14)/IF($N14=0,2,3) -> 0 | T11: =SUM(T12:T14)/IF($N14=0,2,3) -> 0 | V11: =SUM(V12:V14)/IF(N14=0,2,3) -> 0 | W11: =N11-V11 -> 152.5 | X11: =IF(W11>=150,"Si","No") -> Si | Y11: =IF(W11=0,0,IF(ISERROR(RANK(W11,W:W)),"",RANK(Z11,Z:Z))) -> 1 | Z11: =IFERROR(W11+F11/100000+J11/10000000+G11/1000000000,0) -> 152.5002
E12: J1 | F12: 20 | G12: 18 | H12: 20 | I12: 20 | J12: 18 | K12: 17 | L12: 19 | M12: 19 | N12: =SUM(F12:M12) -> 151 | V12: =SUM(O12:T12) -> 0
E13: J2 | F13: 20 | G13: 19 | H13: 20 | I13: 21 | J13: 18 | K13: 19 | L13: 19 | M13: 18 | N13: =SUM(F13:M13) -> 154 | V13: =SUM(O13:T13) -> 0 | Y13: =IF(ISERROR(RANK(#REF!,#REF!)),"",RANK(#REF!,#REF!))
E14: J3 | N14: =SUM(F14:M14) -> 0 | V14: =SUM(O14:T14) -> 0 | Y14: =IF(ISERROR(RANK(#REF!,#REF!)),"",RANK(#REF!,#REF!))
A15: 3 | B15: {=INDEX('List of Competitors'!O$5:O$24,MATCH($A15,'List of Competitors'!$M$5:$M$24,0))} -> 0 | C15: {=INDEX('List of Competitors'!P$5:P$24,MATCH($A15,'List of Competitors'!$M$5:$M$24,0))} -> 0 | D15: {=INDEX('List of Competitors'!Q$5:Q$24,MATCH($A15,'List of Competitors'!$M$5:$M$24,0))} -> 0 | E15: Average | F15: =AVERAGE(F16:F18) -> #DIV/0! | G15: =AVERAGE(G16:G18) -> #DIV/0! | H15: =AVERAGE(H16:H18) -> #DIV/0! | I15: =AVERAGE(I16:I18) -> #DIV/0! | J15: =AVERAGE(J16:J18) -> #DIV/0! | K15: =AVERAGE(K16:K18) -> #DIV/0! | L15: =AVERAGE(L16:L18) -> #DIV/0! | M15: =AVERAGE(M16:M18) -> #DIV/0! | N15: =SUM(N16:N18)/IF(N18=0,2,3) -> 0 | O15: =SUM(O16:O18)/IF($N18=0,2,3) -> 0 | P15: =SUM(P16:P18)/IF($N18=0,2,3) -> 0 | Q15: =SUM(Q16:Q18)/IF($N18=0,2,3) -> 0 | R15: =SUM(R16:R18)/IF($N18=0,2,3) -> 0 | S15: =SUM(S16:S18)/IF($N18=0,2,3) -> 0 | T15: =SUM(T16:T18)/IF($N18=0,2,3) -> 0 | V15: =SUM(V16:V18)/IF(N18=0,2,3) -> 0 | W15: =N15-V15 -> 0 | X15: =IF(W15>=150,"Si","No") -> No | Y15: =IF(W15=0,0,IF(ISERROR(RANK(W15,W:W)),"",RANK(Z15,Z:Z))) -> 0 | Z15: =IFERROR(W15+F15/100000+J15/10000000+G15/1000000000,0) -> 0
E16: J1 | N16: =SUM(F16:M16) -> 0 | V16: =SUM(O16:T16) -> 0
E17: J2 | N17: =SUM(F17:M17) -> 0 | V17: =SUM(O17:T17) -> 0 | Y17: =IF(ISERROR(RANK(#REF!,#REF!)),"",RANK(#REF!,#REF!))
E18: J3 | N18: =SUM(F18:M18) -> 0 | V18: =SUM(O18:T18) -> 0 | Y18: =IF(ISERROR(RANK(#REF!,#REF!)),"",RANK(#REF!,#REF!))
A19: 4 | B19: {=INDEX('List of Competitors'!O$5:O$24,MATCH($A19,'List of Competitors'!$M$5:$M$24,0))} -> 0 | C19: {=INDEX('List of Competitors'!P$5:P$24,MATCH($A19,'List of Competitors'!$M$5:$M$24,0))} -> 0 | D19: {=INDEX('List of Competitors'!Q$5:Q$24,MATCH($A19,'List of Competitors'!$M$5:$M$24,0))} -> 0 | E19: Average | F19: =AVERAGE(F20:F22) -> #DIV/0! | G19: =AVERAGE(G20:G22) -> #DIV/0! | H19: =AVERAGE(H20:H22) -> #DIV/0! | I19: =AVERAGE(I20:I22) -> #DIV/0! | J19: =AVERAGE(J20:J22) -> #DIV/0! | K19: =AVERAGE(K20:K22) -> #DIV/0! | L19: =AVERAGE(L20:L22) -> #DIV/0! | M19: =AVERAGE(M20:M22) -> #DIV/0! | N19: =SUM(N20:N22)/IF(N22=0,2,3) -> 0 | O19: =SUM(O20:O22)/IF($N22=0,2,3) -> 0 | P19: =SUM(P20:P22)/IF($N22=0,2,3) -> 0 | Q19: =SUM(Q20:Q22)/IF($N22=0,2,3) -> 0 | R19: =SUM(R20:R22)/IF($N22=0,2,3) -> 0 | S19: =SUM(S20:S22)/IF($N22=0,2,3) -> 0 | T19: =SUM(T20:T22)/IF($N22=0,2,3) -> 0 | V19: =SUM(V20:V22)/IF(N22=0,2,3) -> 0 | W19: =N19-V19 -> 0 | X19: =IF(W19>=150,"Si","No") -> No | Y19: =IF(W19=0,0,IF(ISERROR(RANK(W19,W:W)),"",RANK(Z19,Z:Z))) -> 0 | Z19: =IFERROR(W19+F19/100000+J19/10000000+G19/1000000000,0) -> 0
E20: J1 | N20: =SUM(F20:M20) -> 0 | V20: =SUM(O20:T20) -> 0
E21: J2 | N21: =SUM(F21:M21) -> 0 | V21: =SUM(O21:T21) -> 0 | Y21: =IF(ISERROR(RANK(#REF!,#REF!)),"",RANK(#REF!,#REF!))
E22: J3 | N22: =SUM(F22:M22) -> 0 | V22: =SUM(O22:T22) -> 0 | Y22: =IF(ISERROR(RANK(#REF!,#REF!)),"",RANK(#REF!,#REF!))
A23: 5 | B23: {=INDEX('List of Competitors'!O$5:O$24,MATCH($A23,'List of Competitors'!$M$5:$M$24,0))} -> 0 | C23: {=INDEX('List of Competitors'!P$5:P$24,MATCH($A23,'List of Competitors'!$M$5:$M$24,0))} -> 0 | D23: {=INDEX('List of Competitors'!Q$5:Q$24,MATCH($A23,'List of Competitors'!$M$5:$M$24,0))} -> 0 | E23: Average | F23: =AVERAGE(F24:F26) -> #DIV/0! | G23: =AVERAGE(G24:G26) -> #DIV/0! | H23: =AVERAGE(H24:H26) -> #DIV/0! | I23: =AVERAGE(I24:I26) -> #DIV/0! | J23: =AVERAGE(J24:J26) -> #DIV/0! | K23: =AVERAGE(K24:K26) -> #DIV/0! | L23: =AVERAGE(L24:L26) -> #DIV/0! | M23: =AVERAGE(M24:M26) -> #DIV/0! | N23: =SUM(N24:N26)/IF(N26=0,2,3) -> 0 | O23: =SUM(O24:O26)/IF($N26=0,2,3) -> 0 | P23: =SUM(P24:P26)/IF($N26=0,2,3) -> 0 | Q23: =SUM(Q24:Q26)/IF($N26=0,2,3) -> 0 | R23: =SUM(R24:R26)/IF($N26=0,2,3) -> 0 | S23: =SUM(S24:S26)/IF($N26=0,2,3) -> 0 | T23: =SUM(T24:T26)/IF($N26=0,2,3) -> 0 | V23: =SUM(V24:V26)/IF(N26=0,2,3) -> 0 | W23: =N23-V23 -> 0 | X23: =IF(W23>=150,"Si","No") -> No | Y23: =IF(W23=0,0,IF(ISERROR(RANK(W23,W:W)),"",RANK(Z23,Z:Z))) -> 0 | Z23: =IFERROR(W23+F23/100000+J23/10000000+G23/1000000000,0) -> 0
E24: J1 | N24: =SUM(F24:M24) -> 0 | V24: =SUM(O24:T24) -> 0
E25: J2 | N25: =SUM(F25:M25) -> 0 | V25: =SUM(O25:T25) -> 0 | Y25: =IF(ISERROR(RANK(#REF!,#REF!)),"",RANK(#REF!,#REF!))
E26: J3 | N26: =SUM(F26:M26) -> 0 | V26: =SUM(O26:T26) -> 0 | Y26: =IF(ISERROR(RANK(#REF!,#REF!)),"",RANK(#REF!,#REF!))
A27: 6 | B27: {=INDEX('List of Competitors'!O$5:O$24,MATCH($A27,'List of Competitors'!$M$5:$M$24,0))} -> 0 | C27: {=INDEX('List of Competitors'!P$5:P$24,MATCH($A27,'List of Competitors'!$M$5:$M$24,0))} -> 0 | D27: {=INDEX('List of Competitors'!Q$5:Q$24,MATCH($A27,'List of Competitors'!$M$5:$M$24,0))} -> 0 | E27: Average | F27: =AVERAGE(F28:F30) -> #DIV/0! | G27: =AVERAGE(G28:G30) -> #DIV/0! | H27: =AVERAGE(H28:H30) -> #DIV/0! | I27: =AVERAGE(I28:I30) -> #DIV/0! | J27: =AVERAGE(J28:J30) -> #DIV/0! | K27: =AVERAGE(K28:K30) -> #DIV/0! | L27: =AVERAGE(L28:L30) -> #DIV/0! | M27: =AVERAGE(M28:M30) -> #DIV/0! | N27: =SUM(N28:N30)/IF(N30=0,2,3) -> 0 | O27: =SUM(O28:O30)/IF($N30=0,2,3) -> 0 | P27: =SUM(P28:P30)/IF($N30=0,2,3) -> 0 | Q27: =SUM(Q28:Q30)/IF($N30=0,2,3) -> 0 | R27: =SUM(R28:R30)/IF($N30=0,2,3) -> 0 | S27: =SUM(S28:S30)/IF($N30=0,2,3) -> 0 | T27: =SUM(T28:T30)/IF($N30=0,2,3) -> 0 | V27: =SUM(V28:V30)/IF(N30=0,2,3) -> 0 | W27: =N27-V27 -> 0 | X27: =IF(W27>=150,"Si","No") -> No | Y27: =IF(W27=0,0,IF(ISERROR(RANK(W27,W:W)),"",RANK(Z27,Z:Z))) -> 0 | Z27: =IFERROR(W27+F27/100000+J27/10000000+G27/1000000000,0) -> 0
E28: J1 | N28: =SUM(F28:M28) -> 0 | V28: =SUM(O28:T28) -> 0
E29: J2 | N29: =SUM(F29:M29) -> 0 | V29: =SUM(O29:T29) -> 0 | Y29: =IF(ISERROR(RANK(#REF!,#REF!)),"",RANK(#REF!,#REF!))
E30: J3 | N30: =SUM(F30:M30) -> 0 | V30: =SUM(O30:T30) -> 0 | Y30: =IF(ISERROR(RANK(#REF!,#REF!)),"",RANK(#REF!,#REF!))
A31: 7 | B31: {=INDEX('List of Competitors'!O$5:O$24,MATCH($A31,'List of Competitors'!$M$5:$M$24,0))} -> 0 | C31: {=INDEX('List of Competitors'!P$5:P$24,MATCH($A31,'List of Competitors'!$M$5:$M$24,0))} -> 0 | D31: {=INDEX('List of Competitors'!Q$5:Q$24,MATCH($A31,'List of Competitors'!$M$5:$M$24,0))} -> 0 | E31: Average | F31: =AVERAGE(F32:F34) -> #DIV/0! | G31: =AVERAGE(G32:G34) -> #DIV/0! | H31: =AVERAGE(H32:H34) -> #DIV/0! | I31: =AVERAGE(I32:I34) -> #DIV/0! | J31: =AVERAGE(J32:J34) -> #DIV/0! | K31: =AVERAGE(K32:K34) -> #DIV/0! | L31: =AVERAGE(L32:L34) -> #DIV/0! | M31: =AVERAGE(M32:M34) -> #DIV/0! | N31: =SUM(N32:N34)/IF(N34=0,2,3) -> 0 | O31: =SUM(O32:O34)/IF($N34=0,2,3) -> 0 | P31: =SUM(P32:P34)/IF($N34=0,2,3) -> 0 | Q31: =SUM(Q32:Q34)/IF($N34=0,2,3) -> 0 | R31: =SUM(R32:R34)/IF($N34=0,2,3) -> 0 | S31: =SUM(S32:S34)/IF($N34=0,2,3) -> 0 | T31: =SUM(T32:T34)/IF($N34=0,2,3) -> 0 | V31: =SUM(V32:V34)/IF(N34=0,2,3) -> 0 | W31: =N31-V31 -> 0 | X31: =IF(W31>=150,"Si","No") -> No | Y31: =IF(W31=0,0,IF(ISERROR(RANK(W31,W:W)),"",RANK(Z31,Z:Z))) -> 0 | Z31: =IFERROR(W31+F31/100000+J31/10000000+G31/1000000000,0) -> 0
E32: J1 | N32: =SUM(F32:M32) -> 0 | V32: =SUM(O32:T32) -> 0
E33: J2 | N33: =SUM(F33:M33) -> 0 | V33: =SUM(O33:T33) -> 0 | Y33: =IF(ISERROR(RANK(#REF!,#REF!)),"",RANK(#REF!,#REF!))
E34: J3 | N34: =SUM(F34:M34) -> 0 | V34: =SUM(O34:T34) -> 0 | Y34: =IF(ISERROR(RANK(#REF!,#REF!)),"",RANK(#REF!,#REF!))
A35: 8 | B35: {=INDEX('List of Competitors'!O$5:O$24,MATCH($A35,'List of Competitors'!$M$5:$M$24,0))} -> 0 | C35: {=INDEX('List of Competitors'!P$5:P$24,MATCH($A35,'List of Competitors'!$M$5:$M$24,0))} -> 0 | D35: {=INDEX('List of Competitors'!Q$5:Q$24,MATCH($A35,'List of Competitors'!$M$5:$M$24,0))} -> 0 | E35: Average | F35: =AVERAGE(F36:F38) -> #DIV/0! | G35: =AVERAGE(G36:G38) -> #DIV/0! | H35: =AVERAGE(H36:H38) -> #DIV/0! | I35: =AVERAGE(I36:I38) -> #DIV/0! | J35: =AVERAGE(J36:J38) -> #DIV/0! | K35: =AVERAGE(K36:K38) -> #DIV/0! | L35: =AVERAGE(L36:L38) -> #DIV/0! | M35: =AVERAGE(M36:M38) -> #DIV/0! | N35: =SUM(N36:N38)/IF(N38=0,2,3) -> 0 | O35: =SUM(O36:O38)/IF($N38=0,2,3) -> 0 | P35: =SUM(P36:P38)/IF($N38=0,2,3) -> 0 | Q35: =SUM(Q36:Q38)/IF($N38=0,2,3) -> 0 | R35: =SUM(R36:R38)/IF($N38=0,2,3) -> 0 | S35: =SUM(S36:S38)/IF($N38=0,2,3) -> 0 | T35: =SUM(T36:T38)/IF($N38=0,2,3) -> 0 | V35: =SUM(V36:V38)/IF(N38=0,2,3) -> 0 | W35: =N35-V35 -> 0 | X35: =IF(W35>=150,"Si","No") -> No | Y35: =IF(W35=0,0,IF(ISERROR(RANK(W35,W:W)),"",RANK(Z35,Z:Z))) -> 0 | Z35: =IFERROR(W35+F35/100000+J35/10000000+G35/1000000000,0) -> 0
E36: J1 | N36: =SUM(F36:M36) -> 0 | V36: =SUM(O36:T36) -> 0
E37: J2 | N37: =SUM(F37:M37) -> 0 | V37: =SUM(O37:T37) -> 0 | Y37: =IF(ISERROR(RANK(#REF!,#REF!)),"",RANK(#REF!,#REF!))
E38: J3 | N38: =SUM(F38:M38) -> 0 | V38: =SUM(O38:T38) -> 0 | Y38: =IF(ISERROR(RANK(#REF!,#REF!)),"",RANK(#REF!,#REF!))
A39: 9 | B39: {=INDEX('List of Competitors'!O$5:O$24,MATCH($A39,'List of Competitors'!$M$5:$M$24,0))} -> 0 | C39: {=INDEX('List of Competitors'!P$5:P$24,MATCH($A39,'List of Competitors'!$M$5:$M$24,0))} -> 0 | D39: {=INDEX('List of Competitors'!Q$5:Q$24,MATCH($A39,'List of Competitors'!$M$5:$M$24,0))} -> 0 | E39: Average | F39: =AVERAGE(F40:F42) -> #DIV/0! | G39: =AVERAGE(G40:G42) -> #DIV/0! | H39: =AVERAGE(H40:H42) -> #DIV/0! | I39: =AVERAGE(I40:I42) -> #DIV/0! | J39: =AVERAGE(J40:J42) -> #DIV/0! | K39: =AVERAGE(K40:K42) -> #DIV/0! | L39: =AVERAGE(L40:L42) -> #DIV/0! | M39: =AVERAGE(M40:M42) -> #DIV/0! | N39: =SUM(N40:N42)/IF(N42=0,2,3) -> 0 | O39: =SUM(O40:O42)/IF($N42=0,2,3) -> 0 | P39: =SUM(P40:P42)/IF($N42=0,2,3) -> 0 | Q39: =SUM(Q40:Q42)/IF($N42=0,2,3) -> 0 | R39: =SUM(R40:R42)/IF($N42=0,2,3) -> 0 | S39: =SUM(S40:S42)/IF($N42=0,2,3) -> 0 | T39: =SUM(T40:T42)/IF($N42=0,2,3) -> 0 | V39: =SUM(V40:V42)/IF(N42=0,2,3) -> 0 | W39: =N39-V39 -> 0 | X39: =IF(W39>=150,"Si","No") -> No | Y39: =IF(W39=0,0,IF(ISERROR(RANK(W39,W:W)),"",RANK(Z39,Z:Z))) -> 0 | Z39: =IFERROR(W39+F39/100000+J39/10000000+G39/1000000000,0) -> 0
E40: J1 | N40: =SUM(F40:M40) -> 0 | V40: =SUM(O40:T40) -> 0
E41: J2 | N41: =SUM(F41:M41) -> 0 | V41: =SUM(O41:T41) -> 0 | Y41: =IF(ISERROR(RANK(#REF!,#REF!)),"",RANK(#REF!,#REF!))
E42: J3 | N42: =SUM(F42:M42) -> 0 | V42: =SUM(O42:T42) -> 0 | Y42: =IF(ISERROR(RANK(#REF!,#REF!)),"",RANK(#REF!,#REF!))
A43: 10 | B43: {=INDEX('List of Competitors'!O$5:O$24,MATCH($A43,'List of Competitors'!$M$5:$M$24,0))} -> 0 | C43: {=INDEX('List of Competitors'!P$5:P$24,MATCH($A43,'List of Competitors'!$M$5:$M$24,0))} -> 0 | D43: {=INDEX('List of Competitors'!Q$5:Q$24,MATCH($A43,'List of Competitors'!$M$5:$M$24,0))} -> 0 | E43: Average | F43: =AVERAGE(F44:F46) -> #DIV/0! | G43: =AVERAGE(G44:G46) -> #DIV/0! | H43: =AVERAGE(H44:H46) -> #DIV/0! | I43: =AVERAGE(I44:I46) -> #DIV/0! | J43: =AVERAGE(J44:J46) -> #DIV/0! | K43: =AVERAGE(K44:K46) -> #DIV/0! | L43: =AVERAGE(L44:L46) -> #DIV/0! | M43: =AVERAGE(M44:M46) -> #DIV/0! | N43: =SUM(N44:N46)/IF(N46=0,2,3) -> 0 | O43: =SUM(O44:O46)/IF($N46=0,2,3) -> 0 | P43: =SUM(P44:P46)/IF($N46=0,2,3) -> 0 | Q43: =SUM(Q44:Q46)/IF($N46=0,2,3) -> 0 | R43: =SUM(R44:R46)/IF($N46=0,2,3) -> 0 | S43: =SUM(S44:S46)/IF($N46=0,2,3) -> 0 | T43: =SUM(T44:T46)/IF($N46=0,2,3) -> 0 | V43: =SUM(V44:V46)/IF(N46=0,2,3) -> 0 | W43: =N43-V43 -> 0 | X43: =IF(W43>=150,"Si","No") -> No | Y43: =IF(W43=0,0,IF(ISERROR(RANK(W43,W:W)),"",RANK(Z43,Z:Z))) -> 0 | Z43: =IFERROR(W43+F43/100000+J43/10000000+G43/1000000000,0) -> 0
E44: J1 | N44: =SUM(F44:M44) -> 0 | V44: =SUM(O44:T44) -> 0
E45: J2 | N45: =SUM(F45:M45) -> 0 | V45: =SUM(O45:T45) -> 0 | Y45: =IF(ISERROR(RANK(#REF!,#REF!)),"",RANK(#REF!,#REF!))
E46: J3 | N46: =SUM(F46:M46) -> 0 | V46: =SUM(O46:T46) -> 0 | Y46: =IF(ISERROR(RANK(#REF!,#REF!)),"",RANK(#REF!,#REF!))
A47: 11 | B47: {=INDEX('List of Competitors'!O$5:O$24,MATCH($A47,'List of Competitors'!$M$5:$M$24,0))} -> 0 | C47: {=INDEX('List of Competitors'!P$5:P$24,MATCH($A47,'List of Competitors'!$M$5:$M$24,0))} -> 0 | D47: {=INDEX('List of Competitors'!Q$5:Q$24,MATCH($A47,'List of Competitors'!$M$5:$M$24,0))} -> 0 | E47: Average | F47: =AVERAGE(F48:F50) -> #DIV/0! | G47: =AVERAGE(G48:G50) -> #DIV/0! | H47: =AVERAGE(H48:H50) -> #DIV/0! | I47: =AVERAGE(I48:I50) -> #DIV/0! | J47: =AVERAGE(J48:J50) -> #DIV/0! | K47: =AVERAGE(K48:K50) -> #DIV/0! | L47: =AVERAGE(L48:L50) -> #DIV/0! | M47: =AVERAGE(M48:M50) -> #DIV/0! | N47: =SUM(N48:N50)/IF(N50=0,2,3) -> 0 | O47: =SUM(O48:O50)/IF($N50=0,2,3) -> 0 | P47: =SUM(P48:P50)/IF($N50=0,2,3) -> 0 | Q47: =SUM(Q48:Q50)/IF($N50=0,2,3) -> 0 | R47: =SUM(R48:R50)/IF($N50=0,2,3) -> 0 | S47: =SUM(S48:S50)/IF($N50=0,2,3) -> 0 | T47: =SUM(T48:T50)/IF($N50=0,2,3) -> 0 | V47: =SUM(V48:V50)/IF(N50=0,2,3) -> 0 | W47: =N47-V47 -> 0 | X47: =IF(W47>=150,"Si","No") -> No | Y47: =IF(W47=0,0,IF(ISERROR(RANK(W47,W:W)),"",RANK(Z47,Z:Z))) -> 0 | Z47: =IFERROR(W47+F47/100000+J47/10000000+G47/1000000000,0) -> 0
E48: J1 | N48: =SUM(F48:M48) -> 0 | V48: =SUM(O48:T48) -> 0
E49: J2 | N49: =SUM(F49:M49) -> 0 | V49: =SUM(O49:T49) -> 0 | Y49: =IF(ISERROR(RANK(#REF!,#REF!)),"",RANK(#REF!,#REF!))
E50: J3 | N50: =SUM(F50:M50) -> 0 | V50: =SUM(O50:T50) -> 0 | Y50: =IF(ISERROR(RANK(#REF!,#REF!)),"",RANK(#REF!,#REF!))
A51: 12 | B51: {=INDEX('List of Competitors'!O$5:O$24,MATCH($A51,'List of Competitors'!$M$5:$M$24,0))} -> 0 | C51: {=INDEX('List of Competitors'!P$5:P$24,MATCH($A51,'List of Competitors'!$M$5:$M$24,0))} -> 0 | D51: {=INDEX('List of Competitors'!Q$5:Q$24,MATCH($A51,'List of Competitors'!$M$5:$M$24,0))} -> 0 | E51: Average | F51: =AVERAGE(F52:F54) -> #DIV/0! | G51: =AVERAGE(G52:G54) -> #DIV/0! | H51: =AVERAGE(H52:H54) -> #DIV/0! | I51: =AVERAGE(I52:I54) -> #DIV/0! | J51: =AVERAGE(J52:J54) -> #DIV/0! | K51: =AVERAGE(K52:K54) -> #DIV/0! | L51: =AVERAGE(L52:L54) -> #DIV/0! | M51: =AVERAGE(M52:M54) -> #DIV/0! | N51: =SUM(N52:N54)/IF(N54=0,2,3) -> 0 | O51: =SUM(O52:O54)/IF($N54=0,2,3) -> 0 | P51: =SUM(P52:P54)/IF($N54=0,2,3) -> 0 | Q51: =SUM(Q52:Q54)/IF($N54=0,2,3) -> 0 | R51: =SUM(R52:R54)/IF($N54=0,2,3) -> 0 | S51: =SUM(S52:S54)/IF($N54=0,2,3) -> 0 | T51: =SUM(T52:T54)/IF($N54=0,2,3) -> 0 | V51: =SUM(V52:V54)/IF(N54=0,2,3) -> 0 | W51: =N51-V51 -> 0 | X51: =IF(W51>=150,"Si","No") -> No | Y51: =IF(W51=0,0,IF(ISERROR(RANK(W51,W:W)),"",RANK(Z51,Z:Z))) -> 0 | Z51: =IFERROR(W51+F51/100000+J51/10000000+G51/1000000000,0) -> 0
E52: J1 | N52: =SUM(F52:M52) -> 0 | V52: =SUM(O52:T52) -> 0
E53: J2 | N53: =SUM(F53:M53) -> 0 | V53: =SUM(O53:T53) -> 0 | Y53: =IF(ISERROR(RANK(#REF!,#REF!)),"",RANK(#REF!,#REF!))
E54: J3 | N54: =SUM(F54:M54) -> 0 | V54: =SUM(O54:T54) -> 0 | Y54: =IF(ISERROR(RANK(#REF!,#REF!)),"",RANK(#REF!,#REF!))
A55: 13 | B55: {=INDEX('List of Competitors'!O$5:O$24,MATCH($A55,'List of Competitors'!$M$5:$M$24,0))} -> 0 | C55: {=INDEX('List of Competitors'!P$5:P$24,MATCH($A55,'List of Competitors'!$M$5:$M$24,0))} -> 0 | D55: {=INDEX('List of Competitors'!Q$5:Q$24,MATCH($A55,'List of Competitors'!$M$5:$M$24,0))} -> 0 | E55: Average | F55: =AVERAGE(F56:F58) -> #DIV/0! | G55: =AVERAGE(G56:G58) -> #DIV/0! | H55: =AVERAGE(H56:H58) -> #DIV/0! | I55: =AVERAGE(I56:I58) -> #DIV/0! | J55: =AVERAGE(J56:J58) -> #DIV/0! | K55: =AVERAGE(K56:K58) -> #DIV/0! | L55: =AVERAGE(L56:L58) -> #DIV/0! | M55: =AVERAGE(M56:M58) -> #DIV/0! | N55: =SUM(N56:N58)/IF(N58=0,2,3) -> 0 | O55: =SUM(O56:O58)/IF($N58=0,2,3) -> 0 | P55: =SUM(P56:P58)/IF($N58=0,2,3) -> 0 | Q55: =SUM(Q56:Q58)/IF($N58=0,2,3) -> 0 | R55: =SUM(R56:R58)/IF($N58=0,2,3) -> 0 | S55: =SUM(S56:S58)/IF($N58=0,2,3) -> 0 | T55: =SUM(T56:T58)/IF($N58=0,2,3) -> 0 | V55: =SUM(V56:V58)/IF(N58=0,2,3) -> 0 | W55: =N55-V55 -> 0 | X55: =IF(W55>=150,"Si","No") -> No | Y55: =IF(W55=0,0,IF(ISERROR(RANK(W55,W:W)),"",RANK(Z55,Z:Z))) -> 0 | Z55: =IFERROR(W55+F55/100000+J55/10000000+G55/1000000000,0) -> 0
E56: J1 | N56: =SUM(F56:M56) -> 0 | V56: =SUM(O56:T56) -> 0
E57: J2 | N57: =SUM(F57:M57) -> 0 | V57: =SUM(O57:T57) -> 0 | Y57: =IF(ISERROR(RANK(#REF!,#REF!)),"",RANK(#REF!,#REF!))
E58: J3 | N58: =SUM(F58:M58) -> 0 | V58: =SUM(O58:T58) -> 0 | Y58: =IF(ISERROR(RANK(#REF!,#REF!)),"",RANK(#REF!,#REF!))
A59: 14 | B59: {=INDEX('List of Competitors'!O$5:O$24,MATCH($A59,'List of Competitors'!$M$5:$M$24,0))} -> 0 | C59: {=INDEX('List of Competitors'!P$5:P$24,MATCH($A59,'List of Competitors'!$M$5:$M$24,0))} -> 0 | D59: {=INDEX('List of Competitors'!Q$5:Q$24,MATCH($A59,'List of Competitors'!$M$5:$M$24,0))} -> 0 | E59: Average | F59: =AVERAGE(F60:F62) -> #DIV/0! | G59: =AVERAGE(G60:G62) -> #DIV/0! | H59: =AVERAGE(H60:H62) -> #DIV/0! | I59: =AVERAGE(I60:I62) -> #DIV/0! | J59: =AVERAGE(J60:J62) -> #DIV/0! | K59: =AVERAGE(K60:K62) -> #DIV/0! | L59: =AVERAGE(L60:L62) -> #DIV/0! | M59: =AVERAGE(M60:M62) -> #DIV/0! | N59: =SUM(N60:N62)/IF(N62=0,2,3) -> 0 | O59: =SUM(O60:O62)/IF($N62=0,2,3) -> 0 | P59: =SUM(P60:P62)/IF($N62=0,2,3) -> 0 | Q59: =SUM(Q60:Q62)/IF($N62=0,2,3) -> 0 | R59: =SUM(R60:R62)/IF($N62=0,2,3) -> 0 | S59: =SUM(S60:S62)/IF($N62=0,2,3) -> 0 | T59: =SUM(T60:T62)/IF($N62=0,2,3) -> 0 | V59: =SUM(V60:V62)/IF(N62=0,2,3) -> 0 | W59: =N59-V59 -> 0 | X59: =IF(W59>=150,"Si","No") -> No | Y59: =IF(W59=0,0,IF(ISERROR(RANK(W59,W:W)),"",RANK(Z59,Z:Z))) -> 0 | Z59: =IFERROR(W59+F59/100000+J59/10000000+G59/1000000000,0) -> 0
E60: J1 | N60: =SUM(F60:M60) -> 0 | V60: =SUM(O60:T60) -> 0
E61: J2 | N61: =SUM(F61:M61) -> 0 | V61: =SUM(O61:T61) -> 0 | Y61: =IF(ISERROR(RANK(#REF!,#REF!)),"",RANK(#REF!,#REF!))
E62: J3 | N62: =SUM(F62:M62) -> 0 | V62: =SUM(O62:T62) -> 0 | Y62: =IF(ISERROR(RANK(#REF!,#REF!)),"",RANK(#REF!,#REF!))
A63: 15 | B63: {=INDEX('List of Competitors'!O$5:O$24,MATCH($A63,'List of Competitors'!$M$5:$M$24,0))} -> 0 | C63: {=INDEX('List of Competitors'!P$5:P$24,MATCH($A63,'List of Competitors'!$M$5:$M$24,0))} -> 0 | D63: {=INDEX('List of Competitors'!Q$5:Q$24,MATCH($A63,'List of Competitors'!$M$5:$M$24,0))} -> 0 | E63: Average | F63: =AVERAGE(F64:F66) -> #DIV/0! | G63: =AVERAGE(G64:G66) -> #DIV/0! | H63: =AVERAGE(H64:H66) -> #DIV/0! | I63: =AVERAGE(I64:I66) -> #DIV/0! | J63: =AVERAGE(J64:J66) -> #DIV/0! | K63: =AVERAGE(K64:K66) -> #DIV/0! | L63: =AVERAGE(L64:L66) -> #DIV/0! | M63: =AVERAGE(M64:M66) -> #DIV/0! | N63: =SUM(N64:N66)/IF(N66=0,2,3) -> 0 | O63: =SUM(O64:O66)/IF($N66=0,2,3) -> 0 | P63: =SUM(P64:P66)/IF($N66=0,2,3) -> 0 | Q63: =SUM(Q64:Q66)/IF($N66=0,2,3) -> 0 | R63: =SUM(R64:R66)/IF($N66=0,2,3) -> 0 | S63: =SUM(S64:S66)/IF($N66=0,2,3) -> 0 | T63: =SUM(T64:T66)/IF($N66=0,2,3) -> 0 | V63: =SUM(V64:V66)/IF(N66=0,2,3) -> 0 | W63: =N63-V63 -> 0 | X63: =IF(W63>=150,"Si","No") -> No | Y63: =IF(W63=0,0,IF(ISERROR(RANK(W63,W:W)),"",RANK(Z63,Z:Z))) -> 0 | Z63: =IFERROR(W63+F63/100000+J63/10000000+G63/1000000000,0) -> 0
E64: J1 | N64: =SUM(F64:M64) -> 0 | V64: =SUM(O64:T64) -> 0
E65: J2 | N65: =SUM(F65:M65) -> 0 | V65: =SUM(O65:T65) -> 0 | Y65: =IF(ISERROR(RANK(#REF!,#REF!)),"",RANK(#REF!,#REF!))
E66: J3 | N66: =SUM(F66:M66) -> 0 | V66: =SUM(O66:T66) -> 0 | Y66: =IF(ISERROR(RANK(#REF!,#REF!)),"",RANK(#REF!,#REF!))
A67: 16 | B67: {=INDEX('List of Competitors'!O$5:O$24,MATCH($A67,'List of Competitors'!$M$5:$M$24,0))} -> 0 | C67: {=INDEX('List of Competitors'!P$5:P$24,MATCH($A67,'List of Competitors'!$M$5:$M$24,0))} -> 0 | D67: {=INDEX('List of Competitors'!Q$5:Q$24,MATCH($A67,'List of Competitors'!$M$5:$M$24,0))} -> 0 | E67: Average | F67: =AVERAGE(F68:F70) -> #DIV/0! | G67: =AVERAGE(G68:G70) -> #DIV/0! | H67: =AVERAGE(H68:H70) -> #DIV/0! | I67: =AVERAGE(I68:I70) -> #DIV/0! | J67: =AVERAGE(J68:J70) -> #DIV/0! | K67: =AVERAGE(K68:K70) -> #DIV/0! | L67: =AVERAGE(L68:L70) -> #DIV/0! | M67: =AVERAGE(M68:M70) -> #DIV/0! | N67: =SUM(N68:N70)/IF(N70=0,2,3) -> 0 | O67: =SUM(O68:O70)/IF($N70=0,2,3) -> 0 | P67: =SUM(P68:P70)/IF($N70=0,2,3) -> 0 | Q67: =SUM(Q68:Q70)/IF($N70=0,2,3) -> 0 | R67: =SUM(R68:R70)/IF($N70=0,2,3) -> 0 | S67: =SUM(S68:S70)/IF($N70=0,2,3) -> 0 | T67: =SUM(T68:T70)/IF($N70=0,2,3) -> 0 | V67: =SUM(V68:V70)/IF(N70=0,2,3) -> 0 | W67: =N67-V67 -> 0 | X67: =IF(W67>=150,"Si","No") -> No | Y67: =IF(W67=0,0,IF(ISERROR(RANK(W67,W:W)),"",RANK(Z67,Z:Z))) -> 0 | Z67: =IFERROR(W67+F67/100000+J67/10000000+G67/1000000000,0) -> 0
E68: J1 | N68: =SUM(F68:M68) -> 0 | V68: =SUM(O68:T68) -> 0
E69: J2 | N69: =SUM(F69:M69) -> 0 | V69: =SUM(O69:T69) -> 0 | Y69: =IF(ISERROR(RANK(#REF!,#REF!)),"",RANK(#REF!,#REF!))
E70: J3 | N70: =SUM(F70:M70) -> 0 | V70: =SUM(O70:T70) -> 0 | Y70: =IF(ISERROR(RANK(#REF!,#REF!)),"",RANK(#REF!,#REF!))
A71: 17 | B71: {=INDEX('List of Competitors'!O$5:O$24,MATCH($A71,'List of Competitors'!$M$5:$M$24,0))} -> 0 | C71: {=INDEX('List of Competitors'!P$5:P$24,MATCH($A71,'List of Competitors'!$M$5:$M$24,0))} -> 0 | D71: {=INDEX('List of Competitors'!Q$5:Q$24,MATCH($A71,'List of Competitors'!$M$5:$M$24,0))} -> 0 | E71: Average | F71: =AVERAGE(F72:F74) -> #DIV/0! | G71: =AVERAGE(G72:G74) -> #DIV/0! | H71: =AVERAGE(H72:H74) -> #DIV/0! | I71: =AVERAGE(I72:I74) -> #DIV/0! | J71: =AVERAGE(J72:J74) -> #DIV/0! | K71: =AVERAGE(K72:K74) -> #DIV/0! | L71: =AVERAGE(L72:L74) -> #DIV/0! | M71: =AVERAGE(M72:M74) -> #DIV/0! | N71: =SUM(N72:N74)/IF(N74=0,2,3) -> 0 | O71: =SUM(O72:O74)/IF($N74=0,2,3) -> 0 | P71: =SUM(P72:P74)/IF($N74=0,2,3) -> 0 | Q71: =SUM(Q72:Q74)/IF($N74=0,2,3) -> 0 | R71: =SUM(R72:R74)/IF($N74=0,2,3) -> 0 | S71: =SUM(S72:S74)/IF($N74=0,2,3) -> 0 | T71: =SUM(T72:T74)/IF($N74=0,2,3) -> 0 | V71: =SUM(V72:V74)/IF(N74=0,2,3) -> 0 | W71: =N71-V71 -> 0 | X71: =IF(W71>=150,"Si","No") -> No | Y71: =IF(W71=0,0,IF(ISERROR(RANK(W71,W:W)),"",RANK(Z71,Z:Z))) -> 0 | Z71: =IFERROR(W71+F71/100000+J71/10000000+G71/1000000000,0) -> 0
E72: J1 | N72: =SUM(F72:M72) -> 0 | V72: =SUM(O72:T72) -> 0
E73: J2 | N73: =SUM(F73:M73) -> 0 | V73: =SUM(O73:T73) -> 0 | Y73: =IF(ISERROR(RANK(#REF!,#REF!)),"",RANK(#REF!,#REF!))
E74: J3 | N74: =SUM(F74:M74) -> 0 | V74: =SUM(O74:T74) -> 0 | Y74: =IF(ISERROR(RANK(#REF!,#REF!)),"",RANK(#REF!,#REF!))
A75: 18 | B75: {=INDEX('List of Competitors'!O$5:O$24,MATCH($A75,'List of Competitors'!$M$5:$M$24,0))} -> 0 | C75: {=INDEX('List of Competitors'!P$5:P$24,MATCH($A75,'List of Competitors'!$M$5:$M$24,0))} -> 0 | D75: {=INDEX('List of Competitors'!Q$5:Q$24,MATCH($A75,'List of Competitors'!$M$5:$M$24,0))} -> 0 | E75: Average | F75: =AVERAGE(F76:F78) -> #DIV/0! | G75: =AVERAGE(G76:G78) -> #DIV/0! | H75: =AVERAGE(H76:H78) -> #DIV/0! | I75: =AVERAGE(I76:I78) -> #DIV/0! | J75: =AVERAGE(J76:J78) -> #DIV/0! | K75: =AVERAGE(K76:K78) -> #DIV/0! | L75: =AVERAGE(L76:L78) -> #DIV/0! | M75: =AVERAGE(M76:M78) -> #DIV/0! | N75: =SUM(N76:N78)/IF(N78=0,2,3) -> 0 | O75: =SUM(O76:O78)/IF($N78=0,2,3) -> 0 | P75: =SUM(P76:P78)/IF($N78=0,2,3) -> 0 | Q75: =SUM(Q76:Q78)/IF($N78=0,2,3) -> 0 | R75: =SUM(R76:R78)/IF($N78=0,2,3) -> 0 | S75: =SUM(S76:S78)/IF($N78=0,2,3) -> 0 | T75: =SUM(T76:T78)/IF($N78=0,2,3) -> 0 | V75: =SUM(V76:V78)/IF(N78=0,2,3) -> 0 | W75: =N75-V75 -> 0 | X75: =IF(W75>=150,"Si","No") -> No | Y75: =IF(W75=0,0,IF(ISERROR(RANK(W75,W:W)),"",RANK(Z75,Z:Z))) -> 0 | Z75: =IFERROR(W75+F75/100000+J75/10000000+G75/1000000000,0) -> 0
E76: J1 | N76: =SUM(F76:M76) -> 0 | V76: =SUM(O76:T76) -> 0
E77: J2 | N77: =SUM(F77:M77) -> 0 | V77: =SUM(O77:T77) -> 0 | Y77: =IF(ISERROR(RANK(#REF!,#REF!)),"",RANK(#REF!,#REF!))
E78: J3 | N78: =SUM(F78:M78) -> 0 | V78: =SUM(O78:T78) -> 0 | Y78: =IF(ISERROR(RANK(#REF!,#REF!)),"",RANK(#REF!,#REF!))
A79: 19 | B79: {=INDEX('List of Competitors'!O$5:O$24,MATCH($A79,'List of Competitors'!$M$5:$M$24,0))} -> 0 | C79: {=INDEX('List of Competitors'!P$5:P$24,MATCH($A79,'List of Competitors'!$M$5:$M$24,0))} -> 0 | D79: {=INDEX('List of Competitors'!Q$5:Q$24,MATCH($A79,'List of Competitors'!$M$5:$M$24,0))} -> 0 | E79: Average | F79: =AVERAGE(F80:F82) -> #DIV/0! | G79: =AVERAGE(G80:G82) -> #DIV/0! | H79: =AVERAGE(H80:H82) -> #DIV/0! | I79: =AVERAGE(I80:I82) -> #DIV/0! | J79: =AVERAGE(J80:J82) -> #DIV/0! | K79: =AVERAGE(K80:K82) -> #DIV/0! | L79: =AVERAGE(L80:L82) -> #DIV/0! | M79: =AVERAGE(M80:M82) -> #DIV/0! | N79: =SUM(N80:N82)/IF(N82=0,2,3) -> 0 | O79: =SUM(O80:O82)/IF($N82=0,2,3) -> 0 | P79: =SUM(P80:P82)/IF($N82=0,2,3) -> 0 | Q79: =SUM(Q80:Q82)/IF($N82=0,2,3) -> 0 | R79: =SUM(R80:R82)/IF($N82=0,2,3) -> 0 | S79: =SUM(S80:S82)/IF($N82=0,2,3) -> 0 | T79: =SUM(T80:T82)/IF($N82=0,2,3) -> 0 | V79: =SUM(V80:V82)/IF(N82=0,2,3) -> 0 | W79: =N79-V79 -> 0 | X79: =IF(W79>=150,"Si","No") -> No | Y79: =IF(W79=0,0,IF(ISERROR(RANK(W79,W:W)),"",RANK(Z79,Z:Z))) -> 0 | Z79: =IFERROR(W79+F79/100000+J79/10000000+G79/1000000000,0) -> 0
E80: J1 | N80: =SUM(F80:M80) -> 0 | V80: =SUM(O80:T80) -> 0
E81: J2 | N81: =SUM(F81:M81) -> 0 | V81: =SUM(O81:T81) -> 0 | Y81: =IF(ISERROR(RANK(#REF!,#REF!)),"",RANK(#REF!,#REF!))
E82: J3 | N82: =SUM(F82:M82) -> 0 | V82: =SUM(O82:T82) -> 0 | Y82: =IF(ISERROR(RANK(#REF!,#REF!)),"",RANK(#REF!,#REF!))
A83: 20 | B83: {=INDEX('List of Competitors'!O$5:O$24,MATCH($A83,'List of Competitors'!$M$5:$M$24,0))} -> 0 | C83: {=INDEX('List of Competitors'!P$5:P$24,MATCH($A83,'List of Competitors'!$M$5:$M$24,0))} -> 0 | D83: {=INDEX('List of Competitors'!Q$5:Q$24,MATCH($A83,'List of Competitors'!$M$5:$M$24,0))} -> 0 | E83: Average | F83: =AVERAGE(F84:F86) -> #DIV/0! | G83: =AVERAGE(G84:G86) -> #DIV/0! | H83: =AVERAGE(H84:H86) -> #DIV/0! | I83: =AVERAGE(I84:I86) -> #DIV/0! | J83: =AVERAGE(J84:J86) -> #DIV/0! | K83: =AVERAGE(K84:K86) -> #DIV/0! | L83: =AVERAGE(L84:L86) -> #DIV/0! | M83: =AVERAGE(M84:M86) -> #DIV/0! | N83: =SUM(N84:N86)/IF(N86=0,2,3) -> 0 | O83: =SUM(O84:O86)/IF($N86=0,2,3) -> 0 | P83: =SUM(P84:P86)/IF($N86=0,2,3) -> 0 | Q83: =SUM(Q84:Q86)/IF($N86=0,2,3) -> 0 | R83: =SUM(R84:R86)/IF($N86=0,2,3) -> 0 | S83: =SUM(S84:S86)/IF($N86=0,2,3) -> 0 | T83: =SUM(T84:T86)/IF($N86=0,2,3) -> 0 | V83: =SUM(V84:V86)/IF(N86=0,2,3) -> 0 | W83: =N83-V83 -> 0 | X83: =IF(W83>=150,"Si","No") -> No | Y83: =IF(W83=0,0,IF(ISERROR(RANK(W83,W:W)),"",RANK(Z83,Z:Z))) -> 0 | Z83: =IFERROR(W83+F83/100000+J83/10000000+G83/1000000000,0) -> 0
E84: J1 | N84: =SUM(F84:M84) -> 0 | V84: =SUM(O84:T84) -> 0
E85: J2 | N85: =SUM(F85:M85) -> 0 | V85: =SUM(O85:T85) -> 0 | Y85: =IF(ISERROR(RANK(#REF!,#REF!)),"",RANK(#REF!,#REF!))
E86: J3 | N86: =SUM(F86:M86) -> 0 | V86: =SUM(O86:T86) -> 0 | Y86: =IF(ISERROR(RANK(#REF!,#REF!)),"",RANK(#REF!,#REF!))

Sheet FS 1
B1: FS 1 | E1: ='List of Competitors'!B2 -> NARNI (TR)
E2: ='List of Competitors'!C2 -> 03/05/2026
A4: # | B4: Nome | C4: Cognome | D4: Cane | E4: Judge | F4: Team work | G4: Dinamicità | H4: Progetto | I4: Coreografia | J4: Fluidità | K4: Esecuzione | L4: Contenuto | M4: Difficoltà | N4: Punit | O4: Detrazioni di punti | V4: Totale | W4: punto di passaggio | X4: Posizionamento | Y4: Korr Punkte Teamwork, Fluss
O5: Abbaio e vocalizzazioni | P5: Salute del cane | Q5: costume / Oggetti di scena | R5: Lunghezze musicali errate | S5: Trattamento improprio del cane | T5: Contatto attivo | U5: Totale
F6: max. 25 | G6: max. 25 | H6: max. 25 | I6: max. 25 | J6: max. 25 | K6: max. 25 | L6: max. 25 | M6: max. 25 | O6: max. 20 | P6: max. 20 | Q6: max. 20 | R6: 1 Punkt / sec | S6: max. 20 | T6: max. 20
A7: 1 | B7: {=INDEX('List of Competitors'!I$27:I$46,MATCH($A7,'List of Competitors'!$G$27:$G$46,0))} -> RITA | C7: {=INDEX('List of Competitors'!J$27:J$46,MATCH($A7,'List of Competitors'!$G$27:$G$46,0))} -> ALTIGIERI | D7: {=INDEX('List of Competitors'!K$27:K$46,MATCH($A7,'List of Competitors'!$G$27:$G$46,0))} -> LORD BYRON | E7: Average | F7: =AVERAGE(F8:F10) -> 19 | G7: =AVERAGE(G8:G10) -> 20.5 | H7: =AVERAGE(H8:H10) -> 21 | I7: =AVERAGE(I8:I10) -> 20 | J7: =AVERAGE(J8:J10) -> 17 | K7: =AVERAGE(K8:K10) -> 19 | L7: =AVERAGE(L8:L10) -> 19.5 | M7: =AVERAGE(M8:M10) -> 20.5 | N7: =SUM(N8:N10)/IF(N10=0,2,3) -> 156.5 | O7: =SUM(O8:O10)/IF($N10=0,2,3) -> 0 | P7: =SUM(P8:P10)/IF($N10=0,2,3) -> 0 | Q7: =SUM(Q8:Q10)/IF($N10=0,2,3) -> 0 | R7: =SUM(R8:R10)/IF($N10=0,2,3) -> 0 | S7: =SUM(S8:S10)/IF($N10=0,2,3) -> 0 | T7: =SUM(T8:T10)/IF($N10=0,2,3) -> 0 | U7: =SUM(U8:U10)/IF(N10=0,2,3) -> 0 | V7: =N7-U7 -> 156.5 | W7: =IF(V7>=150,"Si","No") -> Si | X7: =IF(V7=0,0,IF(ISERROR(RANK(V7,V:V)),"",RANK(Y7,Y:Y))) -> 2 | Y7: =IFERROR(V7+F7/100000+J7/10000000+G7/1000000000,0) -> 156.50019
E8: J1 | F8: 20 | G8: 21 | H8: 22 | I8: 21 | J8: 17 | K8: 21 | L8: 21 | M8: 22 | N8: =SUM(F8:M8) -> 165 | U8: =SUM(O8:T8) -> 0
E9: J2 | F9: 18 | G9: 20 | H9: 20 | I9: 19 | J9: 17 | K9: 17 | L9: 18 | M9: 19 | N9: =SUM(F9:M9) -> 148 | U9: =SUM(O9:T9) -> 0 | X9: =IF(ISERROR(RANK(#REF!,#REF!)),"",RANK(#REF!,#REF!))
E10: J3 | N10: =SUM(F10:M10) -> 0 | U10: =SUM(O10:T10) -> 0 | X10: =IF(ISERROR(RANK(#REF!,#REF!)),"",RANK(#REF!,#REF!))
A11: 2 | B11: {=INDEX('List of Competitors'!I$27:I$46,MATCH($A11,'List of Competitors'!$G$27:$G$46,0))} -> RACHELE | C11: {=INDEX('List of Competitors'!J$27:J$46,MATCH($A11,'List of Competitors'!$G$27:$G$46,0))} -> TULLI | D11: {=INDEX('List of Competitors'!K$27:K$46,MATCH($A11,'List of Competitors'!$G$27:$G$46,0))} -> MELODY | E11: Average | F11: =AVERAGE(F12:F14) -> 22 | G11: =AVERAGE(G12:G14) -> 22 | H11: =AVERAGE(H12:H14) -> 21.5 | I11: =AVERAGE(I12:I14) -> 21.5 | J11: =AVERAGE(J12:J14) -> 22.5 | K11: =AVERAGE(K12:K14) -> 21.5 | L11: =AVERAGE(L12:L14) -> 20 | M11: =AVERAGE(M12:M14) -> 20.5 | N11: =SUM(N12:N14)/IF(N14=0,2,3) -> 171.5 | O11: =SUM(O12:O14)/IF($N14=0,2,3) -> 2 | P11: =SUM(P12:P14)/IF($N14=0,2,3) -> 0 | Q11: =SUM(Q12:Q14)/IF($N14=0,2,3) -> 0 | R11: =SUM(R12:R14)/IF($N14=0,2,3) -> 0 | S11: =SUM(S12:S14)/IF($N14=0,2,3) -> 0 | T11: =SUM(T12:T14)/IF($N14=0,2,3) -> 0 | U11: =SUM(U12:U14)/IF(N14=0,2,3) -> 2 | V11: =N11-U11 -> 169.5 | W11: =IF(V11>=150,"Si","No") -> Si | X11: =IF(V11=0,0,IF(ISERROR(RANK(V11,V:V)),"",RANK(Y11,Y:Y))) -> 1 | Y11: =IFERROR(V11+F11/100000+J11/10000000+G11/1000000000,0) -> 169.50022
E12: J1 | F12: 24 | G12: 23 | H12: 23 | I12: 23 | J12: 24 | K12: 23 | L12: 22 | M12: 22 | N12: =SUM(F12:M12) -> 184 | O12: 2 | U12: =SUM(O12:T12) -> 2
E13: J2 | F13: 20 | G13: 21 | H13: 20 | I13: 20 | J13: 21 | K13: 20 | L13: 18 | M13: 19 | N13: =SUM(F13:M13) -> 159 | O13: 2 | U13: =SUM(O13:T13) -> 2 | X13: =IF(ISERROR(RANK(#REF!,#REF!)),"",RANK(#REF!,#REF!))
E14: J3 | N14: =SUM(F14:M14) -> 0 | U14: =SUM(O14:T14) -> 0 | X14: =IF(ISERROR(RANK(#REF!,#REF!)),"",RANK(#REF!,#REF!))
A15: 3 | B15: {=INDEX('List of Competitors'!I$27:I$46,MATCH($A15,'List of Competitors'!$G$27:$G$46,0))} -> 0 | C15: {=INDEX('List of Competitors'!J$27:J$46,MATCH($A15,'List of Competitors'!$G$27:$G$46,0))} -> 0 | D15: {=INDEX('List of Competitors'!K$27:K$46,MATCH($A15,'List of Competitors'!$G$27:$G$46,0))} -> 0 | E15: Average | F15: =AVERAGE(F16:F18) -> #DIV/0! | G15: =AVERAGE(G16:G18) -> #DIV/0! | H15: =AVERAGE(H16:H18) -> #DIV/0! | I15: =AVERAGE(I16:I18) -> #DIV/0! | J15: =AVERAGE(J16:J18) -> #DIV/0! | K15: =AVERAGE(K16:K18) -> #DIV/0! | L15: =AVERAGE(L16:L18) -> #DIV/0! | M15: =AVERAGE(M16:M18) -> #DIV/0! | N15: =SUM(N16:N18)/IF(N18=0,2,3) -> 0 | O15: =SUM(O16:O18)/IF($N18=0,2,3) -> 0 | P15: =SUM(P16:P18)/IF($N18=0,2,3) -> 0 | Q15: =SUM(Q16:Q18)/IF($N18=0,2,3) -> 0 | R15: =SUM(R16:R18)/IF($N18=0,2,3) -> 0 | S15: =SUM(S16:S18)/IF($N18=0,2,3) -> 0 | T15: =SUM(T16:T18)/IF($N18=0,2,3) -> 0 | U15: =SUM(U16:U18)/IF(N18=0,2,3) -> 0 | V15: =N15-U15 -> 0 | W15: =IF(V15>=150,"Si","No") -> No | X15: =IF(V15=0,0,IF(ISERROR(RANK(V15,V:V)),"",RANK(Y15,Y:Y))) -> 0 | Y15: =IFERROR(V15+F15/100000+J15/10000000+G15/1000000000,0) -> 0
E16: J1 | N16: =SUM(F16:M16) -> 0 | U16: =SUM(O16:T16) -> 0
E17: J2 | N17: =SUM(F17:M17) -> 0 | U17: =SUM(O17:T17) -> 0 | X17: =IF(ISERROR(RANK(#REF!,#REF!)),"",RANK(#REF!,#REF!))
E18: J3 | N18: =SUM(F18:M18) -> 0 | U18: =SUM(O18:T18) -> 0 | X18: =IF(ISERROR(RANK(#REF!,#REF!)),"",RANK(#REF!,#REF!))
A19: 4 | B19: {=INDEX('List of Competitors'!I$27:I$46,MATCH($A19,'List of Competitors'!$G$27:$G$46,0))} -> 0 | C19: {=INDEX('List of Competitors'!J$27:J$46,MATCH($A19,'List of Competitors'!$G$27:$G$46,0))} -> 0 | D19: {=INDEX('List of Competitors'!K$27:K$46,MATCH($A19,'List of Competitors'!$G$27:$G$46,0))} -> 0 | E19: Average | F19: =AVERAGE(F20:F22) -> #DIV/0! | G19: =AVERAGE(G20:G22) -> #DIV/0! | H19: =AVERAGE(H20:H22) -> #DIV/0! | I19: =AVERAGE(I20:I22) -> #DIV/0! | J19: =AVERAGE(J20:J22) -> #DIV/0! | K19: =AVERAGE(K20:K22) -> #DIV/0! | L19: =AVERAGE(L20:L22) -> #DIV/0! | M19: =AVERAGE(M20:M22) -> #DIV/0! | N19: =SUM(N20:N22)/IF(N22=0,2,3) -> 0 | O19: =SUM(O20:O22)/IF($N22=0,2,3) -> 0 | P19: =SUM(P20:P22)/IF($N22=0,2,3) -> 0 | Q19: =SUM(Q20:Q22)/IF($N22=0,2,3) -> 0 | R19: =SUM(R20:R22)/IF($N22=0,2,3) -> 0 | S19: =SUM(S20:S22)/IF($N22=0,2,3) -> 0 | T19: =SUM(T20:T22)/IF($N22=0,2,3) -> 0 | U19: =SUM(U20:U22)/IF(N22=0,2,3) -> 0 | V19: =N19-U19 -> 0 | W19: =IF(V19>=150,"Si","No") -> No | X19: =IF(V19=0,0,IF(ISERROR(RANK(V19,V:V)),"",RANK(Y19,Y:Y))) -> 0 | Y19: =IFERROR(V19+F19/100000+J19/10000000+G19/1000000000,0) -> 0
E20: J1 | N20: =SUM(F20:M20) -> 0 | U20: =SUM(O20:T20) -> 0
E21: J2 | N21: =SUM(F21:M21) -> 0 | U21: =SUM(O21:T21) -> 0 | X21: =IF(ISERROR(RANK(#REF!,#REF!)),"",RANK(#REF!,#REF!))
E22: J3 | N22: =SUM(F22:M22) -> 0 | U22: =SUM(O22:T22) -> 0 | X22: =IF(ISERROR(RANK(#REF!,#REF!)),"",RANK(#REF!,#REF!))
A23: 5 | B23: {=INDEX('List of Competitors'!I$27:I$46,MATCH($A23,'List of Competitors'!$G$27:$G$46,0))} -> 0 | C23: {=INDEX('List of Competitors'!J$27:J$46,MATCH($A23,'List of Competitors'!$G$27:$G$46,0))} -> 0 | D23: {=INDEX('List of Competitors'!K$27:K$46,MATCH($A23,'List of Competitors'!$G$27:$G$46,0))} -> 0 | E23: Average | F23: =AVERAGE(F24:F26) -> #DIV/0! | G23: =AVERAGE(G24:G26) -> #DIV/0! | H23: =AVERAGE(H24:H26) -> #DIV/0! | I23: =AVERAGE(I24:I26) -> #DIV/0! | J23: =AVERAGE(J24:J26) -> #DIV/0! | K23: =AVERAGE(K24:K26) -> #DIV/0! | L23: =AVERAGE(L24:L26) -> #DIV/0! | M23: =AVERAGE(M24:M26) -> #DIV/0! | N23: =SUM(N24:N26)/IF(N26=0,2,3) -> 0 | O23: =SUM(O24:O26)/IF($N26=0,2,3) -> 0 | P23: =SUM(P24:P26)/IF($N26=0,2,3) -> 0 | Q23: =SUM(Q24:Q26)/IF($N26=0,2,3) -> 0 | R23: =SUM(R24:R26)/IF($N26=0,2,3) -> 0 | S23: =SUM(S24:S26)/IF($N26=0,2,3) -> 0 | T23: =SUM(T24:T26)/IF($N26=0,2,3) -> 0 | U23: =SUM(U24:U26)/IF(N26=0,2,3) -> 0 | V23: =N23-U23 -> 0 | W23: =IF(V23>=150,"Si","No") -> No | X23: =IF(V23=0,0,IF(ISERROR(RANK(V23,V:V)),"",RANK(Y23,Y:Y))) -> 0 | Y23: =IFERROR(V23+F23/100000+J23/10000000+G23/1000000000,0) -> 0
E24: J1 | N24: =SUM(F24:M24) -> 0 | U24: =SUM(O24:T24) -> 0
E25: J2 | N25: =SUM(F25:M25) -> 0 | U25: =SUM(O25:T25) -> 0 | X25: =IF(ISERROR(RANK(#REF!,#REF!)),"",RANK(#REF!,#REF!))
E26: J3 | N26: =SUM(F26:M26) -> 0 | U26: =SUM(O26:T26) -> 0 | X26: =IF(ISERROR(RANK(#REF!,#REF!)),"",RANK(#REF!,#REF!))
A27: 6 | B27: {=INDEX('List of Competitors'!I$27:I$46,MATCH($A27,'List of Competitors'!$G$27:$G$46,0))} -> 0 | C27: {=INDEX('List of Competitors'!J$27:J$46,MATCH($A27,'List of Competitors'!$G$27:$G$46,0))} -> 0 | D27: {=INDEX('List of Competitors'!K$27:K$46,MATCH($A27,'List of Competitors'!$G$27:$G$46,0))} -> 0 | E27: Average | F27: =AVERAGE(F28:F30) -> #DIV/0! | G27: =AVERAGE(G28:G30) -> #DIV/0! | H27: =AVERAGE(H28:H30) -> #DIV/0! | I27: =AVERAGE(I28:I30) -> #DIV/0! | J27: =AVERAGE(J28:J30) -> #DIV/0! | K27: =AVERAGE(K28:K30) -> #DIV/0! | L27: =AVERAGE(L28:L30) -> #DIV/0! | M27: =AVERAGE(M28:M30) -> #DIV/0! | N27: =SUM(N28:N30)/IF(N30=0,2,3) -> 0 | O27: =SUM(O28:O30)/IF($N30=0,2,3) -> 0 | P27: =SUM(P28:P30)/IF($N30=0,2,3) -> 0 | Q27: =SUM(Q28:Q30)/IF($N30=0,2,3) -> 0 | R27: =SUM(R28:R30)/IF($N30=0,2,3) -> 0 | S27: =SUM(S28:S30)/IF($N30=0,2,3) -> 0 | T27: =SUM(T28:T30)/IF($N30=0,2,3) -> 0 | U27: =SUM(U28:U30)/IF(N30=0,2,3) -> 0 | V27: =N27-U27 -> 0 | W27: =IF(V27>=150,"Si","No") -> No | X27: =IF(V27=0,0,IF(ISERROR(RANK(V27,V:V)),"",RANK(Y27,Y:Y))) -> 0 | Y27: =IFERROR(V27+F27/100000+J27/10000000+G27/1000000000,0) -> 0
E28: J1 | N28: =SUM(F28:M28) -> 0 | U28: =SUM(O28:T28) -> 0
E29: J2 | N29: =SUM(F29:M29) -> 0 | U29: =SUM(O29:T29) -> 0 | X29: =IF(ISERROR(RANK(#REF!,#REF!)),"",RANK(#REF!,#REF!))
E30: J3 | N30: =SUM(F30:M30) -> 0 | U30: =SUM(O30:T30) -> 0 | X30: =IF(ISERROR(RANK(#REF!,#REF!)),"",RANK(#REF!,#REF!))
A31: 7 | B31: {=INDEX('List of Competitors'!I$27:I$46,MATCH($A31,'List of Competitors'!$G$27:$G$46,0))} -> 0 | C31: {=INDEX('List of Competitors'!J$27:J$46,MATCH($A31,'List of Competitors'!$G$27:$G$46,0))} -> 0 | D31: {=INDEX('List of Competitors'!K$27:K$46,MATCH($A31,'List of Competitors'!$G$27:$G$46,0))} -> 0 | E31: Average | F31: =AVERAGE(F32:F34) -> #DIV/0! | G31: =AVERAGE(G32:G34) -> #DIV/0! | H31: =AVERAGE(H32:H34) -> #DIV/0! | I31: =AVERAGE(I32:I34) -> #DIV/0! | J31: =AVERAGE(J32:J34) -> #DIV/0! | K31: =AVERAGE(K32:K34) -> #DIV/0! | L31: =AVERAGE(L32:L34) -> #DIV/0! | M31: =AVERAGE(M32:M34) -> #DIV/0! | N31: =SUM(N32:N34)/IF(N34=0,2,3) -> 0 | O31: =SUM(O32:O34)/IF($N34=0,2,3) -> 0 | P31: =SUM(P32:P34)/IF($N34=0,2,3) -> 0 | Q31: =SUM(Q32:Q34)/IF($N34=0,2,3) -> 0 | R31: =SUM(R32:R34)/IF($N34=0,2,3) -> 0 | S31: =SUM(S32:S34)/IF($N34=0,2,3) -> 0 | T31: =SUM(T32:T34)/IF($N34=0,2,3) -> 0 | U31: =SUM(U32:U34)/IF(N34=0,2,3) -> 0 | V31: =N31-U31 -> 0 | W31: =IF(V31>=150,"Si","No") -> No | X31: =IF(V31=0,0,IF(ISERROR(RANK(V31,V:V)),"",RANK(Y31,Y:Y))) -> 0 | Y31: =IFERROR(V31+F31/100000+J31/10000000+G31/1000000000,0) -> 0
E32: J1 | N32: =SUM(F32:M32) -> 0 | U32: =SUM(O32:T32) -> 0
E33: J2 | N33: =SUM(F33:M33) -> 0 | U33: =SUM(O33:T33) -> 0 | X33: =IF(ISERROR(RANK(#REF!,#REF!)),"",RANK(#REF!,#REF!))
E34: J3 | N34: =SUM(F34:M34) -> 0 | U34: =SUM(O34:T34) -> 0 | X34: =IF(ISERROR(RANK(#REF!,#REF!)),"",RANK(#REF!,#REF!))
A35: 8 | B35: {=INDEX('List of Competitors'!I$27:I$46,MATCH($A35,'List of Competitors'!$G$27:$G$46,0))} -> 0 | C35: {=INDEX('List of Competitors'!J$27:J$46,MATCH($A35,'List of Competitors'!$G$27:$G$46,0))} -> 0 | D35: {=INDEX('List of Competitors'!K$27:K$46,MATCH($A35,'List of Competitors'!$G$27:$G$46,0))} -> 0 | E35: Average | F35: =AVERAGE(F36:F38) -> #DIV/0! | G35: =AVERAGE(G36:G38) -> #DIV/0! | H35: =AVERAGE(H36:H38) -> #DIV/0! | I35: =AVERAGE(I36:I38) -> #DIV/0! | J35: =AVERAGE(J36:J38) -> #DIV/0! | K35: =AVERAGE(K36:K38) -> #DIV/0! | L35: =AVERAGE(L36:L38) -> #DIV/0! | M35: =AVERAGE(M36:M38) -> #DIV/0! | N35: =SUM(N36:N38)/IF(N38=0,2,3) -> 0 | O35: =SUM(O36:O38)/IF($N38=0,2,3) -> 0 | P35: =SUM(P36:P38)/IF($N38=0,2,3) -> 0 | Q35: =SUM(Q36:Q38)/IF($N38=0,2,3) -> 0 | R35: =SUM(R36:R38)/IF($N38=0,2,3) -> 0 | S35: =SUM(S36:S38)/IF($N38=0,2,3) -> 0 | T35: =SUM(T36:T38)/IF($N38=0,2,3) -> 0 | U35: =SUM(U36:U38)/IF(N38=0,2,3) -> 0 | V35: =N35-U35 -> 0 | W35: =IF(V35>=150,"Si","No") -> No | X35: =IF(V35=0,0,IF(ISERROR(RANK(V35,V:V)),"",RANK(Y35,Y:Y))) -> 0 | Y35: =IFERROR(V35+F35/100000+J35/10000000+G35/1000000000,0) -> 0
E36: J1 | N36: =SUM(F36:M36) -> 0 | U36: =SUM(O36:T36) -> 0
E37: J2 | N37: =SUM(F37:M37) -> 0 | U37: =SUM(O37:T37) -> 0 | X37: =IF(ISERROR(RANK(#REF!,#REF!)),"",RANK(#REF!,#REF!))
E38: J3 | N38: =SUM(F38:M38) -> 0 | U38: =SUM(O38:T38) -> 0 | X38: =IF(ISERROR(RANK(#REF!,#REF!)),"",RANK(#REF!,#REF!))
A39: 9 | B39: {=INDEX('List of Competitors'!I$27:I$46,MATCH($A39,'List of Competitors'!$G$27:$G$46,0))} -> 0 | C39: {=INDEX('List of Competitors'!J$27:J$46,MATCH($A39,'List of Competitors'!$G$27:$G$46,0))} -> 0 | D39: {=INDEX('List of Competitors'!K$27:K$46,MATCH($A39,'List of Competitors'!$G$27:$G$46,0))} -> 0 | E39: Average | F39: =AVERAGE(F40:F42) -> #DIV/0! | G39: =AVERAGE(G40:G42) -> #DIV/0! | H39: =AVERAGE(H40:H42) -> #DIV/0! | I39: =AVERAGE(I40:I42) -> #DIV/0! | J39: =AVERAGE(J40:J42) -> #DIV/0! | K39: =AVERAGE(K40:K42) -> #DIV/0! | L39: =AVERAGE(L40:L42) -> #DIV/0! | M39: =AVERAGE(M40:M42) -> #DIV/0! | N39: =SUM(N40:N42)/IF(N42=0,2,3) -> 0 | O39: =SUM(O40:O42)/IF($N42=0,2,3) -> 0 | P39: =SUM(P40:P42)/IF($N42=0,2,3) -> 0 | Q39: =SUM(Q40:Q42)/IF($N42=0,2,3) -> 0 | R39: =SUM(R40:R42)/IF($N42=0,2,3) -> 0 | S39: =SUM(S40:S42)/IF($N42=0,2,3) -> 0 | T39: =SUM(T40:T42)/IF($N42=0,2,3) -> 0 | U39: =SUM(U40:U42)/IF(N42=0,2,3) -> 0 | V39: =N39-U39 -> 0 | W39: =IF(V39>=150,"Si","No") -> No | X39: =IF(V39=0,0,IF(ISERROR(RANK(V39,V:V)),"",RANK(Y39,Y:Y))) -> 0 | Y39: =IFERROR(V39+F39/100000+J39/10000000+G39/1000000000,0) -> 0
E40: J1 | N40: =SUM(F40:M40) -> 0 | U40: =SUM(O40:T40) -> 0
E41: J2 | N41: =SUM(F41:M41) -> 0 | U41: =SUM(O41:T41) -> 0 | X41: =IF(ISERROR(RANK(#REF!,#REF!)),"",RANK(#REF!,#REF!))
E42: J3 | N42: =SUM(F42:M42) -> 0 | U42: =SUM(O42:T42) -> 0 | X42: =IF(ISERROR(RANK(#REF!,#REF!)),"",RANK(#REF!,#REF!))
A43: 10 | B43: {=INDEX('List of Competitors'!I$27:I$46,MATCH($A43,'List of Competitors'!$G$27:$G$46,0))} -> 0 | C43: {=INDEX('List of Competitors'!J$27:J$46,MATCH($A43,'List of Competitors'!$G$27:$G$46,0))} -> 0 | D43: {=INDEX('List of Competitors'!K$27:K$46,MATCH($A43,'List of Competitors'!$G$27:$G$46,0))} -> 0 | E43: Average | F43: =AVERAGE(F44:F46) -> #DIV/0! | G43: =AVERAGE(G44:G46) -> #DIV/0! | H43: =AVERAGE(H44:H46) -> #DIV/0! | I43: =AVERAGE(I44:I46) -> #DIV/0! | J43: =AVERAGE(J44:J46) -> #DIV/0! | K43: =AVERAGE(K44:K46) -> #DIV/0! | L43: =AVERAGE(L44:L46) -> #DIV/0! | M43: =AVERAGE(M44:M46) -> #DIV/0! | N43: =SUM(N44:N46)/IF(N46=0,2,3) -> 0 | O43: =SUM(O44:O46)/IF($N46=0,2,3) -> 0 | P43: =SUM(P44:P46)/IF($N46=0,2,3) -> 0 | Q43: =SUM(Q44:Q46)/IF($N46=0,2,3) -> 0 | R43: =SUM(R44:R46)/IF($N46=0,2,3) -> 0 | S43: =SUM(S44:S46)/IF($N46=0,2,3) -> 0 | T43: =SUM(T44:T46)/IF($N46=0,2,3) -> 0 | U43: =SUM(U44:U46)/IF(N46=0,2,3) -> 0 | V43: =N43-U43 -> 0 | W43: =IF(V43>=150,"Si","No") -> No | X43: =IF(V43=0,0,IF(ISERROR(RANK(V43,V:V)),"",RANK(Y43,Y:Y))) -> 0 | Y43: =IFERROR(V43+F43/100000+J43/10000000+G43/1000000000,0) -> 0
E44: J1 | N44: =SUM(F44:M44) -> 0 | U44: =SUM(O44:T44) -> 0
E45: J2 | N45: =SUM(F45:M45) -> 0 | U45: =SUM(O45:T45) -> 0 | X45: =IF(ISERROR(RANK(#REF!,#REF!)),"",RANK(#REF!,#REF!))
E46: J3 | N46: =SUM(F46:M46) -> 0 | U46: =SUM(O46:T46) -> 0 | X46: =IF(ISERROR(RANK(#REF!,#REF!)),"",RANK(#REF!,#REF!))
A47: 11 | B47: {=INDEX('List of Competitors'!I$27:I$46,MATCH($A47,'List of Competitors'!$G$27:$G$46,0))} -> 0 | C47: {=INDEX('List of Competitors'!J$27:J$46,MATCH($A47,'List of Competitors'!$G$27:$G$46,0))} -> 0 | D47: {=INDEX('List of Competitors'!K$27:K$46,MATCH($A47,'List of Competitors'!$G$27:$G$46,0))} -> 0 | E47: Average | F47: =AVERAGE(F48:F50) -> #DIV/0! | G47: =AVERAGE(G48:G50) -> #DIV/0! | H47: =AVERAGE(H48:H50) -> #DIV/0! | I47: =AVERAGE(I48:I50) -> #DIV/0! | J47: =AVERAGE(J48:J50) -> #DIV/0! | K47: =AVERAGE(K48:K50) -> #DIV/0! | L47: =AVERAGE(L48:L50) -> #DIV/0! | M47: =AVERAGE(M48:M50) -> #DIV/0! | N47: =SUM(N48:N50)/IF(N50=0,2,3) -> 0 | O47: =SUM(O48:O50)/IF($N50=0,2,3) -> 0 | P47: =SUM(P48:P50)/IF($N50=0,2,3) -> 0 | Q47: =SUM(Q48:Q50)/IF($N50=0,2,3) -> 0 | R47: =SUM(R48:R50)/IF($N50=0,2,3) -> 0 | S47: =SUM(S48:S50)/IF($N50=0,2,3) -> 0 | T47: =SUM(T48:T50)/IF($N50=0,2,3) -> 0 | U47: =SUM(U48:U50)/IF(N50=0,2,3) -> 0 | V47: =N47-U47 -> 0 | W47: =IF(V47>=150,"Si","No") -> No | X47: =IF(V47=0,0,IF(ISERROR(RANK(V47,V:V)),"",RANK(Y47,Y:Y))) -> 0 | Y47: =IFERROR(V47+F47/100000+J47/10000000+G47/1000000000,0) -> 0
E48: J1 | N48: =SUM(F48:M48) -> 0 | U48: =SUM(O48:T48) -> 0
E49: J2 | N49: =SUM(F49:M49) -> 0 | U49: =SUM(O49:T49) -> 0 | X49: =IF(ISERROR(RANK(#REF!,#REF!)),"",RANK(#REF!,#REF!))
E50: J3 | N50: =SUM(F50:M50) -> 0 | U50: =SUM(O50:T50) -> 0 | X50: =IF(ISERROR(RANK(#REF!,#REF!)),"",RANK(#REF!,#REF!))
A51: 12 | B51: {=INDEX('List of Competitors'!I$27:I$46,MATCH($A51,'List of Competitors'!$G$27:$G$46,0))} -> 0 | C51: {=INDEX('List of Competitors'!J$27:J$46,MATCH($A51,'List of Competitors'!$G$27:$G$46,0))} -> 0 | D51: {=INDEX('List of Competitors'!K$27:K$46,MATCH($A51,'List of Competitors'!$G$27:$G$46,0))} -> 0 | E51: Average | F51: =AVERAGE(F52:F54) -> #DIV/0! | G51: =AVERAGE(G52:G54) -> #DIV/0! | H51: =AVERAGE(H52:H54) -> #DIV/0! | I51: =AVERAGE(I52:I54) -> #DIV/0! | J51: =AVERAGE(J52:J54) -> #DIV/0! | K51: =AVERAGE(K52:K54) -> #DIV/0! | L51: =AVERAGE(L52:L54) -> #DIV/0! | M51: =AVERAGE(M52:M54) -> #DIV/0! | N51: =SUM(N52:N54)/IF(N54=0,2,3) -> 0 | O51: =SUM(O52:O54)/IF($N54=0,2,3) -> 0 | P51: =SUM(P52:P54)/IF($N54=0,2,3) -> 0 | Q51: =SUM(Q52:Q54)/IF($N54=0,2,3) -> 0 | R51: =SUM(R52:R54)/IF($N54=0,2,3) -> 0 | S51: =SUM(S52:S54)/IF($N54=0,2,3) -> 0 | T51: =SUM(T52:T54)/IF($N54=0,2,3) -> 0 | U51: =SUM(U52:U54)/IF(N54=0,2,3) -> 0 | V51: =N51-U51 -> 0 | W51: =IF(V51>=150,"Si","No") -> No | X51: =IF(V51=0,0,IF(ISERROR(RANK(V51,V:V)),"",RANK(Y51,Y:Y))) -> 0 | Y51: =IFERROR(V51+F51/100000+J51/10000000+G51/1000000000,0) -> 0
E52: J1 | N52: =SUM(F52:M52) -> 0 | U52: =SUM(O52:T52) -> 0
E53: J2 | N53: =SUM(F53:M53) -> 0 | U53: =SUM(O53:T53) -> 0 | X53: =IF(ISERROR(RANK(#REF!,#REF!)),"",RANK(#REF!,#REF!))
E54: J3 | N54: =SUM(F54:M54) -> 0 | U54: =SUM(O54:T54) -> 0 | X54: =IF(ISERROR(RANK(#REF!,#REF!)),"",RANK(#REF!,#REF!))
A55: 13 | B55: {=INDEX('List of Competitors'!I$27:I$46,MATCH($A55,'List of Competitors'!$G$27:$G$46,0))} -> 0 | C55: {=INDEX('List of Competitors'!J$27:J$46,MATCH($A55,'List of Competitors'!$G$27:$G$46,0))} -> 0 | D55: {=INDEX('List of Competitors'!K$27:K$46,MATCH($A55,'List of Competitors'!$G$27:$G$46,0))} -> 0 | E55: Average | F55: =AVERAGE(F56:F58) -> #DIV/0! | G55: =AVERAGE(G56:G58) -> #DIV/0! | H55: =AVERAGE(H56:H58) -> #DIV/0! | I55: =AVERAGE(I56:I58) -> #DIV/0! | J55: =AVERAGE(J56:J58) -> #DIV/0! | K55: =AVERAGE(K56:K58) -> #DIV/0! | L55: =AVERAGE(L56:L58) -> #DIV/0! | M55: =AVERAGE(M56:M58) -> #DIV/0! | N55: =SUM(N56:N58)/IF(N58=0,2,3) -> 0 | O55: =SUM(O56:O58)/IF($N58=0,2,3) -> 0 | P55: =SUM(P56:P58)/IF($N58=0,2,3) -> 0 | Q55: =SUM(Q56:Q58)/IF($N58=0,2,3) -> 0 | R55: =SUM(R56:R58)/IF($N58=0,2,3) -> 0 | S55: =SUM(S56:S58)/IF($N58=0,2,3) -> 0 | T55: =SUM(T56:T58)/IF($N58=0,2,3) -> 0 | U55: =SUM(U56:U58)/IF(N58=0,2,3) -> 0 | V55: =N55-U55 -> 0 | W55: =IF(V55>=150,"Si","No") -> No | X55: =IF(V55=0,0,IF(ISERROR(RANK(V55,V:V)),"",RANK(Y55,Y:Y))) -> 0 | Y55: =IFERROR(V55+F55/100000+J55/10000000+G55/1000000000,0) -> 0
E56: J1 | N56: =SUM(F56:M56) -> 0 | U56: =SUM(O56:T56) -> 0
E57: J2 | N57: =SUM(F57:M57) -> 0 | U57: =SUM(O57:T57) -> 0 | X57: =IF(ISERROR(RANK(#REF!,#REF!)),"",RANK(#REF!,#REF!))
E58: J3 | N58: =SUM(F58:M58) -> 0 | U58: =SUM(O58:T58) -> 0 | X58: =IF(ISERROR(RANK(#REF!,#REF!)),"",RANK(#REF!,#REF!))
A59: 14 | B59: {=INDEX('List of Competitors'!I$27:I$46,MATCH($A59,'List of Competitors'!$G$27:$G$46,0))} -> 0 | C59: {=INDEX('List of Competitors'!J$27:J$46,MATCH($A59,'List of Competitors'!$G$27:$G$46,0))} -> 0 | D59: {=INDEX('List of Competitors'!K$27:K$46,MATCH($A59,'List of Competitors'!$G$27:$G$46,0))} -> 0 | E59: Average | F59: =AVERAGE(F60:F62) -> #DIV/0! | G59: =AVERAGE(G60:G62) -> #DIV/0! | H59: =AVERAGE(H60:H62) -> #DIV/0! | I59: =AVERAGE(I60:I62) -> #DIV/0! | J59: =AVERAGE(J60:J62) -> #DIV/0! | K59: =AVERAGE(K60:K62) -> #DIV/0! | L59: =AVERAGE(L60:L62) -> #DIV/0! | M59: =AVERAGE(M60:M62) -> #DIV/0! | N59: =SUM(N60:N62)/IF(N62=0,2,3) -> 0 | O59: =SUM(O60:O62)/IF($N62=0,2,3) -> 0 | P59: =SUM(P60:P62)/IF($N62=0,2,3) -> 0 | Q59: =SUM(Q60:Q62)/IF($N62=0,2,3) -> 0 | R59: =SUM(R60:R62)/IF($N62=0,2,3) -> 0 | S59: =SUM(S60:S62)/IF($N62=0,2,3) -> 0 | T59: =SUM(T60:T62)/IF($N62=0,2,3) -> 0 | U59: =SUM(U60:U62)/IF(N62=0,2,3) -> 0 | V59: =N59-U59 -> 0 | W59: =IF(V59>=150,"Si","No") -> No | X59: =IF(V59=0,0,IF(ISERROR(RANK(V59,V:V)),"",RANK(Y59,Y:Y))) -> 0 | Y59: =IFERROR(V59+F59/100000+J59/10000000+G59/1000000000,0) -> 0
E60: J1 | N60: =SUM(F60:M60) -> 0 | U60: =SUM(O60:T60) -> 0
E61: J2 | N61: =SUM(F61:M61) -> 0 | U61: =SUM(O61:T61) -> 0 | X61: =IF(ISERROR(RANK(#REF!,#REF!)),"",RANK(#REF!,#REF!))
E62: J3 | N62: =SUM(F62:M62) -> 0 | U62: =SUM(O62:T62) -> 0 | X62: =IF(ISERROR(RANK(#REF!,#REF!)),"",RANK(#REF!,#REF!))
A63: 15 | B63: {=INDEX('List of Competitors'!I$27:I$46,MATCH($A63,'List of Competitors'!$G$27:$G$46,0))} -> 0 | C63: {=INDEX('List of Competitors'!J$27:J$46,MATCH($A63,'List of Competitors'!$G$27:$G$46,0))} -> 0 | D63: {=INDEX('List of Competitors'!K$27:K$46,MATCH($A63,'List of Competitors'!$G$27:$G$46,0))} -> 0 | E63: Average | F63: =AVERAGE(F64:F66) -> #DIV/0! | G63: =AVERAGE(G64:G66) -> #DIV/0! | H63: =AVERAGE(H64:H66) -> #DIV/0! | I63: =AVERAGE(I64:I66) -> #DIV/0! | J63: =AVERAGE(J64:J66) -> #DIV/0! | K63: =AVERAGE(K64:K66) -> #DIV/0! | L63: =AVERAGE(L64:L66) -> #DIV/0! | M63: =AVERAGE(M64:M66) -> #DIV/0! | N63: =SUM(N64:N66)/IF(N66=0,2,3) -> 0 | O63: =SUM(O64:O66)/IF($N66=0,2,3) -> 0 | P63: =SUM(P64:P66)/IF($N66=0,2,3) -> 0 | Q63: =SUM(Q64:Q66)/IF($N66=0,2,3) -> 0 | R63: =SUM(R64:R66)/IF($N66=0,2,3) -> 0 | S63: =SUM(S64:S66)/IF($N66=0,2,3) -> 0 | T63: =SUM(T64:T66)/IF($N66=0,2,3) -> 0 | U63: =SUM(U64:U66)/IF(N66=0,2,3) -> 0 | V63: =N63-U63 -> 0 | W63: =IF(V63>=150,"Si","No") -> No | X63: =IF(V63=0,0,IF(ISERROR(RANK(V63,V:V)),"",RANK(Y63,Y:Y))) -> 0 | Y63: =IFERROR(V63+F63/100000+J63/10000000+G63/1000000000,0) -> 0
E64: J1 | N64: =SUM(F64:M64) -> 0 | U64: =SUM(O64:T64) -> 0
E65: J2 | N65: =SUM(F65:M65) -> 0 | U65: =SUM(O65:T65) -> 0 | X65: =IF(ISERROR(RANK(#REF!,#REF!)),"",RANK(#REF!,#REF!))
E66: J3 | N66: =SUM(F66:M66) -> 0 | U66: =SUM(O66:T66) -> 0 | X66: =IF(ISERROR(RANK(#REF!,#REF!)),"",RANK(#REF!,#REF!))
A67: 16 | B67: {=INDEX('List of Competitors'!I$27:I$46,MATCH($A67,'List of Competitors'!$G$27:$G$46,0))} -> 0 | C67: {=INDEX('List of Competitors'!J$27:J$46,MATCH($A67,'List of Competitors'!$G$27:$G$46,0))} -> 0 | D67: {=INDEX('List of Competitors'!K$27:K$46,MATCH($A67,'List of Competitors'!$G$27:$G$46,0))} -> 0 | E67: Average | F67: =AVERAGE(F68:F70) -> #DIV/0! | G67: =AVERAGE(G68:G70) -> #DIV/0! | H67: =AVERAGE(H68:H70) -> #DIV/0! | I67: =AVERAGE(I68:I70) -> #DIV/0! | J67: =AVERAGE(J68:J70) -> #DIV/0! | K67: =AVERAGE(K68:K70) -> #DIV/0! | L67: =AVERAGE(L68:L70) -> #DIV/0! | M67: =AVERAGE(M68:M70) -> #DIV/0! | N67: =SUM(N68:N70)/IF(N70=0,2,3) -> 0 | O67: =SUM(O68:O70)/IF($N70=0,2,3) -> 0 | P67: =SUM(P68:P70)/IF($N70=0,2,3) -> 0 | Q67: =SUM(Q68:Q70)/IF($N70=0,2,3) -> 0 | R67: =SUM(R68:R70)/IF($N70=0,2,3) -> 0 | S67: =SUM(S68:S70)/IF($N70=0,2,3) -> 0 | T67: =SUM(T68:T70)/IF($N70=0,2,3) -> 0 | U67: =SUM(U68:U70)/IF(N70=0,2,3) -> 0 | V67: =N67-U67 -> 0 | W67: =IF(V67>=150,"Si","No") -> No | X67: =IF(V67=0,0,IF(ISERROR(RANK(V67,V:V)),"",RANK(Y67,Y:Y))) -> 0 | Y67: =IFERROR(V67+F67/100000+J67/10000000+G67/1000000000,0) -> 0
E68: J1 | N68: =SUM(F68:M68) -> 0 | U68: =SUM(O68:T68) -> 0
E69: J2 | N69: =SUM(F69:M69) -> 0 | U69: =SUM(O69:T69) -> 0 | X69: =IF(ISERROR(RANK(#REF!,#REF!)),"",RANK(#REF!,#REF!))
E70: J3 | N70: =SUM(F70:M70) -> 0 | U70: =SUM(O70:T70) -> 0 | X70: =IF(ISERROR(RANK(#REF!,#REF!)),"",RANK(#REF!,#REF!))
A71: 17 | B71: {=INDEX('List of Competitors'!I$27:I$46,MATCH($A71,'List of Competitors'!$G$27:$G$46,0))} -> 0 | C71: {=INDEX('List of Competitors'!J$27:J$46,MATCH($A71,'List of Competitors'!$G$27:$G$46,0))} -> 0 | D71: {=INDEX('List of Competitors'!K$27:K$46,MATCH($A71,'List of Competitors'!$G$27:$G$46,0))} -> 0 | E71: Average | F71: =AVERAGE(F72:F74) -> #DIV/0! | G71: =AVERAGE(G72:G74) -> #DIV/0! | H71: =AVERAGE(H72:H74) -> #DIV/0! | I71: =AVERAGE(I72:I74) -> #DIV/0! | J71: =AVERAGE(J72:J74) -> #DIV/0! | K71: =AVERAGE(K72:K74) -> #DIV/0! | L71: =AVERAGE(L72:L74) -> #DIV/0! | M71: =AVERAGE(M72:M74) -> #DIV/0! | N71: =SUM(N72:N74)/IF(N74=0,2,3) -> 0 | O71: =SUM(O72:O74)/IF($N74=0,2,3) -> 0 | P71: =SUM(P72:P74)/IF($N74=0,2,3) -> 0 | Q71: =SUM(Q72:Q74)/IF($N74=0,2,3) -> 0 | R71: =SUM(R72:R74)/IF($N74=0,2,3) -> 0 | S71: =SUM(S72:S74)/IF($N74=0,2,3) -> 0 | T71: =SUM(T72:T74)/IF($N74=0,2,3) -> 0 | U71: =SUM(U72:U74)/IF(N74=0,2,3) -> 0 | V71: =N71-U71 -> 0 | W71: =IF(V71>=150,"Si","No") -> No | X71: =IF(V71=0,0,IF(ISERROR(RANK(V71,V:V)),"",RANK(Y71,Y:Y))) -> 0 | Y71: =IFERROR(V71+F71/100000+J71/10000000+G71/1000000000,0) -> 0
E72: J1 | N72: =SUM(F72:M72) -> 0 | U72: =SUM(O72:T72) -> 0
E73: J2 | N73: =SUM(F73:M73) -> 0 | U73: =SUM(O73:T73) -> 0 | X73: =IF(ISERROR(RANK(#REF!,#REF!)),"",RANK(#REF!,#REF!))
E74: J3 | N74: =SUM(F74:M74) -> 0 | U74: =SUM(O74:T74) -> 0 | X74: =IF(ISERROR(RANK(#REF!,#REF!)),"",RANK(#REF!,#REF!))
A75: 18 | B75: {=INDEX('List of Competitors'!I$27:I$46,MATCH($A75,'List of Competitors'!$G$27:$G$46,0))} -> 0 | C75: {=INDEX('List of Competitors'!J$27:J$46,MATCH($A75,'List of Competitors'!$G$27:$G$46,0))} -> 0 | D75: {=INDEX('List of Competitors'!K$27:K$46,MATCH($A75,'List of Competitors'!$G$27:$G$46,0))} -> 0 | E75: Average | F75: =AVERAGE(F76:F78) -> #DIV/0! | G75: =AVERAGE(G76:G78) -> #DIV/0! | H75: =AVERAGE(H76:H78) -> #DIV/0! | I75: =AVERAGE(I76:I78) -> #DIV/0! | J75: =AVERAGE(J76:J78) -> #DIV/0! | K75: =AVERAGE(K76:K78) -> #DIV/0! | L75: =AVERAGE(L76:L78) -> #DIV/0! | M75: =AVERAGE(M76:M78) -> #DIV/0! | N75: =SUM(N76:N78)/IF(N78=0,2,3) -> 0 | O75: =SUM(O76:O78)/IF($N78=0,2,3) -> 0 | P75: =SUM(P76:P78)/IF($N78=0,2,3) -> 0 | Q75: =SUM(Q76:Q78)/IF($N78=0,2,3) -> 0 | R75: =SUM(R76:R78)/IF($N78=0,2,3) -> 0 | S75: =SUM(S76:S78)/IF($N78=0,2,3) -> 0 | T75: =SUM(T76:T78)/IF($N78=0,2,3) -> 0 | U75: =SUM(U76:U78)/IF(N78=0,2,3) -> 0 | V75: =N75-U75 -> 0 | W75: =IF(V75>=150,"Si","No") -> No | X75: =IF(V75=0,0,IF(ISERROR(RANK(V75,V:V)),"",RANK(Y75,Y:Y))) -> 0 | Y75: =IFERROR(V75+F75/100000+J75/10000000+G75/1000000000,0) -> 0
E76: J1 | N76: =SUM(F76:M76) -> 0 | U76: =SUM(O76:T76) -> 0
E77: J2 | N77: =SUM(F77:M77) -> 0 | U77: =SUM(O77:T77) -> 0 | X77: =IF(ISERROR(RANK(#REF!,#REF!)),"",RANK(#REF!,#REF!))
E78: J3 | N78: =SUM(F78:M78) -> 0 | U78: =SUM(O78:T78) -> 0 | X78: =IF(ISERROR(RANK(#REF!,#REF!)),"",RANK(#REF!,#REF!))
A79: 19 | B79: {=INDEX('List of Competitors'!I$27:I$46,MATCH($A79,'List of Competitors'!$G$27:$G$46,0))} -> 0 | C79: {=INDEX('List of Competitors'!J$27:J$46,MATCH($A79,'List of Competitors'!$G$27:$G$46,0))} -> 0 | D79: {=INDEX('List of Competitors'!K$27:K$46,MATCH($A79,'List of Competitors'!$G$27:$G$46,0))} -> 0 | E79: Average | F79: =AVERAGE(F80:F82) -> #DIV/0! | G79: =AVERAGE(G80:G82) -> #DIV/0! | H79: =AVERAGE(H80:H82) -> #DIV/0! | I79: =AVERAGE(I80:I82) -> #DIV/0! | J79: =AVERAGE(J80:J82) -> #DIV/0! | K79: =AVERAGE(K80:K82) -> #DIV/0! | L79: =AVERAGE(L80:L82) -> #DIV/0! | M79: =AVERAGE(M80:M82) -> #DIV/0! | N79: =SUM(N80:N82)/IF(N82=0,2,3) -> 0 | O79: =SUM(O80:O82)/IF($N82=0,2,3) -> 0 | P79: =SUM(P80:P82)/IF($N82=0,2,3) -> 0 | Q79: =SUM(Q80:Q82)/IF($N82=0,2,3) -> 0 | R79: =SUM(R80:R82)/IF($N82=0,2,3) -> 0 | S79: =SUM(S80:S82)/IF($N82=0,2,3) -> 0 | T79: =SUM(T80:T82)/IF($N82=0,2,3) -> 0 | U79: =SUM(U80:U82)/IF(N82=0,2,3) -> 0 | V79: =N79-U79 -> 0 | W79: =IF(V79>=150,"Si","No") -> No | X79: =IF(V79=0,0,IF(ISERROR(RANK(V79,V:V)),"",RANK(Y79,Y:Y))) -> 0 | Y79: =IFERROR(V79+F79/100000+J79/10000000+G79/1000000000,0) -> 0
E80: J1 | N80: =SUM(F80:M80) -> 0 | U80: =SUM(O80:T80) -> 0
E81: J2 | N81: =SUM(F81:M81) -> 0 | U81: =SUM(O81:T81) -> 0 | X81: =IF(ISERROR(RANK(#REF!,#REF!)),"",RANK(#REF!,#REF!))
E82: J3 | N82: =SUM(F82:M82) -> 0 | U82: =SUM(O82:T82) -> 0 | X82: =IF(ISERROR(RANK(#REF!,#REF!)),"",RANK(#REF!,#REF!))
A83: 20 | B83: {=INDEX('List of Competitors'!I$27:I$46,MATCH($A83,'List of Competitors'!$G$27:$G$46,0))} -> 0 | C83: {=INDEX('List of Competitors'!J$27:J$46,MATCH($A83,'List of Competitors'!$G$27:$G$46,0))} -> 0 | D83: {=INDEX('List of Competitors'!K$27:K$46,MATCH($A83,'List of Competitors'!$G$27:$G$46,0))} -> 0 | E83: Average | F83: =AVERAGE(F84:F86) -> #DIV/0! | G83: =AVERAGE(G84:G86) -> #DIV/0! | H83: =AVERAGE(H84:H86) -> #DIV/0! | I83: =AVERAGE(I84:I86) -> #DIV/0! | J83: =AVERAGE(J84:J86) -> #DIV/0! | K83: =AVERAGE(K84:K86) -> #DIV/0! | L83: =AVERAGE(L84:L86) -> #DIV/0! | M83: =AVERAGE(M84:M86) -> #DIV/0! | N83: =SUM(N84:N86)/IF(N86=0,2,3) -> 0 | O83: =SUM(O84:O86)/IF($N86=0,2,3) -> 0 | P83: =SUM(P84:P86)/IF($N86=0,2,3) -> 0 | Q83: =SUM(Q84:Q86)/IF($N86=0,2,3) -> 0 | R83: =SUM(R84:R86)/IF($N86=0,2,3) -> 0 | S83: =SUM(S84:S86)/IF($N86=0,2,3) -> 0 | T83: =SUM(T84:T86)/IF($N86=0,2,3) -> 0 | U83: =SUM(U84:U86)/IF(N86=0,2,3) -> 0 | V83: =N83-U83 -> 0 | W83: =IF(V83>=150,"Si","No") -> No | X83: =IF(V83=0,0,IF(ISERROR(RANK(V83,V:V)),"",RANK(Y83,Y:Y))) -> 0 | Y83: =IFERROR(V83+F83/100000+J83/10000000+G83/1000000000,0) -> 0
E84: J1 | N84: =SUM(F84:M84) -> 0 | U84: =SUM(O84:T84) -> 0
E85: J2 | N85: =SUM(F85:M85) -> 0 | U85: =SUM(O85:T85) -> 0 | X85: =IF(ISERROR(RANK(#REF!,#REF!)),"",RANK(#REF!,#REF!))
E86: J3 | N86: =SUM(F86:M86) -> 0 | U86: =SUM(O86:T86) -> 0 | X86: =IF(ISERROR(RANK(#REF!,#REF!)),"",RANK(#REF!,#REF!))

Sheet HTM 0
B1: HTM 0 | E1: ='List of Competitors'!B2 -> NARNI (TR)
E2: ='List of Competitors'!C2 -> 03/05/2026
A4: # | B4: Nome | C4: Cognome | D4: Cane | E4: Judge | F4: Team work | G4: Dinamicità | H4: Progetto | I4: Coreografia | J4: Fluidità | K4: Esecuzione | L4: Contenuto | M4: Difficoltà | N4: Punit | O4: Detrazioni di punti | W4: Totale | X4: punto di passaggio | Y4: Posizionamento | Z4: Korr Punkte Teamwork, Fluss
O5: Abbaio e vocalizzazioni | P5: Salute del cane | Q5: costume / Oggetti di scena | R5: Lunghezze musicali errate | S5: Trattamento improprio del cane | T5: Contatto attivo | U5: % HTM | V5: Totale
F6: max. 25 | G6: max. 25 | H6: max. 25 | I6: max. 25 | J6: max. 25 | K6: max. 25 | L6: max. 25 | M6: max. 25 | O6: max. 20 | P6: max. 20 | Q6: max. 20 | R6: 1 Punkt / sec | S6: max. 20 | T6: max. 20 | U6: [X]
A7: 1 | B7: {=INDEX('List of Competitors'!C$5:C$24,MATCH($A7,'List of Competitors'!$A$5:$A$24,0))} -> DANIELA | C7: {=INDEX('List of Competitors'!D$5:D$24,MATCH($A7,'List of Competitors'!$A$5:$A$24,0))} -> MORSIANI | D7: {=INDEX('List of Competitors'!E$5:E$24,MATCH($A7,'List of Competitors'!$A$5:$A$24,0))} -> KORI | E7: Average | F7: =AVERAGE(F8:F10) -> 20.5 | G7: =AVERAGE(G8:G10) -> 21 | H7: =AVERAGE(H8:H10) -> 21.5 | I7: =AVERAGE(I8:I10) -> 21 | J7: =AVERAGE(J8:J10) -> 20.5 | K7: =AVERAGE(K8:K10) -> 21 | L7: =AVERAGE(L8:L10) -> 19.5 | M7: =AVERAGE(M8:M10) -> 19 | N7: =SUM(N8:N10)/IF(N10=0,2,3) -> 164 | O7: =SUM(O8:O10)/IF($N10=0,2,3) -> 0 | P7: =SUM(P8:P10)/IF($N10=0,2,3) -> 0 | Q7: =SUM(Q8:Q10)/IF($N10=0,2,3) -> 0 | R7: =SUM(R8:R10)/IF($N10=0,2,3) -> 0 | S7: =SUM(S8:S10)/IF($N10=0,2,3) -> 0 | T7: =SUM(T8:T10)/IF($N10=0,2,3) -> 0 | V7: =SUM(V8:V10)/IF(N10=0,2,3) -> 0 | W7: =N7-V7 -> 164 | X7: =IF(W7>=150,"Si","No") -> Si | Y7: =IF(W7=0,0,IF(ISERROR(RANK(W7,W:W)),"",RANK(Z7,Z:Z))) -> 1 | Z7: =IFERROR(W7+F7/100000+J7/10000000+G7/1000000000,0) -> 164.00021
E8: J1 | F8: 21 | G8: 22 | H8: 22 | I8: 23 | J8: 22 | K8: 22 | L8: 20 | M8: 20 | N8: =SUM(F8:M8) -> 172 | V8: =SUM(O8:T8) -> 0
E9: J2 | F9: 20 | G9: 20 | H9: 21 | I9: 19 | J9: 19 | K9: 20 | L9: 19 | M9: 18 | N9: =SUM(F9:M9) -> 156 | V9: =SUM(O9:T9) -> 0 | Y9: =IF(ISERROR(RANK(#REF!,#REF!)),"",RANK(#REF!,#REF!))
E10: J3 | N10: =SUM(F10:M10) -> 0 | V10: =SUM(O10:T10) -> 0 | Y10: =IF(ISERROR(RANK(#REF!,#REF!)),"",RANK(#REF!,#REF!))
A11: 2 | B11: {=INDEX('List of Competitors'!C$5:C$24,MATCH($A11,'List of Competitors'!$A$5:$A$24,0))} -> 0 | C11: {=INDEX('List of Competitors'!D$5:D$24,MATCH($A11,'List of Competitors'!$A$5:$A$24,0))} -> 0 | D11: {=INDEX('List of Competitors'!E$5:E$24,MATCH($A11,'List of Competitors'!$A$5:$A$24,0))} -> 0 | E11: Average | F11: =AVERAGE(F12:F14) -> #DIV/0! | G11: =AVERAGE(G12:G14) -> #DIV/0! | H11: =AVERAGE(H12:H14) -> #DIV/0! | I11: =AVERAGE(I12:I14) -> #DIV/0! | J11: =AVERAGE(J12:J14) -> #DIV/0! | K11: =AVERAGE(K12:K14) -> #DIV/0! | L11: =AVERAGE(L12:L14) -> #DIV/0! | M11: =AVERAGE(M12:M14) -> #DIV/0! | N11: =SUM(N12:N14)/IF(N14=0,2,3) -> 0 | O11: =SUM(O12:O14)/IF($N14=0,2,3) -> 0 | P11: =SUM(P12:P14)/IF($N14=0,2,3) -> 0 | Q11: =SUM(Q12:Q14)/IF($N14=0,2,3) -> 0 | R11: =SUM(R12:R14)/IF($N14=0,2,3) -> 0 | S11: =SUM(S12:S14)/IF($N14=0,2,3) -> 0 | T11: =SUM(T12:T14)/IF($N14=0,2,3) -> 0 | V11: =SUM(V12:V14)/IF(N14=0,2,3) -> 0 | W11: =N11-V11 -> 0 | X11: =IF(W11>=150,"Si","No") -> No | Y11: =IF(W11=0,0,IF(ISERROR(RANK(W11,W:W)),"",RANK(Z11,Z:Z))) -> 0 | Z11: =IFERROR(W11+F11/100000+J11/10000000+G11/1000000000,0) -> 0
E12: J1 | N12: =SUM(F12:M12) -> 0 | V12: =SUM(O12:T12) -> 0
E13: J2 | N13: =SUM(F13:M13) -> 0 | V13: =SUM(O13:T13) -> 0 | Y13: =IF(ISERROR(RANK(#REF!,#REF!)),"",RANK(#REF!,#REF!))
E14: J3 | N14: =SUM(F14:M14) -> 0 | V14: =SUM(O14:T14) -> 0 | Y14: =IF(ISERROR(RANK(#REF!,#REF!)),"",RANK(#REF!,#REF!))
A15: 3 | B15: {=INDEX('List of Competitors'!C$5:C$24,MATCH($A15,'List of Competitors'!$A$5:$A$24,0))} -> 0 | C15: {=INDEX('List of Competitors'!D$5:D$24,MATCH($A15,'List of Competitors'!$A$5:$A$24,0))} -> 0 | D15: {=INDEX('List of Competitors'!E$5:E$24,MATCH($A15,'List of Competitors'!$A$5:$A$24,0))} -> 0 | E15: Average | F15: =AVERAGE(F16:F18) -> #DIV/0! | G15: =AVERAGE(G16:G18) -> #DIV/0! | H15: =AVERAGE(H16:H18) -> #DIV/0! | I15: =AVERAGE(I16:I18) -> #DIV/0! | J15: =AVERAGE(J16:J18) -> #DIV/0! | K15: =AVERAGE(K16:K18) -> #DIV/0! | L15: =AVERAGE(L16:L18) -> #DIV/0! | M15: =AVERAGE(M16:M18) -> #DIV/0! | N15: =SUM(N16:N18)/IF(N18=0,2,3) -> 0 | O15: =SUM(O16:O18)/IF($N18=0,2,3) -> 0 | P15: =SUM(P16:P18)/IF($N18=0,2,3) -> 0 | Q15: =SUM(Q16:Q18)/IF($N18=0,2,3) -> 0 | R15: =SUM(R16:R18)/IF($N18=0,2,3) -> 0 | S15: =SUM(S16:S18)/IF($N18=0,2,3) -> 0 | T15: =SUM(T16:T18)/IF($N18=0,2,3) -> 0 | V15: =SUM(V16:V18)/IF(N18=0,2,3) -> 0 | W15: =N15-V15 -> 0 | X15: =IF(W15>=150,"Si","No") -> No | Y15: =IF(W15=0,0,IF(ISERROR(RANK(W15,W:W)),"",RANK(Z15,Z:Z))) -> 0 | Z15: =IFERROR(W15+F15/100000+J15/10000000+G15/1000000000,0) -> 0
E16: J1 | N16: =SUM(F16:M16) -> 0 | V16: =SUM(O16:T16) -> 0
E17: J2 | N17: =SUM(F17:M17) -> 0 | V17: =SUM(O17:T17) -> 0 | Y17: =IF(ISERROR(RANK(#REF!,#REF!)),"",RANK(#REF!,#REF!))
E18: J3 | N18: =SUM(F18:M18) -> 0 | V18: =SUM(O18:T18) -> 0 | Y18: =IF(ISERROR(RANK(#REF!,#REF!)),"",RANK(#REF!,#REF!))
A19: 4 | B19: {=INDEX('List of Competitors'!C$5:C$24,MATCH($A19,'List of Competitors'!$A$5:$A$24,0))} -> 0 | C19: {=INDEX('List of Competitors'!D$5:D$24,MATCH($A19,'List of Competitors'!$A$5:$A$24,0))} -> 0 | D19: {=INDEX('List of Competitors'!E$5:E$24,MATCH($A19,'List of Competitors'!$A$5:$A$24,0))} -> 0 | E19: Average | F19: =AVERAGE(F20:F22) -> #DIV/0! | G19: =AVERAGE(G20:G22) -> #DIV/0! | H19: =AVERAGE(H20:H22) -> #DIV/0! | I19: =AVERAGE(I20:I22) -> #DIV/0! | J19: =AVERAGE(J20:J22) -> #DIV/0! | K19: =AVERAGE(K20:K22) -> #DIV/0! | L19: =AVERAGE(L20:L22) -> #DIV/0! | M19: =AVERAGE(M20:M22) -> #DIV/0! | N19: =SUM(N20:N22)/IF(N22=0,2,3) -> 0 | O19: =SUM(O20:O22)/IF($N22=0,2,3) -> 0 | P19: =SUM(P20:P22)/IF($N22=0,2,3) -> 0 | Q19: =SUM(Q20:Q22)/IF($N22=0,2,3) -> 0 | R19: =SUM(R20:R22)/IF($N22=0,2,3) -> 0 | S19: =SUM(S20:S22)/IF($N22=0,2,3) -> 0 | T19: =SUM(T20:T22)/IF($N22=0,2,3) -> 0 | V19: =SUM(V20:V22)/IF(N22=0,2,3) -> 0 | W19: =N19-V19 -> 0 | X19: =IF(W19>=150,"Si","No") -> No | Y19: =IF(W19=0,0,IF(ISERROR(RANK(W19,W:W)),"",RANK(Z19,Z:Z))) -> 0 | Z19: =IFERROR(W19+F19/100000+J19/10000000+G19/1000000000,0) -> 0
E20: J1 | N20: =SUM(F20:M20) -> 0 | V20: =SUM(O20:T20) -> 0
E21: J2 | N21: =SUM(F21:M21) -> 0 | V21: =SUM(O21:T21) -> 0 | Y21: =IF(ISERROR(RANK(#REF!,#REF!)),"",RANK(#REF!,#REF!))
E22: J3 | N22: =SUM(F22:M22) -> 0 | V22: =SUM(O22:T22) -> 0 | Y22: =IF(ISERROR(RANK(#REF!,#REF!)),"",RANK(#REF!,#REF!))
A23: 5 | B23: {=INDEX('List of Competitors'!C$5:C$24,MATCH($A23,'List of Competitors'!$A$5:$A$24,0))} -> 0 | C23: {=INDEX('List of Competitors'!D$5:D$24,MATCH($A23,'List of Competitors'!$A$5:$A$24,0))} -> 0 | D23: {=INDEX('List of Competitors'!E$5:E$24,MATCH($A23,'List of Competitors'!$A$5:$A$24,0))} -> 0 | E23: Average | F23: =AVERAGE(F24:F26) -> #DIV/0! | G23: =AVERAGE(G24:G26) -> #DIV/0! | H23: =AVERAGE(H24:H26) -> #DIV/0! | I23: =AVERAGE(I24:I26) -> #DIV/0! | J23: =AVERAGE(J24:J26) -> #DIV/0! | K23: =AVERAGE(K24:K26) -> #DIV/0! | L23: =AVERAGE(L24:L26) -> #DIV/0! | M23: =AVERAGE(M24:M26) -> #DIV/0! | N23: =SUM(N24:N26)/IF(N26=0,2,3) -> 0 | O23: =SUM(O24:O26)/IF($N26=0,2,3) -> 0 | P23: =SUM(P24:P26)/IF($N26=0,2,3) -> 0 | Q23: =SUM(Q24:Q26)/IF($N26=0,2,3) -> 0 | R23: =SUM(R24:R26)/IF($N26=0,2,3) -> 0 | S23: =SUM(S24:S26)/IF($N26=0,2,3) -> 0 | T23: =SUM(T24:T26)/IF($N26=0,2,3) -> 0 | V23: =SUM(V24:V26)/IF(N26=0,2,3) -> 0 | W23: =N23-V23 -> 0 | X23: =IF(W23>=150,"Si","No") -> No | Y23: =IF(W23=0,0,IF(ISERROR(RANK(W23,W:W)),"",RANK(Z23,Z:Z))) -> 0 | Z23: =IFERROR(W23+F23/100000+J23/10000000+G23/1000000000,0) -> 0
E24: J1 | N24: =SUM(F24:M24) -> 0 | V24: =SUM(O24:T24) -> 0
E25: J2 | N25: =SUM(F25:M25) -> 0 | V25: =SUM(O25:T25) -> 0 | Y25: =IF(ISERROR(RANK(#REF!,#REF!)),"",RANK(#REF!,#REF!))
E26: J3 | N26: =SUM(F26:M26) -> 0 | V26: =SUM(O26:T26) -> 0 | Y26: =IF(ISERROR(RANK(#REF!,#REF!)),"",RANK(#REF!,#REF!))
A27: 6 | B27: {=INDEX('List of Competitors'!C$5:C$24,MATCH($A27,'List of Competitors'!$A$5:$A$24,0))} -> 0 | C27: {=INDEX('List of Competitors'!D$5:D$24,MATCH($A27,'List of Competitors'!$A$5:$A$24,0))} -> 0 | D27: {=INDEX('List of Competitors'!E$5:E$24,MATCH($A27,'List of Competitors'!$A$5:$A$24,0))} -> 0 | E27: Average | F27: =AVERAGE(F28:F30) -> #DIV/0! | G27: =AVERAGE(G28:G30) -> #DIV/0! | H27: =AVERAGE(H28:H30) -> #DIV/0! | I27: =AVERAGE(I28:I30) -> #DIV/0! | J27: =AVERAGE(J28:J30) -> #DIV/0! | K27: =AVERAGE(K28:K30) -> #DIV/0! | L27: =AVERAGE(L28:L30) -> #DIV/0! | M27: =AVERAGE(M28:M30) -> #DIV/0! | N27: =SUM(N28:N30)/IF(N30=0,2,3) -> 0 | O27: =SUM(O28:O30)/IF($N30=0,2,3) -> 0 | P27: =SUM(P28:P30)/IF($N30=0,2,3) -> 0 | Q27: =SUM(Q28:Q30)/IF($N30=0,2,3) -> 0 | R27: =SUM(R28:R30)/IF($N30=0,2,3) -> 0 | S27: =SUM(S28:S30)/IF($N30=0,2,3) -> 0 | T27: =SUM(T28:T30)/IF($N30=0,2,3) -> 0 | V27: =SUM(V28:V30)/IF(N30=0,2,3) -> 0 | W27: =N27-V27 -> 0 | X27: =IF(W27>=150,"Si","No") -> No | Y27: =IF(W27=0,0,IF(ISERROR(RANK(W27,W:W)),"",RANK(Z27,Z:Z))) -> 0 | Z27: =IFERROR(W27+F27/100000+J27/10000000+G27/1000000000,0) -> 0
E28: J1 | N28: =SUM(F28:M28) -> 0 | V28: =SUM(O28:T28) -> 0
E29: J2 | N29: =SUM(F29:M29) -> 0 | V29: =SUM(O29:T29) -> 0 | Y29: =IF(ISERROR(RANK(#REF!,#REF!)),"",RANK(#REF!,#REF!))
E30: J3 | N30: =SUM(F30:M30) -> 0 | V30: =SUM(O30:T30) -> 0 | Y30: =IF(ISERROR(RANK(#REF!,#REF!)),"",RANK(#REF!,#REF!))
A31: 7 | B31: {=INDEX('List of Competitors'!C$5:C$24,MATCH($A31,'List of Competitors'!$A$5:$A$24,0))} -> 0 | C31: {=INDEX('List of Competitors'!D$5:D$24,MATCH($A31,'List of Competitors'!$A$5:$A$24,0))} -> 0 | D31: {=INDEX('List of Competitors'!E$5:E$24,MATCH($A31,'List of Competitors'!$A$5:$A$24,0))} -> 0 | E31: Average | F31: =AVERAGE(F32:F34) -> #DIV/0! | G31: =AVERAGE(G32:G34) -> #DIV/0! | H31: =AVERAGE(H32:H34) -> #DIV/0! | I31: =AVERAGE(I32:I34) -> #DIV/0! | J31: =AVERAGE(J32:J34) -> #DIV/0! | K31: =AVERAGE(K32:K34) -> #DIV/0! | L31: =AVERAGE(L32:L34) -> #DIV/0! | M31: =AVERAGE(M32:M34) -> #DIV/0! | N31: =SUM(N32:N34)/IF(N34=0,2,3) -> 0 | O31: =SUM(O32:O34)/IF($N34=0,2,3) -> 0 | P31: =SUM(P32:P34)/IF($N34=0,2,3) -> 0 | Q31: =SUM(Q32:Q34)/IF($N34=0,2,3) -> 0 | R31: =SUM(R32:R34)/IF($N34=0,2,3) -> 0 | S31: =SUM(S32:S34)/IF($N34=0,2,3) -> 0 | T31: =SUM(T32:T34)/IF($N34=0,2,3) -> 0 | V31: =SUM(V32:V34)/IF(N34=0,2,3) -> 0 | W31: =N31-V31 -> 0 | X31: =IF(W31>=150,"Si","No") -> No | Y31: =IF(W31=0,0,IF(ISERROR(RANK(W31,W:W)),"",RANK(Z31,Z:Z))) -> 0 | Z31: =IFERROR(W31+F31/100000+J31/10000000+G31/1000000000,0) -> 0
E32: J1 | N32: =SUM(F32:M32) -> 0 | V32: =SUM(O32:T32) -> 0
E33: J2 | N33: =SUM(F33:M33) -> 0 | V33: =SUM(O33:T33) -> 0 | Y33: =IF(ISERROR(RANK(#REF!,#REF!)),"",RANK(#REF!,#REF!))
E34: J3 | N34: =SUM(F34:M34) -> 0 | V34: =SUM(O34:T34) -> 0 | Y34: =IF(ISERROR(RANK(#REF!,#REF!)),"",RANK(#REF!,#REF!))
A35: 8 | B35: {=INDEX('List of Competitors'!C$5:C$24,MATCH($A35,'List of Competitors'!$A$5:$A$24,0))} -> 0 | C35: {=INDEX('List of Competitors'!D$5:D$24,MATCH($A35,'List of Competitors'!$A$5:$A$24,0))} -> 0 | D35: {=INDEX('List of Competitors'!E$5:E$24,MATCH($A35,'List of Competitors'!$A$5:$A$24,0))} -> 0 | E35: Average | F35: =AVERAGE(F36:F38) -> #DIV/0! | G35: =AVERAGE(G36:G38) -> #DIV/0! | H35: =AVERAGE(H36:H38) -> #DIV/0! | I35: =AVERAGE(I36:I38) -> #DIV/0! | J35: =AVERAGE(J36:J38) -> #DIV/0! | K35: =AVERAGE(K36:K38) -> #DIV/0! | L35: =AVERAGE(L36:L38) -> #DIV/0! | M35: =AVERAGE(M36:M38) -> #DIV/0! | N35: =SUM(N36:N38)/IF(N38=0,2,3) -> 0 | O35: =SUM(O36:O38)/IF($N38=0,2,3) -> 0 | P35: =SUM(P36:P38)/IF($N38=0,2,3) -> 0 | Q35: =SUM(Q36:Q38)/IF($N38=0,2,3) -> 0 | R35: =SUM(R36:R38)/IF($N38=0,2,3) -> 0 | S35: =SUM(S36:S38)/IF($N38=0,2,3) -> 0 | T35: =SUM(T36:T38)/IF($N38=0,2,3) -> 0 | V35: =SUM(V36:V38)/IF(N38=0,2,3) -> 0 | W35: =N35-V35 -> 0 | X35: =IF(W35>=150,"Si","No") -> No | Y35: =IF(W35=0,0,IF(ISERROR(RANK(W35,W:W)),"",RANK(Z35,Z:Z))) -> 0 | Z35: =IFERROR(W35+F35/100000+J35/10000000+G35/1000000000,0) -> 0
E36: J1 | N36: =SUM(F36:M36) -> 0 | V36: =SUM(O36:T36) -> 0
E37: J2 | N37: =SUM(F37:M37) -> 0 | V37: =SUM(O37:T37) -> 0 | Y37: =IF(ISERROR(RANK(#REF!,#REF!)),"",RANK(#REF!,#REF!))
E38: J3 | N38: =SUM(F38:M38) -> 0 | V38: =SUM(O38:T38) -> 0 | Y38: =IF(ISERROR(RANK(#REF!,#REF!)),"",RANK(#REF!,#REF!))
A39: 9 | B39: {=INDEX('List of Competitors'!C$5:C$24,MATCH($A39,'List of Competitors'!$A$5:$A$24,0))} -> 0 | C39: {=INDEX('List of Competitors'!D$5:D$24,MATCH($A39,'List of Competitors'!$A$5:$A$24,0))} -> 0 | D39: {=INDEX('List of Competitors'!E$5:E$24,MATCH($A39,'List of Competitors'!$A$5:$A$24,0))} -> 0 | E39: Average | F39: =AVERAGE(F40:F42) -> #DIV/0! | G39: =AVERAGE(G40:G42) -> #DIV/0! | H39: =AVERAGE(H40:H42) -> #DIV/0! | I39: =AVERAGE(I40:I42) -> #DIV/0! | J39: =AVERAGE(J40:J42) -> #DIV/0! | K39: =AVERAGE(K40:K42) -> #DIV/0! | L39: =AVERAGE(L40:L42) -> #DIV/0! | M39: =AVERAGE(M40:M42) -> #DIV/0! | N39: =SUM(N40:N42)/IF(N42=0,2,3) -> 0 | O39: =SUM(O40:O42)/IF($N42=0,2,3) -> 0 | P39: =SUM(P40:P42)/IF($N42=0,2,3) -> 0 | Q39: =SUM(Q40:Q42)/IF($N42=0,2,3) -> 0 | R39: =SUM(R40:R42)/IF($N42=0,2,3) -> 0 | S39: =SUM(S40:S42)/IF($N42=0,2,3) -> 0 | T39: =SUM(T40:T42)/IF($N42=0,2,3) -> 0 | V39: =SUM(V40:V42)/IF(N42=0,2,3) -> 0 | W39: =N39-V39 -> 0 | X39: =IF(W39>=150,"Si","No") -> No | Y39: =IF(W39=0,0,IF(ISERROR(RANK(W39,W:W)),"",RANK(Z39,Z:Z))) -> 0 | Z39: =IFERROR(W39+F39/100000+J39/10000000+G39/1000000000,0) -> 0
E40: J1 | N40: =SUM(F40:M40) -> 0 | V40: =SUM(O40:T40) -> 0
E41: J2 | N41: =SUM(F41:M41) -> 0 | V41: =SUM(O41:T41) -> 0 | Y41: =IF(ISERROR(RANK(#REF!,#REF!)),"",RANK(#REF!,#REF!))
E42: J3 | N42: =SUM(F42:M42) -> 0 | V42: =SUM(O42:T42) -> 0 | Y42: =IF(ISERROR(RANK(#REF!,#REF!)),"",RANK(#REF!,#REF!))
A43: 10 | B43: {=INDEX('List of Competitors'!C$5:C$24,MATCH($A43,'List of Competitors'!$A$5:$A$24,0))} -> 0 | C43: {=INDEX('List of Competitors'!D$5:D$24,MATCH($A43,'List of Competitors'!$A$5:$A$24,0))} -> 0 | D43: {=INDEX('List of Competitors'!E$5:E$24,MATCH($A43,'List of Competitors'!$A$5:$A$24,0))} -> 0 | E43: Average | F43: =AVERAGE(F44:F46) -> #DIV/0! | G43: =AVERAGE(G44:G46) -> #DIV/0! | H43: =AVERAGE(H44:H46) -> #DIV/0! | I43: =AVERAGE(I44:I46) -> #DIV/0! | J43: =AVERAGE(J44:J46) -> #DIV/0! | K43: =AVERAGE(K44:K46) -> #DIV/0! | L43: =AVERAGE(L44:L46) -> #DIV/0! | M43: =AVERAGE(M44:M46) -> #DIV/0! | N43: =SUM(N44:N46)/IF(N46=0,2,3) -> 0 | O43: =SUM(O44:O46)/IF($N46=0,2,3) -> 0 | P43: =SUM(P44:P46)/IF($N46=0,2,3) -> 0 | Q43: =SUM(Q44:Q46)/IF($N46=0,2,3) -> 0 | R43: =SUM(R44:R46)/IF($N46=0,2,3) -> 0 | S43: =SUM(S44:S46)/IF($N46=0,2,3) -> 0 | T43: =SUM(T44:T46)/IF($N46=0,2,3) -> 0 | V43: =SUM(V44:V46)/IF(N46=0,2,3) -> 0 | W43: =N43-V43 -> 0 | X43: =IF(W43>=150,"Si","No") -> No | Y43: =IF(W43=0,0,IF(ISERROR(RANK(W43,W:W)),"",RANK(Z43,Z:Z))) -> 0 | Z43: =IFERROR(W43+F43/100000+J43/10000000+G43/1000000000,0) -> 0
E44: J1 | N44: =SUM(F44:M44) -> 0 | V44: =SUM(O44:T44) -> 0
E45: J2 | N45: =SUM(F45:M45) -> 0 | V45: =SUM(O45:T45) -> 0 | Y45: =IF(ISERROR(RANK(#REF!,#REF!)),"",RANK(#REF!,#REF!))
E46: J3 | N46: =SUM(F46:M46) -> 0 | V46: =SUM(O46:T46) -> 0 | Y46: =IF(ISERROR(RANK(#REF!,#REF!)),"",RANK(#REF!,#REF!))
A47: 11 | B47: {=INDEX('List of Competitors'!C$5:C$24,MATCH($A47,'List of Competitors'!$A$5:$A$24,0))} -> 0 | C47: {=INDEX('List of Competitors'!D$5:D$24,MATCH($A47,'List of Competitors'!$A$5:$A$24,0))} -> 0 | D47: {=INDEX('List of Competitors'!E$5:E$24,MATCH($A47,'List of Competitors'!$A$5:$A$24,0))} -> 0 | E47: Average | F47: =AVERAGE(F48:F50) -> #DIV/0! | G47: =AVERAGE(G48:G50) -> #DIV/0! | H47: =AVERAGE(H48:H50) -> #DIV/0! | I47: =AVERAGE(I48:I50) -> #DIV/0! | J47: =AVERAGE(J48:J50) -> #DIV/0! | K47: =AVERAGE(K48:K50) -> #DIV/0! | L47: =AVERAGE(L48:L50) -> #DIV/0! | M47: =AVERAGE(M48:M50) -> #DIV/0! | N47: =SUM(N48:N50)/IF(N50=0,2,3) -> 0 | O47: =SUM(O48:O50)/IF($N50=0,2,3) -> 0 | P47: =SUM(P48:P50)/IF($N50=0,2,3) -> 0 | Q47: =SUM(Q48:Q50)/IF($N50=0,2,3) -> 0 | R47: =SUM(R48:R50)/IF($N50=0,2,3) -> 0 | S47: =SUM(S48:S50)/IF($N50=0,2,3) -> 0 | T47: =SUM(T48:T50)/IF($N50=0,2,3) -> 0 | V47: =SUM(V48:V50)/IF(N50=0,2,3) -> 0 | W47: =N47-V47 -> 0 | X47: =IF(W47>=150,"Si","No") -> No | Y47: =IF(W47=0,0,IF(ISERROR(RANK(W47,W:W)),"",RANK(Z47,Z:Z))) -> 0 | Z47: =IFERROR(W47+F47/100000+J47/10000000+G47/1000000000,0) -> 0
E48: J1 | N48: =SUM(F48:M48) -> 0 | V48: =SUM(O48:T48) -> 0
E49: J2 | N49: =SUM(F49:M49) -> 0 | V49: =SUM(O49:T49) -> 0 | Y49: =IF(ISERROR(RANK(#REF!,#REF!)),"",RANK(#REF!,#REF!))
E50: J3 | N50: =SUM(F50:M50) -> 0 | V50: =SUM(O50:T50) -> 0 | Y50: =IF(ISERROR(RANK(#REF!,#REF!)),"",RANK(#REF!,#REF!))
A51: 12 | B51: {=INDEX('List of Competitors'!C$5:C$24,MATCH($A51,'List of Competitors'!$A$5:$A$24,0))} -> 0 | C51: {=INDEX('List of Competitors'!D$5:D$24,MATCH($A51,'List of Competitors'!$A$5:$A$24,0))} -> 0 | D51: {=INDEX('List of Competitors'!E$5:E$24,MATCH($A51,'List of Competitors'!$A$5:$A$24,0))} -> 0 | E51: Average | F51: =AVERAGE(F52:F54) -> #DIV/0! | G51: =AVERAGE(G52:G54) -> #DIV/0! | H51: =AVERAGE(H52:H54) -> #DIV/0! | I51: =AVERAGE(I52:I54) -> #DIV/0! | J51: =AVERAGE(J52:J54) -> #DIV/0! | K51: =AVERAGE(K52:K54) -> #DIV/0! | L51: =AVERAGE(L52:L54) -> #DIV/0! | M51: =AVERAGE(M52:M54) -> #DIV/0! | N51: =SUM(N52:N54)/IF(N54=0,2,3) -> 0 | O51: =SUM(O52:O54)/IF($N54=0,2,3) -> 0 | P51: =SUM(P52:P54)/IF($N54=0,2,3) -> 0 | Q51: =SUM(Q52:Q54)/IF($N54=0,2,3) -> 0 | R51: =SUM(R52:R54)/IF($N54=0,2,3) -> 0 | S51: =SUM(S52:S54)/IF($N54=0,2,3) -> 0 | T51: =SUM(T52:T54)/IF($N54=0,2,3) -> 0 | V51: =SUM(V52:V54)/IF(N54=0,2,3) -> 0 | W51: =N51-V51 -> 0 | X51: =IF(W51>=150,"Si","No") -> No | Y51: =IF(W51=0,0,IF(ISERROR(RANK(W51,W:W)),"",RANK(Z51,Z:Z))) -> 0 | Z51: =IFERROR(W51+F51/100000+J51/10000000+G51/1000000000,0) -> 0
E52: J1 | N52: =SUM(F52:M52) -> 0 | V52: =SUM(O52:T52) -> 0
E53: J2 | N53: =SUM(F53:M53) -> 0 | V53: =SUM(O53:T53) -> 0 | Y53: =IF(ISERROR(RANK(#REF!,#REF!)),"",RANK(#REF!,#REF!))
E54: J3 | N54: =SUM(F54:M54) -> 0 | V54: =SUM(O54:T54) -> 0 | Y54: =IF(ISERROR(RANK(#REF!,#REF!)),"",RANK(#REF!,#REF!))
A55: 13 | B55: {=INDEX('List of Competitors'!C$5:C$24,MATCH($A55,'List of Competitors'!$A$5:$A$24,0))} -> 0 | C55: {=INDEX('List of Competitors'!D$5:D$24,MATCH($A55,'List of Competitors'!$A$5:$A$24,0))} -> 0 | D55: {=INDEX('List of Competitors'!E$5:E$24,MATCH($A55,'List of Competitors'!$A$5:$A$24,0))} -> 0 | E55: Average | F55: =AVERAGE(F56:F58) -> #DIV/0! | G55: =AVERAGE(G56:G58) -> #DIV/0! | H55: =AVERAGE(H56:H58) -> #DIV/0! | I55: =AVERAGE(I56:I58) -> #DIV/0! | J55: =AVERAGE(J56:J58) -> #DIV/0! | K55: =AVERAGE(K56:K58) -> #DIV/0! | L55: =AVERAGE(L56:L58) -> #DIV/0! | M55: =AVERAGE(M56:M58) -> #DIV/0! | N55: =SUM(N56:N58)/IF(N58=0,2,3) -> 0 | O55: =SUM(O56:O58)/IF($N58=0,2,3) -> 0 | P55: =SUM(P56:P58)/IF($N58=0,2,3) -> 0 | Q55: =SUM(Q56:Q58)/IF($N58=0,2,3) -> 0 | R55: =SUM(R56:R58)/IF($N58=0,2,3) -> 0 | S55: =SUM(S56:S58)/IF($N58=0,2,3) -> 0 | T55: =SUM(T56:T58)/IF($N58=0,2,3) -> 0 | V55: =SUM(V56:V58)/IF(N58=0,2,3) -> 0 | W55: =N55-V55 -> 0 | X55: =IF(W55>=150,"Si","No") -> No | Y55: =IF(W55=0,0,IF(ISERROR(RANK(W55,W:W)),"",RANK(Z55,Z:Z))) -> 0 | Z55: =IFERROR(W55+F55/100000+J55/10000000+G55/1000000000,0) -> 0
E56: J1 | N56: =SUM(F56:M56) -> 0 | V56: =SUM(O56:T56) -> 0
E57: J2 | N57: =SUM(F57:M57) -> 0 | V57: =SUM(O57:T57) -> 0 | Y57: =IF(ISERROR(RANK(#REF!,#REF!)),"",RANK(#REF!,#REF!))
E58: J3 | N58: =SUM(F58:M58) -> 0 | V58: =SUM(O58:T58) -> 0 | Y58: =IF(ISERROR(RANK(#REF!,#REF!)),"",RANK(#REF!,#REF!))
A59: 14 | B59: {=INDEX('List of Competitors'!C$5:C$24,MATCH($A59,'List of Competitors'!$A$5:$A$24,0))} -> 0 | C59: {=INDEX('List of Competitors'!D$5:D$24,MATCH($A59,'List of Competitors'!$A$5:$A$24,0))} -> 0 | D59: {=INDEX('List of Competitors'!E$5:E$24,MATCH($A59,'List of Competitors'!$A$5:$A$24,0))} -> 0 | E59: Average | F59: =AVERAGE(F60:F62) -> #DIV/0! | G59: =AVERAGE(G60:G62) -> #DIV/0! | H59: =AVERAGE(H60:H62) -> #DIV/0! | I59: =AVERAGE(I60:I62) -> #DIV/0! | J59: =AVERAGE(J60:J62) -> #DIV/0! | K59: =AVERAGE(K60:K62) -> #DIV/0! | L59: =AVERAGE(L60:L62) -> #DIV/0! | M59: =AVERAGE(M60:M62) -> #DIV/0! | N59: =SUM(N60:N62)/IF(N62=0,2,3) -> 0 | O59: =SUM(O60:O62)/IF($N62=0,2,3) -> 0 | P59: =SUM(P60:P62)/IF($N62=0,2,3) -> 0 | Q59: =SUM(Q60:Q62)/IF($N62=0,2,3) -> 0 | R59: =SUM(R60:R62)/IF($N62=0,2,3) -> 0 | S59: =SUM(S60:S62)/IF($N62=0,2,3) -> 0 | T59: =SUM(T60:T62)/IF($N62=0,2,3) -> 0 | V59: =SUM(V60:V62)/IF(N62=0,2,3) -> 0 | W59: =N59-V59 -> 0 | X59: =IF(W59>=150,"Si","No") -> No | Y59: =IF(W59=0,0,IF(ISERROR(RANK(W59,W:W)),"",RANK(Z59,Z:Z))) -> 0 | Z59: =IFERROR(W59+F59/100000+J59/10000000+G59/1000000000,0) -> 0
E60: J1 | N60: =SUM(F60:M60) -> 0 | V60: =SUM(O60:T60) -> 0
E61: J2 | N61: =SUM(F61:M61) -> 0 | V61: =SUM(O61:T61) -> 0 | Y61: =IF(ISERROR(RANK(#REF!,#REF!)),"",RANK(#REF!,#REF!))
E62: J3 | N62: =SUM(F62:M62) -> 0 | V62: =SUM(O62:T62) -> 0 | Y62: =IF(ISERROR(RANK(#REF!,#REF!)),"",RANK(#REF!,#REF!))
A63: 15 | B63: {=INDEX('List of Competitors'!C$5:C$24,MATCH($A63,'List of Competitors'!$A$5:$A$24,0))} -> 0 | C63: {=INDEX('List of Competitors'!D$5:D$24,MATCH($A63,'List of Competitors'!$A$5:$A$24,0))} -> 0 | D63: {=INDEX('List of Competitors'!E$5:E$24,MATCH($A63,'List of Competitors'!$A$5:$A$24,0))} -> 0 | E63: Average | F63: =AVERAGE(F64:F66) -> #DIV/0! | G63: =AVERAGE(G64:G66) -> #DIV/0! | H63: =AVERAGE(H64:H66) -> #DIV/0! | I63: =AVERAGE(I64:I66) -> #DIV/0! | J63: =AVERAGE(J64:J66) -> #DIV/0! | K63: =AVERAGE(K64:K66) -> #DIV/0! | L63: =AVERAGE(L64:L66) -> #DIV/0! | M63: =AVERAGE(M64:M66) -> #DIV/0! | N63: =SUM(N64:N66)/IF(N66=0,2,3) -> 0 | O63: =SUM(O64:O66)/IF($N66=0,2,3) -> 0 | P63: =SUM(P64:P66)/IF($N66=0,2,3) -> 0 | Q63: =SUM(Q64:Q66)/IF($N66=0,2,3) -> 0 | R63: =SUM(R64:R66)/IF($N66=0,2,3) -> 0 | S63: =SUM(S64:S66)/IF($N66=0,2,3) -> 0 | T63: =SUM(T64:T66)/IF($N66=0,2,3) -> 0 | V63: =SUM(V64:V66)/IF(N66=0,2,3) -> 0 | W63: =N63-V63 -> 0 | X63: =IF(W63>=150,"Si","No") -> No | Y63: =IF(W63=0,0,IF(ISERROR(RANK(W63,W:W)),"",RANK(Z63,Z:Z))) -> 0 | Z63: =IFERROR(W63+F63/100000+J63/10000000+G63/1000000000,0) -> 0
E64: J1 | N64: =SUM(F64:M64) -> 0 | V64: =SUM(O64:T64) -> 0
E65: J2 | N65: =SUM(F65:M65) -> 0 | V65: =SUM(O65:T65) -> 0 | Y65: =IF(ISERROR(RANK(#REF!,#REF!)),"",RANK(#REF!,#REF!))
E66: J3 | N66: =SUM(F66:M66) -> 0 | V66: =SUM(O66:T66) -> 0 | Y66: =IF(ISERROR(RANK(#REF!,#REF!)),"",RANK(#REF!,#REF!))
A67: 16 | B67: {=INDEX('List of Competitors'!C$5:C$24,MATCH($A67,'List of Competitors'!$A$5:$A$24,0))} -> 0 | C67: {=INDEX('List of Competitors'!D$5:D$24,MATCH($A67,'List of Competitors'!$A$5:$A$24,0))} -> 0 | D67: {=INDEX('List of Competitors'!E$5:E$24,MATCH($A67,'List of Competitors'!$A$5:$A$24,0))} -> 0 | E67: Average | F67: =AVERAGE(F68:F70) -> #DIV/0! | G67: =AVERAGE(G68:G70) -> #DIV/0! | H67: =AVERAGE(H68:H70) -> #DIV/0! | I67: =AVERAGE(I68:I70) -> #DIV/0! | J67: =AVERAGE(J68:J70) -> #DIV/0! | K67: =AVERAGE(K68:K70) -> #DIV/0! | L67: =AVERAGE(L68:L70) -> #DIV/0! | M67: =AVERAGE(M68:M70) -> #DIV/0! | N67: =SUM(N68:N70)/IF(N70=0,2,3) -> 0 | O67: =SUM(O68:O70)/IF($N70=0,2,3) -> 0 | P67: =SUM(P68:P70)/IF($N70=0,2,3) -> 0 | Q67: =SUM(Q68:Q70)/IF($N70=0,2,3) -> 0 | R67: =SUM(R68:R70)/IF($N70=0,2,3) -> 0 | S67: =SUM(S68:S70)/IF($N70=0,2,3) -> 0 | T67: =SUM(T68:T70)/IF($N70=0,2,3) -> 0 | V67: =SUM(V68:V70)/IF(N70=0,2,3) -> 0 | W67: =N67-V67 -> 0 | X67: =IF(W67>=150,"Si","No") -> No | Y67: =IF(W67=0,0,IF(ISERROR(RANK(W67,W:W)),"",RANK(Z67,Z:Z))) -> 0 | Z67: =IFERROR(W67+F67/100000+J67/10000000+G67/1000000000,0) -> 0
E68: J1 | N68: =SUM(F68:M68) -> 0 | V68: =SUM(O68:T68) -> 0
E69: J2 | N69: =SUM(F69:M69) -> 0 | V69: =SUM(O69:T69) -> 0 | Y69: =IF(ISERROR(RANK(#REF!,#REF!)),"",RANK(#REF!,#REF!))
E70: J3 | N70: =SUM(F70:M70) -> 0 | V70: =SUM(O70:T70) -> 0 | Y70: =IF(ISERROR(RANK(#REF!,#REF!)),"",RANK(#REF!,#REF!))
A71: 17 | B71: {=INDEX('List of Competitors'!C$5:C$24,MATCH($A71,'List of Competitors'!$A$5:$A$24,0))} -> 0 | C71: {=INDEX('List of Competitors'!D$5:D$24,MATCH($A71,'List of Competitors'!$A$5:$A$24,0))} -> 0 | D71: {=INDEX('List of Competitors'!E$5:E$24,MATCH($A71,'List of Competitors'!$A$5:$A$24,0))} -> 0 | E71: Average | F71: =AVERAGE(F72:F74) -> #DIV/0! | G71: =AVERAGE(G72:G74) -> #DIV/0! | H71: =AVERAGE(H72:H74) -> #DIV/0! | I71: =AVERAGE(I72:I74) -> #DIV/0! | J71: =AVERAGE(J72:J74) -> #DIV/0! | K71: =AVERAGE(K72:K74) -> #DIV/0! | L71: =AVERAGE(L72:L74) -> #DIV/0! | M71: =AVERAGE(M72:M74) -> #DIV/0! | N71: =SUM(N72:N74)/IF(N74=0,2,3) -> 0 | O71: =SUM(O72:O74)/IF($N74=0,2,3) -> 0 | P71: =SUM(P72:P74)/IF($N74=0,2,3) -> 0 | Q71: =SUM(Q72:Q74)/IF($N74=0,2,3) -> 0 | R71: =SUM(R72:R74)/IF($N74=0,2,3) -> 0 | S71: =SUM(S72:S74)/IF($N74=0,2,3) -> 0 | T71: =SUM(T72:T74)/IF($N74=0,2,3) -> 0 | V71: =SUM(V72:V74)/IF(N74=0,2,3) -> 0 | W71: =N71-V71 -> 0 | X71: =IF(W71>=150,"Si","No") -> No | Y71: =IF(W71=0,0,IF(ISERROR(RANK(W71,W:W)),"",RANK(Z71,Z:Z))) -> 0 | Z71: =IFERROR(W71+F71/100000+J71/10000000+G71/1000000000,0) -> 0
E72: J1 | N72: =SUM(F72:M72) -> 0 | V72: =SUM(O72:T72) -> 0
E73: J2 | N73: =SUM(F73:M73) -> 0 | V73: =SUM(O73:T73) -> 0 | Y73: =IF(ISERROR(RANK(#REF!,#REF!)),"",RANK(#REF!,#REF!))
E74: J3 | N74: =SUM(F74:M74) -> 0 | V74: =SUM(O74:T74) -> 0 | Y74: =IF(ISERROR(RANK(#REF!,#REF!)),"",RANK(#REF!,#REF!))
A75: 18 | B75: {=INDEX('List of Competitors'!C$5:C$24,MATCH($A75,'List of Competitors'!$A$5:$A$24,0))} -> 0 | C75: {=INDEX('List of Competitors'!D$5:D$24,MATCH($A75,'List of Competitors'!$A$5:$A$24,0))} -> 0 | D75: {=INDEX('List of Competitors'!E$5:E$24,MATCH($A75,'List of Competitors'!$A$5:$A$24,0))} -> 0 | E75: Average | F75: =AVERAGE(F76:F78) -> #DIV/0! | G75: =AVERAGE(G76:G78) -> #DIV/0! | H75: =AVERAGE(H76:H78) -> #DIV/0! | I75: =AVERAGE(I76:I78) -> #DIV/0! | J75: =AVERAGE(J76:J78) -> #DIV/0! | K75: =AVERAGE(K76:K78) -> #DIV/0! | L75: =AVERAGE(L76:L78) -> #DIV/0! | M75: =AVERAGE(M76:M78) -> #DIV/0! | N75: =SUM(N76:N78)/IF(N78=0,2,3) -> 0 | O75: =SUM(O76:O78)/IF($N78=0,2,3) -> 0 | P75: =SUM(P76:P78)/IF($N78=0,2,3) -> 0 | Q75: =SUM(Q76:Q78)/IF($N78=0,2,3) -> 0 | R75: =SUM(R76:R78)/IF($N78=0,2,3) -> 0 | S75: =SUM(S76:S78)/IF($N78=0,2,3) -> 0 | T75: =SUM(T76:T78)/IF($N78=0,2,3) -> 0 | V75: =SUM(V76:V78)/IF(N78=0,2,3) -> 0 | W75: =N75-V75 -> 0 | X75: =IF(W75>=150,"Si","No") -> No | Y75: =IF(W75=0,0,IF(ISERROR(RANK(W75,W:W)),"",RANK(Z75,Z:Z))) -> 0 | Z75: =IFERROR(W75+F75/100000+J75/10000000+G75/1000000000,0) -> 0
E76: J1 | N76: =SUM(F76:M76) -> 0 | V76: =SUM(O76:T76) -> 0
E77: J2 | N77: =SUM(F77:M77) -> 0 | V77: =SUM(O77:T77) -> 0 | Y77: =IF(ISERROR(RANK(#REF!,#REF!)),"",RANK(#REF!,#REF!))
E78: J3 | N78: =SUM(F78:M78) -> 0 | V78: =SUM(O78:T78) -> 0 | Y78: =IF(ISERROR(RANK(#REF!,#REF!)),"",RANK(#REF!,#REF!))
A79: 19 | B79: {=INDEX('List of Competitors'!C$5:C$24,MATCH($A79,'List of Competitors'!$A$5:$A$24,0))} -> 0 | C79: {=INDEX('List of Competitors'!D$5:D$24,MATCH($A79,'List of Competitors'!$A$5:$A$24,0))} -> 0 | D79: {=INDEX('List of Competitors'!E$5:E$24,MATCH($A79,'List of Competitors'!$A$5:$A$24,0))} -> 0 | E79: Average | F79: =AVERAGE(F80:F82) -> #DIV/0! | G79: =AVERAGE(G80:G82) -> #DIV/0! | H79: =AVERAGE(H80:H82) -> #DIV/0! | I79: =AVERAGE(I80:I82) -> #DIV/0! | J79: =AVERAGE(J80:J82) -> #DIV/0! | K79: =AVERAGE(K80:K82) -> #DIV/0! | L79: =AVERAGE(L80:L82) -> #DIV/0! | M79: =AVERAGE(M80:M82) -> #DIV/0! | N79: =SUM(N80:N82)/IF(N82=0,2,3) -> 0 | O79: =SUM(O80:O82)/IF($N82=0,2,3) -> 0 | P79: =SUM(P80:P82)/IF($N82=0,2,3) -> 0 | Q79: =SUM(Q80:Q82)/IF($N82=0,2,3) -> 0 | R79: =SUM(R80:R82)/IF($N82=0,2,3) -> 0 | S79: =SUM(S80:S82)/IF($N82=0,2,3) -> 0 | T79: =SUM(T80:T82)/IF($N82=0,2,3) -> 0 | V79: =SUM(V80:V82)/IF(N82=0,2,3) -> 0 | W79: =N79-V79 -> 0 | X79: =IF(W79>=150,"Si","No") -> No | Y79: =IF(W79=0,0,IF(ISERROR(RANK(W79,W:W)),"",RANK(Z79,Z:Z))) -> 0 | Z79: =IFERROR(W79+F79/100000+J79/10000000+G79/1000000000,0) -> 0
E80: J1 | N80: =SUM(F80:M80) -> 0 | V80: =SUM(O80:T80) -> 0
E81: J2 | N81: =SUM(F81:M81) -> 0 | V81: =SUM(O81:T81) -> 0 | Y81: =IF(ISERROR(RANK(#REF!,#REF!)),"",RANK(#REF!,#REF!))
E82: J3 | N82: =SUM(F82:M82) -> 0 | V82: =SUM(O82:T82) -> 0 | Y82: =IF(ISERROR(RANK(#REF!,#REF!)),"",RANK(#REF!,#REF!))
A83: 20 | B83: {=INDEX('List of Competitors'!C$5:C$24,MATCH($A83,'List of Competitors'!$A$5:$A$24,0))} -> 0 | C83: {=INDEX('List of Competitors'!D$5:D$24,MATCH($A83,'List of Competitors'!$A$5:$A$24,0))} -> 0 | D83: {=INDEX('List of Competitors'!E$5:E$24,MATCH($A83,'List of Competitors'!$A$5:$A$24,0))} -> 0 | E83: Average | F83: =AVERAGE(F84:F86) -> #DIV/0! | G83: =AVERAGE(G84:G86) -> #DIV/0! | H83: =AVERAGE(H84:H86) -> #DIV/0! | I83: =AVERAGE(I84:I86) -> #DIV/0! | J83: =AVERAGE(J84:J86) -> #DIV/0! | K83: =AVERAGE(K84:K86) -> #DIV/0! | L83: =AVERAGE(L84:L86) -> #DIV/0! | M83: =AVERAGE(M84:M86) -> #DIV/0! | N83: =SUM(N84:N86)/IF(N86=0,2,3) -> 0 | O83: =SUM(O84:O86)/IF($N86=0,2,3) -> 0 | P83: =SUM(P84:P86)/IF($N86=0,2,3) -> 0 | Q83: =SUM(Q84:Q86)/IF($N86=0,2,3) -> 0 | R83: =SUM(R84:R86)/IF($N86=0,2,3) -> 0 | S83: =SUM(S84:S86)/IF($N86=0,2,3) -> 0 | T83: =SUM(T84:T86)/IF($N86=0,2,3) -> 0 | V83: =SUM(V84:V86)/IF(N86=0,2,3) -> 0 | W83: =N83-V83 -> 0 | X83: =IF(W83>=150,"Si","No") -> No | Y83: =IF(W83=0,0,IF(ISERROR(RANK(W83,W:W)),"",RANK(Z83,Z:Z))) -> 0 | Z83: =IFERROR(W83+F83/100000+J83/10000000+G83/1000000000,0) -> 0
E84: J1 | N84: =SUM(F84:M84) -> 0 | V84: =SUM(O84:T84) -> 0
E85: J2 | N85: =SUM(F85:M85) -> 0 | V85: =SUM(O85:T85) -> 0 | Y85: =IF(ISERROR(RANK(#REF!,#REF!)),"",RANK(#REF!,#REF!))
E86: J3 | N86: =SUM(F86:M86) -> 0 | V86: =SUM(O86:T86) -> 0 | Y86: =IF(ISERROR(RANK(#REF!,#REF!)),"",RANK(#REF!,#REF!))

Sheet FS 0
B1: FS 0 | E1: ='List of Competitors'!B2 -> NARNI (TR)
E2: ='List of Competitors'!C2 -> 03/05/2026
A4: # | B4: Nome | C4: Cognome | D4: Cane | E4: Judge | F4: Team work | G4: Dinamicità | H4: Progetto | I4: Coreografia | J4: Fluidità | K4: Esecuzione | L4: Contenuto | M4: Difficoltà | N4: Punit | O4: Detrazioni di punti | V4: Totale | W4: punto di passaggio | X4: Posizionamento | Y4: Korr Punkte Teamwork, Fluss
O5: Abbaio e vocalizzazioni | P5: Salute del cane | Q5: costume / Oggetti di scena | R5: Lunghezze musicali errate | S5: Trattamento improprio del cane | T5: Contatto attivo | U5: Totale
F6: max. 25 | G6: max. 25 | H6: max. 25 | I6: max. 25 | J6: max. 25 | K6: max. 25 | L6: max. 25 | M6: max. 25 | O6: max. 20 | P6: max. 20 | Q6: max. 20 | R6: 1 Punkt / sec | S6: max. 20 | T6: max. 20
A7: 1 | B7: {=INDEX('List of Competitors'!C$27:C$46,MATCH($A7,'List of Competitors'!$A$27:$A$46,0))} -> ALESSIA | C7: {=INDEX('List of Competitors'!D$27:D$46,MATCH($A7,'List of Competitors'!$A$27:$A$46,0))} -> GIANNINI | D7: {=INDEX('List of Competitors'!E$27:E$46,MATCH($A7,'List of Competitors'!$A$27:$A$46,0))} -> BAGHEERA | E7: Average | F7: =AVERAGE(F8:F10) -> 19.5 | G7: =AVERAGE(G8:G10) -> 18.5 | H7: =AVERAGE(H8:H10) -> 20 | I7: =AVERAGE(I8:I10) -> 19 | J7: =AVERAGE(J8:J10) -> 17.5 | K7: =AVERAGE(K8:K10) -> 18.5 | L7: =AVERAGE(L8:L10) -> 19 | M7: =AVERAGE(M8:M10) -> 19 | N7: =SUM(N8:N10)/IF(N10=0,2,3) -> 151 | O7: =SUM(O8:O10)/IF($N10=0,2,3) -> 0 | P7: =SUM(P8:P10)/IF($N10=0,2,3) -> 0 | Q7: =SUM(Q8:Q10)/IF($N10=0,2,3) -> 0 | R7: =SUM(R8:R10)/IF($N10=0,2,3) -> 0 | S7: =SUM(S8:S10)/IF($N10=0,2,3) -> 0 | T7: =SUM(T8:T10)/IF($N10=0,2,3) -> 0 | U7: =SUM(U8:U10)/IF(N10=0,2,3) -> 0 | V7: =N7-U7 -> 151 | W7: =IF(V7>=150,"Si","No") -> Si | X7: =IF(V7=0,0,IF(ISERROR(RANK(V7,V:V)),"",RANK(Y7,Y:Y))) -> 3 | Y7: =IFERROR(V7+F7/100000+J7/10000000+G7/1000000000,0) -> 151.0002
E8: J3 | F8: 19 | G8: 19 | H8: 20 | I8: 19 | J8: 18 | K8: 19 | L8: 19 | M8: 19 | N8: =SUM(F8:M8) -> 152 | U8: =SUM(O8:T8) -> 0
E9: J2 | F9: 20 | G9: 18 | H9: 20 | I9: 19 | J9: 17 | K9: 18 | L9: 19 | M9: 19 | N9: =SUM(F9:M9) -> 150 | U9: =SUM(O9:T9) -> 0 | X9: =IF(ISERROR(RANK(#REF!,#REF!)),"",RANK(#REF!,#REF!))
E10: J3 | N10: =SUM(F10:M10) -> 0 | U10: =SUM(O10:T10) -> 0 | X10: =IF(ISERROR(RANK(#REF!,#REF!)),"",RANK(#REF!,#REF!))
A11: 2 | B11: {=INDEX('List of Competitors'!C$27:C$46,MATCH($A11,'List of Competitors'!$A$27:$A$46,0))} -> ILARIA | C11: {=INDEX('List of Competitors'!D$27:D$46,MATCH($A11,'List of Competitors'!$A$27:$A$46,0))} -> GUGLIELMAN | D11: {=INDEX('List of Competitors'!E$27:E$46,MATCH($A11,'List of Competitors'!$A$27:$A$46,0))} -> BLU | E11: Average | F11: =AVERAGE(F12:F14) -> 21 | G11: =AVERAGE(G12:G14) -> 20 | H11: =AVERAGE(H12:H14) -> 20 | I11: =AVERAGE(I12:I14) -> 19 | J11: =AVERAGE(J12:J14) -> 19.5 | K11: =AVERAGE(K12:K14) -> 20.5 | L11: =AVERAGE(L12:L14) -> 18.5 | M11: =AVERAGE(M12:M14) -> 18.5 | N11: =SUM(N12:N14)/IF(N14=0,2,3) -> 157 | O11: =SUM(O12:O14)/IF($N14=0,2,3) -> 0 | P11: =SUM(P12:P14)/IF($N14=0,2,3) -> 0 | Q11: =SUM(Q12:Q14)/IF($N14=0,2,3) -> 0 | R11: =SUM(R12:R14)/IF($N14=0,2,3) -> 0 | S11: =SUM(S12:S14)/IF($N14=0,2,3) -> 0 | T11: =SUM(T12:T14)/IF($N14=0,2,3) -> 0 | U11: =SUM(U12:U14)/IF(N14=0,2,3) -> 0 | V11: =N11-U11 -> 157 | W11: =IF(V11>=150,"Si","No") -> Si | X11: =IF(V11=0,0,IF(ISERROR(RANK(V11,V:V)),"",RANK(Y11,Y:Y))) -> 2 | Y11: =IFERROR(V11+F11/100000+J11/10000000+G11/1000000000,0) -> 157.00021
E12: J3 | F12: 20 | G12: 20 | H12: 20 | I12: 19 | J12: 20 | K12: 21 | L12: 19 | M12: 19 | N12: =SUM(F12:M12) -> 158 | U12: =SUM(O12:T12) -> 0
E13: J2 | F13: 22 | G13: 20 | H13: 20 | I13: 19 | J13: 19 | K13: 20 | L13: 18 | M13: 18 | N13: =SUM(F13:M13) -> 156 | U13: =SUM(O13:T13) -> 0 | X13: =IF(ISERROR(RANK(#REF!,#REF!)),"",RANK(#REF!,#REF!))
E14: J3 | N14: =SUM(F14:M14) -> 0 | U14: =SUM(O14:T14) -> 0 | X14: =IF(ISERROR(RANK(#REF!,#REF!)),"",RANK(#REF!,#REF!))
A15: 3 | B15: {=INDEX('List of Competitors'!C$27:C$46,MATCH($A15,'List of Competitors'!$A$27:$A$46,0))} -> BARBARA | C15: {=INDEX('List of Competitors'!D$27:D$46,MATCH($A15,'List of Competitors'!$A$27:$A$46,0))} -> CASTELLI | D15: {=INDEX('List of Competitors'!E$27:E$46,MATCH($A15,'List of Competitors'!$A$27:$A$46,0))} -> VIOLETTA | E15: Average | F15: =AVERAGE(F16:F18) -> 21 | G15: =AVERAGE(G16:G18) -> 21 | H15: =AVERAGE(H16:H18) -> 20.5 | I15: =AVERAGE(I16:I18) -> 19 | J15: =AVERAGE(J16:J18) -> 19 | K15: =AVERAGE(K16:K18) -> 19 | L15: =AVERAGE(L16:L18) -> 19.5 | M15: =AVERAGE(M16:M18) -> 19 | N15: =SUM(N16:N18)/IF(N18=0,2,3) -> 158 | O15: =SUM(O16:O18)/IF($N18=0,2,3) -> 0 | P15: =SUM(P16:P18)/IF($N18=0,2,3) -> 0 | Q15: =SUM(Q16:Q18)/IF($N18=0,2,3) -> 0 | R15: =SUM(R16:R18)/IF($N18=0,2,3) -> 0 | S15: =SUM(S16:S18)/IF($N18=0,2,3) -> 0 | T15: =SUM(T16:T18)/IF($N18=0,2,3) -> 0 | U15: =SUM(U16:U18)/IF(N18=0,2,3) -> 0 | V15: =N15-U15 -> 158 | W15: =IF(V15>=150,"Si","No") -> Si | X15: =IF(V15=0,0,IF(ISERROR(RANK(V15,V:V)),"",RANK(Y15,Y:Y))) -> 1 | Y15: =IFERROR(V15+F15/100000+J15/10000000+G15/1000000000,0) -> 158.00021
E16: J3 | F16: 20 | G16: 21 | H16: 20 | I16: 20 | J16: 19 | K16: 19 | L16: 19 | M16: 19 | N16: =SUM(F16:M16) -> 157 | U16: =SUM(O16:T16) -> 0
E17: J2 | F17: 22 | G17: 21 | H17: 21 | I17: 18 | J17: 19 | K17: 19 | L17: 20 | M17: 19 | N17: =SUM(F17:M17) -> 159 | U17: =SUM(O17:T17) -> 0 | X17: =IF(ISERROR(RANK(#REF!,#REF!)),"",RANK(#REF!,#REF!))
E18: J3 | N18: =SUM(F18:M18) -> 0 | U18: =SUM(O18:T18) -> 0 | X18: =IF(ISERROR(RANK(#REF!,#REF!)),"",RANK(#REF!,#REF!))
A19: 4 | B19: {=INDEX('List of Competitors'!C$27:C$46,MATCH($A19,'List of Competitors'!$A$27:$A$46,0))} -> 0 | C19: {=INDEX('List of Competitors'!D$27:D$46,MATCH($A19,'List of Competitors'!$A$27:$A$46,0))} -> 0 | D19: {=INDEX('List of Competitors'!E$27:E$46,MATCH($A19,'List of Competitors'!$A$27:$A$46,0))} -> 0 | E19: Average | F19: =AVERAGE(F20:F22) -> #DIV/0! | G19: =AVERAGE(G20:G22) -> #DIV/0! | H19: =AVERAGE(H20:H22) -> #DIV/0! | I19: =AVERAGE(I20:I22) -> #DIV/0! | J19: =AVERAGE(J20:J22) -> #DIV/0! | K19: =AVERAGE(K20:K22) -> #DIV/0! | L19: =AVERAGE(L20:L22) -> #DIV/0! | M19: =AVERAGE(M20:M22) -> #DIV/0! | N19: =SUM(N20:N22)/IF(N22=0,2,3) -> 0 | O19: =SUM(O20:O22)/IF($N22=0,2,3) -> 0 | P19: =SUM(P20:P22)/IF($N22=0,2,3) -> 0 | Q19: =SUM(Q20:Q22)/IF($N22=0,2,3) -> 0 | R19: =SUM(R20:R22)/IF($N22=0,2,3) -> 0 | S19: =SUM(S20:S22)/IF($N22=0,2,3) -> 0 | T19: =SUM(T20:T22)/IF($N22=0,2,3) -> 0 | U19: =SUM(U20:U22)/IF(N22=0,2,3) -> 0 | V19: =N19-U19 -> 0 | W19: =IF(V19>=150,"Si","No") -> No | X19: =IF(V19=0,0,IF(ISERROR(RANK(V19,V:V)),"",RANK(Y19,Y:Y))) -> 0 | Y19: =IFERROR(V19+F19/100000+J19/10000000+G19/1000000000,0) -> 0
E20: J1 | N20: =SUM(F20:M20) -> 0 | U20: =SUM(O20:T20) -> 0
E21: J2 | N21: =SUM(F21:M21) -> 0 | U21: =SUM(O21:T21) -> 0 | X21: =IF(ISERROR(RANK(#REF!,#REF!)),"",RANK(#REF!,#REF!))
E22: J3 | N22: =SUM(F22:M22) -> 0 | U22: =SUM(O22:T22) -> 0 | X22: =IF(ISERROR(RANK(#REF!,#REF!)),"",RANK(#REF!,#REF!))
A23: 5 | B23: {=INDEX('List of Competitors'!C$27:C$46,MATCH($A23,'List of Competitors'!$A$27:$A$46,0))} -> 0 | C23: {=INDEX('List of Competitors'!D$27:D$46,MATCH($A23,'List of Competitors'!$A$27:$A$46,0))} -> 0 | D23: {=INDEX('List of Competitors'!E$27:E$46,MATCH($A23,'List of Competitors'!$A$27:$A$46,0))} -> 0 | E23: Average | F23: =AVERAGE(F24:F26) -> #DIV/0! | G23: =AVERAGE(G24:G26) -> #DIV/0! | H23: =AVERAGE(H24:H26) -> #DIV/0! | I23: =AVERAGE(I24:I26) -> #DIV/0! | J23: =AVERAGE(J24:J26) -> #DIV/0! | K23: =AVERAGE(K24:K26) -> #DIV/0! | L23: =AVERAGE(L24:L26) -> #DIV/0! | M23: =AVERAGE(M24:M26) -> #DIV/0! | N23: =SUM(N24:N26)/IF(N26=0,2,3) -> 0 | O23: =SUM(O24:O26)/IF($N26=0,2,3) -> 0 | P23: =SUM(P24:P26)/IF($N26=0,2,3) -> 0 | Q23: =SUM(Q24:Q26)/IF($N26=0,2,3) -> 0 | R23: =SUM(R24:R26)/IF($N26=0,2,3) -> 0 | S23: =SUM(S24:S26)/IF($N26=0,2,3) -> 0 | T23: =SUM(T24:T26)/IF($N26=0,2,3) -> 0 | U23: =SUM(U24:U26)/IF(N26=0,2,3) -> 0 | V23: =N23-U23 -> 0 | W23: =IF(V23>=150,"Si","No") -> No | X23: =IF(V23=0,0,IF(ISERROR(RANK(V23,V:V)),"",RANK(Y23,Y:Y))) -> 0 | Y23: =IFERROR(V23+F23/100000+J23/10000000+G23/1000000000,0) -> 0
E24: J1 | N24: =SUM(F24:M24) -> 0 | U24: =SUM(O24:T24) -> 0
E25: J2 | N25: =SUM(F25:M25) -> 0 | U25: =SUM(O25:T25) -> 0 | X25: =IF(ISERROR(RANK(#REF!,#REF!)),"",RANK(#REF!,#REF!))
E26: J3 | N26: =SUM(F26:M26) -> 0 | U26: =SUM(O26:T26) -> 0 | X26: =IF(ISERROR(RANK(#REF!,#REF!)),"",RANK(#REF!,#REF!))
A27: 6 | B27: {=INDEX('List of Competitors'!C$27:C$46,MATCH($A27,'List of Competitors'!$A$27:$A$46,0))} -> 0 | C27: {=INDEX('List of Competitors'!D$27:D$46,MATCH($A27,'List of Competitors'!$A$27:$A$46,0))} -> 0 | D27: {=INDEX('List of Competitors'!E$27:E$46,MATCH($A27,'List of Competitors'!$A$27:$A$46,0))} -> 0 | E27: Average | F27: =AVERAGE(F28:F30) -> #DIV/0! | G27: =AVERAGE(G28:G30) -> #DIV/0! | H27: =AVERAGE(H28:H30) -> #DIV/0! | I27: =AVERAGE(I28:I30) -> #DIV/0! | J27: =AVERAGE(J28:J30) -> #DIV/0! | K27: =AVERAGE(K28:K30) -> #DIV/0! | L27: =AVERAGE(L28:L30) -> #DIV/0! | M27: =AVERAGE(M28:M30) -> #DIV/0! | N27: =SUM(N28:N30)/IF(N30=0,2,3) -> 0 | O27: =SUM(O28:O30)/IF($N30=0,2,3) -> 0 | P27: =SUM(P28:P30)/IF($N30=0,2,3) -> 0 | Q27: =SUM(Q28:Q30)/IF($N30=0,2,3) -> 0 | R27: =SUM(R28:R30)/IF($N30=0,2,3) -> 0 | S27: =SUM(S28:S30)/IF($N30=0,2,3) -> 0 | T27: =SUM(T28:T30)/IF($N30=0,2,3) -> 0 | U27: =SUM(U28:U30)/IF(N30=0,2,3) -> 0 | V27: =N27-U27 -> 0 | W27: =IF(V27>=150,"Si","No") -> No | X27: =IF(V27=0,0,IF(ISERROR(RANK(V27,V:V)),"",RANK(Y27,Y:Y))) -> 0 | Y27: =IFERROR(V27+F27/100000+J27/10000000+G27/1000000000,0) -> 0
E28: J1 | N28: =SUM(F28:M28) -> 0 | U28: =SUM(O28:T28) -> 0
E29: J2 | N29: =SUM(F29:M29) -> 0 | U29: =SUM(O29:T29) -> 0 | X29: =IF(ISERROR(RANK(#REF!,#REF!)),"",RANK(#REF!,#REF!))
E30: J3 | N30: =SUM(F30:M30) -> 0 | U30: =SUM(O30:T30) -> 0 | X30: =IF(ISERROR(RANK(#REF!,#REF!)),"",RANK(#REF!,#REF!))
A31: 7 | B31: {=INDEX('List of Competitors'!C$27:C$46,MATCH($A31,'List of Competitors'!$A$27:$A$46,0))} -> 0 | C31: {=INDEX('List of Competitors'!D$27:D$46,MATCH($A31,'List of Competitors'!$A$27:$A$46,0))} -> 0 | D31: {=INDEX('List of Competitors'!E$27:E$46,MATCH($A31,'List of Competitors'!$A$27:$A$46,0))} -> 0 | E31: Average | F31: =AVERAGE(F32:F34) -> #DIV/0! | G31: =AVERAGE(G32:G34) -> #DIV/0! | H31: =AVERAGE(H32:H34) -> #DIV/0! | I31: =AVERAGE(I32:I34) -> #DIV/0! | J31: =AVERAGE(J32:J34) -> #DIV/0! | K31: =AVERAGE(K32:K34) -> #DIV/0! | L31: =AVERAGE(L32:L34) -> #DIV/0! | M31: =AVERAGE(M32:M34) -> #DIV/0! | N31: =SUM(N32:N34)/IF(N34=0,2,3) -> 0 | O31: =SUM(O32:O34)/IF($N34=0,2,3) -> 0 | P31: =SUM(P32:P34)/IF($N34=0,2,3) -> 0 | Q31: =SUM(Q32:Q34)/IF($N34=0,2,3) -> 0 | R31: =SUM(R32:R34)/IF($N34=0,2,3) -> 0 | S31: =SUM(S32:S34)/IF($N34=0,2,3) -> 0 | T31: =SUM(T32:T34)/IF($N34=0,2,3) -> 0 | U31: =SUM(U32:U34)/IF(N34=0,2,3) -> 0 | V31: =N31-U31 -> 0 | W31: =IF(V31>=150,"Si","No") -> No | X31: =IF(V31=0,0,IF(ISERROR(RANK(V31,V:V)),"",RANK(Y31,Y:Y))) -> 0 | Y31: =IFERROR(V31+F31/100000+J31/10000000+G31/1000000000,0) -> 0
E32: J1 | N32: =SUM(F32:M32) -> 0 | U32: =SUM(O32:T32) -> 0
E33: J2 | N33: =SUM(F33:M33) -> 0 | U33: =SUM(O33:T33) -> 0 | X33: =IF(ISERROR(RANK(#REF!,#REF!)),"",RANK(#REF!,#REF!))
E34: J3 | N34: =SUM(F34:M34) -> 0 | U34: =SUM(O34:T34) -> 0 | X34: =IF(ISERROR(RANK(#REF!,#REF!)),"",RANK(#REF!,#REF!))
A35: 8 | B35: {=INDEX('List of Competitors'!C$27:C$46,MATCH($A35,'List of Competitors'!$A$27:$A$46,0))} -> 0 | C35: {=INDEX('List of Competitors'!D$27:D$46,MATCH($A35,'List of Competitors'!$A$27:$A$46,0))} -> 0 | D35: {=INDEX('List of Competitors'!E$27:E$46,MATCH($A35,'List of Competitors'!$A$27:$A$46,0))} -> 0 | E35: Average | F35: =AVERAGE(F36:F38) -> #DIV/0! | G35: =AVERAGE(G36:G38) -> #DIV/0! | H35: =AVERAGE(H36:H38) -> #DIV/0! | I35: =AVERAGE(I36:I38) -> #DIV/0! | J35: =AVERAGE(J36:J38) -> #DIV/0! | K35: =AVERAGE(K36:K38) -> #DIV/0! | L35: =AVERAGE(L36:L38) -> #DIV/0! | M35: =AVERAGE(M36:M38) -> #DIV/0! | N35: =SUM(N36:N38)/IF(N38=0,2,3) -> 0 | O35: =SUM(O36:O38)/IF($N38=0,2,3) -> 0 | P35: =SUM(P36:P38)/IF($N38=0,2,3) -> 0 | Q35: =SUM(Q36:Q38)/IF($N38=0,2,3) -> 0 | R35: =SUM(R36:R38)/IF($N38=0,2,3) -> 0 | S35: =SUM(S36:S38)/IF($N38=0,2,3) -> 0 | T35: =SUM(T36:T38)/IF($N38=0,2,3) -> 0 | U35: =SUM(U36:U38)/IF(N38=0,2,3) -> 0 | V35: =N35-U35 -> 0 | W35: =IF(V35>=150,"Si","No") -> No | X35: =IF(V35=0,0,IF(ISERROR(RANK(V35,V:V)),"",RANK(Y35,Y:Y))) -> 0 | Y35: =IFERROR(V35+F35/100000+J35/10000000+G35/1000000000,0) -> 0
E36: J1 | N36: =SUM(F36:M36) -> 0 | U36: =SUM(O36:T36) -> 0
E37: J2 | N37: =SUM(F37:M37) -> 0 | U37: =SUM(O37:T37) -> 0 | X37: =IF(ISERROR(RANK(#REF!,#REF!)),"",RANK(#REF!,#REF!))
E38: J3 | N38: =SUM(F38:M38) -> 0 | U38: =SUM(O38:T38) -> 0 | X38: =IF(ISERROR(RANK(#REF!,#REF!)),"",RANK(#REF!,#REF!))
A39: 9 | B39: {=INDEX('List of Competitors'!C$27:C$46,MATCH($A39,'List of Competitors'!$A$27:$A$46,0))} -> 0 | C39: {=INDEX('List of Competitors'!D$27:D$46,MATCH($A39,'List of Competitors'!$A$27:$A$46,0))} -> 0 | D39: {=INDEX('List of Competitors'!E$27:E$46,MATCH($A39,'List of Competitors'!$A$27:$A$46,0))} -> 0 | E39: Average | F39: =AVERAGE(F40:F42) -> #DIV/0! | G39: =AVERAGE(G40:G42) -> #DIV/0! | H39: =AVERAGE(H40:H42) -> #DIV/0! | I39: =AVERAGE(I40:I42) -> #DIV/0! | J39: =AVERAGE(J40:J42) -> #DIV/0! | K39: =AVERAGE(K40:K42) -> #DIV/0! | L39: =AVERAGE(L40:L42) -> #DIV/0! | M39: =AVERAGE(M40:M42) -> #DIV/0! | N39: =SUM(N40:N42)/IF(N42=0,2,3) -> 0 | O39: =SUM(O40:O42)/IF($N42=0,2,3) -> 0 | P39: =SUM(P40:P42)/IF($N42=0,2,3) -> 0 | Q39: =SUM(Q40:Q42)/IF($N42=0,2,3) -> 0 | R39: =SUM(R40:R42)/IF($N42=0,2,3) -> 0 | S39: =SUM(S40:S42)/IF($N42=0,2,3) -> 0 | T39: =SUM(T40:T42)/IF($N42=0,2,3) -> 0 | U39: =SUM(U40:U42)/IF(N42=0,2,3) -> 0 | V39: =N39-U39 -> 0 | W39: =IF(V39>=150,"Si","No") -> No | X39: =IF(V39=0,0,IF(ISERROR(RANK(V39,V:V)),"",RANK(Y39,Y:Y))) -> 0 | Y39: =IFERROR(V39+F39/100000+J39/10000000+G39/1000000000,0) -> 0
E40: J1 | N40: =SUM(F40:M40) -> 0 | U40: =SUM(O40:T40) -> 0
E41: J2 | N41: =SUM(F41:M41) -> 0 | U41: =SUM(O41:T41) -> 0 | X41: =IF(ISERROR(RANK(#REF!,#REF!)),"",RANK(#REF!,#REF!))
E42: J3 | N42: =SUM(F42:M42) -> 0 | U42: =SUM(O42:T42) -> 0 | X42: =IF(ISERROR(RANK(#REF!,#REF!)),"",RANK(#REF!,#REF!))
A43: 10 | B43: {=INDEX('List of Competitors'!C$27:C$46,MATCH($A43,'List of Competitors'!$A$27:$A$46,0))} -> 0 | C43: {=INDEX('List of Competitors'!D$27:D$46,MATCH($A43,'List of Competitors'!$A$27:$A$46,0))} -> 0 | D43: {=INDEX('List of Competitors'!E$27:E$46,MATCH($A43,'List of Competitors'!$A$27:$A$46,0))} -> 0 | E43: Average | F43: =AVERAGE(F44:F46) -> #DIV/0! | G43: =AVERAGE(G44:G46) -> #DIV/0! | H43: =AVERAGE(H44:H46) -> #DIV/0! | I43: =AVERAGE(I44:I46) -> #DIV/0! | J43: =AVERAGE(J44:J46) -> #DIV/0! | K43: =AVERAGE(K44:K46) -> #DIV/0! | L43: =AVERAGE(L44:L46) -> #DIV/0! | M43: =AVERAGE(M44:M46) -> #DIV/0! | N43: =SUM(N44:N46)/IF(N46=0,2,3) -> 0 | O43: =SUM(O44:O46)/IF($N46=0,2,3) -> 0 | P43: =SUM(P44:P46)/IF($N46=0,2,3) -> 0 | Q43: =SUM(Q44:Q46)/IF($N46=0,2,3) -> 0 | R43: =SUM(R44:R46)/IF($N46=0,2,3) -> 0 | S43: =SUM(S44:S46)/IF($N46=0,2,3) -> 0 | T43: =SUM(T44:T46)/IF($N46=0,2,3) -> 0 | U43: =SUM(U44:U46)/IF(N46=0,2,3) -> 0 | V43: =N43-U43 -> 0 | W43: =IF(V43>=150,"Si","No") -> No | X43: =IF(V43=0,0,IF(ISERROR(RANK(V43,V:V)),"",RANK(Y43,Y:Y))) -> 0 | Y43: =IFERROR(V43+F43/100000+J43/10000000+G43/1000000000,0) -> 0
E44: J1 | N44: =SUM(F44:M44) -> 0 | U44: =SUM(O44:T44) -> 0
E45: J2 | N45: =SUM(F45:M45) -> 0 | U45: =SUM(O45:T45) -> 0 | X45: =IF(ISERROR(RANK(#REF!,#REF!)),"",RANK(#REF!,#REF!))
E46: J3 | N46: =SUM(F46:M46) -> 0 | U46: =SUM(O46:T46) -> 0 | X46: =IF(ISERROR(RANK(#REF!,#REF!)),"",RANK(#REF!,#REF!))
A47: 11 | B47: {=INDEX('List of Competitors'!C$27:C$46,MATCH($A47,'List of Competitors'!$A$27:$A$46,0))} -> 0 | C47: {=INDEX('List of Competitors'!D$27:D$46,MATCH($A47,'List of Competitors'!$A$27:$A$46,0))} -> 0 | D47: {=INDEX('List of Competitors'!E$27:E$46,MATCH($A47,'List of Competitors'!$A$27:$A$46,0))} -> 0 | E47: Average | F47: =AVERAGE(F48:F50) -> #DIV/0! | G47: =AVERAGE(G48:G50) -> #DIV/0! | H47: =AVERAGE(H48:H50) -> #DIV/0! | I47: =AVERAGE(I48:I50) -> #DIV/0! | J47: =AVERAGE(J48:J50) -> #DIV/0! | K47: =AVERAGE(K48:K50) -> #DIV/0! | L47: =AVERAGE(L48:L50) -> #DIV/0! | M47: =AVERAGE(M48:M50) -> #DIV/0! | N47: =SUM(N48:N50)/IF(N50=0,2,3) -> 0 | O47: =SUM(O48:O50)/IF($N50=0,2,3) -> 0 | P47: =SUM(P48:P50)/IF($N50=0,2,3) -> 0 | Q47: =SUM(Q48:Q50)/IF($N50=0,2,3) -> 0 | R47: =SUM(R48:R50)/IF($N50=0,2,3) -> 0 | S47: =SUM(S48:S50)/IF($N50=0,2,3) -> 0 | T47: =SUM(T48:T50)/IF($N50=0,2,3) -> 0 | U47: =SUM(U48:U50)/IF(N50=0,2,3) -> 0 | V47: =N47-U47 -> 0 | W47: =IF(V47>=150,"Si","No") -> No | X47: =IF(V47=0,0,IF(ISERROR(RANK(V47,V:V)),"",RANK(Y47,Y:Y))) -> 0 | Y47: =IFERROR(V47+F47/100000+J47/10000000+G47/1000000000,0) -> 0
E48: J1 | N48: =SUM(F48:M48) -> 0 | U48: =SUM(O48:T48) -> 0
E49: J2 | N49: =SUM(F49:M49) -> 0 | U49: =SUM(O49:T49) -> 0 | X49: =IF(ISERROR(RANK(#REF!,#REF!)),"",RANK(#REF!,#REF!))
E50: J3 | N50: =SUM(F50:M50) -> 0 | U50: =SUM(O50:T50) -> 0 | X50: =IF(ISERROR(RANK(#REF!,#REF!)),"",RANK(#REF!,#REF!))
A51: 12 | B51: {=INDEX('List of Competitors'!C$27:C$46,MATCH($A51,'List of Competitors'!$A$27:$A$46,0))} -> 0 | C51: {=INDEX('List of Competitors'!D$27:D$46,MATCH($A51,'List of Competitors'!$A$27:$A$46,0))} -> 0 | D51: {=INDEX('List of Competitors'!E$27:E$46,MATCH($A51,'List of Competitors'!$A$27:$A$46,0))} -> 0 | E51: Average | F51: =AVERAGE(F52:F54) -> #DIV/0! | G51: =AVERAGE(G52:G54) -> #DIV/0! | H51: =AVERAGE(H52:H54) -> #DIV/0! | I51: =AVERAGE(I52:I54) -> #DIV/0! | J51: =AVERAGE(J52:J54) -> #DIV/0! | K51: =AVERAGE(K52:K54) -> #DIV/0! | L51: =AVERAGE(L52:L54) -> #DIV/0! | M51: =AVERAGE(M52:M54) -> #DIV/0! | N51: =SUM(N52:N54)/IF(N54=0,2,3) -> 0 | O51: =SUM(O52:O54)/IF($N54=0,2,3) -> 0 | P51: =SUM(P52:P54)/IF($N54=0,2,3) -> 0 | Q51: =SUM(Q52:Q54)/IF($N54=0,2,3) -> 0 | R51: =SUM(R52:R54)/IF($N54=0,2,3) -> 0 | S51: =SUM(S52:S54)/IF($N54=0,2,3) -> 0 | T51: =SUM(T52:T54)/IF($N54=0,2,3) -> 0 | U51: =SUM(U52:U54)/IF(N54=0,2,3) -> 0 | V51: =N51-U51 -> 0 | W51: =IF(V51>=150,"Si","No") -> No | X51: =IF(V51=0,0,IF(ISERROR(RANK(V51,V:V)),"",RANK(Y51,Y:Y))) -> 0 | Y51: =IFERROR(V51+F51/100000+J51/10000000+G51/1000000000,0) -> 0
E52: J1 | N52: =SUM(F52:M52) -> 0 | U52: =SUM(O52:T52) -> 0
E53: J2 | N53: =SUM(F53:M53) -> 0 | U53: =SUM(O53:T53) -> 0 | X53: =IF(ISERROR(RANK(#REF!,#REF!)),"",RANK(#REF!,#REF!))
E54: J3 | N54: =SUM(F54:M54) -> 0 | U54: =SUM(O54:T54) -> 0 | X54: =IF(ISERROR(RANK(#REF!,#REF!)),"",RANK(#REF!,#REF!))
A55: 13 | B55: {=INDEX('List of Competitors'!C$27:C$46,MATCH($A55,'List of Competitors'!$A$27:$A$46,0))} -> 0 | C55: {=INDEX('List of Competitors'!D$27:D$46,MATCH($A55,'List of Competitors'!$A$27:$A$46,0))} -> 0 | D55: {=INDEX('List of Competitors'!E$27:E$46,MATCH($A55,'List of Competitors'!$A$27:$A$46,0))} -> 0 | E55: Average | F55: =AVERAGE(F56:F58) -> #DIV/0! | G55: =AVERAGE(G56:G58) -> #DIV/0! | H55: =AVERAGE(H56:H58) -> #DIV/0! | I55: =AVERAGE(I56:I58) -> #DIV/0! | J55: =AVERAGE(J56:J58) -> #DIV/0! | K55: =AVERAGE(K56:K58) -> #DIV/0! | L55: =AVERAGE(L56:L58) -> #DIV/0! | M55: =AVERAGE(M56:M58) -> #DIV/0! | N55: =SUM(N56:N58)/IF(N58=0,2,3) -> 0 | O55: =SUM(O56:O58)/IF($N58=0,2,3) -> 0 | P55: =SUM(P56:P58)/IF($N58=0,2,3) -> 0 | Q55: =SUM(Q56:Q58)/IF($N58=0,2,3) -> 0 | R55: =SUM(R56:R58)/IF($N58=0,2,3) -> 0 | S55: =SUM(S56:S58)/IF($N58=0,2,3) -> 0 | T55: =SUM(T56:T58)/IF($N58=0,2,3) -> 0 | U55: =SUM(U56:U58)/IF(N58=0,2,3) -> 0 | V55: =N55-U55 -> 0 | W55: =IF(V55>=150,"Si","No") -> No | X55: =IF(V55=0,0,IF(ISERROR(RANK(V55,V:V)),"",RANK(Y55,Y:Y))) -> 0 | Y55: =IFERROR(V55+F55/100000+J55/10000000+G55/1000000000,0) -> 0
E56: J1 | N56: =SUM(F56:M56) -> 0 | U56: =SUM(O56:T56) -> 0
E57: J2 | N57: =SUM(F57:M57) -> 0 | U57: =SUM(O57:T57) -> 0 | X57: =IF(ISERROR(RANK(#REF!,#REF!)),"",RANK(#REF!,#REF!))
E58: J3 | N58: =SUM(F58:M58) -> 0 | U58: =SUM(O58:T58) -> 0 | X58: =IF(ISERROR(RANK(#REF!,#REF!)),"",RANK(#REF!,#REF!))
A59: 14 | B59: {=INDEX('List of Competitors'!C$27:C$46,MATCH($A59,'List of Competitors'!$A$27:$A$46,0))} -> 0 | C59: {=INDEX('List of Competitors'!D$27:D$46,MATCH($A59,'List of Competitors'!$A$27:$A$46,0))} -> 0 | D59: {=INDEX('List of Competitors'!E$27:E$46,MATCH($A59,'List of Competitors'!$A$27:$A$46,0))} -> 0 | E59: Average | F59: =AVERAGE(F60:F62) -> #DIV/0! | G59: =AVERAGE(G60:G62) -> #DIV/0! | H59: =AVERAGE(H60:H62) -> #DIV/0! | I59: =AVERAGE(I60:I62) -> #DIV/0! | J59: =AVERAGE(J60:J62) -> #DIV/0! | K59: =AVERAGE(K60:K62) -> #DIV/0! | L59: =AVERAGE(L60:L62) -> #DIV/0! | M59: =AVERAGE(M60:M62) -> #DIV/0! | N59: =SUM(N60:N62)/IF(N62=0,2,3) -> 0 | O59: =SUM(O60:O62)/IF($N62=0,2,3) -> 0 | P59: =SUM(P60:P62)/IF($N62=0,2,3) -> 0 | Q59: =SUM(Q60:Q62)/IF($N62=0,2,3) -> 0 | R59: =SUM(R60:R62)/IF($N62=0,2,3) -> 0 | S59: =SUM(S60:S62)/IF($N62=0,2,3) -> 0 | T59: =SUM(T60:T62)/IF($N62=0,2,3) -> 0 | U59: =SUM(U60:U62)/IF(N62=0,2,3) -> 0 | V59: =N59-U59 -> 0 | W59: =IF(V59>=150,"Si","No") -> No | X59: =IF(V59=0,0,IF(ISERROR(RANK(V59,V:V)),"",RANK(Y59,Y:Y))) -> 0 | Y59: =IFERROR(V59+F59/100000+J59/10000000+G59/1000000000,0) -> 0
E60: J1 | N60: =SUM(F60:M60) -> 0 | U60: =SUM(O60:T60) -> 0
E61: J2 | N61: =SUM(F61:M61) -> 0 | U61: =SUM(O61:T61) -> 0 | X61: =IF(ISERROR(RANK(#REF!,#REF!)),"",RANK(#REF!,#REF!))
E62: J3 | N62: =SUM(F62:M62) -> 0 | U62: =SUM(O62:T62) -> 0 | X62: =IF(ISERROR(RANK(#REF!,#REF!)),"",RANK(#REF!,#REF!))
A63: 15 | B63: {=INDEX('List of Competitors'!C$27:C$46,MATCH($A63,'List of Competitors'!$A$27:$A$46,0))} -> 0 | C63: {=INDEX('List of Competitors'!D$27:D$46,MATCH($A63,'List of Competitors'!$A$27:$A$46,0))} -> 0 | D63: {=INDEX('List of Competitors'!E$27:E$46,MATCH($A63,'List of Competitors'!$A$27:$A$46,0))} -> 0 | E63: Average | F63: =AVERAGE(F64:F66) -> #DIV/0! | G63: =AVERAGE(G64:G66) -> #DIV/0! | H63: =AVERAGE(H64:H66) -> #DIV/0! | I63: =AVERAGE(I64:I66) -> #DIV/0! | J63: =AVERAGE(J64:J66) -> #DIV/0! | K63: =AVERAGE(K64:K66) -> #DIV/0! | L63: =AVERAGE(L64:L66) -> #DIV/0! | M63: =AVERAGE(M64:M66) -> #DIV/0! | N63: =SUM(N64:N66)/IF(N66=0,2,3) -> 0 | O63: =SUM(O64:O66)/IF($N66=0,2,3) -> 0 | P63: =SUM(P64:P66)/IF($N66=0,2,3) -> 0 | Q63: =SUM(Q64:Q66)/IF($N66=0,2,3) -> 0 | R63: =SUM(R64:R66)/IF($N66=0,2,3) -> 0 | S63: =SUM(S64:S66)/IF($N66=0,2,3) -> 0 | T63: =SUM(T64:T66)/IF($N66=0,2,3) -> 0 | U63: =SUM(U64:U66)/IF(N66=0,2,3) -> 0 | V63: =N63-U63 -> 0 | W63: =IF(V63>=150,"Si","No") -> No | X63: =IF(V63=0,0,IF(ISERROR(RANK(V63,V:V)),"",RANK(Y63,Y:Y))) -> 0 | Y63: =IFERROR(V63+F63/100000+J63/10000000+G63/1000000000,0) -> 0
E64: J1 | N64: =SUM(F64:M64) -> 0 | U64: =SUM(O64:T64) -> 0
E65: J2 | N65: =SUM(F65:M65) -> 0 | U65: =SUM(O65:T65) -> 0 | X65: =IF(ISERROR(RANK(#REF!,#REF!)),"",RANK(#REF!,#REF!))
E66: J3 | N66: =SUM(F66:M66) -> 0 | U66: =SUM(O66:T66) -> 0 | X66: =IF(ISERROR(RANK(#REF!,#REF!)),"",RANK(#REF!,#REF!))
A67: 16 | B67: {=INDEX('List of Competitors'!C$27:C$46,MATCH($A67,'List of Competitors'!$A$27:$A$46,0))} -> 0 | C67: {=INDEX('List of Competitors'!D$27:D$46,MATCH($A67,'List of Competitors'!$A$27:$A$46,0))} -> 0 | D67: {=INDEX('List of Competitors'!E$27:E$46,MATCH($A67,'List of Competitors'!$A$27:$A$46,0))} -> 0 | E67: Average | F67: =AVERAGE(F68:F70) -> #DIV/0! | G67: =AVERAGE(G68:G70) -> #DIV/0! | H67: =AVERAGE(H68:H70) -> #DIV/0! | I67: =AVERAGE(I68:I70) -> #DIV/0! | J67: =AVERAGE(J68:J70) -> #DIV/0! | K67: =AVERAGE(K68:K70) -> #DIV/0! | L67: =AVERAGE(L68:L70) -> #DIV/0! | M67: =AVERAGE(M68:M70) -> #DIV/0! | N67: =SUM(N68:N70)/IF(N70=0,2,3) -> 0 | O67: =SUM(O68:O70)/IF($N70=0,2,3) -> 0 | P67: =SUM(P68:P70)/IF($N70=0,2,3) -> 0 | Q67: =SUM(Q68:Q70)/IF($N70=0,2,3) -> 0 | R67: =SUM(R68:R70)/IF($N70=0,2,3) -> 0 | S67: =SUM(S68:S70)/IF($N70=0,2,3) -> 0 | T67: =SUM(T68:T70)/IF($N70=0,2,3) -> 0 | U67: =SUM(U68:U70)/IF(N70=0,2,3) -> 0 | V67: =N67-U67 -> 0 | W67: =IF(V67>=150,"Si","No") -> No | X67: =IF(V67=0,0,IF(ISERROR(RANK(V67,V:V)),"",RANK(Y67,Y:Y))) -> 0 | Y67: =IFERROR(V67+F67/100000+J67/10000000+G67/1000000000,0) -> 0
E68: J1 | N68: =SUM(F68:M68) -> 0 | U68: =SUM(O68:T68) -> 0
E69: J2 | N69: =SUM(F69:M69) -> 0 | U69: =SUM(O69:T69) -> 0 | X69: =IF(ISERROR(RANK(#REF!,#REF!)),"",RANK(#REF!,#REF!))
E70: J3 | N70: =SUM(F70:M70) -> 0 | U70: =SUM(O70:T70) -> 0 | X70: =IF(ISERROR(RANK(#REF!,#REF!)),"",RANK(#REF!,#REF!))
A71: 17 | B71: {=INDEX('List of Competitors'!C$27:C$46,MATCH($A71,'List of Competitors'!$A$27:$A$46,0))} -> 0 | C71: {=INDEX('List of Competitors'!D$27:D$46,MATCH($A71,'List of Competitors'!$A$27:$A$46,0))} -> 0 | D71: {=INDEX('List of Competitors'!E$27:E$46,MATCH($A71,'List of Competitors'!$A$27:$A$46,0))} -> 0 | E71: Average | F71: =AVERAGE(F72:F74) -> #DIV/0! | G71: =AVERAGE(G72:G74) -> #DIV/0! | H71: =AVERAGE(H72:H74) -> #DIV/0! | I71: =AVERAGE(I72:I74) -> #DIV/0! | J71: =AVERAGE(J72:J74) -> #DIV/0! | K71: =AVERAGE(K72:K74) -> #DIV/0! | L71: =AVERAGE(L72:L74) -> #DIV/0! | M71: =AVERAGE(M72:M74) -> #DIV/0! | N71: =SUM(N72:N74)/IF(N74=0,2,3) -> 0 | O71: =SUM(O72:O74)/IF($N74=0,2,3) -> 0 | P71: =SUM(P72:P74)/IF($N74=0,2,3) -> 0 | Q71: =SUM(Q72:Q74)/IF($N74=0,2,3) -> 0 | R71: =SUM(R72:R74)/IF($N74=0,2,3) -> 0 | S71: =SUM(S72:S74)/IF($N74=0,2,3) -> 0 | T71: =SUM(T72:T74)/IF($N74=0,2,3) -> 0 | U71: =SUM(U72:U74)/IF(N74=0,2,3) -> 0 | V71: =N71-U71 -> 0 | W71: =IF(V71>=150,"Si","No") -> No | X71: =IF(V71=0,0,IF(ISERROR(RANK(V71,V:V)),"",RANK(Y71,Y:Y))) -> 0 | Y71: =IFERROR(V71+F71/100000+J71/10000000+G71/1000000000,0) -> 0
E72: J1 | N72: =SUM(F72:M72) -> 0 | U72: =SUM(O72:T72) -> 0
E73: J2 | N73: =SUM(F73:M73) -> 0 | U73: =SUM(O73:T73) -> 0 | X73: =IF(ISERROR(RANK(#REF!,#REF!)),"",RANK(#REF!,#REF!))
E74: J3 | N74: =SUM(F74:M74) -> 0 | U74: =SUM(O74:T74) -> 0 | X74: =IF(ISERROR(RANK(#REF!,#REF!)),"",RANK(#REF!,#REF!))
A75: 18 | B75: {=INDEX('List of Competitors'!C$27:C$46,MATCH($A75,'List of Competitors'!$A$27:$A$46,0))} -> 0 | C75: {=INDEX('List of Competitors'!D$27:D$46,MATCH($A75,'List of Competitors'!$A$27:$A$46,0))} -> 0 | D75: {=INDEX('List of Competitors'!E$27:E$46,MATCH($A75,'List of Competitors'!$A$27:$A$46,0))} -> 0 | E75: Average | F75: =AVERAGE(F76:F78) -> #DIV/0! | G75: =AVERAGE(G76:G78) -> #DIV/0! | H75: =AVERAGE(H76:H78) -> #DIV/0! | I75: =AVERAGE(I76:I78) -> #DIV/0! | J75: =AVERAGE(J76:J78) -> #DIV/0! | K75: =AVERAGE(K76:K78) -> #DIV/0! | L75: =AVERAGE(L76:L78) -> #DIV/0! | M75: =AVERAGE(M76:M78) -> #DIV/0! | N75: =SUM(N76:N78)/IF(N78=0,2,3) -> 0 | O75: =SUM(O76:O78)/IF($N78=0,2,3) -> 0 | P75: =SUM(P76:P78)/IF($N78=0,2,3) -> 0 | Q75: =SUM(Q76:Q78)/IF($N78=0,2,3) -> 0 | R75: =SUM(R76:R78)/IF($N78=0,2,3) -> 0 | S75: =SUM(S76:S78)/IF($N78=0,2,3) -> 0 | T75: =SUM(T76:T78)/IF($N78=0,2,3) -> 0 | U75: =SUM(U76:U78)/IF(N78=0,2,3) -> 0 | V75: =N75-U75 -> 0 | W75: =IF(V75>=150,"Si","No") -> No | X75: =IF(V75=0,0,IF(ISERROR(RANK(V75,V:V)),"",RANK(Y75,Y:Y))) -> 0 | Y75: =IFERROR(V75+F75/100000+J75/10000000+G75/1000000000,0) -> 0
E76: J1 | N76: =SUM(F76:M76) -> 0 | U76: =SUM(O76:T76) -> 0
E77: J2 | N77: =SUM(F77:M77) -> 0 | U77: =SUM(O77:T77) -> 0 | X77: =IF(ISERROR(RANK(#REF!,#REF!)),"",RANK(#REF!,#REF!))
E78: J3 | N78: =SUM(F78:M78) -> 0 | U78: =SUM(O78:T78) -> 0 | X78: =IF(ISERROR(RANK(#REF!,#REF!)),"",RANK(#REF!,#REF!))
A79: 19 | B79: {=INDEX('List of Competitors'!C$27:C$46,MATCH($A79,'List of Competitors'!$A$27:$A$46,0))} -> 0 | C79: {=INDEX('List of Competitors'!D$27:D$46,MATCH($A79,'List of Competitors'!$A$27:$A$46,0))} -> 0 | D79: {=INDEX('List of Competitors'!E$27:E$46,MATCH($A79,'List of Competitors'!$A$27:$A$46,0))} -> 0 | E79: Average | F79: =AVERAGE(F80:F82) -> #DIV/0! | G79: =AVERAGE(G80:G82) -> #DIV/0! | H79: =AVERAGE(H80:H82) -> #DIV/0! | I79: =AVERAGE(I80:I82) -> #DIV/0! | J79: =AVERAGE(J80:J82) -> #DIV/0! | K79: =AVERAGE(K80:K82) -> #DIV/0! | L79: =AVERAGE(L80:L82) -> #DIV/0! | M79: =AVERAGE(M80:M82) -> #DIV/0! | N79: =SUM(N80:N82)/IF(N82=0,2,3) -> 0 | O79: =SUM(O80:O82)/IF($N82=0,2,3) -> 0 | P79: =SUM(P80:P82)/IF($N82=0,2,3) -> 0 | Q79: =SUM(Q80:Q82)/IF($N82=0,2,3) -> 0 | R79: =SUM(R80:R82)/IF($N82=0,2,3) -> 0 | S79: =SUM(S80:S82)/IF($N82=0,2,3) -> 0 | T79: =SUM(T80:T82)/IF($N82=0,2,3) -> 0 | U79: =SUM(U80:U82)/IF(N82=0,2,3) -> 0 | V79: =N79-U79 -> 0 | W79: =IF(V79>=150,"Si","No") -> No | X79: =IF(V79=0,0,IF(ISERROR(RANK(V79,V:V)),"",RANK(Y79,Y:Y))) -> 0 | Y79: =IFERROR(V79+F79/100000+J79/10000000+G79/1000000000,0) -> 0
E80: J1 | N80: =SUM(F80:M80) -> 0 | U80: =SUM(O80:T80) -> 0
E81: J2 | N81: =SUM(F81:M81) -> 0 | U81: =SUM(O81:T81) -> 0 | X81: =IF(ISERROR(RANK(#REF!,#REF!)),"",RANK(#REF!,#REF!))
E82: J3 | N82: =SUM(F82:M82) -> 0 | U82: =SUM(O82:T82) -> 0 | X82: =IF(ISERROR(RANK(#REF!,#REF!)),"",RANK(#REF!,#REF!))
A83: 20 | B83: {=INDEX('List of Competitors'!C$27:C$46,MATCH($A83,'List of Competitors'!$A$27:$A$46,0))} -> 0 | C83: {=INDEX('List of Competitors'!D$27:D$46,MATCH($A83,'List of Competitors'!$A$27:$A$46,0))} -> 0 | D83: {=INDEX('List of Competitors'!E$27:E$46,MATCH($A83,'List of Competitors'!$A$27:$A$46,0))} -> 0 | E83: Average | F83: =AVERAGE(F84:F86) -> #DIV/0! | G83: =AVERAGE(G84:G86) -> #DIV/0! | H83: =AVERAGE(H84:H86) -> #DIV/0! | I83: =AVERAGE(I84:I86) -> #DIV/0! | J83: =AVERAGE(J84:J86) -> #DIV/0! | K83: =AVERAGE(K84:K86) -> #DIV/0! | L83: =AVERAGE(L84:L86) -> #DIV/0! | M83: =AVERAGE(M84:M86) -> #DIV/0! | N83: =SUM(N84:N86)/IF(N86=0,2,3) -> 0 | O83: =SUM(O84:O86)/IF($N86=0,2,3) -> 0 | P83: =SUM(P84:P86)/IF($N86=0,2,3) -> 0 | Q83: =SUM(Q84:Q86)/IF($N86=0,2,3) -> 0 | R83: =SUM(R84:R86)/IF($N86=0,2,3) -> 0 | S83: =SUM(S84:S86)/IF($N86=0,2,3) -> 0 | T83: =SUM(T84:T86)/IF($N86=0,2,3) -> 0 | U83: =SUM(U84:U86)/IF(N86=0,2,3) -> 0 | V83: =N83-U83 -> 0 | W83: =IF(V83>=150,"Si","No") -> No | X83: =IF(V83=0,0,IF(ISERROR(RANK(V83,V:V)),"",RANK(Y83,Y:Y))) -> 0 | Y83: =IFERROR(V83+F83/100000+J83/10000000+G83/1000000000,0) -> 0
E84: J1 | N84: =SUM(F84:M84) -> 0 | U84: =SUM(O84:T84) -> 0
E85: J2 | N85: =SUM(F85:M85) -> 0 | U85: =SUM(O85:T85) -> 0 | X85: =IF(ISERROR(RANK(#REF!,#REF!)),"",RANK(#REF!,#REF!))
E86: J3 | N86: =SUM(F86:M86) -> 0 | U86: =SUM(O86:T86) -> 0 | X86: =IF(ISERROR(RANK(#REF!,#REF!)),"",RANK(#REF!,#REF!))

Sheet Overview
E1: ='List of Competitors'!B2 -> NARNI (TR)
E2: ='List of Competitors'!C2 -> 03/05/2026
A5: HTM 0
E6: artistic | I6: tecnici | N6: Detrazioni di punti | U6: Risultato
A7: Posizionamento | B7: Nome | C7: Cognome | D7: Cane | E7: Team work | F7: Dinamicità | G7: Progetto | H7: Coreografia | I7: Fluidità | J7: Esecuzione | K7: Contenuto | L7: Difficoltà | M7: punti | N7: Abbaio e vocalizzazioni | O7: Salute del cane | P7: costume / Oggetti di scena | Q7: Lunghezze musicali errate | R7: Trattamento improprio del cane | S7: Contatto attivo | T7: Detrazioni di punti | U7: Totale | V7: Posizionamento | W7: punto di passaggio
A8: 1 | B8: DANIELA | C8: {=INDEX('HTM 0'!$C$7:$C$86,MATCH(A8,'HTM 0'!$Y$7:$Y$86,0))} -> MORSIANI | D8: {=INDEX('HTM 0'!$D$7:$D$86,MATCH(A8,'HTM 0'!$Y$7:$Y$86,0))} -> KORI | E8: {=INDEX('HTM 0'!F$7:F$86,MATCH($A8,'HTM 0'!$Y$7:$Y$86,0))} -> 20.5 | F8: {=INDEX('HTM 0'!G$7:G$86,MATCH($A8,'HTM 0'!$Y$7:$Y$86,0))} -> 21 | G8: {=INDEX('HTM 0'!H$7:H$86,MATCH($A8,'HTM 0'!$Y$7:$Y$86,0))} -> 21.5 | H8: {=INDEX('HTM 0'!I$7:I$86,MATCH($A8,'HTM 0'!$Y$7:$Y$86,0))} -> 21 | I8: {=INDEX('HTM 0'!J$7:J$86,MATCH($A8,'HTM 0'!$Y$7:$Y$86,0))} -> 20.5 | J8: {=INDEX('HTM 0'!K$7:K$86,MATCH($A8,'HTM 0'!$Y$7:$Y$86,0))} -> 21 | K8: {=INDEX('HTM 0'!L$7:L$86,MATCH($A8,'HTM 0'!$Y$7:$Y$86,0))} -> 19.5 | L8: {=INDEX('HTM 0'!M$7:M$86,MATCH($A8,'HTM 0'!$Y$7:$Y$86,0))} -> 19 | ... S8: {=INDEX('HTM 0'!T$7:T$86,MATCH($A8,'HTM 0'!$Y$7:$Y$86,0))} -> 0 | T8: {=INDEX('HTM 0'!V$7:V$86,MATCH($A8,'HTM 0'!$Y$7:$Y$86,0))} -> 0 | U8: {=INDEX('HTM 0'!$W$7:$W$86,MATCH(A8,'HTM 0'!$Y$7:$Y$86,0))} -> 164 | V8: {=INDEX('HTM 0'!$Y$7:$Y$86,MATCH(A8,'HTM 0'!$Y$7:$Y$86,0))} -> 1 | W8: {=INDEX('HTM 0'!$X$7:$X$86,MATCH(A8,'HTM 0'!$Y$7:$Y$86,0))} -> Si
A9: 2 | B9: {=IFNA(INDEX('HTM 0'!$B$7:$B$86,MATCH(A9,'HTM 0'!$Y$7:$Y$86,0)),"")} -> #NAME? | C9: {=INDEX('HTM 0'!$C$7:$C$86,MATCH(A9,'HTM 0'!$Y$7:$Y$86,0))} -> #N/A | D9: {=INDEX('HTM 0'!$D$7:$D$86,MATCH(A9,'HTM 0'!$Y$7:$Y$86,0))} -> #N/A | E9: {=INDEX('HTM 0'!F$7:F$86,MATCH($A9,'HTM 0'!$Y$7:$Y$86,0))} -> #N/A | F9: {=INDEX('HTM 0'!G$7:G$86,MATCH($A9,'HTM 0'!$Y$7:$Y$86,0))} -> #N/A | G9: {=INDEX('HTM 0'!H$7:H$86,MATCH($A9,'HTM 0'!$Y$7:$Y$86,0))} -> #N/A | H9: {=INDEX('HTM 0'!I$7:I$86,MATCH($A9,'HTM 0'!$Y$7:$Y$86,0))} -> #N/A | I9: {=INDEX('HTM 0'!J$7:J$86,MATCH($A9,'HTM 0'!$Y$7:$Y$86,0))} -> #N/A | J9: {=INDEX('HTM 0'!K$7:K$86,MATCH($A9,'HTM 0'!$Y$7:$Y$86,0))} -> #N/A | K9: {=INDEX('HTM 0'!L$7:L$86,MATCH($A9,'HTM 0'!$Y$7:$Y$86,0))} -> #N/A | L9: {=INDEX('HTM 0'!M$7:M$86,MATCH($A9,'HTM 0'!$Y$7:$Y$86,0))} -> #N/A | ... S9: {=INDEX('HTM 0'!T$7:T$86,MATCH($A9,'HTM 0'!$Y$7:$Y$86,0))} -> #N/A | T9: {=INDEX('HTM 0'!V$7:V$86,MATCH($A9,'HTM 0'!$Y$7:$Y$86,0))} -> #N/A | U9: {=INDEX('HTM 0'!$W$7:$W$86,MATCH(A9,'HTM 0'!$Y$7:$Y$86,0))} -> #N/A | V9: {=INDEX('HTM 0'!$Y$7:$Y$86,MATCH(A9,'HTM 0'!$Y$7:$Y$86,0))} -> #N/A | W9: {=INDEX('HTM 0'!$X$7:$X$86,MATCH(A9,'HTM 0'!$Y$7:$Y$86,0))} -> #N/A
A10: 3 | B10: {=IFNA(INDEX('HTM 0'!$B$7:$B$86,MATCH(A10,'HTM 0'!$Y$7:$Y$86,0)),"")} -> #NAME? | C10: {=INDEX('HTM 0'!$C$7:$C$86,MATCH(A10,'HTM 0'!$Y$7:$Y$86,0))} -> #N/A | D10: {=INDEX('HTM 0'!$D$7:$D$86,MATCH(A10,'HTM 0'!$Y$7:$Y$86,0))} -> #N/A | E10: {=INDEX('HTM 0'!F$7:F$86,MATCH($A10,'HTM 0'!$Y$7:$Y$86,0))} -> #N/A | F10: {=INDEX('HTM 0'!G$7:G$86,MATCH($A10,'HTM 0'!$Y$7:$Y$86,0))} -> #N/A | G10: {=INDEX('HTM 0'!H$7:H$86,MATCH($A10,'HTM 0'!$Y$7:$Y$86,0))} -> #N/A | H10: {=INDEX('HTM 0'!I$7:I$86,MATCH($A10,'HTM 0'!$Y$7:$Y$86,0))} -> #N/A | I10: {=INDEX('HTM 0'!J$7:J$86,MATCH($A10,'HTM 0'!$Y$7:$Y$86,0))} -> #N/A | J10: {=INDEX('HTM 0'!K$7:K$86,MATCH($A10,'HTM 0'!$Y$7:$Y$86,0))} -> #N/A | K10: {=INDEX('HTM 0'!L$7:L$86,MATCH($A10,'HTM 0'!$Y$7:$Y$86,0))} -> #N/A | L10: {=INDEX('HTM 0'!M$7:M$86,MATCH($A10,'HTM 0'!$Y$7:$Y$86,0))} -> #N/A | ... S10: {=INDEX('HTM 0'!T$7:T$86,MATCH($A10,'HTM 0'!$Y$7:$Y$86,0))} -> #N/A | T10: {=INDEX('HTM 0'!V$7:V$86,MATCH($A10,'HTM 0'!$Y$7:$Y$86,0))} -> #N/A | U10: {=INDEX('HTM 0'!$W$7:$W$86,MATCH(A10,'HTM 0'!$Y$7:$Y$86,0))} -> #N/A | V10: {=INDEX('HTM 0'!$Y$7:$Y$86,MATCH(A10,'HTM 0'!$Y$7:$Y$86,0))} -> #N/A | W10: {=INDEX('HTM 0'!$X$7:$X$86,MATCH(A10,'HTM 0'!$Y$7:$Y$86,0))} -> #N/A
A11: 4 | B11: {=IFNA(INDEX('HTM 0'!$B$7:$B$86,MATCH(A11,'HTM 0'!$Y$7:$Y$86,0)),"")} -> #NAME? | C11: {=INDEX('HTM 0'!$C$7:$C$86,MATCH(A11,'HTM 0'!$Y$7:$Y$86,0))} -> #N/A | D11: {=INDEX('HTM 0'!$D$7:$D$86,MATCH(A11,'HTM 0'!$Y$7:$Y$86,0))} -> #N/A | E11: {=INDEX('HTM 0'!F$7:F$86,MATCH($A11,'HTM 0'!$Y$7:$Y$86,0))} -> #N/A | F11: {=INDEX('HTM 0'!G$7:G$86,MATCH($A11,'HTM 0'!$Y$7:$Y$86,0))} -> #N/A | G11: {=INDEX('HTM 0'!H$7:H$86,MATCH($A11,'HTM 0'!$Y$7:$Y$86,0))} -> #N/A | H11: {=INDEX('HTM 0'!I$7:I$86,MATCH($A11,'HTM 0'!$Y$7:$Y$86,0))} -> #N/A | I11: {=INDEX('HTM 0'!J$7:J$86,MATCH($A11,'HTM 0'!$Y$7:$Y$86,0))} -> #N/A | J11: {=INDEX('HTM 0'!K$7:K$86,MATCH($A11,'HTM 0'!$Y$7:$Y$86,0))} -> #N/A | K11: {=INDEX('HTM 0'!L$7:L$86,MATCH($A11,'HTM 0'!$Y$7:$Y$86,0))} -> #N/A | L11: {=INDEX('HTM 0'!M$7:M$86,MATCH($A11,'HTM 0'!$Y$7:$Y$86,0))} -> #N/A | ... S11: {=INDEX('HTM 0'!T$7:T$86,MATCH($A11,'HTM 0'!$Y$7:$Y$86,0))} -> #N/A | T11: {=INDEX('HTM 0'!V$7:V$86,MATCH($A11,'HTM 0'!$Y$7:$Y$86,0))} -> #N/A | U11: {=INDEX('HTM 0'!$W$7:$W$86,MATCH(A11,'HTM 0'!$Y$7:$Y$86,0))} -> #N/A | V11: {=INDEX('HTM 0'!$Y$7:$Y$86,MATCH(A11,'HTM 0'!$Y$7:$Y$86,0))} -> #N/A | W11: {=INDEX('HTM 0'!$X$7:$X$86,MATCH(A11,'HTM 0'!$Y$7:$Y$86,0))} -> #N/A
A12: 5 | B12: {=IFNA(INDEX('HTM 0'!$B$7:$B$86,MATCH(A12,'HTM 0'!$Y$7:$Y$86,0)),"")} -> #NAME? | C12: {=INDEX('HTM 0'!$C$7:$C$86,MATCH(A12,'HTM 0'!$Y$7:$Y$86,0))} -> #N/A | D12: {=INDEX('HTM 0'!$D$7:$D$86,MATCH(A12,'HTM 0'!$Y$7:$Y$86,0))} -> #N/A | E12: {=INDEX('HTM 0'!F$7:F$86,MATCH($A12,'HTM 0'!$Y$7:$Y$86,0))} -> #N/A | F12: {=INDEX('HTM 0'!G$7:G$86,MATCH($A12,'HTM 0'!$Y$7:$Y$86,0))} -> #N/A | G12: {=INDEX('HTM 0'!H$7:H$86,MATCH($A12,'HTM 0'!$Y$7:$Y$86,0))} -> #N/A | H12: {=INDEX('HTM 0'!I$7:I$86,MATCH($A12,'HTM 0'!$Y$7:$Y$86,0))} -> #N/A | I12: {=INDEX('HTM 0'!J$7:J$86,MATCH($A12,'HTM 0'!$Y$7:$Y$86,0))} -> #N/A | J12: {=INDEX('HTM 0'!K$7:K$86,MATCH($A12,'HTM 0'!$Y$7:$Y$86,0))} -> #N/A | K12: {=INDEX('HTM 0'!L$7:L$86,MATCH($A12,'HTM 0'!$Y$7:$Y$86,0))} -> #N/A | L12: {=INDEX('HTM 0'!M$7:M$86,MATCH($A12,'HTM 0'!$Y$7:$Y$86,0))} -> #N/A | ... S12: {=INDEX('HTM 0'!T$7:T$86,MATCH($A12,'HTM 0'!$Y$7:$Y$86,0))} -> #N/A | T12: {=INDEX('HTM 0'!V$7:V$86,MATCH($A12,'HTM 0'!$Y$7:$Y$86,0))} -> #N/A | U12: {=INDEX('HTM 0'!$W$7:$W$86,MATCH(A12,'HTM 0'!$Y$7:$Y$86,0))} -> #N/A | V12: {=INDEX('HTM 0'!$Y$7:$Y$86,MATCH(A12,'HTM 0'!$Y$7:$Y$86,0))} -> #N/A | W12: {=INDEX('HTM 0'!$X$7:$X$86,MATCH(A12,'HTM 0'!$Y$7:$Y$86,0))} -> #N/A
A13: 6 | B13: {=IFNA(INDEX('HTM 0'!$B$7:$B$86,MATCH(A13,'HTM 0'!$Y$7:$Y$86,0)),"")} -> #NAME? | C13: {=INDEX('HTM 0'!$C$7:$C$86,MATCH(A13,'HTM 0'!$Y$7:$Y$86,0))} -> #N/A | D13: {=INDEX('HTM 0'!$D$7:$D$86,MATCH(A13,'HTM 0'!$Y$7:$Y$86,0))} -> #N/A | E13: {=INDEX('HTM 0'!F$7:F$86,MATCH($A13,'HTM 0'!$Y$7:$Y$86,0))} -> #N/A | F13: {=INDEX('HTM 0'!G$7:G$86,MATCH($A13,'HTM 0'!$Y$7:$Y$86,0))} -> #N/A | G13: {=INDEX('HTM 0'!H$7:H$86,MATCH($A13,'HTM 0'!$Y$7:$Y$86,0))} -> #N/A | H13: {=INDEX('HTM 0'!I$7:I$86,MATCH($A13,'HTM 0'!$Y$7:$Y$86,0))} -> #N/A | I13: {=INDEX('HTM 0'!J$7:J$86,MATCH($A13,'HTM 0'!$Y$7:$Y$86,0))} -> #N/A | J13: {=INDEX('HTM 0'!K$7:K$86,MATCH($A13,'HTM 0'!$Y$7:$Y$86,0))} -> #N/A | K13: {=INDEX('HTM 0'!L$7:L$86,MATCH($A13,'HTM 0'!$Y$7:$Y$86,0))} -> #N/A | L13: {=INDEX('HTM 0'!M$7:M$86,MATCH($A13,'HTM 0'!$Y$7:$Y$86,0))} -> #N/A | ... S13: {=INDEX('HTM 0'!T$7:T$86,MATCH($A13,'HTM 0'!$Y$7:$Y$86,0))} -> #N/A | T13: {=INDEX('HTM 0'!V$7:V$86,MATCH($A13,'HTM 0'!$Y$7:$Y$86,0))} -> #N/A | U13: {=INDEX('HTM 0'!$W$7:$W$86,MATCH(A13,'HTM 0'!$Y$7:$Y$86,0))} -> #N/A | V13: {=INDEX('HTM 0'!$Y$7:$Y$86,MATCH(A13,'HTM 0'!$Y$7:$Y$86,0))} -> #N/A | W13: {=INDEX('HTM 0'!$X$7:$X$86,MATCH(A13,'HTM 0'!$Y$7:$Y$86,0))} -> #N/A
A14: 7 | B14: {=IFNA(INDEX('HTM 0'!$B$7:$B$86,MATCH(A14,'HTM 0'!$Y$7:$Y$86,0)),"")} -> #NAME? | C14: {=INDEX('HTM 0'!$C$7:$C$86,MATCH(A14,'HTM 0'!$Y$7:$Y$86,0))} -> #N/A | D14: {=INDEX('HTM 0'!$D$7:$D$86,MATCH(A14,'HTM 0'!$Y$7:$Y$86,0))} -> #N/A | E14: {=INDEX('HTM 0'!F$7:F$86,MATCH($A14,'HTM 0'!$Y$7:$Y$86,0))} -> #N/A | F14: {=INDEX('HTM 0'!G$7:G$86,MATCH($A14,'HTM 0'!$Y$7:$Y$86,0))} -> #N/A | G14: {=INDEX('HTM 0'!H$7:H$86,MATCH($A14,'HTM 0'!$Y$7:$Y$86,0))} -> #N/A | H14: {=INDEX('HTM 0'!I$7:I$86,MATCH($A14,'HTM 0'!$Y$7:$Y$86,0))} -> #N/A | I14: {=INDEX('HTM 0'!J$7:J$86,MATCH($A14,'HTM 0'!$Y$7:$Y$86,0))} -> #N/A | J14: {=INDEX('HTM 0'!K$7:K$86,MATCH($A14,'HTM 0'!$Y$7:$Y$86,0))} -> #N/A | K14: {=INDEX('HTM 0'!L$7:L$86,MATCH($A14,'HTM 0'!$Y$7:$Y$86,0))} -> #N/A | L14: {=INDEX('HTM 0'!M$7:M$86,MATCH($A14,'HTM 0'!$Y$7:$Y$86,0))} -> #N/A | ... S14: {=INDEX('HTM 0'!T$7:T$86,MATCH($A14,'HTM 0'!$Y$7:$Y$86,0))} -> #N/A | T14: {=INDEX('HTM 0'!V$7:V$86,MATCH($A14,'HTM 0'!$Y$7:$Y$86,0))} -> #N/A | U14: {=INDEX('HTM 0'!$W$7:$W$86,MATCH(A14,'HTM 0'!$Y$7:$Y$86,0))} -> #N/A | V14: {=INDEX('HTM 0'!$Y$7:$Y$86,MATCH(A14,'HTM 0'!$Y$7:$Y$86,0))} -> #N/A | W14: {=INDEX('HTM 0'!$X$7:$X$86,MATCH(A14,'HTM 0'!$Y$7:$Y$86,0))} -> #N/A
A15: 8 | B15: {=IFNA(INDEX('HTM 0'!$B$7:$B$86,MATCH(A15,'HTM 0'!$Y$7:$Y$86,0)),"")} -> #NAME? | C15: {=INDEX('HTM 0'!$C$7:$C$86,MATCH(A15,'HTM 0'!$Y$7:$Y$86,0))} -> #N/A | D15: {=INDEX('HTM 0'!$D$7:$D$86,MATCH(A15,'HTM 0'!$Y$7:$Y$86,0))} -> #N/A | E15: {=INDEX('HTM 0'!F$7:F$86,MATCH($A15,'HTM 0'!$Y$7:$Y$86,0))} -> #N/A | F15: {=INDEX('HTM 0'!G$7:G$86,MATCH($A15,'HTM 0'!$Y$7:$Y$86,0))} -> #N/A | G15: {=INDEX('HTM 0'!H$7:H$86,MATCH($A15,'HTM 0'!$Y$7:$Y$86,0))} -> #N/A | H15: {=INDEX('HTM 0'!I$7:I$86,MATCH($A15,'HTM 0'!$Y$7:$Y$86,0))} -> #N/A | I15: {=INDEX('HTM 0'!J$7:J$86,MATCH($A15,'HTM 0'!$Y$7:$Y$86,0))} -> #N/A | J15: {=INDEX('HTM 0'!K$7:K$86,MATCH($A15,'HTM 0'!$Y$7:$Y$86,0))} -> #N/A | K15: {=INDEX('HTM 0'!L$7:L$86,MATCH($A15,'HTM 0'!$Y$7:$Y$86,0))} -> #N/A | L15: {=INDEX('HTM 0'!M$7:M$86,MATCH($A15,'HTM 0'!$Y$7:$Y$86,0))} -> #N/A | ... S15: {=INDEX('HTM 0'!T$7:T$86,MATCH($A15,'HTM 0'!$Y$7:$Y$86,0))} -> #N/A | T15: {=INDEX('HTM 0'!V$7:V$86,MATCH($A15,'HTM 0'!$Y$7:$Y$86,0))} -> #N/A | U15: {=INDEX('HTM 0'!$W$7:$W$86,MATCH(A15,'HTM 0'!$Y$7:$Y$86,0))} -> #N/A | V15: {=INDEX('HTM 0'!$Y$7:$Y$86,MATCH(A15,'HTM 0'!$Y$7:$Y$86,0))} -> #N/A | W15: {=INDEX('HTM 0'!$X$7:$X$86,MATCH(A15,'HTM 0'!$Y$7:$Y$86,0))} -> #N/A
A16: 9 | B16: {=IFNA(INDEX('HTM 0'!$B$7:$B$86,MATCH(A16,'HTM 0'!$Y$7:$Y$86,0)),"")} -> #NAME? | C16: {=INDEX('HTM 0'!$C$7:$C$86,MATCH(A16,'HTM 0'!$Y$7:$Y$86,0))} -> #N/A | D16: {=INDEX('HTM 0'!$D$7:$D$86,MATCH(A16,'HTM 0'!$Y$7:$Y$86,0))} -> #N/A | E16: {=INDEX('HTM 0'!F$7:F$86,MATCH($A16,'HTM 0'!$Y$7:$Y$86,0))} -> #N/A | F16: {=INDEX('HTM 0'!G$7:G$86,MATCH($A16,'HTM 0'!$Y$7:$Y$86,0))} -> #N/A | G16: {=INDEX('HTM 0'!H$7:H$86,MATCH($A16,'HTM 0'!$Y$7:$Y$86,0))} -> #N/A | H16: {=INDEX('HTM 0'!I$7:I$86,MATCH($A16,'HTM 0'!$Y$7:$Y$86,0))} -> #N/A | I16: {=INDEX('HTM 0'!J$7:J$86,MATCH($A16,'HTM 0'!$Y$7:$Y$86,0))} -> #N/A | J16: {=INDEX('HTM 0'!K$7:K$86,MATCH($A16,'HTM 0'!$Y$7:$Y$86,0))} -> #N/A | K16: {=INDEX('HTM 0'!L$7:L$86,MATCH($A16,'HTM 0'!$Y$7:$Y$86,0))} -> #N/A | L16: {=INDEX('HTM 0'!M$7:M$86,MATCH($A16,'HTM 0'!$Y$7:$Y$86,0))} -> #N/A | ... S16: {=INDEX('HTM 0'!T$7:T$86,MATCH($A16,'HTM 0'!$Y$7:$Y$86,0))} -> #N/A | T16: {=INDEX('HTM 0'!V$7:V$86,MATCH($A16,'HTM 0'!$Y$7:$Y$86,0))} -> #N/A | U16: {=INDEX('HTM 0'!$W$7:$W$86,MATCH(A16,'HTM 0'!$Y$7:$Y$86,0))} -> #N/A | V16: {=INDEX('HTM 0'!$Y$7:$Y$86,MATCH(A16,'HTM 0'!$Y$7:$Y$86,0))} -> #N/A | W16: {=INDEX('HTM 0'!$X$7:$X$86,MATCH(A16,'HTM 0'!$Y$7:$Y$86,0))} -> #N/A
A17: 10 | B17: {=IFNA(INDEX('HTM 0'!$B$7:$B$86,MATCH(A17,'HTM 0'!$Y$7:$Y$86,0)),"")} -> #NAME? | C17: {=INDEX('HTM 0'!$C$7:$C$86,MATCH(A17,'HTM 0'!$Y$7:$Y$86,0))} -> #N/A | D17: {=INDEX('HTM 0'!$D$7:$D$86,MATCH(A17,'HTM 0'!$Y$7:$Y$86,0))} -> #N/A | E17: {=INDEX('HTM 0'!F$7:F$86,MATCH($A17,'HTM 0'!$Y$7:$Y$86,0))} -> #N/A | F17: {=INDEX('HTM 0'!G$7:G$86,MATCH($A17,'HTM 0'!$Y$7:$Y$86,0))} -> #N/A | G17: {=INDEX('HTM 0'!H$7:H$86,MATCH($A17,'HTM 0'!$Y$7:$Y$86,0))} -> #N/A | H17: {=INDEX('HTM 0'!I$7:I$86,MATCH($A17,'HTM 0'!$Y$7:$Y$86,0))} -> #N/A | I17: {=INDEX('HTM 0'!J$7:J$86,MATCH($A17,'HTM 0'!$Y$7:$Y$86,0))} -> #N/A | J17: {=INDEX('HTM 0'!K$7:K$86,MATCH($A17,'HTM 0'!$Y$7:$Y$86,0))} -> #N/A | K17: {=INDEX('HTM 0'!L$7:L$86,MATCH($A17,'HTM 0'!$Y$7:$Y$86,0))} -> #N/A | L17: {=INDEX('HTM 0'!M$7:M$86,MATCH($A17,'HTM 0'!$Y$7:$Y$86,0))} -> #N/A | ... S17: {=INDEX('HTM 0'!T$7:T$86,MATCH($A17,'HTM 0'!$Y$7:$Y$86,0))} -> #N/A | T17: {=INDEX('HTM 0'!V$7:V$86,MATCH($A17,'HTM 0'!$Y$7:$Y$86,0))} -> #N/A | U17: {=INDEX('HTM 0'!$W$7:$W$86,MATCH(A17,'HTM 0'!$Y$7:$Y$86,0))} -> #N/A | V17: {=INDEX('HTM 0'!$Y$7:$Y$86,MATCH(A17,'HTM 0'!$Y$7:$Y$86,0))} -> #N/A | W17: {=INDEX('HTM 0'!$X$7:$X$86,MATCH(A17,'HTM 0'!$Y$7:$Y$86,0))} -> #N/A
A18: 11 | B18: {=IFNA(INDEX('HTM 0'!$B$7:$B$86,MATCH(A18,'HTM 0'!$Y$7:$Y$86,0)),"")} -> #NAME? | C18: {=INDEX('HTM 0'!$C$7:$C$86,MATCH(A18,'HTM 0'!$Y$7:$Y$86,0))} -> #N/A | D18: {=INDEX('HTM 0'!$D$7:$D$86,MATCH(A18,'HTM 0'!$Y$7:$Y$86,0))} -> #N/A | E18: {=INDEX('HTM 0'!F$7:F$86,MATCH($A18,'HTM 0'!$Y$7:$Y$86,0))} -> #N/A | F18: {=INDEX('HTM 0'!G$7:G$86,MATCH($A18,'HTM 0'!$Y$7:$Y$86,0))} -> #N/A | G18: {=INDEX('HTM 0'!H$7:H$86,MATCH($A18,'HTM 0'!$Y$7:$Y$86,0))} -> #N/A | H18: {=INDEX('HTM 0'!I$7:I$86,MATCH($A18,'HTM 0'!$Y$7:$Y$86,0))} -> #N/A | I18: {=INDEX('HTM 0'!J$7:J$86,MATCH($A18,'HTM 0'!$Y$7:$Y$86,0))} -> #N/A | J18: {=INDEX('HTM 0'!K$7:K$86,MATCH($A18,'HTM 0'!$Y$7:$Y$86,0))} -> #N/A | K18: {=INDEX('HTM 0'!L$7:L$86,MATCH($A18,'HTM 0'!$Y$7:$Y$86,0))} -> #N/A | L18: {=INDEX('HTM 0'!M$7:M$86,MATCH($A18,'HTM 0'!$Y$7:$Y$86,0))} -> #N/A | ... S18: {=INDEX('HTM 0'!T$7:T$86,MATCH($A18,'HTM 0'!$Y$7:$Y$86,0))} -> #N/A | T18: {=INDEX('HTM 0'!V$7:V$86,MATCH($A18,'HTM 0'!$Y$7:$Y$86,0))} -> #N/A | U18: {=INDEX('HTM 0'!$W$7:$W$86,MATCH(A18,'HTM 0'!$Y$7:$Y$86,0))} -> #N/A | V18: {=INDEX('HTM 0'!$Y$7:$Y$86,MATCH(A18,'HTM 0'!$Y$7:$Y$86,0))} -> #N/A | W18: {=INDEX('HTM 0'!$X$7:$X$86,MATCH(A18,'HTM 0'!$Y$7:$Y$86,0))} -> #N/A
A19: 12 | B19: {=IFNA(INDEX('HTM 0'!$B$7:$B$86,MATCH(A19,'HTM 0'!$Y$7:$Y$86,0)),"")} -> #NAME? | C19: {=INDEX('HTM 0'!$C$7:$C$86,MATCH(A19,'HTM 0'!$Y$7:$Y$86,0))} -> #N/A | D19: {=INDEX('HTM 0'!$D$7:$D$86,MATCH(A19,'HTM 0'!$Y$7:$Y$86,0))} -> #N/A | E19: {=INDEX('HTM 0'!F$7:F$86,MATCH($A19,'HTM 0'!$Y$7:$Y$86,0))} -> #N/A | F19: {=INDEX('HTM 0'!G$7:G$86,MATCH($A19,'HTM 0'!$Y$7:$Y$86,0))} -> #N/A | G19: {=INDEX('HTM 0'!H$7:H$86,MATCH($A19,'HTM 0'!$Y$7:$Y$86,0))} -> #N/A | H19: {=INDEX('HTM 0'!I$7:I$86,MATCH($A19,'HTM 0'!$Y$7:$Y$86,0))} -> #N/A | I19: {=INDEX('HTM 0'!J$7:J$86,MATCH($A19,'HTM 0'!$Y$7:$Y$86,0))} -> #N/A | J19: {=INDEX('HTM 0'!K$7:K$86,MATCH($A19,'HTM 0'!$Y$7:$Y$86,0))} -> #N/A | K19: {=INDEX('HTM 0'!L$7:L$86,MATCH($A19,'HTM 0'!$Y$7:$Y$86,0))} -> #N/A | L19: {=INDEX('HTM 0'!M$7:M$86,MATCH($A19,'HTM 0'!$Y$7:$Y$86,0))} -> #N/A | ... S19: {=INDEX('HTM 0'!T$7:T$86,MATCH($A19,'HTM 0'!$Y$7:$Y$86,0))} -> #N/A | T19: {=INDEX('HTM 0'!V$7:V$86,MATCH($A19,'HTM 0'!$Y$7:$Y$86,0))} -> #N/A | U19: {=INDEX('HTM 0'!$W$7:$W$86,MATCH(A19,'HTM 0'!$Y$7:$Y$86,0))} -> #N/A | V19: {=INDEX('HTM 0'!$Y$7:$Y$86,MATCH(A19,'HTM 0'!$Y$7:$Y$86,0))} -> #N/A | W19: {=INDEX('HTM 0'!$X$7:$X$86,MATCH(A19,'HTM 0'!$Y$7:$Y$86,0))} -> #N/A
A20: 13 | B20: {=IFNA(INDEX('HTM 0'!$B$7:$B$86,MATCH(A20,'HTM 0'!$Y$7:$Y$86,0)),"")} -> #NAME? | C20: {=INDEX('HTM 0'!$C$7:$C$86,MATCH(A20,'HTM 0'!$Y$7:$Y$86,0))} -> #N/A | D20: {=INDEX('HTM 0'!$D$7:$D$86,MATCH(A20,'HTM 0'!$Y$7:$Y$86,0))} -> #N/A | E20: {=INDEX('HTM 0'!F$7:F$86,MATCH($A20,'HTM 0'!$Y$7:$Y$86,0))} -> #N/A | F20: {=INDEX('HTM 0'!G$7:G$86,MATCH($A20,'HTM 0'!$Y$7:$Y$86,0))} -> #N/A | G20: {=INDEX('HTM 0'!H$7:H$86,MATCH($A20,'HTM 0'!$Y$7:$Y$86,0))} -> #N/A | H20: {=INDEX('HTM 0'!I$7:I$86,MATCH($A20,'HTM 0'!$Y$7:$Y$86,0))} -> #N/A | I20: {=INDEX('HTM 0'!J$7:J$86,MATCH($A20,'HTM 0'!$Y$7:$Y$86,0))} -> #N/A | J20: {=INDEX('HTM 0'!K$7:K$86,MATCH($A20,'HTM 0'!$Y$7:$Y$86,0))} -> #N/A | K20: {=INDEX('HTM 0'!L$7:L$86,MATCH($A20,'HTM 0'!$Y$7:$Y$86,0))} -> #N/A | L20: {=INDEX('HTM 0'!M$7:M$86,MATCH($A20,'HTM 0'!$Y$7:$Y$86,0))} -> #N/A | ... S20: {=INDEX('HTM 0'!T$7:T$86,MATCH($A20,'HTM 0'!$Y$7:$Y$86,0))} -> #N/A | T20: {=INDEX('HTM 0'!V$7:V$86,MATCH($A20,'HTM 0'!$Y$7:$Y$86,0))} -> #N/A | U20: {=INDEX('HTM 0'!$W$7:$W$86,MATCH(A20,'HTM 0'!$Y$7:$Y$86,0))} -> #N/A | V20: {=INDEX('HTM 0'!$Y$7:$Y$86,MATCH(A20,'HTM 0'!$Y$7:$Y$86,0))} -> #N/A | W20: {=INDEX('HTM 0'!$X$7:$X$86,MATCH(A20,'HTM 0'!$Y$7:$Y$86,0))} -> #N/A
... A27: 20 | B27: {=IFNA(INDEX('HTM 0'!$B$7:$B$86,MATCH(A27,'HTM 0'!$Y$7:$Y$86,0)),"")} -> #NAME? | C27: {=INDEX('HTM 0'!$C$7:$C$86,MATCH(A27,'HTM 0'!$Y$7:$Y$86,0))} -> #N/A | D27: {=INDEX('HTM 0'!$D$7:$D$86,MATCH(A27,'HTM 0'!$Y$7:$Y$86,0))} -> #N/A | E27: {=INDEX('HTM 0'!F$7:F$86,MATCH($A27,'HTM 0'!$Y$7:$Y$86,0))} -> #N/A | F27: {=INDEX('HTM 0'!G$7:G$86,MATCH($A27,'HTM 0'!$Y$7:$Y$86,0))} -> #N/A | G27: {=INDEX('HTM 0'!H$7:H$86,MATCH($A27,'HTM 0'!$Y$7:$Y$86,0))} -> #N/A | H27: {=INDEX('HTM 0'!I$7:I$86,MATCH($A27,'HTM 0'!$Y$7:$Y$86,0))} -> #N/A | I27: {=INDEX('HTM 0'!J$7:J$86,MATCH($A27,'HTM 0'!$Y$7:$Y$86,0))} -> #N/A | J27: {=INDEX('HTM 0'!K$7:K$86,MATCH($A27,'HTM 0'!$Y$7:$Y$86,0))} -> #N/A | K27: {=INDEX('HTM 0'!L$7:L$86,MATCH($A27,'HTM 0'!$Y$7:$Y$86,0))} -> #N/A | L27: {=INDEX('HTM 0'!M$7:M$86,MATCH($A27,'HTM 0'!$Y$7:$Y$86,0))} -> #N/A | ... S27: {=INDEX('HTM 0'!T$7:T$86,MATCH($A27,'HTM 0'!$Y$7:$Y$86,0))} -> #N/A | T27: {=INDEX('HTM 0'!V$7:V$86,MATCH($A27,'HTM 0'!$Y$7:$Y$86,0))} -> #N/A | U27: {=INDEX('HTM 0'!$W$7:$W$86,MATCH(A27,'HTM 0'!$Y$7:$Y$86,0))} -> #N/A | V27: {=INDEX('HTM 0'!$Y$7:$Y$86,MATCH(A27,'HTM 0'!$Y$7:$Y$86,0))} -> #N/A | W27: {=INDEX('HTM 0'!$X$7:$X$86,MATCH(A27,'HTM 0'!$Y$7:$Y$86,0))} -> #N/A
A29: HTM 1
E30: artistic | I30: tecnici | N30: Detrazioni di punti | U30: Risultato
A31: Posizionamento | B31: Nome | C31: Cognome | D31: Cane | E31: Team work | F31: Dinamicità | G31: Concetto | H31: Coreografia | I31: Fluidità | J31: Esecuzione | K31: Contenuto | L31: Difficoltà | M31: punti | N31: Abbaio e vocalizzazioni | O31: Salute del cane | P31: costume / Oggetti di scena | Q31: Lunghezze musicali errate | R31: Trattamento improprio del cane | S31: Contatto attivo | T31: Detrazioni di punti | U31: Totale | V31: Posizionamento | W31: punto di passaggio
A32: 1 | B32: {=IFNA(INDEX('HTM 1'!$B$7:$B$86,MATCH(A32,'HTM 1'!$Y$7:$Y$86,0)),"")} -> #NAME? | C32: {=INDEX('HTM 1'!$C$7:$C$86,MATCH(A32,'HTM 1'!$Y$7:$Y$86,0))} -> #N/A | D32: {=INDEX('HTM 1'!$D$7:$D$86,MATCH(A32,'HTM 1'!$Y$7:$Y$86,0))} -> #N/A | E32: {=INDEX('HTM 1'!F$7:F$86,MATCH($A32,'HTM 1'!$Y$7:$Y$86,0))} -> #N/A | F32: {=INDEX('HTM 1'!G$7:G$86,MATCH($A32,'HTM 1'!$Y$7:$Y$86,0))} -> #N/A | G32: {=INDEX('HTM 1'!H$7:H$86,MATCH($A32,'HTM 1'!$Y$7:$Y$86,0))} -> #N/A | H32: {=INDEX('HTM 1'!I$7:I$86,MATCH($A32,'HTM 1'!$Y$7:$Y$86,0))} -> #N/A | I32: {=INDEX('HTM 1'!J$7:J$86,MATCH($A32,'HTM 1'!$Y$7:$Y$86,0))} -> #N/A | J32: {=INDEX('HTM 1'!K$7:K$86,MATCH($A32,'HTM 1'!$Y$7:$Y$86,0))} -> #N/A | K32: {=INDEX('HTM 1'!L$7:L$86,MATCH($A32,'HTM 1'!$Y$7:$Y$86,0))} -> #N/A | L32: {=INDEX('HTM 1'!M$7:M$86,MATCH($A32,'HTM 1'!$Y$7:$Y$86,0))} -> #N/A | ... S32: {=INDEX('HTM 1'!T$7:T$86,MATCH($A32,'HTM 1'!$Y$7:$Y$86,0))} -> #N/A | T32: {=INDEX('HTM 1'!V$7:V$86,MATCH($A32,'HTM 1'!$Y$7:$Y$86,0))} -> #N/A | U32: {=INDEX('HTM 1'!$W$7:$W$86,MATCH(A32,'HTM 1'!$Y$7:$Y$86,0))} -> #N/A | V32: {=INDEX('HTM 1'!$Y$7:$Y$86,MATCH(A32,'HTM 1'!$Y$7:$Y$86,0))} -> #N/A | W32: {=INDEX('HTM 1'!$X$7:$X$86,MATCH(A32,'HTM 1'!$Y$7:$Y$86,0))} -> #N/A
A33: 2 | B33: {=IFNA(INDEX('HTM 1'!$B$7:$B$86,MATCH(A33,'HTM 1'!$Y$7:$Y$86,0)),"")} -> #NAME? | C33: {=INDEX('HTM 1'!$C$7:$C$86,MATCH(A33,'HTM 1'!$Y$7:$Y$86,0))} -> #N/A | D33: {=INDEX('HTM 1'!$D$7:$D$86,MATCH(A33,'HTM 1'!$Y$7:$Y$86,0))} -> #N/A | E33: {=INDEX('HTM 1'!F$7:F$86,MATCH($A33,'HTM 1'!$Y$7:$Y$86,0))} -> #N/A | F33: {=INDEX('HTM 1'!G$7:G$86,MATCH($A33,'HTM 1'!$Y$7:$Y$86,0))} -> #N/A | G33: {=INDEX('HTM 1'!H$7:H$86,MATCH($A33,'HTM 1'!$Y$7:$Y$86,0))} -> #N/A | H33: {=INDEX('HTM 1'!I$7:I$86,MATCH($A33,'HTM 1'!$Y$7:$Y$86,0))} -> #N/A | I33: {=INDEX('HTM 1'!J$7:J$86,MATCH($A33,'HTM 1'!$Y$7:$Y$86,0))} -> #N/A | J33: {=INDEX('HTM 1'!K$7:K$86,MATCH($A33,'HTM 1'!$Y$7:$Y$86,0))} -> #N/A | K33: {=INDEX('HTM 1'!L$7:L$86,MATCH($A33,'HTM 1'!$Y$7:$Y$86,0))} -> #N/A | L33: {=INDEX('HTM 1'!M$7:M$86,MATCH($A33,'HTM 1'!$Y$7:$Y$86,0))} -> #N/A | ... S33: {=INDEX('HTM 1'!T$7:T$86,MATCH($A33,'HTM 1'!$Y$7:$Y$86,0))} -> #N/A | T33: {=INDEX('HTM 1'!V$7:V$86,MATCH($A33,'HTM 1'!$Y$7:$Y$86,0))} -> #N/A | U33: {=INDEX('HTM 1'!$W$7:$W$86,MATCH(A33,'HTM 1'!$Y$7:$Y$86,0))} -> #N/A | V33: {=INDEX('HTM 1'!$Y$7:$Y$86,MATCH(A33,'HTM 1'!$Y$7:$Y$86,0))} -> #N/A | W33: {=INDEX('HTM 1'!$X$7:$X$86,MATCH(A33,'HTM 1'!$Y$7:$Y$86,0))} -> #N/A
A34: 3 | B34: {=IFNA(INDEX('HTM 1'!$B$7:$B$86,MATCH(A34,'HTM 1'!$Y$7:$Y$86,0)),"")} -> #NAME? | C34: {=INDEX('HTM 1'!$C$7:$C$86,MATCH(A34,'HTM 1'!$Y$7:$Y$86,0))} -> #N/A | D34: {=INDEX('HTM 1'!$D$7:$D$86,MATCH(A34,'HTM 1'!$Y$7:$Y$86,0))} -> #N/A | E34: {=INDEX('HTM 1'!F$7:F$86,MATCH($A34,'HTM 1'!$Y$7:$Y$86,0))} -> #N/A | F34: {=INDEX('HTM 1'!G$7:G$86,MATCH($A34,'HTM 1'!$Y$7:$Y$86,0))} -> #N/A | G34: {=INDEX('HTM 1'!H$7:H$86,MATCH($A34,'HTM 1'!$Y$7:$Y$86,0))} -> #N/A | H34: {=INDEX('HTM 1'!I$7:I$86,MATCH($A34,'HTM 1'!$Y$7:$Y$86,0))} -> #N/A | I34: {=INDEX('HTM 1'!J$7:J$86,MATCH($A34,'HTM 1'!$Y$7:$Y$86,0))} -> #N/A | J34: {=INDEX('HTM 1'!K$7:K$86,MATCH($A34,'HTM 1'!$Y$7:$Y$86,0))} -> #N/A | K34: {=INDEX('HTM 1'!L$7:L$86,MATCH($A34,'HTM 1'!$Y$7:$Y$86,0))} -> #N/A | L34: {=INDEX('HTM 1'!M$7:M$86,MATCH($A34,'HTM 1'!$Y$7:$Y$86,0))} -> #N/A | ... S34: {=INDEX('HTM 1'!T$7:T$86,MATCH($A34,'HTM 1'!$Y$7:$Y$86,0))} -> #N/A | T34: {=INDEX('HTM 1'!V$7:V$86,MATCH($A34,'HTM 1'!$Y$7:$Y$86,0))} -> #N/A | U34: {=INDEX('HTM 1'!$W$7:$W$86,MATCH(A34,'HTM 1'!$Y$7:$Y$86,0))} -> #N/A | V34: {=INDEX('HTM 1'!$Y$7:$Y$86,MATCH(A34,'HTM 1'!$Y$7:$Y$86,0))} -> #N/A | W34: {=INDEX('HTM 1'!$X$7:$X$86,MATCH(A34,'HTM 1'!$Y$7:$Y$86,0))} -> #N/A
A35: 4 | B35: {=IFNA(INDEX('HTM 1'!$B$7:$B$86,MATCH(A35,'HTM 1'!$Y$7:$Y$86,0)),"")} -> #NAME? | C35: {=INDEX('HTM 1'!$C$7:$C$86,MATCH(A35,'HTM 1'!$Y$7:$Y$86,0))} -> #N/A | D35: {=INDEX('HTM 1'!$D$7:$D$86,MATCH(A35,'HTM 1'!$Y$7:$Y$86,0))} -> #N/A | E35: {=INDEX('HTM 1'!F$7:F$86,MATCH($A35,'HTM 1'!$Y$7:$Y$86,0))} -> #N/A | F35: {=INDEX('HTM 1'!G$7:G$86,MATCH($A35,'HTM 1'!$Y$7:$Y$86,0))} -> #N/A | G35: {=INDEX('HTM 1'!H$7:H$86,MATCH($A35,'HTM 1'!$Y$7:$Y$86,0))} -> #N/A | H35: {=INDEX('HTM 1'!I$7:I$86,MATCH($A35,'HTM 1'!$Y$7:$Y$86,0))} -> #N/A | I35: {=INDEX('HTM 1'!J$7:J$86,MATCH($A35,'HTM 1'!$Y$7:$Y$86,0))} -> #N/A | J35: {=INDEX('HTM 1'!K$7:K$86,MATCH($A35,'HTM 1'!$Y$7:$Y$86,0))} -> #N/A | K35: {=INDEX('HTM 1'!L$7:L$86,MATCH($A35,'HTM 1'!$Y$7:$Y$86,0))} -> #N/A | L35: {=INDEX('HTM 1'!M$7:M$86,MATCH($A35,'HTM 1'!$Y$7:$Y$86,0))} -> #N/A | ... S35: {=INDEX('HTM 1'!T$7:T$86,MATCH($A35,'HTM 1'!$Y$7:$Y$86,0))} -> #N/A | T35: {=INDEX('HTM 1'!V$7:V$86,MATCH($A35,'HTM 1'!$Y$7:$Y$86,0))} -> #N/A | U35: {=INDEX('HTM 1'!$W$7:$W$86,MATCH(A35,'HTM 1'!$Y$7:$Y$86,0))} -> #N/A | V35: {=INDEX('HTM 1'!$Y$7:$Y$86,MATCH(A35,'HTM 1'!$Y$7:$Y$86,0))} -> #N/A | W35: {=INDEX('HTM 1'!$X$7:$X$86,MATCH(A35,'HTM 1'!$Y$7:$Y$86,0))} -> #N/A
A36: 5 | B36: {=IFNA(INDEX('HTM 1'!$B$7:$B$86,MATCH(A36,'HTM 1'!$Y$7:$Y$86,0)),"")} -> #NAME? | C36: {=INDEX('HTM 1'!$C$7:$C$86,MATCH(A36,'HTM 1'!$Y$7:$Y$86,0))} -> #N/A | D36: {=INDEX('HTM 1'!$D$7:$D$86,MATCH(A36,'HTM 1'!$Y$7:$Y$86,0))} -> #N/A | E36: {=INDEX('HTM 1'!F$7:F$86,MATCH($A36,'HTM 1'!$Y$7:$Y$86,0))} -> #N/A | F36: {=INDEX('HTM 1'!G$7:G$86,MATCH($A36,'HTM 1'!$Y$7:$Y$86,0))} -> #N/A | G36: {=INDEX('HTM 1'!H$7:H$86,MATCH($A36,'HTM 1'!$Y$7:$Y$86,0))} -> #N/A | H36: {=INDEX('HTM 1'!I$7:I$86,MATCH($A36,'HTM 1'!$Y$7:$Y$86,0))} -> #N/A | I36: {=INDEX('HTM 1'!J$7:J$86,MATCH($A36,'HTM 1'!$Y$7:$Y$86,0))} -> #N/A | J36: {=INDEX('HTM 1'!K$7:K$86,MATCH($A36,'HTM 1'!$Y$7:$Y$86,0))} -> #N/A | K36: {=INDEX('HTM 1'!L$7:L$86,MATCH($A36,'HTM 1'!$Y$7:$Y$86,0))} -> #N/A | L36: {=INDEX('HTM 1'!M$7:M$86,MATCH($A36,'HTM 1'!$Y$7:$Y$86,0))} -> #N/A | ... S36: {=INDEX('HTM 1'!T$7:T$86,MATCH($A36,'HTM 1'!$Y$7:$Y$86,0))} -> #N/A | T36: {=INDEX('HTM 1'!V$7:V$86,MATCH($A36,'HTM 1'!$Y$7:$Y$86,0))} -> #N/A | U36: {=INDEX('HTM 1'!$W$7:$W$86,MATCH(A36,'HTM 1'!$Y$7:$Y$86,0))} -> #N/A | V36: {=INDEX('HTM 1'!$Y$7:$Y$86,MATCH(A36,'HTM 1'!$Y$7:$Y$86,0))} -> #N/A | W36: {=INDEX('HTM 1'!$X$7:$X$86,MATCH(A36,'HTM 1'!$Y$7:$Y$86,0))} -> #N/A
A37: 6 | B37: {=IFNA(INDEX('HTM 1'!$B$7:$B$86,MATCH(A37,'HTM 1'!$Y$7:$Y$86,0)),"")} -> #NAME? | C37: {=INDEX('HTM 1'!$C$7:$C$86,MATCH(A37,'HTM 1'!$Y$7:$Y$86,0))} -> #N/A | D37: {=INDEX('HTM 1'!$D$7:$D$86,MATCH(A37,'HTM 1'!$Y$7:$Y$86,0))} -> #N/A | E37: {=INDEX('HTM 1'!F$7:F$86,MATCH($A37,'HTM 1'!$Y$7:$Y$86,0))} -> #N/A | F37: {=INDEX('HTM 1'!G$7:G$86,MATCH($A37,'HTM 1'!$Y$7:$Y$86,0))} -> #N/A | G37: {=INDEX('HTM 1'!H$7:H$86,MATCH($A37,'HTM 1'!$Y$7:$Y$86,0))} -> #N/A | H37: {=INDEX('HTM 1'!I$7:I$86,MATCH($A37,'HTM 1'!$Y$7:$Y$86,0))} -> #N/A | I37: {=INDEX('HTM 1'!J$7:J$86,MATCH($A37,'HTM 1'!$Y$7:$Y$86,0))} -> #N/A | J37: {=INDEX('HTM 1'!K$7:K$86,MATCH($A37,'HTM 1'!$Y$7:$Y$86,0))} -> #N/A | K37: {=INDEX('HTM 1'!L$7:L$86,MATCH($A37,'HTM 1'!$Y$7:$Y$86,0))} -> #N/A | L37: {=INDEX('HTM 1'!M$7:M$86,MATCH($A37,'HTM 1'!$Y$7:$Y$86,0))} -> #N/A | ... S37: {=INDEX('HTM 1'!T$7:T$86,MATCH($A37,'HTM 1'!$Y$7:$Y$86,0))} -> #N/A | T37: {=INDEX('HTM 1'!V$7:V$86,MATCH($A37,'HTM 1'!$Y$7:$Y$86,0))} -> #N/A | U37: {=INDEX('HTM 1'!$W$7:$W$86,MATCH(A37,'HTM 1'!$Y$7:$Y$86,0))} -> #N/A | V37: {=INDEX('HTM 1'!$Y$7:$Y$86,MATCH(A37,'HTM 1'!$Y$7:$Y$86,0))} -> #N/A | W37: {=INDEX('HTM 1'!$X$7:$X$86,MATCH(A37,'HTM 1'!$Y$7:$Y$86,0))} -> #N/A
A38: 7 | B38: {=IFNA(INDEX('HTM 1'!$B$7:$B$86,MATCH(A38,'HTM 1'!$Y$7:$Y$86,0)),"")} -> #NAME? | C38: {=INDEX('HTM 1'!$C$7:$C$86,MATCH(A38,'HTM 1'!$Y$7:$Y$86,0))} -> #N/A | D38: {=INDEX('HTM 1'!$D$7:$D$86,MATCH(A38,'HTM 1'!$Y$7:$Y$86,0))} -> #N/A | E38: {=INDEX('HTM 1'!F$7:F$86,MATCH($A38,'HTM 1'!$Y$7:$Y$86,0))} -> #N/A | F38: {=INDEX('HTM 1'!G$7:G$86,MATCH($A38,'HTM 1'!$Y$7:$Y$86,0))} -> #N/A | G38: {=INDEX('HTM 1'!H$7:H$86,MATCH($A38,'HTM 1'!$Y$7:$Y$86,0))} -> #N/A | H38: {=INDEX('HTM 1'!I$7:I$86,MATCH($A38,'HTM 1'!$Y$7:$Y$86,0))} -> #N/A | I38: {=INDEX('HTM 1'!J$7:J$86,MATCH($A38,'HTM 1'!$Y$7:$Y$86,0))} -> #N/A | J38: {=INDEX('HTM 1'!K$7:K$86,MATCH($A38,'HTM 1'!$Y$7:$Y$86,0))} -> #N/A | K38: {=INDEX('HTM 1'!L$7:L$86,MATCH($A38,'HTM 1'!$Y$7:$Y$86,0))} -> #N/A | L38: {=INDEX('HTM 1'!M$7:M$86,MATCH($A38,'HTM 1'!$Y$7:$Y$86,0))} -> #N/A | ... S38: {=INDEX('HTM 1'!T$7:T$86,MATCH($A38,'HTM 1'!$Y$7:$Y$86,0))} -> #N/A | T38: {=INDEX('HTM 1'!V$7:V$86,MATCH($A38,'HTM 1'!$Y$7:$Y$86,0))} -> #N/A | U38: {=INDEX('HTM 1'!$W$7:$W$86,MATCH(A38,'HTM 1'!$Y$7:$Y$86,0))} -> #N/A | V38: {=INDEX('HTM 1'!$Y$7:$Y$86,MATCH(A38,'HTM 1'!$Y$7:$Y$86,0))} -> #N/A | W38: {=INDEX('HTM 1'!$X$7:$X$86,MATCH(A38,'HTM 1'!$Y$7:$Y$86,0))} -> #N/A
A39: 8 | B39: {=IFNA(INDEX('HTM 1'!$B$7:$B$86,MATCH(A39,'HTM 1'!$Y$7:$Y$86,0)),"")} -> #NAME? | C39: {=INDEX('HTM 1'!$C$7:$C$86,MATCH(A39,'HTM 1'!$Y$7:$Y$86,0))} -> #N/A | D39: {=INDEX('HTM 1'!$D$7:$D$86,MATCH(A39,'HTM 1'!$Y$7:$Y$86,0))} -> #N/A | E39: {=INDEX('HTM 1'!F$7:F$86,MATCH($A39,'HTM 1'!$Y$7:$Y$86,0))} -> #N/A | F39: {=INDEX('HTM 1'!G$7:G$86,MATCH($A39,'HTM 1'!$Y$7:$Y$86,0))} -> #N/A | G39: {=INDEX('HTM 1'!H$7:H$86,MATCH($A39,'HTM 1'!$Y$7:$Y$86,0))} -> #N/A | H39: {=INDEX('HTM 1'!I$7:I$86,MATCH($A39,'HTM 1'!$Y$7:$Y$86,0))} -> #N/A | I39: {=INDEX('HTM 1'!J$7:J$86,MATCH($A39,'HTM 1'!$Y$7:$Y$86,0))} -> #N/A | J39: {=INDEX('HTM 1'!K$7:K$86,MATCH($A39,'HTM 1'!$Y$7:$Y$86,0))} -> #N/A | K39: {=INDEX('HTM 1'!L$7:L$86,MATCH($A39,'HTM 1'!$Y$7:$Y$86,0))} -> #N/A | L39: {=INDEX('HTM 1'!M$7:M$86,MATCH($A39,'HTM 1'!$Y$7:$Y$86,0))} -> #N/A | ... S39: {=INDEX('HTM 1'!T$7:T$86,MATCH($A39,'HTM 1'!$Y$7:$Y$86,0))} -> #N/A | T39: {=INDEX('HTM 1'!V$7:V$86,MATCH($A39,'HTM 1'!$Y$7:$Y$86,0))} -> #N/A | U39: {=INDEX('HTM 1'!$W$7:$W$86,MATCH(A39,'HTM 1'!$Y$7:$Y$86,0))} -> #N/A | V39: {=INDEX('HTM 1'!$Y$7:$Y$86,MATCH(A39,'HTM 1'!$Y$7:$Y$86,0))} -> #N/A | W39: {=INDEX('HTM 1'!$X$7:$X$86,MATCH(A39,'HTM 1'!$Y$7:$Y$86,0))} -> #N/A
A40: 9 | B40: {=IFNA(INDEX('HTM 1'!$B$7:$B$86,MATCH(A40,'HTM 1'!$Y$7:$Y$86,0)),"")} -> #NAME? | C40: {=INDEX('HTM 1'!$C$7:$C$86,MATCH(A40,'HTM 1'!$Y$7:$Y$86,0))} -> #N/A | D40: {=INDEX('HTM 1'!$D$7:$D$86,MATCH(A40,'HTM 1'!$Y$7:$Y$86,0))} -> #N/A | E40: {=INDEX('HTM 1'!F$7:F$86,MATCH($A40,'HTM 1'!$Y$7:$Y$86,0))} -> #N/A | F40: {=INDEX('HTM 1'!G$7:G$86,MATCH($A40,'HTM 1'!$Y$7:$Y$86,0))} -> #N/A | G40: {=INDEX('HTM 1'!H$7:H$86,MATCH($A40,'HTM 1'!$Y$7:$Y$86,0))} -> #N/A | H40: {=INDEX('HTM 1'!I$7:I$86,MATCH($A40,'HTM 1'!$Y$7:$Y$86,0))} -> #N/A | I40: {=INDEX('HTM 1'!J$7:J$86,MATCH($A40,'HTM 1'!$Y$7:$Y$86,0))} -> #N/A | J40: {=INDEX('HTM 1'!K$7:K$86,MATCH($A40,'HTM 1'!$Y$7:$Y$86,0))} -> #N/A | K40: {=INDEX('HTM 1'!L$7:L$86,MATCH($A40,'HTM 1'!$Y$7:$Y$86,0))} -> #N/A | L40: {=INDEX('HTM 1'!M$7:M$86,MATCH($A40,'HTM 1'!$Y$7:$Y$86,0))} -> #N/A | ... S40: {=INDEX('HTM 1'!T$7:T$86,MATCH($A40,'HTM 1'!$Y$7:$Y$86,0))} -> #N/A | T40: {=INDEX('HTM 1'!V$7:V$86,MATCH($A40,'HTM 1'!$Y$7:$Y$86,0))} -> #N/A | U40: {=INDEX('HTM 1'!$W$7:$W$86,MATCH(A40,'HTM 1'!$Y$7:$Y$86,0))} -> #N/A | V40: {=INDEX('HTM 1'!$Y$7:$Y$86,MATCH(A40,'HTM 1'!$Y$7:$Y$86,0))} -> #N/A | W40: {=INDEX('HTM 1'!$X$7:$X$86,MATCH(A40,'HTM 1'!$Y$7:$Y$86,0))} -> #N/A
A41: 10 | B41: {=IFNA(INDEX('HTM 1'!$B$7:$B$86,MATCH(A41,'HTM 1'!$Y$7:$Y$86,0)),"")} -> #NAME? | C41: {=INDEX('HTM 1'!$C$7:$C$86,MATCH(A41,'HTM 1'!$Y$7:$Y$86,0))} -> #N/A | D41: {=INDEX('HTM 1'!$D$7:$D$86,MATCH(A41,'HTM 1'!$Y$7:$Y$86,0))} -> #N/A | E41: {=INDEX('HTM 1'!F$7:F$86,MATCH($A41,'HTM 1'!$Y$7:$Y$86,0))} -> #N/A | F41: {=INDEX('HTM 1'!G$7:G$86,MATCH($A41,'HTM 1'!$Y$7:$Y$86,0))} -> #N/A | G41: {=INDEX('HTM 1'!H$7:H$86,MATCH($A41,'HTM 1'!$Y$7:$Y$86,0))} -> #N/A | H41: {=INDEX('HTM 1'!I$7:I$86,MATCH($A41,'HTM 1'!$Y$7:$Y$86,0))} -> #N/A | I41: {=INDEX('HTM 1'!J$7:J$86,MATCH($A41,'HTM 1'!$Y$7:$Y$86,0))} -> #N/A | J41: {=INDEX('HTM 1'!K$7:K$86,MATCH($A41,'HTM 1'!$Y$7:$Y$86,0))} -> #N/A | K41: {=INDEX('HTM 1'!L$7:L$86,MATCH($A41,'HTM 1'!$Y$7:$Y$86,0))} -> #N/A | L41: {=INDEX('HTM 1'!M$7:M$86,MATCH($A41,'HTM 1'!$Y$7:$Y$86,0))} -> #N/A | ... S41: {=INDEX('HTM 1'!T$7:T$86,MATCH($A41,'HTM 1'!$Y$7:$Y$86,0))} -> #N/A | T41: {=INDEX('HTM 1'!V$7:V$86,MATCH($A41,'HTM 1'!$Y$7:$Y$86,0))} -> #N/A | U41: {=INDEX('HTM 1'!$W$7:$W$86,MATCH(A41,'HTM 1'!$Y$7:$Y$86,0))} -> #N/A | V41: {=INDEX('HTM 1'!$Y$7:$Y$86,MATCH(A41,'HTM 1'!$Y$7:$Y$86,0))} -> #N/A | W41: {=INDEX('HTM 1'!$X$7:$X$86,MATCH(A41,'HTM 1'!$Y$7:$Y$86,0))} -> #N/A
A42: 11 | B42: {=IFNA(INDEX('HTM 1'!$B$7:$B$86,MATCH(A42,'HTM 1'!$Y$7:$Y$86,0)),"")} -> #NAME? | C42: {=INDEX('HTM 1'!$C$7:$C$86,MATCH(A42,'HTM 1'!$Y$7:$Y$86,0))} -> #N/A | D42: {=INDEX('HTM 1'!$D$7:$D$86,MATCH(A42,'HTM 1'!$Y$7:$Y$86,0))} -> #N/A | E42: {=INDEX('HTM 1'!F$7:F$86,MATCH($A42,'HTM 1'!$Y$7:$Y$86,0))} -> #N/A | F42: {=INDEX('HTM 1'!G$7:G$86,MATCH($A42,'HTM 1'!$Y$7:$Y$86,0))} -> #N/A | G42: {=INDEX('HTM 1'!H$7:H$86,MATCH($A42,'HTM 1'!$Y$7:$Y$86,0))} -> #N/A | H42: {=INDEX('HTM 1'!I$7:I$86,MATCH($A42,'HTM 1'!$Y$7:$Y$86,0))} -> #N/A | I42: {=INDEX('HTM 1'!J$7:J$86,MATCH($A42,'HTM 1'!$Y$7:$Y$86,0))} -> #N/A | J42: {=INDEX('HTM 1'!K$7:K$86,MATCH($A42,'HTM 1'!$Y$7:$Y$86,0))} -> #N/A | K42: {=INDEX('HTM 1'!L$7:L$86,MATCH($A42,'HTM 1'!$Y$7:$Y$86,0))} -> #N/A | L42: {=INDEX('HTM 1'!M$7:M$86,MATCH($A42,'HTM 1'!$Y$7:$Y$86,0))} -> #N/A | ... S42: {=INDEX('HTM 1'!T$7:T$86,MATCH($A42,'HTM 1'!$Y$7:$Y$86,0))} -> #N/A | T42: {=INDEX('HTM 1'!V$7:V$86,MATCH($A42,'HTM 1'!$Y$7:$Y$86,0))} -> #N/A | U42: {=INDEX('HTM 1'!$W$7:$W$86,MATCH(A42,'HTM 1'!$Y$7:$Y$86,0))} -> #N/A | V42: {=INDEX('HTM 1'!$Y$7:$Y$86,MATCH(A42,'HTM 1'!$Y$7:$Y$86,0))} -> #N/A | W42: {=INDEX('HTM 1'!$X$7:$X$86,MATCH(A42,'HTM 1'!$Y$7:$Y$86,0))} -> #N/A
A43: 12 | B43: {=IFNA(INDEX('HTM 1'!$B$7:$B$86,MATCH(A43,'HTM 1'!$Y$7:$Y$86,0)),"")} -> #NAME? | C43: {=INDEX('HTM 1'!$C$7:$C$86,MATCH(A43,'HTM 1'!$Y$7:$Y$86,0))} -> #N/A | D43: {=INDEX('HTM 1'!$D$7:$D$86,MATCH(A43,'HTM 1'!$Y$7:$Y$86,0))} -> #N/A | E43: {=INDEX('HTM 1'!F$7:F$86,MATCH($A43,'HTM 1'!$Y$7:$Y$86,0))} -> #N/A | F43: {=INDEX('HTM 1'!G$7:G$86,MATCH($A43,'HTM 1'!$Y$7:$Y$86,0))} -> #N/A | G43: {=INDEX('HTM 1'!H$7:H$86,MATCH($A43,'HTM 1'!$Y$7:$Y$86,0))} -> #N/A | H43: {=INDEX('HTM 1'!I$7:I$86,MATCH($A43,'HTM 1'!$Y$7:$Y$86,0))} -> #N/A | I43: {=INDEX('HTM 1'!J$7:J$86,MATCH($A43,'HTM 1'!$Y$7:$Y$86,0))} -> #N/A | J43: {=INDEX('HTM 1'!K$7:K$86,MATCH($A43,'HTM 1'!$Y$7:$Y$86,0))} -> #N/A | K43: {=INDEX('HTM 1'!L$7:L$86,MATCH($A43,'HTM 1'!$Y$7:$Y$86,0))} -> #N/A | L43: {=INDEX('HTM 1'!M$7:M$86,MATCH($A43,'HTM 1'!$Y$7:$Y$86,0))} -> #N/A | ... S43: {=INDEX('HTM 1'!T$7:T$86,MATCH($A43,'HTM 1'!$Y$7:$Y$86,0))} -> #N/A | T43: {=INDEX('HTM 1'!V$7:V$86,MATCH($A43,'HTM 1'!$Y$7:$Y$86,0))} -> #N/A | U43: {=INDEX('HTM 1'!$W$7:$W$86,MATCH(A43,'HTM 1'!$Y$7:$Y$86,0))} -> #N/A | V43: {=INDEX('HTM 1'!$Y$7:$Y$86,MATCH(A43,'HTM 1'!$Y$7:$Y$86,0))} -> #N/A | W43: {=INDEX('HTM 1'!$X$7:$X$86,MATCH(A43,'HTM 1'!$Y$7:$Y$86,0))} -> #N/A
... A51: 20 | B51: {=IFNA(INDEX('HTM 1'!$B$7:$B$86,MATCH(A51,'HTM 1'!$Y$7:$Y$86,0)),"")} -> #NAME? | C51: {=INDEX('HTM 1'!$C$7:$C$86,MATCH(A51,'HTM 1'!$Y$7:$Y$86,0))} -> #N/A | D51: {=INDEX('HTM 1'!$D$7:$D$86,MATCH(A51,'HTM 1'!$Y$7:$Y$86,0))} -> #N/A | E51: {=INDEX('HTM 1'!F$7:F$86,MATCH($A51,'HTM 1'!$Y$7:$Y$86,0))} -> #N/A | F51: {=INDEX('HTM 1'!G$7:G$86,MATCH($A51,'HTM 1'!$Y$7:$Y$86,0))} -> #N/A | G51: {=INDEX('HTM 1'!H$7:H$86,MATCH($A51,'HTM 1'!$Y$7:$Y$86,0))} -> #N/A | H51: {=INDEX('HTM 1'!I$7:I$86,MATCH($A51,'HTM 1'!$Y$7:$Y$86,0))} -> #N/A | I51: {=INDEX('HTM 1'!J$7:J$86,MATCH($A51,'HTM 1'!$Y$7:$Y$86,0))} -> #N/A | J51: {=INDEX('HTM 1'!K$7:K$86,MATCH($A51,'HTM 1'!$Y$7:$Y$86,0))} -> #N/A | K51: {=INDEX('HTM 1'!L$7:L$86,MATCH($A51,'HTM 1'!$Y$7:$Y$86,0))} -> #N/A | L51: {=INDEX('HTM 1'!M$7:M$86,MATCH($A51,'HTM 1'!$Y$7:$Y$86,0))} -> #N/A | ... S51: {=INDEX('HTM 1'!T$7:T$86,MATCH($A51,'HTM 1'!$Y$7:$Y$86,0))} -> #N/A | T51: {=INDEX('HTM 1'!V$7:V$86,MATCH($A51,'HTM 1'!$Y$7:$Y$86,0))} -> #N/A | U51: {=INDEX('HTM 1'!$W$7:$W$86,MATCH(A51,'HTM 1'!$Y$7:$Y$86,0))} -> #N/A | V51: {=INDEX('HTM 1'!$Y$7:$Y$86,MATCH(A51,'HTM 1'!$Y$7:$Y$86,0))} -> #N/A | W51: {=INDEX('HTM 1'!$X$7:$X$86,MATCH(A51,'HTM 1'!$Y$7:$Y$86,0))} -> #N/A
A53: HTM 2
E54: artistic | I54: tecnici | N54: Detrazioni di punti | U54: Risultato
A55: Posizionamento | B55: Nome | C55: Cognome | D55: Cane | E55: Team work | F55: Dinamicità | G55: Concetto | H55: Coreografia | I55: Fluidità | J55: Esecuzione | K55: Contenuto | L55: Difficoltà | M55: punti | N55: Abbaio e vocalizzazioni | O55: Salute del cane | P55: costume / Oggetti di scena | Q55: Lunghezze musicali errate | R55: Trattamento improprio del cane | S55: Contatto attivo | T55: Detrazioni di punti | U55: Totale | V55: Posizionamento | W55: punto di passaggio
A56: 1 | B56: {=IFNA(INDEX('HTM 2'!$B$7:$B$86,MATCH(A56,'HTM 2'!$Y$7:$Y$86,0)),"")} -> #NAME? | C56: {=INDEX('HTM 2'!$C$7:$C$86,MATCH(A56,'HTM 2'!$Y$7:$Y$86,0))} -> FARAONI | D56: {=INDEX('HTM 2'!$D$7:$D$86,MATCH(A56,'HTM 2'!$Y$7:$Y$86,0))} -> DREAM | E56: {=INDEX('HTM 2'!F$7:F$86,MATCH($A56,'HTM 2'!$Y$7:$Y$86,0))} -> 20 | F56: {=INDEX('HTM 2'!G$7:G$86,MATCH($A56,'HTM 2'!$Y$7:$Y$86,0))} -> 18.5 | G56: {=INDEX('HTM 2'!H$7:H$86,MATCH($A56,'HTM 2'!$Y$7:$Y$86,0))} -> 20 | H56: {=INDEX('HTM 2'!I$7:I$86,MATCH($A56,'HTM 2'!$Y$7:$Y$86,0))} -> 20.5 | I56: {=INDEX('HTM 2'!J$7:J$86,MATCH($A56,'HTM 2'!$Y$7:$Y$86,0))} -> 18 | J56: {=INDEX('HTM 2'!K$7:K$86,MATCH($A56,'HTM 2'!$Y$7:$Y$86,0))} -> 18 | K56: {=INDEX('HTM 2'!L$7:L$86,MATCH($A56,'HTM 2'!$Y$7:$Y$86,0))} -> 19 | L56: {=INDEX('HTM 2'!M$7:M$86,MATCH($A56,'HTM 2'!$Y$7:$Y$86,0))} -> 18.5 | ... S56: {=INDEX('HTM 2'!T$7:T$86,MATCH($A56,'HTM 2'!$Y$7:$Y$86,0))} -> 0 | T56: {=INDEX('HTM 2'!V$7:V$86,MATCH($A56,'HTM 2'!$Y$7:$Y$86,0))} -> 0 | U56: {=INDEX('HTM 2'!$W$7:$W$86,MATCH(A56,'HTM 2'!$Y$7:$Y$86,0))} -> 152.5 | V56: {=INDEX('HTM 2'!$Y$7:$Y$86,MATCH(A56,'HTM 2'!$Y$7:$Y$86,0))} -> 1 | W56: {=INDEX('HTM 2'!$X$7:$X$86,MATCH(A56,'HTM 2'!$Y$7:$Y$86,0))} -> Si
A57: 2 | B57: {=IFNA(INDEX('HTM 2'!$B$7:$B$86,MATCH(A57,'HTM 2'!$Y$7:$Y$86,0)),"")} -> #NAME? | C57: {=INDEX('HTM 2'!$C$7:$C$86,MATCH(A57,'HTM 2'!$Y$7:$Y$86,0))} -> NEGRO | D57: {=INDEX('HTM 2'!$D$7:$D$86,MATCH(A57,'HTM 2'!$Y$7:$Y$86,0))} -> REDHONEY MADAME | E57: {=INDEX('HTM 2'!F$7:F$86,MATCH($A57,'HTM 2'!$Y$7:$Y$86,0))} -> 18 | F57: {=INDEX('HTM 2'!G$7:G$86,MATCH($A57,'HTM 2'!$Y$7:$Y$86,0))} -> 18.5 | G57: {=INDEX('HTM 2'!H$7:H$86,MATCH($A57,'HTM 2'!$Y$7:$Y$86,0))} -> 20 | H57: {=INDEX('HTM 2'!I$7:I$86,MATCH($A57,'HTM 2'!$Y$7:$Y$86,0))} -> 20 | I57: {=INDEX('HTM 2'!J$7:J$86,MATCH($A57,'HTM 2'!$Y$7:$Y$86,0))} -> 16.5 | J57: {=INDEX('HTM 2'!K$7:K$86,MATCH($A57,'HTM 2'!$Y$7:$Y$86,0))} -> 17 | K57: {=INDEX('HTM 2'!L$7:L$86,MATCH($A57,'HTM 2'!$Y$7:$Y$86,0))} -> 20.5 | L57: {=INDEX('HTM 2'!M$7:M$86,MATCH($A57,'HTM 2'!$Y$7:$Y$86,0))} -> 21 | ... S57: {=INDEX('HTM 2'!T$7:T$86,MATCH($A57,'HTM 2'!$Y$7:$Y$86,0))} -> 0 | T57: {=INDEX('HTM 2'!V$7:V$86,MATCH($A57,'HTM 2'!$Y$7:$Y$86,0))} -> 0 | U57: {=INDEX('HTM 2'!$W$7:$W$86,MATCH(A57,'HTM 2'!$Y$7:$Y$86,0))} -> 151.5 | V57: {=INDEX('HTM 2'!$Y$7:$Y$86,MATCH(A57,'HTM 2'!$Y$7:$Y$86,0))} -> 2 | W57: {=INDEX('HTM 2'!$X$7:$X$86,MATCH(A57,'HTM 2'!$Y$7:$Y$86,0))} -> Si
A58: 3 | B58: {=IFNA(INDEX('HTM 2'!$B$7:$B$86,MATCH(A58,'HTM 2'!$Y$7:$Y$86,0)),"")} -> #NAME? | C58: {=INDEX('HTM 2'!$C$7:$C$86,MATCH(A58,'HTM 2'!$Y$7:$Y$86,0))} -> #N/A | D58: {=INDEX('HTM 2'!$D$7:$D$86,MATCH(A58,'HTM 2'!$Y$7:$Y$86,0))} -> #N/A | E58: {=INDEX('HTM 2'!F$7:F$86,MATCH($A58,'HTM 2'!$Y$7:$Y$86,0))} -> #N/A | F58: {=INDEX('HTM 2'!G$7:G$86,MATCH($A58,'HTM 2'!$Y$7:$Y$86,0))} -> #N/A | G58: {=INDEX('HTM 2'!H$7:H$86,MATCH($A58,'HTM 2'!$Y$7:$Y$86,0))} -> #N/A | H58: {=INDEX('HTM 2'!I$7:I$86,MATCH($A58,'HTM 2'!$Y$7:$Y$86,0))} -> #N/A | I58: {=INDEX('HTM 2'!J$7:J$86,MATCH($A58,'HTM 2'!$Y$7:$Y$86,0))} -> #N/A | J58: {=INDEX('HTM 2'!K$7:K$86,MATCH($A58,'HTM 2'!$Y$7:$Y$86,0))} -> #N/A | K58: {=INDEX('HTM 2'!L$7:L$86,MATCH($A58,'HTM 2'!$Y$7:$Y$86,0))} -> #N/A | L58: {=INDEX('HTM 2'!M$7:M$86,MATCH($A58,'HTM 2'!$Y$7:$Y$86,0))} -> #N/A | ... S58: {=INDEX('HTM 2'!T$7:T$86,MATCH($A58,'HTM 2'!$Y$7:$Y$86,0))} -> #N/A | T58: {=INDEX('HTM 2'!V$7:V$86,MATCH($A58,'HTM 2'!$Y$7:$Y$86,0))} -> #N/A | U58: {=INDEX('HTM 2'!$W$7:$W$86,MATCH(A58,'HTM 2'!$Y$7:$Y$86,0))} -> #N/A | V58: {=INDEX('HTM 2'!$Y$7:$Y$86,MATCH(A58,'HTM 2'!$Y$7:$Y$86,0))} -> #N/A | W58: {=INDEX('HTM 2'!$X$7:$X$86,MATCH(A58,'HTM 2'!$Y$7:$Y$86,0))} -> #N/A
A59: 4 | B59: {=IFNA(INDEX('HTM 2'!$B$7:$B$86,MATCH(A59,'HTM 2'!$Y$7:$Y$86,0)),"")} -> #NAME? | C59: {=INDEX('HTM 2'!$C$7:$C$86,MATCH(A59,'HTM 2'!$Y$7:$Y$86,0))} -> #N/A | D59: {=INDEX('HTM 2'!$D$7:$D$86,MATCH(A59,'HTM 2'!$Y$7:$Y$86,0))} -> #N/A | E59: {=INDEX('HTM 2'!F$7:F$86,MATCH($A59,'HTM 2'!$Y$7:$Y$86,0))} -> #N/A | F59: {=INDEX('HTM 2'!G$7:G$86,MATCH($A59,'HTM 2'!$Y$7:$Y$86,0))} -> #N/A | G59: {=INDEX('HTM 2'!H$7:H$86,MATCH($A59,'HTM 2'!$Y$7:$Y$86,0))} -> #N/A | H59: {=INDEX('HTM 2'!I$7:I$86,MATCH($A59,'HTM 2'!$Y$7:$Y$86,0))} -> #N/A | I59: {=INDEX('HTM 2'!J$7:J$86,MATCH($A59,'HTM 2'!$Y$7:$Y$86,0))} -> #N/A | J59: {=INDEX('HTM 2'!K$7:K$86,MATCH($A59,'HTM 2'!$Y$7:$Y$86,0))} -> #N/A | K59: {=INDEX('HTM 2'!L$7:L$86,MATCH($A59,'HTM 2'!$Y$7:$Y$86,0))} -> #N/A | L59: {=INDEX('HTM 2'!M$7:M$86,MATCH($A59,'HTM 2'!$Y$7:$Y$86,0))} -> #N/A | ... S59: {=INDEX('HTM 2'!T$7:T$86,MATCH($A59,'HTM 2'!$Y$7:$Y$86,0))} -> #N/A | T59: {=INDEX('HTM 2'!V$7:V$86,MATCH($A59,'HTM 2'!$Y$7:$Y$86,0))} -> #N/A | U59: {=INDEX('HTM 2'!$W$7:$W$86,MATCH(A59,'HTM 2'!$Y$7:$Y$86,0))} -> #N/A | V59: {=INDEX('HTM 2'!$Y$7:$Y$86,MATCH(A59,'HTM 2'!$Y$7:$Y$86,0))} -> #N/A | W59: {=INDEX('HTM 2'!$X$7:$X$86,MATCH(A59,'HTM 2'!$Y$7:$Y$86,0))} -> #N/A
A60: 5 | B60: {=IFNA(INDEX('HTM 2'!$B$7:$B$86,MATCH(A60,'HTM 2'!$Y$7:$Y$86,0)),"")} -> #NAME? | C60: {=INDEX('HTM 2'!$C$7:$C$86,MATCH(A60,'HTM 2'!$Y$7:$Y$86,0))} -> #N/A | D60: {=INDEX('HTM 2'!$D$7:$D$86,MATCH(A60,'HTM 2'!$Y$7:$Y$86,0))} -> #N/A | E60: {=INDEX('HTM 2'!F$7:F$86,MATCH($A60,'HTM 2'!$Y$7:$Y$86,0))} -> #N/A | F60: {=INDEX('HTM 2'!G$7:G$86,MATCH($A60,'HTM 2'!$Y$7:$Y$86,0))} -> #N/A | G60: {=INDEX('HTM 2'!H$7:H$86,MATCH($A60,'HTM 2'!$Y$7:$Y$86,0))} -> #N/A | H60: {=INDEX('HTM 2'!I$7:I$86,MATCH($A60,'HTM 2'!$Y$7:$Y$86,0))} -> #N/A | I60: {=INDEX('HTM 2'!J$7:J$86,MATCH($A60,'HTM 2'!$Y$7:$Y$86,0))} -> #N/A | J60: {=INDEX('HTM 2'!K$7:K$86,MATCH($A60,'HTM 2'!$Y$7:$Y$86,0))} -> #N/A | K60: {=INDEX('HTM 2'!L$7:L$86,MATCH($A60,'HTM 2'!$Y$7:$Y$86,0))} -> #N/A | L60: {=INDEX('HTM 2'!M$7:M$86,MATCH($A60,'HTM 2'!$Y$7:$Y$86,0))} -> #N/A | ... S60: {=INDEX('HTM 2'!T$7:T$86,MATCH($A60,'HTM 2'!$Y$7:$Y$86,0))} -> #N/A | T60: {=INDEX('HTM 2'!V$7:V$86,MATCH($A60,'HTM 2'!$Y$7:$Y$86,0))} -> #N/A | U60: {=INDEX('HTM 2'!$W$7:$W$86,MATCH(A60,'HTM 2'!$Y$7:$Y$86,0))} -> #N/A | V60: {=INDEX('HTM 2'!$Y$7:$Y$86,MATCH(A60,'HTM 2'!$Y$7:$Y$86,0))} -> #N/A | W60: {=INDEX('HTM 2'!$X$7:$X$86,MATCH(A60,'HTM 2'!$Y$7:$Y$86,0))} -> #N/A
A61: 6 | B61: {=IFNA(INDEX('HTM 2'!$B$7:$B$86,MATCH(A61,'HTM 2'!$Y$7:$Y$86,0)),"")} -> #NAME? | C61: {=INDEX('HTM 2'!$C$7:$C$86,MATCH(A61,'HTM 2'!$Y$7:$Y$86,0))} -> #N/A | D61: {=INDEX('HTM 2'!$D$7:$D$86,MATCH(A61,'HTM 2'!$Y$7:$Y$86,0))} -> #N/A | E61: {=INDEX('HTM 2'!F$7:F$86,MATCH($A61,'HTM 2'!$Y$7:$Y$86,0))} -> #N/A | F61: {=INDEX('HTM 2'!G$7:G$86,MATCH($A61,'HTM 2'!$Y$7:$Y$86,0))} -> #N/A | G61: {=INDEX('HTM 2'!H$7:H$86,MATCH($A61,'HTM 2'!$Y$7:$Y$86,0))} -> #N/A | H61: {=INDEX('HTM 2'!I$7:I$86,MATCH($A61,'HTM 2'!$Y$7:$Y$86,0))} -> #N/A | I61: {=INDEX('HTM 2'!J$7:J$86,MATCH($A61,'HTM 2'!$Y$7:$Y$86,0))} -> #N/A | J61: {=INDEX('HTM 2'!K$7:K$86,MATCH($A61,'HTM 2'!$Y$7:$Y$86,0))} -> #N/A | K61: {=INDEX('HTM 2'!L$7:L$86,MATCH($A61,'HTM 2'!$Y$7:$Y$86,0))} -> #N/A | L61: {=INDEX('HTM 2'!M$7:M$86,MATCH($A61,'HTM 2'!$Y$7:$Y$86,0))} -> #N/A | ... S61: {=INDEX('HTM 2'!T$7:T$86,MATCH($A61,'HTM 2'!$Y$7:$Y$86,0))} -> #N/A | T61: {=INDEX('HTM 2'!V$7:V$86,MATCH($A61,'HTM 2'!$Y$7:$Y$86,0))} -> #N/A | U61: {=INDEX('HTM 2'!$W$7:$W$86,MATCH(A61,'HTM 2'!$Y$7:$Y$86,0))} -> #N/A | V61: {=INDEX('HTM 2'!$Y$7:$Y$86,MATCH(A61,'HTM 2'!$Y$7:$Y$86,0))} -> #N/A | W61: {=INDEX('HTM 2'!$X$7:$X$86,MATCH(A61,'HTM 2'!$Y$7:$Y$86,0))} -> #N/A
A62: 7 | B62: {=IFNA(INDEX('HTM 2'!$B$7:$B$86,MATCH(A62,'HTM 2'!$Y$7:$Y$86,0)),"")} -> #NAME? | C62: {=INDEX('HTM 2'!$C$7:$C$86,MATCH(A62,'HTM 2'!$Y$7:$Y$86,0))} -> #N/A | D62: {=INDEX('HTM 2'!$D$7:$D$86,MATCH(A62,'HTM 2'!$Y$7:$Y$86,0))} -> #N/A | E62: {=INDEX('HTM 2'!F$7:F$86,MATCH($A62,'HTM 2'!$Y$7:$Y$86,0))} -> #N/A | F62: {=INDEX('HTM 2'!G$7:G$86,MATCH($A62,'HTM 2'!$Y$7:$Y$86,0))} -> #N/A | G62: {=INDEX('HTM 2'!H$7:H$86,MATCH($A62,'HTM 2'!$Y$7:$Y$86,0))} -> #N/A | H62: {=INDEX('HTM 2'!I$7:I$86,MATCH($A62,'HTM 2'!$Y$7:$Y$86,0))} -> #N/A | I62: {=INDEX('HTM 2'!J$7:J$86,MATCH($A62,'HTM 2'!$Y$7:$Y$86,0))} -> #N/A | J62: {=INDEX('HTM 2'!K$7:K$86,MATCH($A62,'HTM 2'!$Y$7:$Y$86,0))} -> #N/A | K62: {=INDEX('HTM 2'!L$7:L$86,MATCH($A62,'HTM 2'!$Y$7:$Y$86,0))} -> #N/A | L62: {=INDEX('HTM 2'!M$7:M$86,MATCH($A62,'HTM 2'!$Y$7:$Y$86,0))} -> #N/A | ... S62: {=INDEX('HTM 2'!T$7:T$86,MATCH($A62,'HTM 2'!$Y$7:$Y$86,0))} -> #N/A | T62: {=INDEX('HTM 2'!V$7:V$86,MATCH($A62,'HTM 2'!$Y$7:$Y$86,0))} -> #N/A | U62: {=INDEX('HTM 2'!$W$7:$W$86,MATCH(A62,'HTM 2'!$Y$7:$Y$86,0))} -> #N/A | V62: {=INDEX('HTM 2'!$Y$7:$Y$86,MATCH(A62,'HTM 2'!$Y$7:$Y$86,0))} -> #N/A | W62: {=INDEX('HTM 2'!$X$7:$X$86,MATCH(A62,'HTM 2'!$Y$7:$Y$86,0))} -> #N/A
A63: 8 | B63: {=IFNA(INDEX('HTM 2'!$B$7:$B$86,MATCH(A63,'HTM 2'!$Y$7:$Y$86,0)),"")} -> #NAME? | C63: {=INDEX('HTM 2'!$C$7:$C$86,MATCH(A63,'HTM 2'!$Y$7:$Y$86,0))} -> #N/A | D63: {=INDEX('HTM 2'!$D$7:$D$86,MATCH(A63,'HTM 2'!$Y$7:$Y$86,0))} -> #N/A | E63: {=INDEX('HTM 2'!F$7:F$86,MATCH($A63,'HTM 2'!$Y$7:$Y$86,0))} -> #N/A | F63: {=INDEX('HTM 2'!G$7:G$86,MATCH($A63,'HTM 2'!$Y$7:$Y$86,0))} -> #N/A | G63: {=INDEX('HTM 2'!H$7:H$86,MATCH($A63,'HTM 2'!$Y$7:$Y$86,0))} -> #N/A | H63: {=INDEX('HTM 2'!I$7:I$86,MATCH($A63,'HTM 2'!$Y$7:$Y$86,0))} -> #N/A | I63: {=INDEX('HTM 2'!J$7:J$86,MATCH($A63,'HTM 2'!$Y$7:$Y$86,0))} -> #N/A | J63: {=INDEX('HTM 2'!K$7:K$86,MATCH($A63,'HTM 2'!$Y$7:$Y$86,0))} -> #N/A | K63: {=INDEX('HTM 2'!L$7:L$86,MATCH($A63,'HTM 2'!$Y$7:$Y$86,0))} -> #N/A | L63: {=INDEX('HTM 2'!M$7:M$86,MATCH($A63,'HTM 2'!$Y$7:$Y$86,0))} -> #N/A | ... S63: {=INDEX('HTM 2'!T$7:T$86,MATCH($A63,'HTM 2'!$Y$7:$Y$86,0))} -> #N/A | T63: {=INDEX('HTM 2'!V$7:V$86,MATCH($A63,'HTM 2'!$Y$7:$Y$86,0))} -> #N/A | U63: {=INDEX('HTM 2'!$W$7:$W$86,MATCH(A63,'HTM 2'!$Y$7:$Y$86,0))} -> #N/A | V63: {=INDEX('HTM 2'!$Y$7:$Y$86,MATCH(A63,'HTM 2'!$Y$7:$Y$86,0))} -> #N/A | W63: {=INDEX('HTM 2'!$X$7:$X$86,MATCH(A63,'HTM 2'!$Y$7:$Y$86,0))} -> #N/A
