Workbook

Sheet List of Competitors
B1: Torneo / Luogo | C1: Data
B2: NARNI (TR) | C2: 03/05/2026
A4: # | B4: Classi | C4: Nome | D4: Cognome | E4: Cane | G4: # | H4: Classi | I4: Nome | J4: Cognome | K4: Cane | M4: # | N4: Classi | O4: Nome | P4: Cognome | Q4: Cane | S4: # | T4: Classi | U4: Nome | V4: Cognome | W4: Cane
A5: 1 | B5: HTM 0 | C5: DANIELA | D5: MORSIANI | E5: KORI | G5: 1 | H5: HTM 1 | M5: 1 | N5: HTM 2 | O5: EVA LISA | P5: NEGRO | Q5: REDHONEY MADAME | S5: 1 | T5: HTM 3
A6: 2 | B6: HTM 0 | G6: 2 | H6: HTM 1 | M6: 2 | N6: HTM 2 | O6: LAURA | P6: FARAONI | Q6: DREAM | S6: 2 | T6: HTM 3
A7: 3 | B7: HTM 0 | G7: 3 | H7: HTM 1 | M7: 3 | N7: HTM 2 | S7: 3 | T7: HTM 3
A8: 4 | B8: HTM 0 | G8: 4 | H8: HTM 1 | M8: 4 | N8: HTM 2 | S8: 4 | T8: HTM 3
A9: 5 | B9: HTM 0 | G9: 5 | H9: HTM 1 | M9: 5 | N9: HTM 2 | S9: 5 | T9: HTM 3
A10: 6 | B10: HTM 0 | G10: 6 | H10: HTM 1 | M10: 6 | N10: HTM 2 | S10: 6 | T10: HTM 3
A11: 7 | B11: HTM 0 | G11: 7 | H11: HTM 1 | M11: 7 | N11: HTM 2 | S11: 7 | T11: HTM 3
A12: 8 | B12: HTM 0 | G12: 8 | H12: HTM 1 | M12: 8 | N12: HTM 2 | S12: 8 | T12: HTM 3
A13: 9 | B13: HTM 0 | G13: 9 | H13: HTM 1 | M13: 9 | N13: HTM 2 | S13: 9 | T13: HTM 3
A14: 10 | B14: HTM 0 | G14: 10 | H14: HTM 1 | M14: 10 | N14: HTM 2 | S14: 10 | T14: HTM 3
A15: 11 | B15: HTM 0 | G15: 11 | H15: HTM 1 | M15: 11 | N15: HTM 2 | S15: 11 | T15: HTM 3
A16: 12 | B16: HTM 0 | G16: 12 | H16: HTM 1 | M16: 12 | N16: HTM 2 | S16: 12 | T16: HTM 3
A17: 13 | B17: HTM 0 | G17: 13 | H17: HTM 1 | M17: 13 | N17: HTM 2 | S17: 13 | T17: HTM 3
A18: 14 | B18: HTM 0 | G18: 14 | H18: HTM 1 | M18: 14 | N18: HTM 2 | S18: 14 | T18: HTM 3
... A24: 20 | B24: HTM 0 | G24: 20 | H24: HTM 1 | M24: 20 | N24: HTM 2 | S24: 20 | T24: HTM 3
A26: # | B26: Classi | C26: Nome | D26: Cognome | E26: Cane | G26: # | H26: Classi | I26: Nome | J26: Cognome | K26: Cane | M26: # | N26: Classi | O26: Nome | P26: Cognome | Q26: Cane | S26: # | T26: Classi | U26: Nome | V26: Cognome | W26: Cane
A27: 1 | B27: FS 0 | C27: ALESSIA | D27: GIANNINI | E27: BAGHEERA | G27: 1 | H27: FS 1 | I27: RITA | J27: ALTIGIERI | K27: LORD BYRON | M27: 1 | N27: FS 2 | O27: BARBARA | P27: GERMANI | Q27: ZERO | S27: 1 | T27: FS 3
A28: 2 | B28: FS 0 | C28: ILARIA | D28: GUGLIELMAN | E28: BLU | G28: 2 | H28: FS 1 | I28: RACHELE | J28: TULLI | K28: MELODY | M28: 2 | N28: FS 2 | O28: LAURA | P28: FARAONI | Q28: DREM | S28: 2 | T28: FS 3
A29: 3 | B29: FS 0 | C29: BARBARA | D29: CASTELLI | E29: VIOLETTA | G29: 3 | H29: FS 1 | M29: 3 | N29: FS 2 | O29: BARBARA | P29: CASTELLI | Q29: DELIZIA | S29: 3 | T29: FS 3
A30: 4 | B30: FS 0 | G30: 4 | H30: FS 1 | M30: 4 | N30: FS 2 | S30: 4 | T30: FS 3
A31: 5 | B31: FS 0 | G31: 5 | H31: FS 1 | M31: 5 | N31: FS 2 | S31: 5 | T31: FS 3
A32: 6 | B32: FS 0 | G32: 6 | H32: FS 1 | M32: 6 | N32: FS 2 | S32: 6 | T32: FS 3
A33: 7 | B33: FS 0 | G33: 7 | H33: FS 1 | M33: 7 | N33: FS 2 | S33: 7 | T33: FS 3
A34: 8 | B34: FS 0 | G34: 8 | H34: FS 1 | M34: 8 | N34: FS 2 | S34: 8 | T34: FS 3
A35: 9 | B35: FS 0 | G35: 9 | H35: FS 1 | M35: 9 | N35: FS 2 | S35: 9 | T35: FS 3
A36: 10 | B36: FS 0 | G36: 10 | H36: FS 1 | M36: 10 | N36: FS 2 | S36: 10 | T36: FS 3
A37: 11 | B37: FS 0 | G37: 11 | H37: FS 1 | M37: 11 | N37: FS 2 | S37: 11 | T37: FS 3
A38: 12 | B38: FS 0 | G38: 12 | H38: FS 1 | M38: 12 | N38: FS 2 | S38: 12 | T38: FS 3
A39: 13 | B39: FS 0 | G39: 13 | H39: FS 1 | M39: 13 | N39: FS 2 | S39: 13 | T39: FS 3
A40: 14 | B40: FS 0 | G40: 14 | H40: FS 1 | M40: 14 | N40: FS 2 | S40: 14 | T40: FS 3
A41: 15 | B41: FS 0 | G41: 15 | H41: FS 1 | M41: 15 | N41: FS 2 | S41: 15 | T41: FS 3
... A46: 20 | B46: FS 0 | G46: 20 | H46: FS 1 | M46: 20 | N46: FS 2 | S46: 20 | T46: FS 3
A48: # | B48: Classi | C48: Nome | D48: Cognome | E48: Cane | G48: # | H48: Classi | I48: Nome | J48: Cognome | K48: Cane | M48: # | N48: Classi | O48: Nome | P48: Cognome | Q48: Cane | S48: # | T48: Classi | U48: Nome | V48: Cognome | W48: Cane
A49: 1 | B49: Senioren Handicap | G49: 1 | H49: Trio | M49: 1 | N49: Quartett | S49: 1 | T49: Junior
A50: 2 | B50: Senioren Handicap | G50: 2 | H50: Trio | M50: 2 | N50: Quartett | S50: 2 | T50: Junior
A51: 3 | B51: Senioren Handicap | G51: 3 | H51: Trio | M51: 3 | N51: Quartett | S51: 3 | T51: Junior
A52: 4 | B52: Senioren Handicap | G52: 4 | H52: Trio | M52: 4 | N52: Quartett | S52: 4 | T52: Junior
...

Sheet FS 2
B1: FS 2 | E1: ='List of Competitors'!B2 -> NARNI (TR)
E2: ='List of Competitors'!C2 -> 03/05/2026
A4: # | B4: Nome | C4: Cognome | D4: Cane | E4: Judge | F4: Team work | G4: Dinamicità | H4: Progetto | I4: Coreografia | J4: Fluidità | K4: Esecuzione | L4: Contenuto | M4: Difficoltà | N4: Punit | O4: Detrazioni di punti | V4: Totale | W4: punto di passaggio | X4: Posizionamento | Y4: Korr Punkte Teamwork, Fluss
O5: Abbaio e vocalizzazioni | P5: Salute del cane | Q5: costume / Oggetti di scena | R5: Lunghezze musicali errate | S5: Trattamento improprio del cane | T5: Contatto attivo | U5: Totale
F6: max. 25 | G6: max. 25 | H6: max. 25 | I6: max. 25 | J6: max. 25 | K6: max. 25 | L6: max. 25 | M6: max. 25 | O6: max. 20 | P6: max. 20 | Q6: max. 20 | R6: 1 Punkt / sec | S6: max. 20 | T6: max. 20
A7: 1 | B7: {=INDEX('List of Competitors'!O$27:O$46,MATCH($A7,'List of Competitors'!$M$27:$M$46,0))} -> BARBARA | C7: {=INDEX('List of Competitors'!P$27:P$46,MATCH($A7,'List of Competitors'!$M$27:$M$46,0))} -> GERMANI | D7: {=INDEX('List of Competitors'!Q$27:Q$46,MATCH($A7,'List of Competitors'!$M$27:$M$46,0))} -> ZERO | E7: Average | F7: =AVERAGE(F8:F10) -> 18.5 | G7: =AVERAGE(G8:G10) -> 19 | H7: =AVERAGE(H8:H10) -> 20 | I7: =AVERAGE(I8:I10) -> 19 | J7: =AVERAGE(J8:J10) -> 16.5 | K7: =AVERAGE(K8:K10) -> 17.5 | L7: =AVERAGE(L8:L10) -> 19 | M7: =AVERAGE(M8:M10) -> 19 | N7: =SUM(N8:N10)/IF(N10=0,2,3) -> 148.5 | O7: =SUM(O8:O10)/IF($N10=0,2,3) -> 1 | P7: =SUM(P8:P10)/IF($N10=0,2,3) -> 0 | Q7: =SUM(Q8:Q10)/IF($N10=0,2,3) -> 0 | R7: =SUM(R8:R10)/IF($N10=0,2,3) -> 0 | S7: =SUM(S8:S10)/IF($N10=0,2,3) -> 0 | T7: =SUM(T8:T10)/IF($N10=0,2,3) -> 0 | U7: =SUM(U8:U10)/IF(N10=0,2,3) -> 1 | V7: =N7-U7 -> 147.5 | W7: =IF(V7>=150,"Si","No") -> No | X7: =IF(V7=0,0,IF(ISERROR(RANK(V7,V:V)),"",RANK(Y7,Y:Y))) -> 3 | Y7: =IFERROR(V7+F7/100000+J7/10000000+G7/1000000000,0) -> 147.50019
E8: J3 | F8: 19 | G8: 19 | H8: 20 | I8: 19 | J8: 17 | K8: 18 | L8: 19 | M8: 19 | N8: =SUM(F8:M8) -> 150 | O8: 1 | U8: =SUM(O8:T8) -> 1
E9: J2 | F9: 18 | G9: 19 | H9: 20 | I9: 19 | J9: 16 | K9: 17 | L9: 19 | M9: 19 | N9: =SUM(F9:M9) -> 147 | O9: 1 | U9: =SUM(O9:T9) -> 1 | X9: =IF(ISERROR(RANK(#REF!,#REF!)),"",RANK(#REF!,#REF!))
E10: J3 | N10: =SUM(F10:M10) -> 0 | U10: =SUM(O10:T10) -> 0 | X10: =IF(ISERROR(RANK(#REF!,#REF!)),"",RANK(#REF!,#REF!))
A11: 2 | B11: {=INDEX('List of Competitors'!O$27:O$46,MATCH($A11,'List of Competitors'!$M$27:$M$46,0))} -> LAURA | C11: {=INDEX('List of Competitors'!P$27:P$46,MATCH($A11,'List of Competitors'!$M$27:$M$46,0))} -> FARAONI | D11: {=INDEX('List of Competitors'!Q$27:Q$46,MATCH($A11,'List of Competitors'!$M$27:$M$46,0))} -> DREM | E11: Average | F11: =AVERAGE(F12:F14) -> 21.5 | G11: =AVERAGE(G12:G14) -> 19.5 | H11: =AVERAGE(H12:H14) -> 20 | I11: =AVERAGE(I12:I14) -> 11 | J11: =AVERAGE(J12:J14) -> 20.5 | K11: =AVERAGE(K12:K14) -> 21 | L11: =AVERAGE(L12:L14) -> 21 | M11: =AVERAGE(M12:M14) -> 20.5 | N11: =SUM(N12:N14)/IF(N14=0,2,3) -> 155 | O11: =SUM(O12:O14)/IF($N14=0,2,3) -> 0.25 | P11: =SUM(P12:P14)/IF($N14=0,2,3) -> 0 | Q11: =SUM(Q12:Q14)/IF($N14=0,2,3) -> 0 | R11: =SUM(R12:R14)/IF($N14=0,2,3) -> 0 | S11: =SUM(S12:S14)/IF($N14=0,2,3) -> 0 | T11: =SUM(T12:T14)/IF($N14=0,2,3) -> 0 | U11: =SUM(U12:U14)/IF(N14=0,2,3) -> 0.25 | V11: =N11-U11 -> 154.75 | W11: =IF(V11>=150,"Si","No") -> Si | X11: =IF(V11=0,0,IF(ISERROR(RANK(V11,V:V)),"",RANK(Y11,Y:Y))) -> 1 | Y11: =IFERROR(V11+F11/100000+J11/10000000+G11/1000000000,0) -> 154.75022
E12: J3 | F12: 22 | G12: 20 | H12: 20 | I12: 20 | J12: 21 | K12: 20 | L12: 21 | M12: 21 | N12: =SUM(F12:M12) -> 165 | O12: 0.1 | U12: =SUM(O12:T12) -> 0.1
E13: J2 | F13: 21 | G13: 19 | H13: 20 | I13: 2 | J13: 20 | K13: 22 | L13: 21 | M13: 20 | N13: =SUM(F13:M13) -> 145 | O13: 0.4 | U13: =SUM(O13:T13) -> 0.4 | X13: =IF(ISERROR(RANK(#REF!,#REF!)),"",RANK(#REF!,#REF!))
E14: J3 | N14: =SUM(F14:M14) -> 0 | U14: =SUM(O14:T14) -> 0 | X14: =IF(ISERROR(RANK(#REF!,#REF!)),"",RANK(#REF!,#REF!))
A15: 3 | B15: {=INDEX('List of Competitors'!O$27:O$46,MATCH($A15,'List of Competitors'!$M$27:$M$46,0))} -> BARBARA | C15: {=INDEX('List of Competitors'!P$27:P$46,MATCH($A15,'List of Competitors'!$M$27:$M$46,0))} -> CASTELLI | D15: {=INDEX('List of Competitors'!Q$27:Q$46,MATCH($A15,'List of Competitors'!$M$27:$M$46,0))} -> DELIZIA | E15: Average | F15: =AVERAGE(F16:F18) -> 19 | G15: =AVERAGE(G16:G18) -> 19.5 | H15: =AVERAGE(H16:H18) -> 20 | I15: =AVERAGE(I16:I18) -> 19.5 | J15: =AVERAGE(J16:J18) -> 16 | K15: =AVERAGE(K16:K18) -> 17.5 | L15: =AVERAGE(L16:L18) -> 18.5 | M15: =AVERAGE(M16:M18) -> 18.5 | N15: =SUM(N16:N18)/IF(N18=0,2,3) -> 148.5 | O15: =SUM(O16:O18)/IF($N18=0,2,3) -> 0 | P15: =SUM(P16:P18)/IF($N18=0,2,3) -> 0 | Q15: =SUM(Q16:Q18)/IF($N18=0,2,3) -> 0 | R15: =SUM(R16:R18)/IF($N18=0,2,3) -> 0 | S15: =SUM(S16:S18)/IF($N18=0,2,3) -> 0 | T15: =SUM(T16:T18)/IF($N18=0,2,3) -> 0 | U15: =SUM(U16:U18)/IF(N18=0,2,3) -> 0 | V15: =N15-U15 -> 148.5 | W15: =IF(V15>=150,"Si","No") -> No | X15: =IF(V15=0,0,IF(ISERROR(RANK(V15,V:V)),"",RANK(Y15,Y:Y))) -> 2 | Y15: =IFERROR(V15+F15/100000+J15/10000000+G15/1000000000,0) -> 148.50019
E16: J3 | F16: 20 | G16: 19 | H16: 19 | I16: 20 | J16: 17 | K16: 19 | L16: 19 | M16: 19 | N16: =SUM(F16:M16) -> 152 | U16: =SUM(O16:T16) -> 0
E17: J2 | F17: 18 | G17: 20 | H17: 21 | I17: 19 | J17: 15 | K17: 16 | L17: 18 | M17: 18 | N17: =SUM(F17:M17) -> 145 | U17: =SUM(O17:T17) -> 0 | X17: =IF(ISERROR(RANK(#REF!,#REF!)),"",RANK(#REF!,#REF!))
E18: J3 | N18: =SUM(F18:M18) -> 0 | U18: =SUM(O18:T18) -> 0 | X18: =IF(ISERROR(RANK(#REF!,#REF!)),"",RANK(#REF!,#REF!))
A19: 4 | B19: {=INDEX('List of Competitors'!O$27:O$46,MATCH($A19,'List of Competitors'!$M$27:$M$46,0))} -> 0 | C19: {=INDEX('List of Competitors'!P$27:P$46,MATCH($A19,'List of Competitors'!$M$27:$M$46,0))} -> 0 | D19: {=INDEX('List of Competitors'!Q$27:Q$46,MATCH($A19,'List of Competitors'!$M$27:$M$46,0))} -> 0 | E19: Average | F19: =AVERAGE(F20:F22) -> #DIV/0! | G19: =AVERAGE(G20:G22) -> #DIV/0! | H19: =AVERAGE(H20:H22) -> #DIV/0! | I19: =AVERAGE(I20:I22) -> #DIV/0! | J19: =AVERAGE(J20:J22) -> #DIV/0! | K19: =AVERAGE(K20:K22) -> #DIV/0! | L19: =AVERAGE(L20:L22) -> #DIV/0! | M19: =AVERAGE(M20:M22) -> #DIV/0! | N19: =SUM(N20:N22)/IF(N22=0,2,3) -> 0 | O19: =SUM(O20:O22)/IF($N22=0,2,3) -> 0 | P19: =SUM(P20:P22)/IF($N22=0,2,3) -> 0 | Q19: =SUM(Q20:Q22)/IF($N22=0,2,3) -> 0 | R19: =SUM(R20:R22)/IF($N22=0,2,3) -> 0 | S19: =SUM(S20:S22)/IF($N22=0,2,3) -> 0 | T19: =SUM(T20:T22)/IF($N22=0,2,3) -> 0 | U19: =SUM(U20:U22)/IF(N22=0,2,3) -> 0 | V19: =N19-U19 -> 0 | W19: =IF(V19>=150,"Si","No") -> No | X19: =IF(V19=0,0,IF(ISERROR(RANK(V19,V:V)),"",RANK(Y19,Y:Y))) -> 0 | Y19: =IFERROR(V19+F19/100000+J19/10000000+G19/1000000000,0) -> 0
E20: J1 | N20: =SUM(F20:M20) -> 0 | U20: =SUM(O20:T20) -> 0
E21: J2 | N21: =SUM(F21:M21) -> 0 | U21: =SUM(O21:T21) -> 0 | X21: =IF(ISERROR(RANK(#REF!,#REF!)),"",RANK(#REF!,#REF!))
E22: J3 | N22: =SUM(F22:M22) -> 0 | U22: =SUM(O22:T22) -> 0 | X22: =IF(ISERROR(RANK(#REF!,#REF!)),"",RANK(#REF!,#REF!))
A23: 5 | B23: {=INDEX('List of Competitors'!O$27:O$46,MATCH($A23,'List of Competitors'!$M$27:$M$46,0))} -> 0 | C23: {=INDEX('List of Competitors'!P$27:P$46,MATCH($A23,'List of Competitors'!$M$27:$M$46,0))} -> 0 | D23: {=INDEX('List of Competitors'!Q$27:Q$46,MATCH($A23,'List of Competitors'!$M$27:$M$46,0))} -> 0 | E23: Average | F23: =AVERAGE(F24:F26) -> #DIV/0! | G23: =AVERAGE(G24:G26) -> #DIV/0! | H23: =AVERAGE(H24:H26) -> #DIV/0! | I23: =AVERAGE(I24:I26) -> #DIV/0! | J23: =AVERAGE(J24:J26) -> #DIV/0! | K23: =AVERAGE(K24:K26) -> #DIV/0! | L23: =AVERAGE(L24:L26) -> #DIV/0! | M23: =AVERAGE(M24:M26) -> #DIV/0! | N23: =SUM(N24:N26)/IF(N26=0,2,3) -> 0 | O23: =SUM(O24:O26)/IF($N26=0,2,3) -> 0 | P23: =SUM(P24:P26)/IF($N26=0,2,3) -> 0 | Q23: =SUM(Q24:Q26)/IF($N26=0,2,3) -> 0 | R23: =SUM(R24:R26)/IF($N26=0,2,3) -> 0 | S23: =SUM(S24:S26)/IF($N26=0,2,3) -> 0 | T23: =SUM(T24:T26)/IF($N26=0,2,3) -> 0 | U23: =SUM(U24:U26)/IF(N26=0,2,3) -> 0 | V23: =N23-U23 -> 0 | W23: =IF(V23>=150,"Si","No") -> No | X23: =IF(V23=0,0,IF(ISERROR(RANK(V23,V:V)),"",RANK(Y23,Y:Y))) -> 0 | Y23: =IFERROR(V23+F23/100000+J23/10000000+G23/1000000000,0) -> 0
E24: J1 | N24: =SUM(F24:M24) -> 0 | U24: =SUM(O24:T24) -> 0
E25: J2 | N25: =SUM(F25:M25) -> 0 | U25: =SUM(O25:T25) -> 0 | X25: =IF(ISERROR(RANK(#REF!,#REF!)),"",RANK(#REF!,#REF!))
E26: J3 | N26: =SUM(F26:M26) -> 0 | U26: =SUM(O26:T26) -> 0 | X26: =IF(ISERROR(RANK(#REF!,#REF!)),"",RANK(#REF!,#REF!))
A27: 6 | B27: {=INDEX('List of Competitors'!O$27:O$46,MATCH($A27,'List of Competitors'!$M$27:$M$46,0))} -> 0 | C27: {=INDEX('List of Competitors'!P$27:P$46,MATCH($A27,'List of Competitors'!$M$27:$M$46,0))} -> 0 | D27: {=INDEX('List of Competitors'!Q$27:Q$46,MATCH($A27,'List of Competitors'!$M$27:$M$46,0))} -> 0 | E27: Average | F27: =AVERAGE(F28:F30) -> #DIV/0! | G27: =AVERAGE(G28:G30) -> #DIV/0! | H27: =AVERAGE(H28:H30) -> #DIV/0! | I27: =AVERAGE(I28:I30) -> #DIV/0! | J27: =AVERAGE(J28:J30) -> #DIV/0! | K27: =AVERAGE(K28:K30) -> #DIV/0! | L27: =AVERAGE(L28:L30) -> #DIV/0! | M27: =AVERAGE(M28:M30) -> #DIV/0! | N27: =SUM(N28:N30)/IF(N30=0,2,3) -> 0 | O27: =SUM(O28:O30)/IF($N30=0,2,3) -> 0 | P27: =SUM(P28:P30)/IF($N30=0,2,3) -> 0 | Q27: =SUM(Q28:Q30)/IF($N30=0,2,3) -> 0 | R27: =SUM(R28:R30)/IF($N30=0,2,3) -> 0 | S27: =SUM(S28:S30)/IF($N30=0,2,3) -> 0 | T27: =SUM(T28:T30)/IF($N30=0,2,3) -> 0 | U27: =SUM(U28:U30)/IF(N30=0,2,3) -> 0 | V27: =N27-U27 -> 0 | W27: =IF(V27>=150,"Si","No") -> No | X27: =IF(V27=0,0,IF(ISERROR(RANK(V27,V:V)),"",RANK(Y27,Y:Y))) -> 0 | Y27: =IFERROR(V27+F27/100000+J27/10000000+G27/1000000000,0) -> 0
E28: J1 | N28: =SUM(F28:M28) -> 0 | U28: =SUM(O28:T28) -> 0
E29: J2 | N29: =SUM(F29:M29) -> 0 | U29: =SUM(O29:T29) -> 0 | X29: =IF(ISERROR(RANK(#REF!,#REF!)),"",RANK(#REF!,#REF!))
E30: J3 | N30: =SUM(F30:M30) -> 0 | U30: =SUM(O30:T30) -> 0 | X30: =IF(ISERROR(RANK(#REF!,#REF!)),"",RANK(#REF!,#REF!))
A31: 7 | B31: {=INDEX('List of Competitors'!O$27:O$46,MATCH($A31,'List of Competitors'!$M$27:$M$46,0))} -> 0 | C31: {=INDEX('List of Competitors'!P$27:P$46,MATCH($A31,'List of Competitors'!$M$27:$M$46,0))} -> 0 | D31: {=INDEX('List of Competitors'!Q$27:Q$46,MATCH($A31,'List of Competitors'!$M$27:$M$46,0))} -> 0 | E31: Average | F31: =AVERAGE(F32:F34) -> #DIV/0! | G31: =AVERAGE(G32:G34) -> #DIV/0! | H31: =AVERAGE(H32:H34) -> #DIV/0! | I31: =AVERAGE(I32:I34) -> #DIV/0! | J31: =AVERAGE(J32:J34) -> #DIV/0! | K31: =AVERAGE(K32:K34) -> #DIV/0! | L31: =AVERAGE(L32:L34) -> #DIV/0! | M31: =AVERAGE(M32:M34) -> #DIV/0! | N31: =SUM(N32:N34)/IF(N34=0,2,3) -> 0 | O31: =SUM(O32:O34)/IF($N34=0,2,3) -> 0 | P31: =SUM(P32:P34)/IF($N34=0,2,3) -> 0 | Q31: =SUM(Q32:Q34)/IF($N34=0,2,3) -> 0 | R31: =SUM(R32:R34)/IF($N34=0,2,3) -> 0 | S31: =SUM(S32:S34)/IF($N34=0,2,3) -> 0 | T31: =SUM(T32:T34)/IF($N34=0,2,3) -> 0 | U31: =SUM(U32:U34)/IF(N34=0,2,3) -> 0 | V31: =N31-U31 -> 0 | W31: =IF(V31>=150,"Si","No") -> No | X31: =IF(V31=0,0,IF(ISERROR(RANK(V31,V:V)),"",RANK(Y31,Y:Y))) -> 0 | Y31: =IFERROR(V31+F31/100000+J31/10000000+G31/1000000000,0) -> 0
E32: J1 | N32: =SUM(F32:M32) -> 0 | U32: =SUM(O32:T32) -> 0
E33: J2 | N33: =SUM(F33:M33) -> 0 | U33: =SUM(O33:T33) -> 0 | X33: =IF(ISERROR(RANK(#REF!,#REF!)),"",RANK(#REF!,#REF!))
E34: J3 | N34: =SUM(F34:M34) -> 0 | U34: =SUM(O34:T34) -> 0 | X34: =IF(ISERROR(RANK(#REF!,#REF!)),"",RANK(#REF!,#REF!))
A35: 8 | B35: {=INDEX('List of Competitors'!O$27:O$46,MATCH($A35,'List of Competitors'!$M$27:$M$46,0))} -> 0 | C35: {=INDEX('List of Competitors'!P$27:P$46,MATCH($A35,'List of Competitors'!$M$27:$M$46,0))} -> 0 | D35: {=INDEX('List of Competitors'!Q$27:Q$46,MATCH($A35,'List of Competitors'!$M$27:$M$46,0))} -> 0 | E35: Average | F35: =AVERAGE(F36:F38) -> #DIV/0! | G35: =AVERAGE(G36:G38) -> #DIV/0! | H35: =AVERAGE(H36:H38) -> #DIV/0! | I35: =AVERAGE(I36:I38) -> #DIV/0! | J35: =AVERAGE(J36:J38) -> #DIV/0! | K35: =AVERAGE(K36:K38) -> #DIV/0! | L35: =AVERAGE(L36:L38) -> #DIV/0! | M35: =AVERAGE(M36:M38) -> #DIV/0! | N35: =SUM(N36:N38)/IF(N38=0,2,3) -> 0 | O35: =SUM(O36:O38)/IF($N38=0,2,3) -> 0 | P35: =SUM(P36:P38)/IF($N38=0,2,3) -> 0 | Q35: =SUM(Q36:Q38)/IF($N38=0,2,3) -> 0 | R35: =SUM(R36:R38)/IF($N38=0,2,3) -> 0 | S35: =SUM(S36:S38)/IF($N38=0,2,3) -> 0 | T35: =SUM(T36:T38)/IF($N38=0,2,3) -> 0 | U35: =SUM(U36:U38)/IF(N38=0,2,3) -> 0 | V35: =N35-U35 -> 0 | W35: =IF(V35>=150,"Si","No") -> No | X35: =IF(V35=0,0,IF(ISERROR(RANK(V35,V:V)),"",RANK(Y35,Y:Y))) -> 0 | Y35: =IFERROR(V35+F35/100000+J35/10000000+G35/1000000000,0) -> 0
E36: J1 | N36: =SUM(F36:M36) -> 0 | U36: =SUM(O36:T36) -> 0
E37: J2 | N37: =SUM(F37:M37) -> 0 | U37: =SUM(O37:T37) -> 0 | X37: =IF(ISERROR(RANK(#REF!,#REF!)),"",RANK(#REF!,#REF!))
E38: J3 | N38: =SUM(F38:M38) -> 0 | U38: =SUM(O38:T38) -> 0 | X38: =IF(ISERROR(RANK(#REF!,#REF!)),"",RANK(#REF!,#REF!))
A39: 9 | B39: {=INDEX('List of Competitors'!O$27:O$46,MATCH($A39,'List of Competitors'!$M$27:$M$46,0))} -> 0 | C39: {=INDEX('List of Competitors'!P$27:P$46,MATCH($A39,'List of Competitors'!$M$27:$M$46,0))} -> 0 | D39: {=INDEX('List of Competitors'!Q$27:Q$46,MATCH($A39,'List of Competitors'!$M$27:$M$46,0))} -> 0 | E39: Average | F39: =AVERAGE(F40:F42) -> #DIV/0! | G39: =AVERAGE(G40:G42) -> #DIV/0! | H39: =AVERAGE(H40:H42) -> #DIV/0! | I39: =AVERAGE(I40:I42) -> #DIV/0! | J39: =AVERAGE(J40:J42) -> #DIV/0! | K39: =AVERAGE(K40:K42) -> #DIV/0! | L39: =AVERAGE(L40:L42) -> #DIV/0! | M39: =AVERAGE(M40:M42) -> #DIV/0! | N39: =SUM(N40:N42)/IF(N42=0,2,3) -> 0 | O39: =SUM(O40:O42)/IF($N42=0,2,3) -> 0 | P39: =SUM(P40:P42)/IF($N42=0,2,3) -> 0 | Q39: =SUM(Q40:Q42)/IF($N42=0,2,3) -> 0 | R39: =SUM(R40:R42)/IF($N42=0,2,3) -> 0 | S39: =SUM(S40:S42)/IF($N42=0,2,3) -> 0 | T39: =SUM(T40:T42)/IF($N42=0,2,3) -> 0 | U39: =SUM(U40:U42)/IF(N42=0,2,3) -> 0 | V39: =N39-U39 -> 0 | W39: =IF(V39>=150,"Si","No") -> No | X39: =IF(V39=0,0,IF(ISERROR(RANK(V39,V:V)),"",RANK(Y39,Y:Y))) -> 0 | Y39: =IFERROR(V39+F39/100000+J39/10000000+G39/1000000000,0) -> 0
E40: J1 | N40: =SUM(F40:M40) -> 0 | U40: =SUM(O40:T40) -> 0
E41: J2 | N41: =SUM(F41:M41) -> 0 | U41: =SUM(O41:T41) -> 0 | X41: =IF(ISERROR(RANK(#REF!,#REF!)),"",RANK(#REF!,#REF!))
...

Sheet HTM 2
B1: HTM 2 | E1: ='List of Competitors'!B2 -> NARNI (TR)
E2: ='List of Competitors'!C2 -> 03/05/2026
A4: # | B4: Nome | C4: Cognome | D4: Cane | E4: Judge | F4: Team work | G4: Dinamicità | H4: Progetto | I4: Coreografia | J4: Fluidità | K4: Esecuzione | L4: Contenuto | M4: Difficoltà | N4: Punit | O4: Detrazioni di punti | W4: Totale | X4: punto di passaggio | Y4: Posizionamento | Z4: Korr Punkte Teamwork, Fluss
O5: Abbaio e vocalizzazioni | P5: Salute del cane | Q5: costume / Oggetti di scena | R5: Lunghezze musicali errate | S5: Trattamento improprio del cane | T5: Contatto attivo | U5: % HTM | V5: Totale
F6: max. 25 | G6: max. 25 | H6: max. 25 | I6: max. 25 | J6: max. 25 | K6: max. 25 | L6: max. 25 | M6: max. 25 | O6: max. 20 | P6: max. 20 | Q6: max. 20 | R6: 1 Punkt / sec | S6: max. 20 | T6: max. 20 | U6: [X]
A7: 1 | B7: {=INDEX('List of Competitors'!O$5:O$24,MATCH($A7,'List of Competitors'!$M$5:$M$24,0))} -> EVA LISA | C7: {=INDEX('List of Competitors'!P$5:P$24,MATCH($A7,'List of Competitors'!$M$5:$M$24,0))} -> NEGRO | D7: {=INDEX('List of Competitors'!Q$5:Q$24,MATCH($A7,'List of Competitors'!$M$5:$M$24,0))} -> REDHONEY MADAME | E7: Average | F7: =AVERAGE(F8:F10) -> 18 | G7: =AVERAGE(G8:G10) -> 18.5 | H7: =AVERAGE(H8:H10) -> 20 | I7: =AVERAGE(I8:I10) -> 20 | J7: =AVERAGE(J8:J10) -> 16.5 | K7: =AVERAGE(K8:K10) -> 17 | L7: =AVERAGE(L8:L10) -> 20.5 | M7: =AVERAGE(M8:M10) -> 21 | N7: =SUM(N8:N10)/IF(N10=0,2,3) -> 151.5 | O7: =SUM(O8:O10)/IF($N10=0,2,3) -> 0 | P7: =SUM(P8:P10)/IF($N10=0,2,3) -> 0 | Q7: =SUM(Q8:Q10)/IF($N10=0,2,3) -> 0 | R7: =SUM(R8:R10)/IF($N10=0,2,3) -> 0 | S7: =SUM(S8:S10)/IF($N10=0,2,3) -> 0 | T7: =SUM(T8:T10)/IF($N10=0,2,3) -> 0 | V7: =SUM(V8:V10)/IF(N10=0,2,3) -> 0 | W7: =N7-V7 -> 151.5 | X7: =IF(W7>=150,"Si","No") -> Si | Y7: =IF(W7=0,0,IF(ISERROR(RANK(W7,W:W)),"",RANK(Z7,Z:Z))) -> 2 | Z7: =IFERROR(W7+F7/100000+J7/10000000+G7/1000000000,0) -> 151.50018
E8: J1 | F8: 18 | G8: 18 | H8: 20 | I8: 20 | J8: 16 | K8: 16 | L8: 21 | M8: 21 | N8: =SUM(F8:M8) -> 150 | V8: =SUM(O8:T8) -> 0
E9: J2 | F9: 18 | G9: 19 | H9: 20 | I9: 20 | J9: 17 | K9: 18 | L9: 20 | M9: 21 | N9: =SUM(F9:M9) -> 153 | V9: =SUM(O9:T9) -> 0 | Y9: =IF(ISERROR(RANK(#REF!,#REF!)),"",RANK(#REF!,#REF!))
E10: J3 | N10: =SUM(F10:M10) -> 0 | V10: =SUM(O10:T10) -> 0 | Y10: =IF(ISERROR(RANK(#REF!,#REF!)),"",RANK(#REF!,#REF!))
A11: 2 | B11: {=INDEX('List of Competitors'!O$5:O$24,MATCH($A11,'List of Competitors'!$M$5:$M$24,0))} -> LAURA | C11: {=INDEX('List of Competitors'!P$5:P$24,MATCH($A11,'List of Competitors'!$M$5:$M$24,0))} -> FARAONI | D11: {=INDEX('List of Competitors'!Q$5:Q$24,MATCH($A11,'List of Competitors'!$M$5:$M$24,0))} -> DREAM | E11: Average | F11: =AVERAGE(F12:F14) -> 20 | G11: =AVERAGE(G12:G14) -> 18.5 | H11: =AVERAGE(H12:H14) -> 20 | I11: =AVERAGE(I12:I14) -> 20.5 | J11: =AVERAGE(J12:J14) -> 18 | K11: =AVERAGE(K12:K14) -> 18 | L11: =AVERAGE(L12:L14) -> 19 | M11: =AVERAGE(M12:M14) -> 18.5 | N11: =SUM(N12:N14)/IF(N14=0,2,3) -> 152.5 | O11: =SUM(O12:O14)/IF($N14=0,2,3) -> 0 | P11: =SUM(P12:P14)/IF($N14=0,2,3) -> 0 | Q11: =SUM(Q12:Q14)/IF($N14=0,2,3) -> 0 | R11: =SUM(R12:R14)/IF($N14=0,2,3) -> 0 | S11: =SUM(S12:S14)/IF($N14=0,2,3) -> 0 | T11: =SUM(T12:T14)/IF($N14=0,2,3) -> 0 | V11: =SUM(V12:V14)/IF(N14=0,2,3) -> 0 | W11: =N11-V11 -> 152.5 | X11: =IF(W11>=150,"Si","No") -> Si | Y11: =IF(W11=0,0,IF(ISERROR(RANK(W11,W:W)),"",RANK(Z11,Z:Z))) -> 1 | Z11: =IFERROR(W11+F11/100000+J11/10000000+G11/1000000000,0) -> 152.5002
E12: J1 | F12: 20 | G12: 18 | H12: 20 | I12: 20 | J12: 18 | K12: 17 | L12: 19 | M12: 19 | N12: =SUM(F12:M12) -> 151 | V12: =SUM(O12:T12) -> 0
E13: J2 | F13: 20 | G13: 19 | H13: 20 | I13: 21 | J13: 18 | K13: 19 | L13: 19 | M13: 18 | N13: =SUM(F13:M13) -> 154 | V13: =SUM(O13:T13) -> 0 | Y13: =IF(ISERROR(RANK(#REF!,#REF!)),"",RANK(#REF!,#REF!))
E14: J3 | N14: =SUM(F14:M14) -> 0 | V14: =SUM(O14:T14) -> 0 | Y14: =IF(ISERROR(RANK(#REF!,#REF!)),"",RANK(#REF!,#REF!))
A15: 3 | B15: {=INDEX('List of Competitors'!O$5:O$24,MATCH($A15,'List of Competitors'!$M$5:$M$24,0))} -> 0 | C15: {=INDEX('List of Competitors'!P$5:P$24,MATCH($A15,'List of Competitors'!$M$5:$M$24,0))} -> 0 | D15: {=INDEX('List of Competitors'!Q$5:Q$24,MATCH($A15,'List of Competitors'!$M$5:$M$24,0))} -> 0 | E15: Average | F15: =AVERAGE(F16:F18) -> #DIV/0! | G15: =AVERAGE(G16:G18) -> #DIV/0! | H15: =AVERAGE(H16:H18) -> #DIV/0! | I15: =AVERAGE(I16:I18) -> #DIV/0! | J15: =AVERAGE(J16:J18) -> #DIV/0! | K15: =AVERAGE(K16:K18) -> #DIV/0! | L15: =AVERAGE(L16:L18) -> #DIV/0! | M15: =AVERAGE(M16:M18) -> #DIV/0! | N15: =SUM(N16:N18)/IF(N18=0,2,3) -> 0 | O15: =SUM(O16:O18)/IF($N18=0,2,3) -> 0 | P15: =SUM(P16:P18)/IF($N18=0,2,3) -> 0 | Q15: =SUM(Q16:Q18)/IF($N18=0,2,3) -> 0 | R15: =SUM(R16:R18)/IF($N18=0,2,3) -> 0 | S15: =SUM(S16:S18)/IF($N18=0,2,3) -> 0 | T15: =SUM(T16:T18)/IF($N18=0,2,3) -> 0 | V15: =SUM(V16:V18)/IF(N18=0,2,3) -> 0 | W15: =N15-V15 -> 0 | X15: =IF(W15>=150,"Si","No") -> No | Y15: =IF(W15=0,0,IF(ISERROR(RANK(W15,W:W)),"",RANK(Z15,Z:Z))) -> 0 | Z15: =IFERROR(W15+F15/100000+J15/10000000+G15/1000000000,0) -> 0
E16: J1 | N16: =SUM(F16:M16) -> 0 | V16: =SUM(O16:T16) -> 0
E17: J2 | N17: =SUM(F17:M17) -> 0 | V17: =SUM(O17:T17) -> 0 | Y17: =IF(ISERROR(RANK(#REF!,#REF!)),"",RANK(#REF!,#REF!))
E18: J3 | N18: =SUM(F18:M18) -> 0 | V18: =SUM(O18:T18) -> 0 | Y18: =IF(ISERROR(RANK(#REF!,#REF!)),"",RANK(#REF!,#REF!))
A19: 4 | B19: {=INDEX('List of Competitors'!O$5:O$24,MATCH($A19,'List of Competitors'!$M$5:$M$24,0))} -> 0 | C19: {=INDEX('List of Competitors'!P$5:P$24,MATCH($A19,'List of Competitors'!$M$5:$M$24,0))} -> 0 | D19: {=INDEX('List of Competitors'!Q$5:Q$24,MATCH($A19,'List of Competitors'!$M$5:$M$24,0))} -> 0 | E19: Average | F19: =AVERAGE(F20:F22) -> #DIV/0! | G19: =AVERAGE(G20:G22) -> #DIV/0! | H19: =AVERAGE(H20:H22) -> #DIV/0! | I19: =AVERAGE(I20:I22) -> #DIV/0! | J19: =AVERAGE(J20:J22) -> #DIV/0! | K19: =AVERAGE(K20:K22) -> #DIV/0! | L19: =AVERAGE(L20:L22) -> #DIV/0! | M19: =AVERAGE(M20:M22) -> #DIV/0! | N19: =SUM(N20:N22)/IF(N22=0,2,3) -> 0 | O19: =SUM(O20:O22)/IF($N22=0,2,3) -> 0 | P19: =SUM(P20:P22)/IF($N22=0,2,3) -> 0 | Q19: =SUM(Q20:Q22)/IF($N22=0,2,3) -> 0 | R19: =SUM(R20:R22)/IF($N22=0,2,3) -> 0 | S19: =SUM(S20:S22)/IF($N22=0,2,3) -> 0 | T19: =SUM(T20:T22)/IF($N22=0,2,3) -> 0 | V19: =SUM(V20:V22)/IF(N22=0,2,3) -> 0 | W19: =N19-V19 -> 0 | X19: =IF(W19>=150,"Si","No") -> No | Y19: =IF(W19=0,0,IF(ISERROR(RANK(W19,W:W)),"",RANK(Z19,Z:Z))) -> 0 | Z19: =IFERROR(W19+F19/100000+J19/10000000+G19/1000000000,0) -> 0
E20: J1 | N20: =SUM(F20:M20) -> 0 | V20: =SUM(O20:T20) -> 0
E21: J2 | N21: =SUM(F21:M21) -> 0 | V21: =SUM(O21:T21) -> 0 | Y21: =IF(ISERROR(RANK(#REF!,#REF!)),"",RANK(#REF!,#REF!))
E22: J3 | N22: =SUM(F22:M22) -> 0 | V22: =SUM(O22:T22) -> 0 | Y22: =IF(ISERROR(RANK(#REF!,#REF!)),"",RANK(#REF!,#REF!))
A23: 5 | B23: {=INDEX('List of Competitors'!O$5:O$24,MATCH($A23,'List of Competitors'!$M$5:$M$24,0))} -> 0 | C23: {=INDEX('List of Competitors'!P$5:P$24,MATCH($A23,'List of Competitors'!$M$5:$M$24,0))} -> 0 | D23: {=INDEX('List of Competitors'!Q$5:Q$24,MATCH($A23,'List of Competitors'!$M$5:$M$24,0))} -> 0 | E23: Average | F23: =AVERAGE(F24:F26) -> #DIV/0! | G23: =AVERAGE(G24:G26) -> #DIV/0! | H23: =AVERAGE(H24:H26) -> #DIV/0! | I23: =AVERAGE(I24:I26) -> #DIV/0! | J23: =AVERAGE(J24:J26) -> #DIV/0! | K23: =AVERAGE(K24:K26) -> #DIV/0! | L23: =AVERAGE(L24:L26) -> #DIV/0! | M23: =AVERAGE(M24:M26) -> #DIV/0! | N23: =SUM(N24:N26)/IF(N26=0,2,3) -> 0 | O23: =SUM(O24:O26)/IF($N26=0,2,3) -> 0 | P23: =SUM(P24:P26)/IF($N26=0,2,3) -> 0 | Q23: =SUM(Q24:Q26)/IF($N26=0,2,3) -> 0 | R23: =SUM(R24:R26)/IF($N26=0,2,3) -> 0 | S23: =SUM(S24:S26)/IF($N26=0,2,3) -> 0 | T23: =SUM(T24:T26)/IF($N26=0,2,3) -> 0 | V23: =SUM(V24:V26)/IF(N26=0,2,3) -> 0 | W23: =N23-V23 -> 0 | X23: =IF(W23>=150,"Si","No") -> No | Y23: =IF(W23=0,0,IF(ISERROR(RANK(W23,W:W)),"",RANK(Z23,Z:Z))) -> 0 | Z23: =IFERROR(W23+F23/100000+J23/10000000+G23/1000000000,0) -> 0
E24: J1 | N24: =SUM(F24:M24) -> 0 | V24: =SUM(O24:T24) -> 0
E25: J2 | N25: =SUM(F25:M25) -> 0 | V25: =SUM(O25:T25) -> 0 | Y25: =IF(ISERROR(RANK(#REF!,#REF!)),"",RANK(#REF!,#REF!))
E26: J3 | N26: =SUM(F26:M26) -> 0 | V26: =SUM(O26:T26) -> 0 | Y26: =IF(ISERROR(RANK(#REF!,#REF!)),"",RANK(#REF!,#REF!))
A27: 6 | B27: {=INDEX('List of Competitors'!O$5:O$24,MATCH($A27,'List of Competitors'!$M$5:$M$24,0))} -> 0 | C27: {=INDEX('List of Competitors'!P$5:P$24,MATCH($A27,'List of Competitors'!$M$5:$M$24,0))} -> 0 | D27: {=INDEX('List of Competitors'!Q$5:Q$24,MATCH($A27,'List of Competitors'!$M$5:$M$24,0))} -> 0 | E27: Average | F27: =AVERAGE(F28:F30) -> #DIV/0! | G27: =AVERAGE(G28:G30) -> #DIV/0! | H27: =AVERAGE(H28:H30) -> #DIV/0! | I27: =AVERAGE(I28:I30) -> #DIV/0! | J27: =AVERAGE(J28:J30) -> #DIV/0! | K27: =AVERAGE(K28:K30) -> #DIV/0! | L27: =AVERAGE(L28:L30) -> #DIV/0! | M27: =AVERAGE(M28:M30) -> #DIV/0! | N27: =SUM(N28:N30)/IF(N30=0,2,3) -> 0 | O27: =SUM(O28:O30)/IF($N30=0,2,3) -> 0 | P27: =SUM(P28:P30)/IF($N30=0,2,3) -> 0 | Q27: =SUM(Q28:Q30)/IF($N30=0,2,3) -> 0 | R27: =SUM(R28:R30)/IF($N30=0,2,3) -> 0 | S27: =SUM(S28:S30)/IF($N30=0,2,3) -> 0 | T27: =SUM(T28:T30)/IF($N30=0,2,3) -> 0 | V27: =SUM(V28:V30)/IF(N30=0,2,3) -> 0 | W27: =N27-V27 -> 0 | X27: =IF(W27>=150,"Si","No") -> No | Y27: =IF(W27=0,0,IF(ISERROR(RANK(W27,W:W)),"",RANK(Z27,Z:Z))) -> 0 | Z27: =IFERROR(W27+F27/100000+J27/10000000+G27/1000000000,0) -> 0
E28: J1 | N28: =SUM(F28:M28) -> 0 | V28: =SUM(O28:T28) -> 0
E29: J2 | N29: =SUM(F29:M29) -> 0 | V29: =SUM(O29:T29) -> 0 | Y29: =IF(ISERROR(RANK(#REF!,#REF!)),"",RANK(#REF!,#REF!))
E30: J3 | N30: =SUM(F30:M30) -> 0 | V30: =SUM(O30:T30) -> 0 | Y30: =IF(ISERROR(RANK(#REF!,#REF!)),"",RANK(#REF!,#REF!))
A31: 7 | B31: {=INDEX('List of Competitors'!O$5:O$24,MATCH($A31,'List of Competitors'!$M$5:$M$24,0))} -> 0 | C31: {=INDEX('List of Competitors'!P$5:P$24,MATCH($A31,'List of Competitors'!$M$5:$M$24,0))} -> 0 | D31: {=INDEX('List of Competitors'!Q$5:Q$24,MATCH($A31,'List of Competitors'!$M$5:$M$24,0))} -> 0 | E31: Average | F31: =AVERAGE(F32:F34) -> #DIV/0! | G31: =AVERAGE(G32:G34) -> #DIV/0! | H31: =AVERAGE(H32:H34) -> #DIV/0! | I31: =AVERAGE(I32:I34) -> #DIV/0! | J31: =AVERAGE(J32:J34) -> #DIV/0! | K31: =AVERAGE(K32:K34) -> #DIV/0! | L31: =AVERAGE(L32:L34) -> #DIV/0! | M31: =AVERAGE(M32:M34) -> #DIV/0! | N31: =SUM(N32:N34)/IF(N34=0,2,3) -> 0 | O31: =SUM(O32:O34)/IF($N34=0,2,3) -> 0 | P31: =SUM(P32:P34)/IF($N34=0,2,3) -> 0 | Q31: =SUM(Q32:Q34)/IF($N34=0,2,3) -> 0 | R31: =SUM(R32:R34)/IF($N34=0,2,3) -> 0 | S31: =SUM(S32:S34)/IF($N34=0,2,3) -> 0 | T31: =SUM(T32:T34)/IF($N34=0,2,3) -> 0 | V31: =SUM(V32:V34)/IF(N34=0,2,3) -> 0 | W31: =N31-V31 -> 0 | X31: =IF(W31>=150,"Si","No") -> No | Y31: =IF(W31=0,0,IF(ISERROR(RANK(W31,W:W)),"",RANK(Z31,Z:Z))) -> 0 | Z31: =IFERROR(W31+F31/100000+J31/10000000+G31/1000000000,0) -> 0
E32: J1 | N32: =SUM(F32:M32) -> 0 | V32: =SUM(O32:T32) -> 0
E33: J2 | N33: =SUM(F33:M33) -> 0 | V33: =SUM(O33:T33) -> 0 | Y33: =IF(ISERROR(RANK(#REF!,#REF!)),"",RANK(#REF!,#REF!))
E34: J3 | N34: =SUM(F34:M34) -> 0 | V34: =SUM(O34:T34) -> 0 | Y34: =IF(ISERROR(RANK(#REF!,#REF!)),"",RANK(#REF!,#REF!))
A35: 8 | B35: {=INDEX('List of Competitors'!O$5:O$24,MATCH($A35,'List of Competitors'!$M$5:$M$24,0))} -> 0 | C35: {=INDEX('List of Competitors'!P$5:P$24,MATCH($A35,'List of Competitors'!$M$5:$M$24,0))} -> 0 | D35: {=INDEX('List of Competitors'!Q$5:Q$24,MATCH($A35,'List of Competitors'!$M$5:$M$24,0))} -> 0 | E35: Average | F35: =AVERAGE(F36:F38) -> #DIV/0! | G35: =AVERAGE(G36:G38) -> #DIV/0! | H35: =AVERAGE(H36:H38) -> #DIV/0! | I35: =AVERAGE(I36:I38) -> #DIV/0! | J35: =AVERAGE(J36:J38) -> #DIV/0! | K35: =AVERAGE(K36:K38) -> #DIV/0! | L35: =AVERAGE(L36:L38) -> #DIV/0! | M35: =AVERAGE(M36:M38) -> #DIV/0! | N35: =SUM(N36:N38)/IF(N38=0,2,3) -> 0 | O35: =SUM(O36:O38)/IF($N38=0,2,3) -> 0 | P35: =SUM(P36:P38)/IF($N38=0,2,3) -> 0 | Q35: =SUM(Q36:Q38)/IF($N38=0,2,3) -> 0 | R35: =SUM(R36:R38)/IF($N38=0,2,3) -> 0 | S35: =SUM(S36:S38)/IF($N38=0,2,3) -> 0 | T35: =SUM(T36:T38)/IF($N38=0,2,3) -> 0 | V35: =SUM(V36:V38)/IF(N38=0,2,3) -> 0 | W35: =N35-V35 -> 0 | X35: =IF(W35>=150,"Si","No") -> No | Y35: =IF(W35=0,0,IF(ISERROR(RANK(W35,W:W)),"",RANK(Z35,Z:Z))) -> 0 | Z35: =IFERROR(W35+F35/100000+J35/10000000+G35/1000000000,0) -> 0
E36: J1 | N36: =SUM(F36:M36) -> 0 | V36: =SUM(O36:T36) -> 0
E37: J2 | N37: =SUM(F37:M37) -> 0 | V37: =SUM(O37:T37) -> 0 | Y37: =IF(ISERROR(RANK(#REF!,#REF!)),"",RANK(#REF!,#REF!))
E38: J3 | N38: =SUM(F38:M38) -> 0 | V38: =SUM(O38:T38) -> 0 | Y38: =IF(ISERROR(RANK(#REF!,#REF!)),"",RANK(#REF!,#REF!))
A39: 9 | B39: {=INDEX('List of Competitors'!O$5:O$24,MATCH($A39,'List of Competitors'!$M$5:$M$24,0))} -> 0 | C39: {=INDEX('List of Competitors'!P$5:P$24,MATCH($A39,'List of Competitors'!$M$5:$M$24,0))} -> 0 | D39: {=INDEX('List of Competitors'!Q$5:Q$24,MATCH($A39,'List of Competitors'!$M$5:$M$24,0))} -> 0 | E39: Average | F39: =AVERAGE(F40:F42) -> #DIV/0! | G39: =AVERAGE(G40:G42) -> #DIV/0! | H39: =AVERAGE(H40:H42) -> #DIV/0! | I39: =AVERAGE(I40:I42) -> #DIV/0! | J39: =AVERAGE(J40:J42) -> #DIV/0! | K39: =AVERAGE(K40:K42) -> #DIV/0! | L39: =AVERAGE(L40:L42) -> #DIV/0! | M39: =AVERAGE(M40:M42) -> #DIV/0! | N39: =SUM(N40:N42)/IF(N42=0,2,3) -> 0 | O39: =SUM(O40:O42)/IF($N42=0,2,3) -> 0 | P39: =SUM(P40:P42)/IF($N42=0,2,3) -> 0 | Q39: =SUM(Q40:Q42)/IF($N42=0,2,3) -> 0 | R39: =SUM(R40:R42)/IF($N42=0,2,3) -> 0 | S39: =SUM(S40:S42)/IF($N42=0,2,3) -> 0 | T39: =SUM(T40:T42)/IF($N42=0,2,3) -> 0 | V39: =SUM(V40:V42)/IF(N42=0,2,3) -> 0 | W39: =N39-V39 -> 0 | X39: =IF(W39>=150,"Si","No") -> No | Y39: =IF(W39=0,0,IF(ISERROR(RANK(W39,W:W)),"",RANK(Z39,Z:Z))) -> 0 | Z39: =IFERROR(W39+F39/100000+J39/10000000+G39/1000000000,0) -> 0
E40: J1 | N40: =SUM(F40:M40) -> 0 | V40: =SUM(O40:T40) -> 0
E41: J2 | N41: =SUM(F41:M41) -> 0 | V41: =SUM(O41:T41) -> 0 | Y41: =IF(ISERROR(RANK(#REF!,#REF!)),"",RANK(#REF!,#REF!))
...

Sheet FS 1
B1: FS 1 | E1: ='List of Competitors'!B2 -> NARNI (TR)
E2: ='List of Competitors'!C2 -> 03/05/2026
A4: # | B4: Nome | C4: Cognome | D4: Cane | E4: Judge | F4: Team work | G4: Dinamicità | H4: Progetto | I4: Coreografia | J4: Fluidità | K4: Esecuzione | L4: Contenuto | M4: Difficoltà | N4: Punit | O4: Detrazioni di punti | V4: Totale | W4: punto di passaggio | X4: Posizionamento | Y4: Korr Punkte Teamwork, Fluss
O5: Abbaio e vocalizzazioni | P5: Salute del cane | Q5: costume / Oggetti di scena | R5: Lunghezze musicali errate | S5: Trattamento improprio del cane | T5: Contatto attivo | U5: Totale
F6: max. 25 | G6: max. 25 | H6: max. 25 | I6: max. 25 | J6: max. 25 | K6: max. 25 | L6: max. 25 | M6: max. 25 | O6: max. 20 | P6: max. 20 | Q6: max. 20 | R6: 1 Punkt / sec | S6: max. 20 | T6: max. 20
A7: 1 | B7: {=INDEX('List of Competitors'!I$27:I$46,MATCH($A7,'List of Competitors'!$G$27:$G$46,0))} -> RITA | C7: {=INDEX('List of Competitors'!J$27:J$46,MATCH($A7,'List of Competitors'!$G$27:$G$46,0))} -> ALTIGIERI | D7: {=INDEX('List of Competitors'!K$27:K$46,MATCH($A7,'List of Competitors'!$G$27:$G$46,0))} -> LORD BYRON | E7: Average | F7: =AVERAGE(F8:F10) -> 19 | G7: =AVERAGE(G8:G10) -> 20.5 | H7: =AVERAGE(H8:H10) -> 21 | I7: =AVERAGE(I8:I10) -> 20 | J7: =AVERAGE(J8:J10) -> 17 | K7: =AVERAGE(K8:K10) -> 19 | L7: =AVERAGE(L8:L10) -> 19.5 | M7: =AVERAGE(M8:M10) -> 20.5 | N7: =SUM(N8:N10)/IF(N10=0,2,3) -> 156.5 | O7: =SUM(O8:O10)/IF($N10=0,2,3) -> 0 | P7: =SUM(P8:P10)/IF($N10=0,2,3) -> 0 | Q7: =SUM(Q8:Q10)/IF($N10=0,2,3) -> 0 | R7: =SUM(R8:R10)/IF($N10=0,2,3) -> 0 | S7: =SUM(S8:S10)/IF($N10=0,2,3) -> 0 | T7: =SUM(T8:T10)/IF($N10=0,2,3) -> 0 | U7: =SUM(U8:U10)/IF(N10=0,2,3) -> 0 | V7: =N7-U7 -> 156.5 | W7: =IF(V7>=150,"Si","No") -> Si | X7: =IF(V7=0,0,IF(ISERROR(RANK(V7,V:V)),"",RANK(Y7,Y:Y))) -> 2 | Y7: =IFERROR(V7+F7/100000+J7/10000000+G7/1000000000,0) -> 156.50019
E8: J1 | F8: 20 | G8: 21 | H8: 22 | I8: 21 | J8: 17 | K8: 21 | L8: 21 | M8: 22 | N8: =SUM(F8:M8) -> 165 | U8: =SUM(O8:T8) -> 0
E9: J2 | F9: 18 | G9: 20 | H9: 20 | I9: 19 | J9: 17 | K9: 17 | L9: 18 | M9: 19 | N9: =SUM(F9:M9) -> 148 | U9: =SUM(O9:T9) -> 0 | X9: =IF(ISERROR(RANK(#REF!,#REF!)),"",RANK(#REF!,#REF!))
E10: J3 | N10: =SUM(F10:M10) -> 0 | U10: =SUM(O10:T10) -> 0 | X10: =IF(ISERROR(RANK(#REF!,#REF!)),"",RANK(#REF!,#REF!))
A11: 2 | B11: {=INDEX('List of Competitors'!I$27:I$46,MATCH($A11,'List of Competitors'!$G$27:$G$46,0))} -> RACHELE | C11: {=INDEX('List of Competitors'!J$27:J$46,MATCH($A11,'List of Competitors'!$G$27:$G$46,0))} -> TULLI | D11: {=INDEX('List of Competitors'!K$27:K$46,MATCH($A11,'List of Competitors'!$G$27:$G$46,0))} -> MELODY | E11: Average | F11: =AVERAGE(F12:F14) -> 22 | G11: =AVERAGE(G12:G14) -> 22 | H11: =AVERAGE(H12:H14) -> 21.5 | I11: =AVERAGE(I12:I14) -> 21.5 | J11: =AVERAGE(J12:J14) -> 22.5 | K11: =AVERAGE(K12:K14) -> 21.5 | L11: =AVERAGE(L12:L14) -> 20 | M11: =AVERAGE(M12:M14) -> 20.5 | N11: =SUM(N12:N14)/IF(N14=0,2,3) -> 171.5 | O11: =SUM(O12:O14)/IF($N14=0,2,3) -> 2 | P11: =SUM(P12:P14)/IF($N14=0,2,3) -> 0 | Q11: =SUM(Q12:Q14)/IF($N14=0,2,3) -> 0 | R11: =SUM(R12:R14)/IF($N14=0,2,3) -> 0 | S11: =SUM(S12:S14)/IF($N14=0,2,3) -> 0 | T11: =SUM(T12:T14)/IF($N14=0,2,3) -> 0 | U11: =SUM(U12:U14)/IF(N14=0,2,3) -> 2 | V11: =N11-U11 -> 169.5 | W11: =IF(V11>=150,"Si","No") -> Si | X11: =IF(V11=0,0,IF(ISERROR(RANK(V11,V:V)),"",RANK(Y11,Y:Y))) -> 1 | Y11: =IFERROR(V11+F11/100000+J11/10000000+G11/1000000000,0) -> 169.50022
E12: J1 | F12: 24 | G12: 23 | H12: 23 | I12: 23 | J12: 24 | K12: 23 | L12: 22 | M12: 22 | N12: =SUM(F12:M12) -> 184 | O12: 2 | U12: =SUM(O12:T12) -> 2
E13: J2 | F13: 20 | G13: 21 | H13: 20 | I13: 20 | J13: 21 | K13: 20 | L13: 18 | M13: 19 | N13: =SUM(F13:M13) -> 159 | O13: 2 | U13: =SUM(O13:T13) -> 2 | X13: =IF(ISERROR(RANK(#REF!,#REF!)),"",RANK(#REF!,#REF!))
E14: J3 | N14: =SUM(F14:M14) -> 0 | U14: =SUM(O14:T14) -> 0 | X14: =IF(ISERROR(RANK(#REF!,#REF!)),"",RANK(#REF!,#REF!))
A15: 3 | B15: {=INDEX('List of Competitors'!I$27:I$46,MATCH($A15,'List of Competitors'!$G$27:$G$46,0))} -> 0 | C15: {=INDEX('List of Competitors'!J$27:J$46,MATCH($A15,'List of Competitors'!$G$27:$G$46,0))} -> 0 | D15: {=INDEX('List of Competitors'!K$27:K$46,MATCH($A15,'List of Competitors'!$G$27:$G$46,0))} -> 0 | E15: Average | F15: =AVERAGE(F16:F18) -> #DIV/0! | G15: =AVERAGE(G16:G18) -> #DIV/0! | H15: =AVERAGE(H16:H18) -> #DIV/0! | I15: =AVERAGE(I16:I18) -> #DIV/0! | J15: =AVERAGE(J16:J18) -> #DIV/0! | K15: =AVERAGE(K16:K18) -> #DIV/0! | L15: =AVERAGE(L16:L18) -> #DIV/0! | M15: =AVERAGE(M16:M18) -> #DIV/0! | N15: =SUM(N16:N18)/IF(N18=0,2,3) -> 0 | O15: =SUM(O16:O18)/IF($N18=0,2,3) -> 0 | P15: =SUM(P16:P18)/IF($N18=0,2,3) -> 0 | Q15: =SUM(Q16:Q18)/IF($N18=0,2,3) -> 0 | R15: =SUM(R16:R18)/IF($N18=0,2,3) -> 0 | S15: =SUM(S16:S18)/IF($N18=0,2,3) -> 0 | T15: =SUM(T16:T18)/IF($N18=0,2,3) -> 0 | U15: =SUM(U16:U18)/IF(N18=0,2,3) -> 0 | V15: =N15-U15 -> 0 | W15: =IF(V15>=150,"Si","No") -> No | X15: =IF(V15=0,0,IF(ISERROR(RANK(V15,V:V)),"",RANK(Y15,Y:Y))) -> 0 | Y15: =IFERROR(V15+F15/100000+J15/10000000+G15/1000000000,0) -> 0
E16: J1 | N16: =SUM(F16:M16) -> 0 | U16: =SUM(O16:T16) -> 0
E17: J2 | N17: =SUM(F17:M17) -> 0 | U17: =SUM(O17:T17) -> 0 | X17: =IF(ISERROR(RANK(#REF!,#REF!)),"",RANK(#REF!,#REF!))
E18: J3 | N18: =SUM(F18:M18) -> 0 | U18: =SUM(O18:T18) -> 0 | X18: =IF(ISERROR(RANK(#REF!,#REF!)),"",RANK(#REF!,#REF!))
A19: 4 | B19: {=INDEX('List of Competitors'!I$27:I$46,MATCH($A19,'List of Competitors'!$G$27:$G$46,0))} -> 0 | C19: {=INDEX('List of Competitors'!J$27:J$46,MATCH($A19,'List of Competitors'!$G$27:$G$46,0))} -> 0 | D19: {=INDEX('List of Competitors'!K$27:K$46,MATCH($A19,'List of Competitors'!$G$27:$G$46,0))} -> 0 | E19: Average | F19: =AVERAGE(F20:F22) -> #DIV/0! | G19: =AVERAGE(G20:G22) -> #DIV/0! | H19: =AVERAGE(H20:H22) -> #DIV/0! | I19: =AVERAGE(I20:I22) -> #DIV/0! | J19: =AVERAGE(J20:J22) -> #DIV/0! | K19: =AVERAGE(K20:K22) -> #DIV/0! | L19: =AVERAGE(L20:L22) -> #DIV/0! | M19: =AVERAGE(M20:M22) -> #DIV/0! | N19: =SUM(N20:N22)/IF(N22=0,2,3) -> 0 | O19: =SUM(O20:O22)/IF($N22=0,2,3) -> 0 | P19: =SUM(P20:P22)/IF($N22=0,2,3) -> 0 | Q19: =SUM(Q20:Q22)/IF($N22=0,2,3) -> 0 | R19: =SUM(R20:R22)/IF($N22=0,2,3) -> 0 | S19: =SUM(S20:S22)/IF($N22=0,2,3) -> 0 | T19: =SUM(T20:T22)/IF($N22=0,2,3) -> 0 | U19: =SUM(U20:U22)/IF(N22=0,2,3) -> 0 | V19: =N19-U19 -> 0 | W19: =IF(V19>=150,"Si","No") -> No | X19: =IF(V19=0,0,IF(ISERROR(RANK(V19,V:V)),"",RANK(Y19,Y:Y))) -> 0 | Y19: =IFERROR(V19+F19/100000+J19/10000000+G19/1000000000,0) -> 0
E20: J1 | N20: =SUM(F20:M20) -> 0 | U20: =SUM(O20:T20) -> 0
E21: J2 | N21: =SUM(F21:M21) -> 0 | U21: =SUM(O21:T21) -> 0 | X21: =IF(ISERROR(RANK(#REF!,#REF!)),"",RANK(#REF!,#REF!))
E22: J3 | N22: =SUM(F22:M22) -> 0 | U22: =SUM(O22:T22) -> 0 | X22: =IF(ISERROR(RANK(#REF!,#REF!)),"",RANK(#REF!,#REF!))
A23: 5 | B23: {=INDEX('List of Competitors'!I$27:I$46,MATCH($A23,'List of Competitors'!$G$27:$G$46,0))} -> 0 | C23: {=INDEX('List of Competitors'!J$27:J$46,MATCH($A23,'List of Competitors'!$G$27:$G$46,0))} -> 0 | D23: {=INDEX('List of Competitors'!K$27:K$46,MATCH($A23,'List of Competitors'!$G$27:$G$46,0))} -> 0 | E23: Average | F23: =AVERAGE(F24:F26) -> #DIV/0! | G23: =AVERAGE(G24:G26) -> #DIV/0! | H23: =AVERAGE(H24:H26) -> #DIV/0! | I23: =AVERAGE(I24:I26) -> #DIV/0! | J23: =AVERAGE(J24:J26) -> #DIV/0! | K23: =AVERAGE(K24:K26) -> #DIV/0! | L23: =AVERAGE(L24:L26) -> #DIV/0! | M23: =AVERAGE(M24:M26) -> #DIV/0! | N23: =SUM(N24:N26)/IF(N26=0,2,3) -> 0 | O23: =SUM(O24:O26)/IF($N26=0,2,3) -> 0 | P23: =SUM(P24:P26)/IF($N26=0,2,3) -> 0 | Q23: =SUM(Q24:Q26)/IF($N26=0,2,3) -> 0 | R23: =SUM(R24:R26)/IF($N26=0,2,3) -> 0 | S23: =SUM(S24:S26)/IF($N26=0,2,3) -> 0 | T23: =SUM(T24:T26)/IF($N26=0,2,3) -> 0 | U23: =SUM(U24:U26)/IF(N26=0,2,3) -> 0 | V23: =N23-U23 -> 0 | W23: =IF(V23>=150,"Si","No") -> No | X23: =IF(V23=0,0,IF(ISERROR(RANK(V23,V:V)),"",RANK(Y23,Y:Y))) -> 0 | Y23: =IFERROR(V23+F23/100000+J23/10000000+G23/1000000000,0) -> 0
E24: J1 | N24: =SUM(F24:M24) -> 0 | U24: =SUM(O24:T24) -> 0
E25: J2 | N25: =SUM(F25:M25) -> 0 | U25: =SUM(O25:T25) -> 0 | X25: =IF(ISERROR(RANK(#REF!,#REF!)),"",RANK(#REF!,#REF!))
E26: J3 | N26: =SUM(F26:M26) -> 0 | U26: =SUM(O26:T26) -> 0 | X26: =IF(ISERROR(RANK(#REF!,#REF!)),"",RANK(#REF!,#REF!))
A27: 6 | B27: {=INDEX('List of Competitors'!I$27:I$46,MATCH($A27,'List of Competitors'!$G$27:$G$46,0))} -> 0 | C27: {=INDEX('List of Competitors'!J$27:J$46,MATCH($A27,'List of Competitors'!$G$27:$G$46,0))} -> 0 | D27: {=INDEX('List of Competitors'!K$27:K$46,MATCH($A27,'List of Competitors'!$G$27:$G$46,0))} -> 0 | E27: Average | F27: =AVERAGE(F28:F30) -> #DIV/0! | G27: =AVERAGE(G28:G30) -> #DIV/0! | H27: =AVERAGE(H28:H30) -> #DIV/0! | I27: =AVERAGE(I28:I30) -> #DIV/0! | J27: =AVERAGE(J28:J30) -> #DIV/0! | K27: =AVERAGE(K28:K30) -> #DIV/0! | L27: =AVERAGE(L28:L30) -> #DIV/0! | M27: =AVERAGE(M28:M30) -> #DIV/0! | N27: =SUM(N28:N30)/IF(N30=0,2,3) -> 0 | O27: =SUM(O28:O30)/IF($N30=0,2,3) -> 0 | P27: =SUM(P28:P30)/IF($N30=0,2,3) -> 0 | Q27: =SUM(Q28:Q30)/IF($N30=0,2,3) -> 0 | R27: =SUM(R28:R30)/IF($N30=0,2,3) -> 0 | S27: =SUM(S28:S30)/IF($N30=0,2,3) -> 0 | T27: =SUM(T28:T30)/IF($N30=0,2,3) -> 0 | U27: =SUM(U28:U30)/IF(N30=0,2,3) -> 0 | V27: =N27-U27 -> 0 | W27: =IF(V27>=150,"Si","No") -> No | X27: =IF(V27=0,0,IF(ISERROR(RANK(V27,V:V)),"",RANK(Y27,Y:Y))) -> 0 | Y27: =IFERROR(V27+F27/100000+J27/10000000+G27/1000000000,0) -> 0
E28: J1 | N28: =SUM(F28:M28) -> 0 | U28: =SUM(O28:T28) -> 0
E29: J2 | N29: =SUM(F29:M29) -> 0 | U29: =SUM(O29:T29) -> 0 | X29: =IF(ISERROR(RANK(#REF!,#REF!)),"",RANK(#REF!,#REF!))
E30: J3 | N30: =SUM(F30:M30) -> 0 | U30: =SUM(O30:T30) -> 0 | X30: =IF(ISERROR(RANK(#REF!,#REF!)),"",RANK(#REF!,#REF!))
A31: 7 | B31: {=INDEX('List of Competitors'!I$27:I$46,MATCH($A31,'List of Competitors'!$G$27:$G$46,0))} -> 0 | C31: {=INDEX('List of Competitors'!J$27:J$46,MATCH($A31,'List of Competitors'!$G$27:$G$46,0))} -> 0 | D31: {=INDEX('List of Competitors'!K$27:K$46,MATCH($A31,'List of Competitors'!$G$27:$G$46,0))} -> 0 | E31: Average | F31: =AVERAGE(F32:F34) -> #DIV/0! | G31: =AVERAGE(G32:G34) -> #DIV/0! | H31: =AVERAGE(H32:H34) -> #DIV/0! | I31: =AVERAGE(I32:I34) -> #DIV/0! | J31: =AVERAGE(J32:J34) -> #DIV/0! | K31: =AVERAGE(K32:K34) -> #DIV/0! | L31: =AVERAGE(L32:L34) -> #DIV/0! | M31: =AVERAGE(M32:M34) -> #DIV/0! | N31: =SUM(N32:N34)/IF(N34=0,2,3) -> 0 | O31: =SUM(O32:O34)/IF($N34=0,2,3) -> 0 | P31: =SUM(P32:P34)/IF($N34=0,2,3) -> 0 | Q31: =SUM(Q32:Q34)/IF($N34=0,2,3) -> 0 | R31: =SUM(R32:R34)/IF($N34=0,2,3) -> 0 | S31: =SUM(S32:S34)/IF($N34=0,2,3) -> 0 | T31: =SUM(T32:T34)/IF($N34=0,2,3) -> 0 | U31: =SUM(U32:U34)/IF(N34=0,2,3) -> 0 | V31: =N31-U31 -> 0 | W31: =IF(V31>=150,"Si","No") -> No | X31: =IF(V31=0,0,IF(ISERROR(RANK(V31,V:V)),"",RANK(Y31,Y:Y))) -> 0 | Y31: =IFERROR(V31+F31/100000+J31/10000000+G31/1000000000,0) -> 0
E32: J1 | N32: =SUM(F32:M32) -> 0 | U32: =SUM(O32:T32) -> 0
E33: J2 | N33: =SUM(F33:M33) -> 0 | U33: =SUM(O33:T33) -> 0 | X33: =IF(ISERROR(RANK(#REF!,#REF!)),"",RANK(#REF!,#REF!))
E34: J3 | N34: =SUM(F34:M34) -> 0 | U34: =SUM(O34:T34) -> 0 | X34: =IF(ISERROR(RANK(#REF!,#REF!)),"",RANK(#REF!,#REF!))
A35: 8 | B35: {=INDEX('List of Competitors'!I$27:I$46,MATCH($A35,'List of Competitors'!$G$27:$G$46,0))} -> 0 | C35: {=INDEX('List of Competitors'!J$27:J$46,MATCH($A35,'List of Competitors'!$G$27:$G$46,0))} -> 0 | D35: {=INDEX('List of Competitors'!K$27:K$46,MATCH($A35,'List of Competitors'!$G$27:$G$46,0))} -> 0 | E35: Average | F35: =AVERAGE(F36:F38) -> #DIV/0! | G35: =AVERAGE(G36:G38) -> #DIV/0! | H35: =AVERAGE(H36:H38) -> #DIV/0! | I35: =AVERAGE(I36:I38) -> #DIV/0! | J35: =AVERAGE(J36:J38) -> #DIV/0! | K35: =AVERAGE(K36:K38) -> #DIV/0! | L35: =AVERAGE(L36:L38) -> #DIV/0! | M35: =AVERAGE(M36:M38) -> #DIV/0! | N35: =SUM(N36:N38)/IF(N38=0,2,3) -> 0 | O35: =SUM(O36:O38)/IF($N38=0,2,3) -> 0 | P35: =SUM(P36:P38)/IF($N38=0,2,3) -> 0 | Q35: =SUM(Q36:Q38)/IF($N38=0,2,3) -> 0 | R35: =SUM(R36:R38)/IF($N38=0,2,3) -> 0 | S35: =SUM(S36:S38)/IF($N38=0,2,3) -> 0 | T35: =SUM(T36:T38)/IF($N38=0,2,3) -> 0 | U35: =SUM(U36:U38)/IF(N38=0,2,3) -> 0 | V35: =N35-U35 -> 0 | W35: =IF(V35>=150,"Si","No") -> No | X35: =IF(V35=0,0,IF(ISERROR(RANK(V35,V:V)),"",RANK(Y35,Y:Y))) -> 0 | Y35: =IFERROR(V35+F35/100000+J35/10000000+G35/1000000000,0) -> 0
E36: J1 | N36: =SUM(F36:M36) -> 0 | U36: =SUM(O36:T36) -> 0
E37: J2 | N37: =SUM(F37:M37) -> 0 | U37: =SUM(O37:T37) -> 0 | X37: =IF(ISERROR(RANK(#REF!,#REF!)),"",RANK(#REF!,#REF!))
E38: J3 | N38: =SUM(F38:M38) -> 0 | U38: =SUM(O38:T38) -> 0 | X38: =IF(ISERROR(RANK(#REF!,#REF!)),"",RANK(#REF!,#REF!))
A39: 9 | B39: {=INDEX('List of Competitors'!I$27:I$46,MATCH($A39,'List of Competitors'!$G$27:$G$46,0))} -> 0 | C39: {=INDEX('List of Competitors'!J$27:J$46,MATCH($A39,'List of Competitors'!$G$27:$G$46,0))} -> 0 | D39: {=INDEX('List of Competitors'!K$27:K$46,MATCH($A39,'List of Competitors'!$G$27:$G$46,0))} -> 0 | E39: Average | F39: =AVERAGE(F40:F42) -> #DIV/0! | G39: =AVERAGE(G40:G42) -> #DIV/0! | H39: =AVERAGE(H40:H42) -> #DIV/0! | I39: =AVERAGE(I40:I42) -> #DIV/0! | J39: =AVERAGE(J40:J42) -> #DIV/0! | K39: =AVERAGE(K40:K42) -> #DIV/0! | L39: =AVERAGE(L40:L42) -> #DIV/0! | M39: =AVERAGE(M40:M42) -> #DIV/0! | N39: =SUM(N40:N42)/IF(N42=0,2,3) -> 0 | O39: =SUM(O40:O42)/IF($N42=0,2,3) -> 0 | P39: =SUM(P40:P42)/IF($N42=0,2,3) -> 0 | Q39: =SUM(Q40:Q42)/IF($N42=0,2,3) -> 0 | R39: =SUM(R40:R42)/IF($N42=0,2,3) -> 0 | S39: =SUM(S40:S42)/IF($N42=0,2,3) -> 0 | T39: =SUM(T40:T42)/IF($N42=0,2,3) -> 0 | U39: =SUM(U40:U42)/IF(N42=0,2,3) -> 0 | V39: =N39-U39 -> 0 | W39: =IF(V39>=150,"Si","No") -> No | X39: =IF(V39=0,0,IF(ISERROR(RANK(V39,V:V)),"",RANK(Y39,Y:Y))) -> 0 | Y39: =IFERROR(V39+F39/100000+J39/10000000+G39/1000000000,0) -> 0
E40: J1 | N40: =SUM(F40:M40) -> 0 | U40: =SUM(O40:T40) -> 0
E41: J2 | N41: =SUM(F41:M41) -> 0 | U41: =SUM(O41:T41) -> 0 | X41: =IF(ISERROR(RANK(#REF!,#REF!)),"",RANK(#REF!,#REF!))
...

Sheet HTM 0
B1: HTM 0 | E1: ='List of Competitors'!B2 -> NARNI (TR)
E2: ='List of Competitors'!C2 -> 03/05/2026
A4: # | B4: Nome | C4: Cognome | D4: Cane | E4: Judge | F4: Team work | G4: Dinamicità | H4: Progetto | I4: Coreografia | J4: Fluidità | K4: Esecuzione | L4: Contenuto | M4: Difficoltà | N4: Punit | O4: Detrazioni di punti | W4: Totale | X4: punto di passaggio | Y4: Posizionamento | Z4: Korr Punkte Teamwork, Fluss
O5: Abbaio e vocalizzazioni | P5: Salute del cane | Q5: costume / Oggetti di scena | R5: Lunghezze musicali errate | S5: Trattamento improprio del cane | T5: Contatto attivo | U5: % HTM | V5: Totale
F6: max. 25 | G6: max. 25 | H6: max. 25 | I6: max. 25 | J6: max. 25 | K6: max. 25 | L6: max. 25 | M6: max. 25 | O6: max. 20 | P6: max. 20 | Q6: max. 20 | R6: 1 Punkt / sec | S6: max. 20 | T6: max. 20 | U6: [X]
A7: 1 | B7: {=INDEX('List of Competitors'!C$5:C$24,MATCH($A7,'List of Competitors'!$A$5:$A$24,0))} -> DANIELA | C7: {=INDEX('List of Competitors'!D$5:D$24,MATCH($A7,'List of Competitors'!$A$5:$A$24,0))} -> MORSIANI | D7: {=INDEX('List of Competitors'!E$5:E$24,MATCH($A7,'List of Competitors'!$A$5:$A$24,0))} -> KORI | E7: Average | F7: =AVERAGE(F8:F10) -> 20.5 | G7: =AVERAGE(G8:G10) -> 21 | H7: =AVERAGE(H8:H10) -> 21.5 | I7: =AVERAGE(I8:I10) -> 21 | J7: =AVERAGE(J8:J10) -> 20.5 | K7: =AVERAGE(K8:K10) -> 21 | L7: =AVERAGE(L8:L10) -> 19.5 | M7: =AVERAGE(M8:M10) -> 19 | N7: =SUM(N8:N10)/IF(N10=0,2,3) -> 164 | O7: =SUM(O8:O10)/IF($N10=0,2,3) -> 0 | P7: =SUM(P8:P10)/IF($N10=0,2,3) -> 0 | Q7: =SUM(Q8:Q10)/IF($N10=0,2,3) -> 0 | R7: =SUM(R8:R10)/IF($N10=0,2,3) -> 0 | S7: =SUM(S8:S10)/IF($N10=0,2,3) -> 0 | T7: =SUM(T8:T10)/IF($N10=0,2,3) -> 0 | V7: =SUM(V8:V10)/IF(N10=0,2,3) -> 0 | W7: =N7-V7 -> 164 | X7: =IF(W7>=150,"Si","No") -> Si | Y7: =IF(W7=0,0,IF(ISERROR(RANK(W7,W:W)),"",RANK(Z7,Z:Z))) -> 1 | Z7: =IFERROR(W7+F7/100000+J7/10000000+G7/1000000000,0) -> 164.00021
E8: J1 | F8: 21 | G8: 22 | H8: 22 | I8: 23 | J8: 22 | K8: 22 | L8: 20 | M8: 20 | N8: =SUM(F8:M8) -> 172 | V8: =SUM(O8:T8) -> 0
E9: J2 | F9: 20 | G9: 20 | H9: 21 | I9: 19 | J9: 19 | K9: 20 | L9: 19 | M9: 18 | N9: =SUM(F9:M9) -> 156 | V9: =SUM(O9:T9) -> 0 | Y9: =IF(ISERROR(RANK(#REF!,#REF!)),"",RANK(#REF!,#REF!))
E10: J3 | N10: =SUM(F10:M10) -> 0 | V10: =SUM(O10:T10) -> 0 | Y10: =IF(ISERROR(RANK(#REF!,#REF!)),"",RANK(#REF!,#REF!))
A11: 2 | B11: {=INDEX('List of Competitors'!C$5:C$24,MATCH($A11,'List of Competitors'!$A$5:$A$24,0))} -> 0 | C11: {=INDEX('List of Competitors'!D$5:D$24,MATCH($A11,'List of Competitors'!$A$5:$A$24,0))} -> 0 | D11: {=INDEX('List of Competitors'!E$5:E$24,MATCH($A11,'List of Competitors'!$A$5:$A$24,0))} -> 0 | E11: Average | F11: =AVERAGE(F12:F14) -> #DIV/0! | G11: =AVERAGE(G12:G14) -> #DIV/0! | H11: =AVERAGE(H12:H14) -> #DIV/0! | I11: =AVERAGE(I12:I14) -> #DIV/0! | J11: =AVERAGE(J12:J14) -> #DIV/0! | K11: =AVERAGE(K12:K14) -> #DIV/0! | L11: =AVERAGE(L12:L14) -> #DIV/0! | M11: =AVERAGE(M12:M14) -> #DIV/0! | N11: =SUM(N12:N14)/IF(N14=0,2,3) -> 0 | O11: =SUM(O12:O14)/IF($N14=0,2,3) -> 0 | P11: =SUM(P12:P14)/IF($N14=0,2,3) -> 0 | Q11: =SUM(Q12:Q14)/IF($N14=0,2,3) -> 0 | R11: =SUM(R12:R14)/IF($N14=0,2,3) -> 0 | S11: =SUM(S12:S14)/IF($N14=0,2,3) -> 0 | T11: =SUM(T12:T14)/IF($N14=0,2,3) -> 0 | V11: =SUM(V12:V14)/IF(N14=0,2,3) -> 0 | W11: =N11-V11 -> 0 | X11: =IF(W11>=150,"Si","No") -> No | Y11: =IF(W11=0,0,IF(ISERROR(RANK(W11,W:W)),"",RANK(Z11,Z:Z))) -> 0 | Z11: =IFERROR(W11+F11/100000+J11/10000000+G11/1000000000,0) -> 0
E12: J1 | N12: =SUM(F12:M12) -> 0 | V12: =SUM(O12:T12) -> 0
E13: J2 | N13: =SUM(F13:M13) -> 0 | V13: =SUM(O13:T13) -> 0 | Y13: =IF(ISERROR(RANK(#REF!,#REF!)),"",RANK(#REF!,#REF!))
E14: J3 | N14: =SUM(F14:M14) -> 0 | V14: =SUM(O14:T14) -> 0 | Y14: =IF(ISERROR(RANK(#REF!,#REF!)),"",RANK(#REF!,#REF!))
A15: 3 | B15: {=INDEX('List of Competitors'!C$5:C$24,MATCH($A15,'List of Competitors'!$A$5:$A$24,0))} -> 0 | C15: {=INDEX('List of Competitors'!D$5:D$24,MATCH($A15,'List of Competitors'!$A$5:$A$24,0))} -> 0 | D15: {=INDEX('List of Competitors'!E$5:E$24,MATCH($A15,'List of Competitors'!$A$5:$A$24,0))} -> 0 | E15: Average | F15: =AVERAGE(F16:F18) -> #DIV/0! | G15: =AVERAGE(G16:G18) -> #DIV/0! | H15: =AVERAGE(H16:H18) -> #DIV/0! | I15: =AVERAGE(I16:I18) -> #DIV/0! | J15: =AVERAGE(J16:J18) -> #DIV/0! | K15: =AVERAGE(K16:K18) -> #DIV/0! | L15: =AVERAGE(L16:L18) -> #DIV/0! | M15: =AVERAGE(M16:M18) -> #DIV/0! | N15: =SUM(N16:N18)/IF(N18=0,2,3) -> 0 | O15: =SUM(O16:O18)/IF($N18=0,2,3) -> 0 | P15: =SUM(P16:P18)/IF($N18=0,2,3) -> 0 | Q15: =SUM(Q16:Q18)/IF($N18=0,2,3) -> 0 | R15: =SUM(R16:R18)/IF($N18=0,2,3) -> 0 | S15: =SUM(S16:S18)/IF($N18=0,2,3) -> 0 | T15: =SUM(T16:T18)/IF($N18=0,2,3) -> 0 | V15: =SUM(V16:V18)/IF(N18=0,2,3) -> 0 | W15: =N15-V15 -> 0 | X15: =IF(W15>=150,"Si","No") -> No | Y15: =IF(W15=0,0,IF(ISERROR(RANK(W15,W:W)),"",RANK(Z15,Z:Z))) -> 0 | Z15: =IFERROR(W15+F15/100000+J15/10000000+G15/1000000000,0) -> 0
E16: J1 | N16: =SUM(F16:M16) -> 0 | V16: =SUM(O16:T16) -> 0
E17: J2 | N17: =SUM(F17:M17) -> 0 | V17: =SUM(O17:T17) -> 0 | Y17: =IF(ISERROR(RANK(#REF!,#REF!)),"",RANK(#REF!,#REF!))
E18: J3 | N18: =SUM(F18:M18) -> 0 | V18: =SUM(O18:T18) -> 0 | Y18: =IF(ISERROR(RANK(#REF!,#REF!)),"",RANK(#REF!,#REF!))
A19: 4 | B19: {=INDEX('List of Competitors'!C$5:C$24,MATCH($A19,'List of Competitors'!$A$5:$A$24,0))} -> 0 | C19: {=INDEX('List of Competitors'!D$5:D$24,MATCH($A19,'List of Competitors'!$A$5:$A$24,0))} -> 0 | D19: {=INDEX('List of Competitors'!E$5:E$24,MATCH($A19,'List of Competitors'!$A$5:$A$24,0))} -> 0 | E19: Average | F19: =AVERAGE(F20:F22) -> #DIV/0! | G19: =AVERAGE(G20:G22) -> #DIV/0! | H19: =AVERAGE(H20:H22) -> #DIV/0! | I19: =AVERAGE(I20:I22) -> #DIV/0! | J19: =AVERAGE(J20:J22) -> #DIV/0! | K19: =AVERAGE(K20:K22) -> #DIV/0! | L19: =AVERAGE(L20:L22) -> #DIV/0! | M19: =AVERAGE(M20:M22) -> #DIV/0! | N19: =SUM(N20:N22)/IF(N22=0,2,3) -> 0 | O19: =SUM(O20:O22)/IF($N22=0,2,3) -> 0 | P19: =SUM(P20:P22)/IF($N22=0,2,3) -> 0 | Q19: =SUM(Q20:Q22)/IF($N22=0,2,3) -> 0 | R19: =SUM(R20:R22)/IF($N22=0,2,3) -> 0 | S19: =SUM(S20:S22)/IF($N22=0,2,3) -> 0 | T19: =SUM(T20:T22)/IF($N22=0,2,3) -> 0 | V19: =SUM(V20:V22)/IF(N22=0,2,3) -> 0 | W19: =N19-V19 -> 0 | X19: =IF(W19>=150,"Si","No") -> No | Y19: =IF(W19=0,0,IF(ISERROR(RANK(W19,W:W)),"",RANK(Z19,Z:Z))) -> 0 | Z19: =IFERROR(W19+F19/100000+J19/10000000+G19/1000000000,0) -> 0
E20: J1 | N20: =SUM(F20:M20) -> 0 | V20: =SUM(O20:T20) -> 0
E21: J2 | N21: =SUM(F21:M21) -> 0 | V21: =SUM(O21:T21) -> 0 | Y21: =IF(ISERROR(RANK(#REF!,#REF!)),"",RANK(#REF!,#REF!))
E22: J3 | N22: =SUM(F22:M22) -> 0 | V22: =SUM(O22:T22) -> 0 | Y22: =IF(ISERROR(RANK(#REF!,#REF!)),"",RANK(#REF!,#REF!))
A23: 5 | B23: {=INDEX('List of Competitors'!C$5:C$24,MATCH($A23,'List of Competitors'!$A$5:$A$24,0))} -> 0 | C23: {=INDEX('List of Competitors'!D$5:D$24,MATCH($A23,'List of Competitors'!$A$5:$A$24,0))} -> 0 | D23: {=INDEX('List of Competitors'!E$5:E$24,MATCH($A23,'List of Competitors'!$A$5:$A$24,0))} -> 0 | E23: Average | F23: =AVERAGE(F24:F26) -> #DIV/0! | G23: =AVERAGE(G24:G26) -> #DIV/0! | H23: =AVERAGE(H24:H26) -> #DIV/0! | I23: =AVERAGE(I24:I26) -> #DIV/0! | J23: =AVERAGE(J24:J26) -> #DIV/0! | K23: =AVERAGE(K24:K26) -> #DIV/0! | L23: =AVERAGE(L24:L26) -> #DIV/0! | M23: =AVERAGE(M24:M26) -> #DIV/0! | N23: =SUM(N24:N26)/IF(N26=0,2,3) -> 0 | O23: =SUM(O24:O26)/IF($N26=0,2,3) -> 0 | P23: =SUM(P24:P26)/IF($N26=0,2,3) -> 0 | Q23: =SUM(Q24:Q26)/IF($N26=0,2,3) -> 0 | R23: =SUM(R24:R26)/IF($N26=0,2,3) -> 0 | S23: =SUM(S24:S26)/IF($N26=0,2,3) -> 0 | T23: =SUM(T24:T26)/IF($N26=0,2,3) -> 0 | V23: =SUM(V24:V26)/IF(N26=0,2,3) -> 0 | W23: =N23-V23 -> 0 | X23: =IF(W23>=150,"Si","No") -> No | Y23: =IF(W23=0,0,IF(ISERROR(RANK(W23,W:W)),"",RANK(Z23,Z:Z))) -> 0 | Z23: =IFERROR(W23+F23/100000+J23/10000000+G23/1000000000,0) -> 0
E24: J1 | N24: =SUM(F24:M24) -> 0 | V24: =SUM(O24:T24) -> 0
E25: J2 | N25: =SUM(F25:M25) -> 0 | V25: =SUM(O25:T25) -> 0 | Y25: =IF(ISERROR(RANK(#REF!,#REF!)),"",RANK(#REF!,#REF!))
E26: J3 | N26: =SUM(F26:M26) -> 0 | V26: =SUM(O26:T26) -> 0 | Y26: =IF(ISERROR(RANK(#REF!,#REF!)),"",RANK(#REF!,#REF!))
A27: 6 | B27: {=INDEX('List of Competitors'!C$5:C$24,MATCH($A27,'List of Competitors'!$A$5:$A$24,0))} -> 0 | C27: {=INDEX('List of Competitors'!D$5:D$24,MATCH($A27,'List of Competitors'!$A$5:$A$24,0))} -> 0 | D27: {=INDEX('List of Competitors'!E$5:E$24,MATCH($A27,'List of Competitors'!$A$5:$A$24,0))} -> 0 | E27: Average | F27: =AVERAGE(F28:F30) -> #DIV/0! | G27: =AVERAGE(G28:G30) -> #DIV/0! | H27: =AVERAGE(H28:H30) -> #DIV/0! | I27: =AVERAGE(I28:I30) -> #DIV/0! | J27: =AVERAGE(J28:J30) -> #DIV/0! | K27: =AVERAGE(K28:K30) -> #DIV/0! | L27: =AVERAGE(L28:L30) -> #DIV/0! | M27: =AVERAGE(M28:M30) -> #DIV/0! | N27: =SUM(N28:N30)/IF(N30=0,2,3) -> 0 | O27: =SUM(O28:O30)/IF($N30=0,2,3) -> 0 | P27: =SUM(P28:P30)/IF($N30=0,2,3) -> 0 | Q27: =SUM(Q28:Q30)/IF($N30=0,2,3) -> 0 | R27: =SUM(R28:R30)/IF($N30=0,2,3) -> 0 | S27: =SUM(S28:S30)/IF($N30=0,2,3) -> 0 | T27: =SUM(T28:T30)/IF($N30=0,2,3) -> 0 | V27: =SUM(V28:V30)/IF(N30=0,2,3) -> 0 | W27: =N27-V27 -> 0 | X27: =IF(W27>=150,"Si","No") -> No | Y27: =IF(W27=0,0,IF(ISERROR(RANK(W27,W:W)),"",RANK(Z27,Z:Z))) -> 0 | Z27: =IFERROR(W27+F27/100000+J27/10000000+G27/1000000000,0) -> 0
E28: J1 | N28: =SUM(F28:M28) -> 0 | V28: =SUM(O28:T28) -> 0
E29: J2 | N29: =SUM(F29:M29) -> 0 | V29: =SUM(O29:T29) -> 0 | Y29: =IF(ISERROR(RANK(#REF!,#REF!)),"",RANK(#REF!,#REF!))
E30: J3 | N30: =SUM(F30:M30) -> 0 | V30: =SUM(O30:T30) -> 0 | Y30: =IF(ISERROR(RANK(#REF!,#REF!)),"",RANK(#REF!,#REF!))
A31: 7 | B31: {=INDEX('List of Competitors'!C$5:C$24,MATCH($A31,'List of Competitors'!$A$5:$A$24,0))} -> 0 | C31: {=INDEX('List of Competitors'!D$5:D$24,MATCH($A31,'List of Competitors'!$A$5:$A$24,0))} -> 0 | D31: {=INDEX('List of Competitors'!E$5:E$24,MATCH($A31,'List of Competitors'!$A$5:$A$24,0))} -> 0 | E31: Average | F31: =AVERAGE(F32:F34) -> #DIV/0! | G31: =AVERAGE(G32:G34) -> #DIV/0! | H31: =AVERAGE(H32:H34) -> #DIV/0! | I31: =AVERAGE(I32:I34) -> #DIV/0! | J31: =AVERAGE(J32:J34) -> #DIV/0! | K31: =AVERAGE(K32:K34) -> #DIV/0! | L31: =AVERAGE(L32:L34) -> #DIV/0! | M31: =AVERAGE(M32:M34) -> #DIV/0! | N31: =SUM(N32:N34)/IF(N34=0,2,3) -> 0 | O31: =SUM(O32:O34)/IF($N34=0,2,3) -> 0 | P31: =SUM(P32:P34)/IF($N34=0,2,3) -> 0 | Q31: =SUM(Q32:Q34)/IF($N34=0,2,3) -> 0 | R31: =SUM(R32:R34)/IF($N34=0,2,3) -> 0 | S31: =SUM(S32:S34)/IF($N34=0,2,3) -> 0 | T31: =SUM(T32:T34)/IF($N34=0,2,3) -> 0 | V31: =SUM(V32:V34)/IF(N34=0,2,3) -> 0 | W31: =N31-V31 -> 0 | X31: =IF(W31>=150,"Si","No") -> No | Y31: =IF(W31=0,0,IF(ISERROR(RANK(W31,W:W)),"",RANK(Z31,Z:Z))) -> 0 | Z31: =IFERROR(W31+F31/100000+J31/10000000+G31/1000000000,0) -> 0
E32: J1 | N32: =SUM(F32:M32) -> 0 | V32: =SUM(O32:T32) -> 0
E33: J2 | N33: =SUM(F33:M33) -> 0 | V33: =SUM(O33:T33) -> 0 | Y33: =IF(ISERROR(RANK(#REF!,#REF!)),"",RANK(#REF!,#REF!))
E34: J3 | N34: =SUM(F34:M34) -> 0 | V34: =SUM(O34:T34) -> 0 | Y34: =IF(ISERROR(RANK(#REF!,#REF!)),"",RANK(#REF!,#REF!))
A35: 8 | B35: {=INDEX('List of Competitors'!C$5:C$24,MATCH($A35,'List of Competitors'!$A$5:$A$24,0))} -> 0 | C35: {=INDEX('List of Competitors'!D$5:D$24,MATCH($A35,'List of Competitors'!$A$5:$A$24,0))} -> 0 | D35: {=INDEX('List of Competitors'!E$5:E$24,MATCH($A35,'List of Competitors'!$A$5:$A$24,0))} -> 0 | E35: Average | F35: =AVERAGE(F36:F38) -> #DIV/0! | G35: =AVERAGE(G36:G38) -> #DIV/0! | H35: =AVERAGE(H36:H38) -> #DIV/0! | I35: =AVERAGE(I36:I38) -> #DIV/0! | J35: =AVERAGE(J36:J38) -> #DIV/0! | K35: =AVERAGE(K36:K38) -> #DIV/0! | L35: =AVERAGE(L36:L38) -> #DIV/0! | M35: =AVERAGE(M36:M38) -> #DIV/0! | N35: =SUM(N36:N38)/IF(N38=0,2,3) -> 0 | O35: =SUM(O36:O38)/IF($N38=0,2,3) -> 0 | P35: =SUM(P36:P38)/IF($N38=0,2,3) -> 0 | Q35: =SUM(Q36:Q38)/IF($N38=0,2,3) -> 0 | R35: =SUM(R36:R38)/IF($N38=0,2,3) -> 0 | S35: =SUM(S36:S38)/IF($N38=0,2,3) -> 0 | T35: =SUM(T36:T38)/IF($N38=0,2,3) -> 0 | V35: =SUM(V36:V38)/IF(N38=0,2,3) -> 0 | W35: =N35-V35 -> 0 | X35: =IF(W35>=150,"Si","No") -> No | Y35: =IF(W35=0,0,IF(ISERROR(RANK(W35,W:W)),"",RANK(Z35,Z:Z))) -> 0 | Z35: =IFERROR(W35+F35/100000+J35/10000000+G35/1000000000,0) -> 0
E36: J1 | N36: =SUM(F36:M36) -> 0 | V36: =SUM(O36:T36) -> 0
E37: J2 | N37: =SUM(F37:M37) -> 0 | V37: =SUM(O37:T37) -> 0 | Y37: =IF(ISERROR(RANK(#REF!,#REF!)),"",RANK(#REF!,#REF!))
E38: J3 | N38: =SUM(F38:M38) -> 0 | V38: =SUM(O38:T38) -> 0 | Y38: =IF(ISERROR(RANK(#REF!,#REF!)),"",RANK(#REF!,#REF!))
A39: 9 | B39: {=INDEX('List of Competitors'!C$5:C$24,MATCH($A39,'List of Competitors'!$A$5:$A$24,0))} -> 0 | C39: {=INDEX('List of Competitors'!D$5:D$24,MATCH($A39,'List of Competitors'!$A$5:$A$24,0))} -> 0 | D39: {=INDEX('List of Competitors'!E$5:E$24,MATCH($A39,'List of Competitors'!$A$5:$A$24,0))} -> 0 | E39: Average | F39: =AVERAGE(F40:F42) -> #DIV/0! | G39: =AVERAGE(G40:G42) -> #DIV/0! | H39: =AVERAGE(H40:H42) -> #DIV/0! | I39: =AVERAGE(I40:I42) -> #DIV/0! | J39: =AVERAGE(J40:J42) -> #DIV/0! | K39: =AVERAGE(K40:K42) -> #DIV/0! | L39: =AVERAGE(L40:L42) -> #DIV/0! | M39: =AVERAGE(M40:M42) -> #DIV/0! | N39: =SUM(N40:N42)/IF(N42=0,2,3) -> 0 | O39: =SUM(O40:O42)/IF($N42=0,2,3) -> 0 | P39: =SUM(P40:P42)/IF($N42=0,2,3) -> 0 | Q39: =SUM(Q40:Q42)/IF($N42=0,2,3) -> 0 | R39: =SUM(R40:R42)/IF($N42=0,2,3) -> 0 | S39: =SUM(S40:S42)/IF($N42=0,2,3) -> 0 | T39: =SUM(T40:T42)/IF($N42=0,2,3) -> 0 | V39: =SUM(V40:V42)/IF(N42=0,2,3) -> 0 | W39: =N39-V39 -> 0 | X39: =IF(W39>=150,"Si","No") -> No | Y39: =IF(W39=0,0,IF(ISERROR(RANK(W39,W:W)),"",RANK(Z39,Z:Z))) -> 0 | Z39: =IFERROR(W39+F39/100000+J39/10000000+G39/1000000000,0) -> 0
E40: J1 | N40: =SUM(F40:M40) -> 0 | V40: =SUM(O40:T40) -> 0
E41: J2 | N41: =SUM(F41:M41) -> 0 | V41: =SUM(O41:T41) -> 0 | Y41: =IF(ISERROR(RANK(#REF!,#REF!)),"",RANK(#REF!,#REF!))
...

Sheet FS 0
B1: FS 0 | E1: ='List of Competitors'!B2 -> NARNI (TR)
E2: ='List of Competitors'!C2 -> 03/05/2026
