Workbook

Sheet Dropdown
A1: Klassen
A2: FS 0
A3: FS 1
A4: FS 2
A5: FS 3
A6: HTM 0
A7: HTM 1
A8: HTM 2
A9: HTM 3
A10: Senioren Handicap
A11: Trio
A12: Quartett

Sheet Instruction for Use
A1: Preparation | B1: insert all teams into tab "List of Competitors", do not delete a line / cell / column, just leave it blank when there are no competitors, so not change tables
B2: Insert the competition's name, place and date into tab "List of Competitors" in B2 / C2
A4: During Competition | B4: Insert Points according to judging sheets
B5: you can hide the deductions (by clicking on + or - above column V)
B6: The ranking automatically takes into account teamwork, flow and dynamism in the event of a points tie
B7: in case of further equality of points, changes have to be made manually
B8: It is automatically taken into account whether two or three judges judge in classes 0-2, or whether four or three judges judge in class 3
B9: Abandonments / disqualifications must currently be entered manually in the overview.
A11: Export Results | B11: Hide all tabs that are not required for the PDF (right click on tab "List of Competitors" and the classes without competitors - "Hide")
B12: all empty lines (in the individual classes as well as in the overview) can be hidden for clarity (select lines, right-click, "hide")
B13: File - Export - Create PDF document - Options - Select entire workbook
A15: After the Competition | B15: After thorough examination, log on to the DDI website, submit results: https://www.dogdance.info/de/turniere/veranstalter/result

Sheet List of Competitors
B1: Torneo / Luogo | C1: Data
B2: NARNI(TR) | C2: 18 Luglio 2026
A4: # | B4: Classi | C4: Nome | D4: Cognome | E4: Cane | G4: # | H4: Classi | I4: Nome | J4: Cognome | K4: Cane | M4: # | N4: Classi | O4: Nome | P4: Cognome | Q4: Cane | S4: # | T4: Classi | U4: Nome | V4: Cognome | W4: Cane
A5: 1 | B5: HTM 0 | G5: 1 | H5: HTM 1 | I5: CRISTINA | J5: VENTURI | K5: SLASH | M5: 1 | N5: HTM 2 | S5: 1 | T5: HTM 3
A6: 2 | B6: HTM 0 | G6: 2 | H6: HTM 1 | I6: BARBARA | J6: GERMANI | K6: ZERO | M6: 2 | N6: HTM 2 | S6: 2 | T6: HTM 3
A7: 3 | B7: HTM 0 | G7: 3 | H7: HTM 1 | I7: RACHELE | J7: TULLI | K7: MELODY | M7: 3 | N7: HTM 2 | S7: 3 | T7: HTM 3
A8: 4 | B8: HTM 0 | G8: 4 | H8: HTM 1 | M8: 4 | N8: HTM 2 | S8: 4 | T8: HTM 3
A9: 5 | B9: HTM 0 | G9: 5 | H9: HTM 1 | M9: 5 | N9: HTM 2 | S9: 5 | T9: HTM 3
A10: 6 | B10: HTM 0 | G10: 6 | H10: HTM 1 | M10: 6 | N10: HTM 2 | S10: 6 | T10: HTM 3
A11: 7 | B11: HTM 0 | G11: 7 | H11: HTM 1 | M11: 7 | N11: HTM 2 | S11: 7 | T11: HTM 3
A12: 8 | B12: HTM 0 | G12: 8 | H12: HTM 1 | M12: 8 | N12: HTM 2 | S12: 8 | T12: HTM 3
A13: 9 | B13: HTM 0 | G13: 9 | H13: HTM 1 | M13: 9 | N13: HTM 2 | S13: 9 | T13: HTM 3
A14: 10 | B14: HTM 0 | G14: 10 | H14: HTM 1 | M14: 10 | N14: HTM 2 | S14: 10 | T14: HTM 3
A15: 11 | B15: HTM 0 | G15: 11 | H15: HTM 1 | M15: 11 | N15: HTM 2 | S15: 11 | T15: HTM 3
A16: 12 | B16: HTM 0 | G16: 12 | H16: HTM 1 | M16: 12 | N16: HTM 2 | S16: 12 | T16: HTM 3
A17: 13 | B17: HTM 0 | G17: 13 | H17: HTM 1 | M17: 13 | N17: HTM 2 | S17: 13 | T17: HTM 3
A18: 14 | B18: HTM 0 | G18: 14 | H18: HTM 1 | M18: 14 | N18: HTM 2 | S18: 14 | T18: HTM 3
A19: 15 | B19: HTM 0 | G19: 15 | H19: HTM 1 | M19: 15 | N19: HTM 2 | S19: 15 | T19: HTM 3
... A24: 20 | B24: HTM 0 | G24: 20 | H24: HTM 1 | M24: 20 | N24: HTM 2 | S24: 20 | T24: HTM 3
A26: # | B26: Classi | C26: Nome | D26: Cognome | E26: Cane | G26: # | H26: Classi | I26: Nome | J26: Cognome | K26: Cane | M26: # | N26: Classi | O26: Nome | P26: Cognome | Q26: Cane | S26: # | T26: Classi | U26: Nome | V26: Cognome | W26: Cane
A27: 1 | B27: FS 0 | C27: ELEONORA | D27: GIOMI | E27: GHOST | G27: 1 | H27: FS 1 | I27: PAOLA | J27: BENCINI | K27: SHILA | M27: 1 | N27: FS 2 | O27: BARBARA | P27: GERMANI | Q27: ZERO | S27: 1 | T27: FS 3 | U27: GLORIA | V27: ALLASIA | W27: BRUCE
A28: 2 | B28: FS 0 | C28: CRISTINA | D28: VENTURI | E28: HANDRIX | G28: 2 | H28: FS 1 | I28: LUCIA | J28: COLOMBO | K28: AARON | M28: 2 | N28: FS 2 | S28: 2 | T28: FS 3 | U28: PAOLA | V28: BENCINI | W28: NEVE
A29: 3 | B29: FS 0 | C29: SOFIA | D29: PARRASIA | E29: WHISPER | G29: 3 | H29: FS 1 | I29: ILARIA | J29: GUGLIELMAN | K29: BLU | M29: 3 | N29: FS 2 | S29: 3 | T29: FS 3
A30: 4 | B30: FS 0 | C30: ALESSIA | D30: GIANNINI | E30: BAGHEERA | G30: 4 | H30: FS 1 | M30: 4 | N30: FS 2 | S30: 4 | T30: FS 3
A31: 5 | B31: FS 0 | C31: BARBARA | D31: CASTELLI | E31: VIOLETTA | G31: 5 | H31: FS 1 | M31: 5 | N31: FS 2 | S31: 5 | T31: FS 3
A32: 6 | B32: FS 0 | C32: ELEONORA | D32: GIOMI | E32: FIRE | G32: 6 | H32: FS 1 | M32: 6 | N32: FS 2 | S32: 6 | T32: FS 3
A33: 7 | B33: FS 0 | G33: 7 | H33: FS 1 | M33: 7 | N33: FS 2 | S33: 7 | T33: FS 3
A34: 8 | B34: FS 0 | G34: 8 | H34: FS 1 | M34: 8 | N34: FS 2 | S34: 8 | T34: FS 3
A35: 9 | B35: FS 0 | G35: 9 | H35: FS 1 | M35: 9 | N35: FS 2 | S35: 9 | T35: FS 3
A36: 10 | B36: FS 0 | G36: 10 | H36: FS 1 | M36: 10 | N36: FS 2 | S36: 10 | T36: FS 3
A37: 11 | B37: FS 0 | G37: 11 | H37: FS 1 | M37: 11 | N37: FS 2 | S37: 11 | T37: FS 3
A38: 12 | B38: FS 0 | G38: 12 | H38: FS 1 | M38: 12 | N38: FS 2 | S38: 12 | T38: FS 3
A39: 13 | B39: FS 0 | G39: 13 | H39: FS 1 | M39: 13 | N39: FS 2 | S39: 13 | T39: FS 3
A40: 14 | B40: FS 0 | G40: 14 | H40: FS 1 | M40: 14 | N40: FS 2 | S40: 14 | T40: FS 3
A41: 15 | B41: FS 0 | G41: 15 | H41: FS 1 | M41: 15 | N41: FS 2 | S41: 15 | T41: FS 3
A42: 16 | B42: FS 0 | G42: 16 | H42: FS 1 | M42: 16 | N42: FS 2 | S42: 16 | T42: FS 3
A43: 17 | B43: FS 0 | G43: 17 | H43: FS 1 | M43: 17 | N43: FS 2 | S43: 17 | T43: FS 3
A44: 18 | B44: FS 0 | G44: 18 | H44: FS 1 | M44: 18 | N44: FS 2 | S44: 18 | T44: FS 3
... A46: 20 | B46: FS 0 | G46: 20 | H46: FS 1 | M46: 20 | N46: FS 2 | S46: 20 | T46: FS 3
A48: # | B48: Classi | C48: Nome | D48: Cognome | E48: Cane | G48: # | H48: Classi | I48: Nome | J48: Cognome | K48: Cane | M48: # | N48: Classi | O48: Nome | P48: Cognome | Q48: Cane | S48: # | T48: Classi | U48: Nome | V48: Cognome | W48: Cane
...

Sheet Overview
E1: ='List of Competitors'!B2 -> NARNI(TR)
E2: ='List of Competitors'!C2 -> 18 Luglio 2026
A5: HTM 1
E6: artistic | I6: tecnici | N6: Detrazioni di punti | U6: Risultato
A7: Posizionamento | B7: Nome | C7: Cognome | D7: Cane | E7: Team work | F7: Dinamicità | G7: Concetto | H7: Coreografia | I7: Fluidità | J7: Esecuzione | K7: Contenuto | L7: Difficoltà | M7: punti | N7: Abbaio e vocalizzazioni | O7: Salute del cane | P7: costume / Oggetti di scena | Q7: Lunghezze musicali errate | R7: Trattamento improprio del cane | S7: Contatto attivo | T7: Detrazioni di punti | U7: Totale | V7: Posizionamento | W7: punto di passaggio
A8: 1 | B8: RACHELE | C8: =INDEX('HTM 1'!$C$7:$C$86,MATCH(A8,'HTM 1'!$Y$7:$Y$86,0)) -> TULLI | D8: =INDEX('HTM 1'!$D$7:$D$86,MATCH(A8,'HTM 1'!$Y$7:$Y$86,0)) -> MELODY | E8: =INDEX('HTM 1'!F$7:F$86,MATCH($A8,'HTM 1'!$Y$7:$Y$86,0)) -> 22.5 | F8: =INDEX('HTM 1'!G$7:G$86,MATCH($A8,'HTM 1'!$Y$7:$Y$86,0)) -> 22 | G8: =INDEX('HTM 1'!H$7:H$86,MATCH($A8,'HTM 1'!$Y$7:$Y$86,0)) -> 21.5 | H8: =INDEX('HTM 1'!I$7:I$86,MATCH($A8,'HTM 1'!$Y$7:$Y$86,0)) -> 22 | I8: =INDEX('HTM 1'!J$7:J$86,MATCH($A8,'HTM 1'!$Y$7:$Y$86,0)) -> 20 | J8: =INDEX('HTM 1'!K$7:K$86,MATCH($A8,'HTM 1'!$Y$7:$Y$86,0)) -> 20.5 | K8: =INDEX('HTM 1'!L$7:L$86,MATCH($A8,'HTM 1'!$Y$7:$Y$86,0)) -> 20.5 | L8: =INDEX('HTM 1'!M$7:M$86,MATCH($A8,'HTM 1'!$Y$7:$Y$86,0)) -> 20.5 | ... S8: =INDEX('HTM 1'!T$7:T$86,MATCH($A8,'HTM 1'!$Y$7:$Y$86,0)) -> 0 | T8: =INDEX('HTM 1'!V$7:V$86,MATCH($A8,'HTM 1'!$Y$7:$Y$86,0)) -> 0 | U8: =INDEX('HTM 1'!$W$7:$W$86,MATCH(A8,'HTM 1'!$Y$7:$Y$86,0)) -> 169.5 | V8: =INDEX('HTM 1'!$Y$7:$Y$86,MATCH(A8,'HTM 1'!$Y$7:$Y$86,0)) -> 1 | W8: =INDEX('HTM 1'!$X$7:$X$86,MATCH(A8,'HTM 1'!$Y$7:$Y$86,0)) -> Si
A9: 2 | B9: CRISTINA | C9: =INDEX('HTM 1'!$C$7:$C$86,MATCH(A9,'HTM 1'!$Y$7:$Y$86,0)) -> VENTURI | D9: =INDEX('HTM 1'!$D$7:$D$86,MATCH(A9,'HTM 1'!$Y$7:$Y$86,0)) -> SLASH | E9: =INDEX('HTM 1'!F$7:F$86,MATCH($A9,'HTM 1'!$Y$7:$Y$86,0)) -> 17.5 | F9: =INDEX('HTM 1'!G$7:G$86,MATCH($A9,'HTM 1'!$Y$7:$Y$86,0)) -> 18.5 | G9: =INDEX('HTM 1'!H$7:H$86,MATCH($A9,'HTM 1'!$Y$7:$Y$86,0)) -> 21.5 | H9: =INDEX('HTM 1'!I$7:I$86,MATCH($A9,'HTM 1'!$Y$7:$Y$86,0)) -> 21.5 | I9: =INDEX('HTM 1'!J$7:J$86,MATCH($A9,'HTM 1'!$Y$7:$Y$86,0)) -> 17 | J9: =INDEX('HTM 1'!K$7:K$86,MATCH($A9,'HTM 1'!$Y$7:$Y$86,0)) -> 18.5 | K9: =INDEX('HTM 1'!L$7:L$86,MATCH($A9,'HTM 1'!$Y$7:$Y$86,0)) -> 21 | L9: =INDEX('HTM 1'!M$7:M$86,MATCH($A9,'HTM 1'!$Y$7:$Y$86,0)) -> 21 | ... S9: =INDEX('HTM 1'!T$7:T$86,MATCH($A9,'HTM 1'!$Y$7:$Y$86,0)) -> 0 | T9: =INDEX('HTM 1'!V$7:V$86,MATCH($A9,'HTM 1'!$Y$7:$Y$86,0)) -> 0.2 | U9: =INDEX('HTM 1'!$W$7:$W$86,MATCH(A9,'HTM 1'!$Y$7:$Y$86,0)) -> 156.3 | V9: =INDEX('HTM 1'!$Y$7:$Y$86,MATCH(A9,'HTM 1'!$Y$7:$Y$86,0)) -> 2 | W9: =INDEX('HTM 1'!$X$7:$X$86,MATCH(A9,'HTM 1'!$Y$7:$Y$86,0)) -> Si
A10: 3 | B10: BARBARA | C10: GERMANI | D10: ZERO | E10: =INDEX('HTM 1'!F$7:F$86,MATCH($A10,'HTM 1'!$Y$7:$Y$86,0)) -> #N/A | F10: =INDEX('HTM 1'!G$7:G$86,MATCH($A10,'HTM 1'!$Y$7:$Y$86,0)) -> #N/A | G10: =INDEX('HTM 1'!H$7:H$86,MATCH($A10,'HTM 1'!$Y$7:$Y$86,0)) -> #N/A | H10: =INDEX('HTM 1'!I$7:I$86,MATCH($A10,'HTM 1'!$Y$7:$Y$86,0)) -> #N/A | I10: =INDEX('HTM 1'!J$7:J$86,MATCH($A10,'HTM 1'!$Y$7:$Y$86,0)) -> #N/A | J10: =INDEX('HTM 1'!K$7:K$86,MATCH($A10,'HTM 1'!$Y$7:$Y$86,0)) -> #N/A | K10: =INDEX('HTM 1'!L$7:L$86,MATCH($A10,'HTM 1'!$Y$7:$Y$86,0)) -> #N/A | L10: =INDEX('HTM 1'!M$7:M$86,MATCH($A10,'HTM 1'!$Y$7:$Y$86,0)) -> #N/A | ... S10: =INDEX('HTM 1'!T$7:T$86,MATCH($A10,'HTM 1'!$Y$7:$Y$86,0)) -> #N/A | T10: =INDEX('HTM 1'!V$7:V$86,MATCH($A10,'HTM 1'!$Y$7:$Y$86,0)) -> #N/A | U10: RITIRATA
A12: FS 0
E13: artistic | I13: tecnici | N13: Detrazioni di punti | U13: Risultato
A14: Posizionamento | B14: Nome | C14: Cognome | D14: Cane | E14: Team work | F14: Dinamicità | G14: Concetto | H14: Coreografia | I14: Fluidità | J14: Esecuzione | K14: Contenuto | L14: Difficoltà | M14: punti | N14: Abbaio e vocalizzazioni | O14: Salute del cane | P14: costume / Oggetti di scena | Q14: Lunghezze musicali errate | R14: Trattamento improprio del cane | S14: Contatto attivo | T14: Detrazioni di punti | U14: Totale | V14: Posizionamento | W14: punto di passaggio
A15: 1 | B15: ELEONORA | C15: =INDEX('FS 0'!C$7:C$86,MATCH(A15,'FS 0'!$X$7:$X$86,0)) -> GIOMI | D15: =INDEX('FS 0'!D$7:D$86,MATCH(A15,'FS 0'!$X$7:$X$86,0)) -> FIRE | E15: =INDEX('FS 0'!F$7:F$86,MATCH($A15,'FS 0'!$X$7:$X$86,0)) -> 21 | F15: =INDEX('FS 0'!G$7:G$86,MATCH($A15,'FS 0'!$X$7:$X$86,0)) -> 20 | G15: =INDEX('FS 0'!H$7:H$86,MATCH($A15,'FS 0'!$X$7:$X$86,0)) -> 21 | H15: =INDEX('FS 0'!I$7:I$86,MATCH($A15,'FS 0'!$X$7:$X$86,0)) -> 18.5 | I15: =INDEX('FS 0'!J$7:J$86,MATCH($A15,'FS 0'!$X$7:$X$86,0)) -> 19 | J15: =INDEX('FS 0'!K$7:K$86,MATCH($A15,'FS 0'!$X$7:$X$86,0)) -> 19 | K15: =INDEX('FS 0'!L$7:L$86,MATCH($A15,'FS 0'!$X$7:$X$86,0)) -> 20.5 | L15: =INDEX('FS 0'!M$7:M$86,MATCH($A15,'FS 0'!$X$7:$X$86,0)) -> 20.5 | ... T15: =INDEX('FS 0'!U$7:U$86,MATCH($A15,'FS 0'!$X$7:$X$86,0)) -> 0 | U15: =INDEX('FS 0'!$V$7:$V$86,MATCH(A15,'FS 0'!$X$7:$X$86,0)) -> 159.5 | V15: =INDEX('FS 0'!$X$7:$X$86,MATCH(A15,'FS 0'!$X$7:$X$86,0)) -> 1 | W15: =INDEX('FS 0'!$W$7:$W$86,MATCH(A15,'FS 0'!$X$7:$X$86,0)) -> Si
A16: 2 | B16: CRISTINA | C16: =INDEX('FS 0'!$C$7:$C$86,MATCH(A16,'FS 0'!$X$7:$X$86,0)) -> VENTURI | D16: =INDEX('FS 0'!$D$7:$D$86,MATCH(A16,'FS 0'!$X$7:$X$86,0)) -> HANDRIX | E16: =INDEX('FS 0'!F$7:F$86,MATCH($A16,'FS 0'!$X$7:$X$86,0)) -> 20.5 | F16: =INDEX('FS 0'!G$7:G$86,MATCH($A16,'FS 0'!$X$7:$X$86,0)) -> 19.5 | G16: =INDEX('FS 0'!H$7:H$86,MATCH($A16,'FS 0'!$X$7:$X$86,0)) -> 21 | H16: =INDEX('FS 0'!I$7:I$86,MATCH($A16,'FS 0'!$X$7:$X$86,0)) -> 19 | I16: =INDEX('FS 0'!J$7:J$86,MATCH($A16,'FS 0'!$X$7:$X$86,0)) -> 18.5 | J16: =INDEX('FS 0'!K$7:K$86,MATCH($A16,'FS 0'!$X$7:$X$86,0)) -> 18.5 | K16: =INDEX('FS 0'!L$7:L$86,MATCH($A16,'FS 0'!$X$7:$X$86,0)) -> 20 | L16: =INDEX('FS 0'!M$7:M$86,MATCH($A16,'FS 0'!$X$7:$X$86,0)) -> 20 | ... T16: =INDEX('FS 0'!U$7:U$86,MATCH($A16,'FS 0'!$X$7:$X$86,0)) -> 0 | U16: =INDEX('FS 0'!$V$7:$V$86,MATCH(A16,'FS 0'!$X$7:$X$86,0)) -> 157 | V16: =INDEX('FS 0'!$X$7:$X$86,MATCH(A16,'FS 0'!$X$7:$X$86,0)) -> 2 | W16: =INDEX('FS 0'!$W$7:$W$86,MATCH(A16,'FS 0'!$X$7:$X$86,0)) -> Si
A17: 3 | B17: SOFIA | C17: =INDEX('FS 0'!C$7:C$86,MATCH(A17,'FS 0'!$X$7:$X$86,0)) -> PARRASIA | D17: =INDEX('FS 0'!D$7:D$86,MATCH(A17,'FS 0'!$X$7:$X$86,0)) -> WHISPER | E17: =INDEX('FS 0'!F$7:F$86,MATCH($A17,'FS 0'!$X$7:$X$86,0)) -> 21.5 | F17: =INDEX('FS 0'!G$7:G$86,MATCH($A17,'FS 0'!$X$7:$X$86,0)) -> 20 | G17: =INDEX('FS 0'!H$7:H$86,MATCH($A17,'FS 0'!$X$7:$X$86,0)) -> 21 | H17: =INDEX('FS 0'!I$7:I$86,MATCH($A17,'FS 0'!$X$7:$X$86,0)) -> 18 | I17: =INDEX('FS 0'!J$7:J$86,MATCH($A17,'FS 0'!$X$7:$X$86,0)) -> 18.5 | J17: =INDEX('FS 0'!K$7:K$86,MATCH($A17,'FS 0'!$X$7:$X$86,0)) -> 18.5 | K17: =INDEX('FS 0'!L$7:L$86,MATCH($A17,'FS 0'!$X$7:$X$86,0)) -> 19.5 | L17: =INDEX('FS 0'!M$7:M$86,MATCH($A17,'FS 0'!$X$7:$X$86,0)) -> 19.5 | ... T17: =INDEX('FS 0'!U$7:U$86,MATCH($A17,'FS 0'!$X$7:$X$86,0)) -> 0 | U17: =INDEX('FS 0'!$V$7:$V$86,MATCH(A17,'FS 0'!$X$7:$X$86,0)) -> 156.5 | V17: =INDEX('FS 0'!$X$7:$X$86,MATCH(A17,'FS 0'!$X$7:$X$86,0)) -> 3 | W17: =INDEX('FS 0'!$W$7:$W$86,MATCH(A17,'FS 0'!$X$7:$X$86,0)) -> Si
A18: 4 | B18: ELEONORA | C18: =INDEX('FS 0'!$C$7:$C$86,MATCH(A18,'FS 0'!$X$7:$X$86,0)) -> GIOMI | D18: =INDEX('FS 0'!$D$7:$D$86,MATCH(A18,'FS 0'!$X$7:$X$86,0)) -> GHOST | E18: =INDEX('FS 0'!F$7:F$86,MATCH($A18,'FS 0'!$X$7:$X$86,0)) -> 19.5 | F18: =INDEX('FS 0'!G$7:G$86,MATCH($A18,'FS 0'!$X$7:$X$86,0)) -> 18 | G18: =INDEX('FS 0'!H$7:H$86,MATCH($A18,'FS 0'!$X$7:$X$86,0)) -> 19.5 | H18: =INDEX('FS 0'!I$7:I$86,MATCH($A18,'FS 0'!$X$7:$X$86,0)) -> 17.5 | I18: =INDEX('FS 0'!J$7:J$86,MATCH($A18,'FS 0'!$X$7:$X$86,0)) -> 18 | J18: =INDEX('FS 0'!K$7:K$86,MATCH($A18,'FS 0'!$X$7:$X$86,0)) -> 18 | K18: =INDEX('FS 0'!L$7:L$86,MATCH($A18,'FS 0'!$X$7:$X$86,0)) -> 18 | L18: =INDEX('FS 0'!M$7:M$86,MATCH($A18,'FS 0'!$X$7:$X$86,0)) -> 18.5 | ... T18: =INDEX('FS 0'!U$7:U$86,MATCH($A18,'FS 0'!$X$7:$X$86,0)) -> 1 | U18: =INDEX('FS 0'!$V$7:$V$86,MATCH(A18,'FS 0'!$X$7:$X$86,0)) -> 146 | V18: =INDEX('FS 0'!$X$7:$X$86,MATCH(A18,'FS 0'!$X$7:$X$86,0)) -> 4 | W18: =INDEX('FS 0'!$W$7:$W$86,MATCH(A18,'FS 0'!$X$7:$X$86,0)) -> No
A19: 5 | B19: BARBARA | C19: =INDEX('FS 0'!C$7:C$86,MATCH(A19,'FS 0'!$X$7:$X$86,0)) -> CASTELLI | D19: =INDEX('FS 0'!D$7:D$86,MATCH(A19,'FS 0'!$X$7:$X$86,0)) -> VIOLETTA | E19: =INDEX('FS 0'!F$7:F$86,MATCH($A19,'FS 0'!$X$7:$X$86,0)) -> 19 | F19: =INDEX('FS 0'!G$7:G$86,MATCH($A19,'FS 0'!$X$7:$X$86,0)) -> 18.5 | G19: =INDEX('FS 0'!H$7:H$86,MATCH($A19,'FS 0'!$X$7:$X$86,0)) -> 20 | H19: =INDEX('FS 0'!I$7:I$86,MATCH($A19,'FS 0'!$X$7:$X$86,0)) -> 17.5 | I19: =INDEX('FS 0'!J$7:J$86,MATCH($A19,'FS 0'!$X$7:$X$86,0)) -> 16.5 | J19: =INDEX('FS 0'!K$7:K$86,MATCH($A19,'FS 0'!$X$7:$X$86,0)) -> 17 | K19: =INDEX('FS 0'!L$7:L$86,MATCH($A19,'FS 0'!$X$7:$X$86,0)) -> 18.5 | L19: =INDEX('FS 0'!M$7:M$86,MATCH($A19,'FS 0'!$X$7:$X$86,0)) -> 18.5 | ... T19: =INDEX('FS 0'!U$7:U$86,MATCH($A19,'FS 0'!$X$7:$X$86,0)) -> 0 | U19: =INDEX('FS 0'!$V$7:$V$86,MATCH(A19,'FS 0'!$X$7:$X$86,0)) -> 145.5 | V19: =INDEX('FS 0'!$X$7:$X$86,MATCH(A19,'FS 0'!$X$7:$X$86,0)) -> 5 | W19: =INDEX('FS 0'!$W$7:$W$86,MATCH(A19,'FS 0'!$X$7:$X$86,0)) -> No
A20: 6 | B20: ALESSIA | C20: =INDEX('FS 0'!$C$7:$C$86,MATCH(A20,'FS 0'!$X$7:$X$86,0)) -> GIANNINI | D20: =INDEX('FS 0'!$D$7:$D$86,MATCH(A20,'FS 0'!$X$7:$X$86,0)) -> BAGHEERA | E20: =INDEX('FS 0'!F$7:F$86,MATCH($A20,'FS 0'!$X$7:$X$86,0)) -> 16.5 | F20: =INDEX('FS 0'!G$7:G$86,MATCH($A20,'FS 0'!$X$7:$X$86,0)) -> 17 | G20: =INDEX('FS 0'!H$7:H$86,MATCH($A20,'FS 0'!$X$7:$X$86,0)) -> 18.5 | H20: =INDEX('FS 0'!I$7:I$86,MATCH($A20,'FS 0'!$X$7:$X$86,0)) -> 17 | I20: =INDEX('FS 0'!J$7:J$86,MATCH($A20,'FS 0'!$X$7:$X$86,0)) -> 15.5 | J20: =INDEX('FS 0'!K$7:K$86,MATCH($A20,'FS 0'!$X$7:$X$86,0)) -> 15.5 | K20: =INDEX('FS 0'!L$7:L$86,MATCH($A20,'FS 0'!$X$7:$X$86,0)) -> 16.5 | L20: =INDEX('FS 0'!M$7:M$86,MATCH($A20,'FS 0'!$X$7:$X$86,0)) -> 16.5 | ... T20: =INDEX('FS 0'!U$7:U$86,MATCH($A20,'FS 0'!$X$7:$X$86,0)) -> 0 | U20: =INDEX('FS 0'!$V$7:$V$86,MATCH(A20,'FS 0'!$X$7:$X$86,0)) -> 133 | V20: =INDEX('FS 0'!$X$7:$X$86,MATCH(A20,'FS 0'!$X$7:$X$86,0)) -> 6 | W20: =INDEX('FS 0'!$W$7:$W$86,MATCH(A20,'FS 0'!$X$7:$X$86,0)) -> No
A22: FS 1
E23: artistic | I23: tecnici | N23: Detrazioni di punti | U23: Risultato
A24: Posizionamento | B24: Nome | C24: Cognome | D24: Cane | E24: Team work | F24: Dinamicità | G24: Concetto | H24: Coreografia | I24: Fluidità | J24: Esecuzione | K24: Contenuto | L24: Difficoltà | M24: punti | N24: Abbaio e vocalizzazioni | O24: Salute del cane | P24: costume / Oggetti di scena | Q24: Lunghezze musicali errate | R24: Trattamento improprio del cane | S24: Contatto attivo | T24: Detrazioni di punti | U24: Totale | V24: Posizionamento | W24: punto di passaggio
A25: 1 | B25: PAOLA | C25: =INDEX('FS 1'!C$7:C$86,MATCH(A25,'FS 1'!$X$7:$X$86,0)) -> BENCINI | D25: =INDEX('FS 1'!D$7:D$86,MATCH(A25,'FS 1'!$X$7:$X$86,0)) -> SHILA | E25: =INDEX('FS 1'!F$7:F$86,MATCH($A25,'FS 1'!$X$7:$X$86,0)) -> 22 | F25: =INDEX('FS 1'!G$7:G$86,MATCH($A25,'FS 1'!$X$7:$X$86,0)) -> 22 | G25: =INDEX('FS 1'!H$7:H$86,MATCH($A25,'FS 1'!$X$7:$X$86,0)) -> 22.5 | H25: =INDEX('FS 1'!I$7:I$86,MATCH($A25,'FS 1'!$X$7:$X$86,0)) -> 21.5 | I25: =INDEX('FS 1'!J$7:J$86,MATCH($A25,'FS 1'!$X$7:$X$86,0)) -> 20 | J25: =INDEX('FS 1'!K$7:K$86,MATCH($A25,'FS 1'!$X$7:$X$86,0)) -> 21 | K25: =INDEX('FS 1'!L$7:L$86,MATCH($A25,'FS 1'!$X$7:$X$86,0)) -> 22 | L25: =INDEX('FS 1'!M$7:M$86,MATCH($A25,'FS 1'!$X$7:$X$86,0)) -> 20.5 | ... T25: =INDEX('FS 1'!U$7:U$86,MATCH($A25,'FS 1'!$X$7:$X$86,0)) -> 0 | U25: =INDEX('FS 1'!$V$7:$V$86,MATCH(A25,'FS 1'!$X$7:$X$86,0)) -> 171.5 | V25: =INDEX('FS 1'!$X$7:$X$86,MATCH(A25,'FS 1'!$X$7:$X$86,0)) -> 1 | W25: =INDEX('FS 1'!$W$7:$W$86,MATCH(A25,'FS 1'!$X$7:$X$86,0)) -> Si
A26: 2 | B26: ILARIA | C26: =INDEX('FS 1'!$C$7:$C$86,MATCH(A26,'FS 1'!$X$7:$X$86,0)) -> GUGLIELMAN | D26: =INDEX('FS 1'!$D$7:$D$86,MATCH(A26,'FS 1'!$X$7:$X$86,0)) -> BLU | E26: =INDEX('FS 1'!F$7:F$86,MATCH($A26,'FS 1'!$X$7:$X$86,0)) -> 20 | F26: =INDEX('FS 1'!G$7:G$86,MATCH($A26,'FS 1'!$X$7:$X$86,0)) -> 19 | G26: =INDEX('FS 1'!H$7:H$86,MATCH($A26,'FS 1'!$X$7:$X$86,0)) -> 21.5 | H26: =INDEX('FS 1'!I$7:I$86,MATCH($A26,'FS 1'!$X$7:$X$86,0)) -> 19 | I26: =INDEX('FS 1'!J$7:J$86,MATCH($A26,'FS 1'!$X$7:$X$86,0)) -> 18 | J26: =INDEX('FS 1'!K$7:K$86,MATCH($A26,'FS 1'!$X$7:$X$86,0)) -> 19 | K26: =INDEX('FS 1'!L$7:L$86,MATCH($A26,'FS 1'!$X$7:$X$86,0)) -> 17 | L26: =INDEX('FS 1'!M$7:M$86,MATCH($A26,'FS 1'!$X$7:$X$86,0)) -> 17 | ... T26: =INDEX('FS 1'!U$7:U$86,MATCH($A26,'FS 1'!$X$7:$X$86,0)) -> 0 | U26: =INDEX('FS 1'!$V$7:$V$86,MATCH(A26,'FS 1'!$X$7:$X$86,0)) -> 150.5 | V26: =INDEX('FS 1'!$X$7:$X$86,MATCH(A26,'FS 1'!$X$7:$X$86,0)) -> 2 | W26: =INDEX('FS 1'!$W$7:$W$86,MATCH(A26,'FS 1'!$X$7:$X$86,0)) -> Si
A27: 3 | B27: LUCIA | C27: =INDEX('FS 1'!C$7:C$86,MATCH(A27,'FS 1'!$X$7:$X$86,0)) -> COLOMBO | D27: =INDEX('FS 1'!D$7:D$86,MATCH(A27,'FS 1'!$X$7:$X$86,0)) -> AARON | E27: =INDEX('FS 1'!F$7:F$86,MATCH($A27,'FS 1'!$X$7:$X$86,0)) -> 17.5 | F27: =INDEX('FS 1'!G$7:G$86,MATCH($A27,'FS 1'!$X$7:$X$86,0)) -> 18.5 | G27: =INDEX('FS 1'!H$7:H$86,MATCH($A27,'FS 1'!$X$7:$X$86,0)) -> 20.5 | H27: =INDEX('FS 1'!I$7:I$86,MATCH($A27,'FS 1'!$X$7:$X$86,0)) -> 18.5 | I27: =INDEX('FS 1'!J$7:J$86,MATCH($A27,'FS 1'!$X$7:$X$86,0)) -> 16.5 | J27: =INDEX('FS 1'!K$7:K$86,MATCH($A27,'FS 1'!$X$7:$X$86,0)) -> 17 | K27: =INDEX('FS 1'!L$7:L$86,MATCH($A27,'FS 1'!$X$7:$X$86,0)) -> 19 | L27: =INDEX('FS 1'!M$7:M$86,MATCH($A27,'FS 1'!$X$7:$X$86,0)) -> 18 | ... T27: =INDEX('FS 1'!U$7:U$86,MATCH($A27,'FS 1'!$X$7:$X$86,0)) -> 2 | U27: =INDEX('FS 1'!$V$7:$V$86,MATCH(A27,'FS 1'!$X$7:$X$86,0)) -> 143.5 | V27: =INDEX('FS 1'!$X$7:$X$86,MATCH(A27,'FS 1'!$X$7:$X$86,0)) -> 3 | W27: =INDEX('FS 1'!$W$7:$W$86,MATCH(A27,'FS 1'!$X$7:$X$86,0)) -> No
A29: FS 2
E30: artistic | I30: tecnici | N30: Detrazioni di punti | U30: Risultato
A31: Posizionamento | B31: Nome | C31: Cognome | D31: Cane | E31: Team work | F31: Dinamicità | G31: Concetto | H31: Coreografia | I31: Fluidità | J31: Esecuzione | K31: Contenuto | L31: Difficoltà | M31: punti | N31: Abbaio e vocalizzazioni | O31: Salute del cane | P31: costume / Oggetti di scena | Q31: Lunghezze musicali errate | R31: Trattamento improprio del cane | S31: Contatto attivo | T31: Detrazioni di punti | U31: Totale | V31: Posizionamento | W31: punto di passaggio
A32: 1 | B32: BARBARA | C32: =INDEX('FS 2'!C$7:C$86,MATCH(A32,'FS 2'!$X$7:$X$86,0)) -> GERMANI | D32: =INDEX('FS 2'!D$7:D$86,MATCH(A32,'FS 2'!$X$7:$X$86,0)) -> ZERO | E32: =INDEX('FS 2'!F$7:F$86,MATCH($A32,'FS 2'!$X$7:$X$86,0)) -> 18 | F32: =INDEX('FS 2'!G$7:G$86,MATCH($A32,'FS 2'!$X$7:$X$86,0)) -> 18.5 | G32: =INDEX('FS 2'!H$7:H$86,MATCH($A32,'FS 2'!$X$7:$X$86,0)) -> 20.5 | H32: =INDEX('FS 2'!I$7:I$86,MATCH($A32,'FS 2'!$X$7:$X$86,0)) -> 20.5 | I32: =INDEX('FS 2'!J$7:J$86,MATCH($A32,'FS 2'!$X$7:$X$86,0)) -> 17.5 | J32: =INDEX('FS 2'!K$7:K$86,MATCH($A32,'FS 2'!$X$7:$X$86,0)) -> 17.5 | K32: =INDEX('FS 2'!L$7:L$86,MATCH($A32,'FS 2'!$X$7:$X$86,0)) -> 19 | L32: =INDEX('FS 2'!M$7:M$86,MATCH($A32,'FS 2'!$X$7:$X$86,0)) -> 19 | ... T32: =INDEX('FS 2'!U$7:U$86,MATCH($A32,'FS 2'!$X$7:$X$86,0)) -> 0 | U32: =INDEX('FS 2'!$V$7:$V$86,MATCH(A32,'FS 2'!$X$7:$X$86,0)) -> 150.5 | V32: =INDEX('FS 2'!$X$7:$X$86,MATCH(A32,'FS 2'!$X$7:$X$86,0)) -> 1 | W32: =INDEX('FS 2'!$W$7:$W$86,MATCH(A32,'FS 2'!$X$7:$X$86,0)) -> Si
A34: FS 3
E35: artistic | I35: tecnici | N35: Detrazioni di punti | U35: Risultato
A36: Posizionamento | B36: Nome | C36: Cognome | D36: Cane | E36: Team work | F36: Dinamicità | G36: Concetto | H36: Coreografia | I36: Fluidità | J36: Esecuzione | K36: Contenuto | L36: Difficoltà | M36: punti | N36: Abbaio e vocalizzazioni | O36: Salute del cane | P36: costume / Oggetti di scena | Q36: Lunghezze musicali errate | R36: Trattamento improprio del cane | S36: Contatto attivo | T36: Detrazioni di punti | U36: Totale | V36: Posizionamento
A37: 1 | B37: GLORIA | C37: =INDEX('FS 3'!C$7:C$106,MATCH(A37,'FS 3'!$X$7:$X$106,0)) -> ALLASIA | D37: =INDEX('FS 3'!D$7:D$106,MATCH(A37,'FS 3'!$X$7:$X$106,0)) -> BRUCE | E37: =INDEX('FS 3'!F$7:F$106,MATCH($A37,'FS 3'!$X$7:$X$106,0)) -> 23 | F37: =INDEX('FS 3'!G$7:G$106,MATCH($A37,'FS 3'!$X$7:$X$106,0)) -> 22.5 | G37: =INDEX('FS 3'!H$7:H$106,MATCH($A37,'FS 3'!$X$7:$X$106,0)) -> 23 | H37: =INDEX('FS 3'!I$7:I$106,MATCH($A37,'FS 3'!$X$7:$X$106,0)) -> 24 | I37: =INDEX('FS 3'!J$7:J$106,MATCH($A37,'FS 3'!$X$7:$X$106,0)) -> 21 | J37: =INDEX('FS 3'!K$7:K$106,MATCH($A37,'FS 3'!$X$7:$X$106,0)) -> 22 | K37: =INDEX('FS 3'!L$7:L$106,MATCH($A37,'FS 3'!$X$7:$X$106,0)) -> 23 | L37: =INDEX('FS 3'!M$7:M$106,MATCH($A37,'FS 3'!$X$7:$X$106,0)) -> 23.5 | ... T37: =INDEX('FS 3'!U$7:U$106,MATCH($A37,'FS 3'!$X$7:$X$106,0)) -> 0.033333333 | U37: =INDEX('FS 3'!$V$7:$V$106,MATCH(A37,'FS 3'!$X$7:$X$106,0)) -> 181.96667 | V37: =INDEX('FS 3'!$X$7:$X$106,MATCH(A37,'FS 3'!$X$7:$X$106,0)) -> 1
A38: 2 | B38: PAOLA | C38: =INDEX('FS 3'!$C$7:$C$86,MATCH(A38,'FS 3'!$X$7:$X$106,0)) -> BENCINI | D38: =INDEX('FS 3'!$D$7:$D$86,MATCH(A38,'FS 3'!$X$7:$X$106,0)) -> NEVE | E38: =INDEX('FS 3'!F$7:F$106,MATCH($A38,'FS 3'!$X$7:$X$106,0)) -> 18 | F38: =INDEX('FS 3'!G$7:G$106,MATCH($A38,'FS 3'!$X$7:$X$106,0)) -> 19 | G38: =INDEX('FS 3'!H$7:H$106,MATCH($A38,'FS 3'!$X$7:$X$106,0)) -> 23 | H38: =INDEX('FS 3'!I$7:I$106,MATCH($A38,'FS 3'!$X$7:$X$106,0)) -> 22 | I38: =INDEX('FS 3'!J$7:J$106,MATCH($A38,'FS 3'!$X$7:$X$106,0)) -> 17 | J38: =INDEX('FS 3'!K$7:K$106,MATCH($A38,'FS 3'!$X$7:$X$106,0)) -> 18.5 | K38: =INDEX('FS 3'!L$7:L$106,MATCH($A38,'FS 3'!$X$7:$X$106,0)) -> 20.5 | L38: =INDEX('FS 3'!M$7:M$106,MATCH($A38,'FS 3'!$X$7:$X$106,0)) -> 21 | ... T38: =INDEX('FS 3'!U$7:U$106,MATCH($A38,'FS 3'!$X$7:$X$106,0)) -> 0.16666667 | U38: =INDEX('FS 3'!$V$7:$V$106,MATCH(A38,'FS 3'!$X$7:$X$106,0)) -> 158.83333 | V38: =INDEX('FS 3'!$X$7:$X$106,MATCH(A38,'FS 3'!$X$7:$X$106,0)) -> 2

Sheet FS 3
B1: FS 3 | E1: ='List of Competitors'!B2 -> NARNI(TR)
E2: ='List of Competitors'!C2 -> 18 Luglio 2026
A4: # | B4: Nome | C4: Cognome | D4: Cane | E4: Judge | F4: Team work | G4: Dinamicità | H4: Progetto | I4: Coreografia | J4: Fluidità | K4: Esecuzione | L4: Contenuto | M4: Difficoltà | N4: Punit | O4: Detrazioni di punti | V4: Totale | W4: punto di passaggio | X4: Posizionamento | Y4: Korr Punkte Teamwork, Fluss
O5: Abbaio e vocalizzazioni | P5: Salute del cane | Q5: costume / Oggetti di scena | R5: Lunghezze musicali errate | S5: Trattamento improprio del cane | T5: Contatto attivo | U5: Totale
F6: max. 25 | G6: max. 25 | H6: max. 25 | I6: max. 25 | J6: max. 25 | K6: max. 25 | L6: max. 25 | M6: max. 25 | O6: max. 20 | P6: max. 20 | Q6: max. 20 | R6: 1 Punkt / sec | S6: max. 20 | T6: max. 20
A7: 1 | B7: =INDEX('List of Competitors'!U$27:U$46,MATCH($A7,'List of Competitors'!$S$27:$S$46,0)) -> GLORIA | C7: =INDEX('List of Competitors'!V$27:V$46,MATCH($A7,'List of Competitors'!$S$27:$S$46,0)) -> ALLASIA | D7: =INDEX('List of Competitors'!W$27:W$46,MATCH($A7,'List of Competitors'!$S$27:$S$46,0)) -> BRUCE | E7: Average | F7: =AVERAGE(F8:F11) -> 23 | G7: =AVERAGE(G8:G11) -> 22.5 | H7: =AVERAGE(H8:H11) -> 23 | I7: =AVERAGE(I8:I11) -> 24 | J7: =AVERAGE(J8:J11) -> 21 | K7: =AVERAGE(K8:K11) -> 22 | L7: =AVERAGE(L8:L11) -> 23 | M7: =AVERAGE(M8:M11) -> 23.5 | N7: =SUM(N8:N11)/IF(N11=0,2,3) -> 182 | O7: =SUM(O8:O11)/IF($N11=0,2,3) -> 0.05 | P7: =SUM(P8:P11)/IF($N11=0,3,4) -> 0 | Q7: =SUM(Q8:Q11)/IF($N11=0,3,4) -> 0 | R7: =SUM(R8:R11)/IF($N11=0,3,4) -> 0 | S7: =SUM(S8:S11)/IF($N11=0,3,4) -> 0 | T7: =SUM(T8:T11)/IF($N11=0,3,4) -> 0 | U7: =SUM(U8:U11)/IF(N11=0,3,4) -> 0.033333333 | V7: =N7-U7 -> 181.96667 | W7: =IF(V7>=150,"Si","No") -> Si | X7: =IF(V7=0,0,IF(ISERROR(RANK(V7,V:V)),"",RANK(Y7,Y:Y))) -> 1 | Y7: =IFERROR(V7+F7/100000+J7/10000000+G7/1000000000,0) -> 181.9669
E8: J1 | F8: 23 | G8: 23 | H8: 23 | I8: 24 | J8: 21 | K8: 22 | L8: 23 | M8: 24 | N8: =SUM(F8:M8) -> 183 | U8: =SUM(O8:T8) -> 0
E9: J2 | F9: 23 | G9: 22 | H9: 23 | I9: 24 | J9: 21 | K9: 22 | L9: 23 | M9: 23 | N9: =SUM(F9:M9) -> 181 | O9: 0.1 | U9: =SUM(O9:T9) -> 0.1 | X9: =IF(ISERROR(RANK(#REF!,#REF!)),"",RANK(#REF!,#REF!))
E10: J3 | N10: =SUM(F10:M10) -> 0 | U10: =SUM(O10:T10) -> 0
E11: J4 | N11: =SUM(F11:M11) -> 0 | U11: =SUM(O11:T11) -> 0 | W11: =IF(V12>=150,"Si","No") -> Si | X11: =IF(ISERROR(RANK(#REF!,#REF!)),"",RANK(#REF!,#REF!))
A12: 2 | B12: =INDEX('List of Competitors'!U$27:U$46,MATCH($A12,'List of Competitors'!$S$27:$S$46,0)) -> PAOLA | C12: =INDEX('List of Competitors'!V$27:V$46,MATCH($A12,'List of Competitors'!$S$27:$S$46,0)) -> BENCINI | D12: =INDEX('List of Competitors'!W$27:W$46,MATCH($A12,'List of Competitors'!$S$27:$S$46,0)) -> NEVE | E12: Average | F12: =AVERAGE(F13:F16) -> 18 | G12: =AVERAGE(G13:G16) -> 19 | H12: =AVERAGE(H13:H16) -> 23 | I12: =AVERAGE(I13:I16) -> 22 | J12: =AVERAGE(J13:J16) -> 17 | K12: =AVERAGE(K13:K16) -> 18.5 | L12: =AVERAGE(L13:L16) -> 20.5 | M12: =AVERAGE(M13:M16) -> 21 | N12: =SUM(N13:N16)/IF(N16=0,2,3) -> 159 | O12: =SUM(O13:O16)/IF($N16=0,2,3) -> 0.25 | P12: =SUM(P13:P16)/IF($N16=0,3,4) -> 0 | Q12: =SUM(Q13:Q16)/IF($N16=0,3,4) -> 0 | R12: =SUM(R13:R16)/IF($N16=0,3,4) -> 0 | S12: =SUM(S13:S16)/IF($N16=0,3,4) -> 0 | T12: =SUM(T13:T16)/IF($N16=0,3,4) -> 0 | U12: =SUM(U13:U16)/IF(N16=0,3,4) -> 0.16666667 | V12: =N12-U12 -> 158.83333 | X12: =IF(V12=0,0,IF(ISERROR(RANK(V12,V:V)),"",RANK(Y12,Y:Y))) -> 2 | Y12: =IFERROR(V12+F12/100000+J12/10000000+G12/1000000000,0) -> 158.83352
E13: J1 | F13: 18 | G13: 19 | H13: 23 | I13: 21 | J13: 16 | K13: 18 | L13: 19 | M13: 20 | N13: =SUM(F13:M13) -> 154 | U13: =SUM(O13:T13) -> 0
E14: J2 | F14: 18 | G14: 19 | H14: 23 | I14: 23 | J14: 18 | K14: 19 | L14: 22 | M14: 22 | N14: =SUM(F14:M14) -> 164 | O14: 0.5 | U14: =SUM(O14:T14) -> 0.5 | X14: =IF(ISERROR(RANK(#REF!,#REF!)),"",RANK(#REF!,#REF!))
E15: J3 | N15: =SUM(F15:M15) -> 0 | U15: =SUM(O15:T15) -> 0 | W15: =IF(V15>=150,"Si","No") -> No
E16: J4 | N16: =SUM(F16:M16) -> 0 | U16: =SUM(O16:T16) -> 0 | X16: =IF(ISERROR(RANK(#REF!,#REF!)),"",RANK(#REF!,#REF!))
A17: 3 | B17: =INDEX('List of Competitors'!U$27:U$46,MATCH($A17,'List of Competitors'!$S$27:$S$46,0)) -> 0 | C17: =INDEX('List of Competitors'!V$27:V$46,MATCH($A17,'List of Competitors'!$S$27:$S$46,0)) -> 0 | D17: =INDEX('List of Competitors'!W$27:W$46,MATCH($A17,'List of Competitors'!$S$27:$S$46,0)) -> 0 | E17: Average | F17: =AVERAGE(F18:F21) -> #DIV/0! | G17: =AVERAGE(G18:G21) -> #DIV/0! | H17: =AVERAGE(H18:H21) -> #DIV/0! | I17: =AVERAGE(I18:I21) -> #DIV/0! | J17: =AVERAGE(J18:J21) -> #DIV/0! | K17: =AVERAGE(K18:K21) -> #DIV/0! | L17: =AVERAGE(L18:L21) -> #DIV/0! | M17: =AVERAGE(M18:M21) -> #DIV/0! | N17: =SUM(N18:N21)/IF(N21=0,3,4) -> 0 | O17: =SUM(O18:O21)/IF($N21=0,3,4) -> 0 | P17: =SUM(P18:P21)/IF($N21=0,3,4) -> 0 | Q17: =SUM(Q18:Q21)/IF($N21=0,3,4) -> 0 | R17: =SUM(R18:R21)/IF($N21=0,3,4) -> 0 | S17: =SUM(S18:S21)/IF($N21=0,3,4) -> 0 | T17: =SUM(T18:T21)/IF($N21=0,3,4) -> 0 | U17: =SUM(U18:U21)/IF(N21=0,3,4) -> 0 | V17: =N17-U17 -> 0 | X17: =IF(V17=0,0,IF(ISERROR(RANK(V17,V:V)),"",RANK(Y17,Y:Y))) -> 0 | Y17: =IFERROR(V17+F17/100000+J17/10000000+G17/1000000000,0) -> 0
E18: J1 | N18: =SUM(F18:M18) -> 0 | U18: =SUM(O18:T18) -> 0
E19: J2 | N19: =SUM(F19:M19) -> 0 | U19: =SUM(O19:T19) -> 0 | W19: =IF(V19>=150,"Si","No") -> No | X19: =IF(ISERROR(RANK(#REF!,#REF!)),"",RANK(#REF!,#REF!))
E20: J3 | N20: =SUM(F20:M20) -> 0 | U20: =SUM(O20:T20) -> 0
E21: J4 | N21: =SUM(F21:M21) -> 0 | U21: =SUM(O21:T21) -> 0 | X21: =IF(ISERROR(RANK(#REF!,#REF!)),"",RANK(#REF!,#REF!))
A22: 4 | B22: =INDEX('List of Competitors'!U$27:U$46,MATCH($A22,'List of Competitors'!$S$27:$S$46,0)) -> 0 | C22: =INDEX('List of Competitors'!V$27:V$46,MATCH($A22,'List of Competitors'!$S$27:$S$46,0)) -> 0 | D22: =INDEX('List of Competitors'!W$27:W$46,MATCH($A22,'List of Competitors'!$S$27:$S$46,0)) -> 0 | E22: Average | F22: =AVERAGE(F23:F26) -> #DIV/0! | G22: =AVERAGE(G23:G26) -> #DIV/0! | H22: =AVERAGE(H23:H26) -> #DIV/0! | I22: =AVERAGE(I23:I26) -> #DIV/0! | J22: =AVERAGE(J23:J26) -> #DIV/0! | K22: =AVERAGE(K23:K26) -> #DIV/0! | L22: =AVERAGE(L23:L26) -> #DIV/0! | M22: =AVERAGE(M23:M26) -> #DIV/0! | N22: =SUM(N23:N26)/IF(N26=0,3,4) -> 0 | O22: =SUM(O23:O26)/IF($N26=0,3,4) -> 0 | P22: =SUM(P23:P26)/IF($N26=0,3,4) -> 0 | Q22: =SUM(Q23:Q26)/IF($N26=0,3,4) -> 0 | R22: =SUM(R23:R26)/IF($N26=0,3,4) -> 0 | S22: =SUM(S23:S26)/IF($N26=0,3,4) -> 0 | T22: =SUM(T23:T26)/IF($N26=0,3,4) -> 0 | U22: =SUM(U23:U26)/IF(N26=0,3,4) -> 0 | V22: =N22-U22 -> 0 | X22: =IF(V22=0,0,IF(ISERROR(RANK(V22,V:V)),"",RANK(Y22,Y:Y))) -> 0 | Y22: =IFERROR(V22+F22/100000+J22/10000000+G22/1000000000,0) -> 0
E23: J1 | N23: =SUM(F23:M23) -> 0 | U23: =SUM(O23:T23) -> 0 | W23: =IF(V23>=150,"Si","No") -> No
E24: J2 | N24: =SUM(F24:M24) -> 0 | U24: =SUM(O24:T24) -> 0 | X24: =IF(ISERROR(RANK(#REF!,#REF!)),"",RANK(#REF!,#REF!))
E25: J3 | N25: =SUM(F25:M25) -> 0 | U25: =SUM(O25:T25) -> 0
E26: J4 | N26: =SUM(F26:M26) -> 0 | U26: =SUM(O26:T26) -> 0 | X26: =IF(ISERROR(RANK(#REF!,#REF!)),"",RANK(#REF!,#REF!))
A27: 5 | B27: =INDEX('List of Competitors'!U$27:U$46,MATCH($A27,'List of Competitors'!$S$27:$S$46,0)) -> 0 | C27: =INDEX('List of Competitors'!V$27:V$46,MATCH($A27,'List of Competitors'!$S$27:$S$46,0)) -> 0 | D27: =INDEX('List of Competitors'!W$27:W$46,MATCH($A27,'List of Competitors'!$S$27:$S$46,0)) -> 0 | E27: Average | F27: =AVERAGE(F28:F31) -> #DIV/0! | G27: =AVERAGE(G28:G31) -> #DIV/0! | H27: =AVERAGE(H28:H31) -> #DIV/0! | I27: =AVERAGE(I28:I31) -> #DIV/0! | J27: =AVERAGE(J28:J31) -> #DIV/0! | K27: =AVERAGE(K28:K31) -> #DIV/0! | L27: =AVERAGE(L28:L31) -> #DIV/0! | M27: =AVERAGE(M28:M31) -> #DIV/0! | N27: =SUM(N28:N31)/IF(N31=0,3,4) -> 0 | O27: =SUM(O28:O31)/IF($N31=0,3,4) -> 0 | P27: =SUM(P28:P31)/IF($N31=0,3,4) -> 0 | Q27: =SUM(Q28:Q31)/IF($N31=0,3,4) -> 0 | R27: =SUM(R28:R31)/IF($N31=0,3,4) -> 0 | S27: =SUM(S28:S31)/IF($N31=0,3,4) -> 0 | T27: =SUM(T28:T31)/IF($N31=0,3,4) -> 0 | U27: =SUM(U28:U31)/IF(N31=0,3,4) -> 0 | V27: =N27-U27 -> 0 | W27: =IF(V27>=150,"Si","No") -> No | X27: =IF(V27=0,0,IF(ISERROR(RANK(V27,V:V)),"",RANK(Y27,Y:Y))) -> 0 | Y27: =IFERROR(V27+F27/100000+J27/10000000+G27/1000000000,0) -> 0
E28: J1 | N28: =SUM(F28:M28) -> 0 | U28: =SUM(O28:T28) -> 0
E29: J2 | N29: =SUM(F29:M29) -> 0 | U29: =SUM(O29:T29) -> 0 | X29: =IF(ISERROR(RANK(#REF!,#REF!)),"",RANK(#REF!,#REF!))
E30: J3 | N30: =SUM(F30:M30) -> 0 | U30: =SUM(O30:T30) -> 0
E31: J4 | N31: =SUM(F31:M31) -> 0 | U31: =SUM(O31:T31) -> 0 | W31: =IF(V31>=150,"Si","No") -> No | X31: =IF(ISERROR(RANK(#REF!,#REF!)),"",RANK(#REF!,#REF!))
A32: 6 | B32: =INDEX('List of Competitors'!U$27:U$46,MATCH($A32,'List of Competitors'!$S$27:$S$46,0)) -> 0 | C32: =INDEX('List of Competitors'!V$27:V$46,MATCH($A32,'List of Competitors'!$S$27:$S$46,0)) -> 0 | D32: =INDEX('List of Competitors'!W$27:W$46,MATCH($A32,'List of Competitors'!$S$27:$S$46,0)) -> 0 | E32: Average | F32: =AVERAGE(F33:F36) -> #DIV/0! | G32: =AVERAGE(G33:G36) -> #DIV/0! | H32: =AVERAGE(H33:H36) -> #DIV/0! | I32: =AVERAGE(I33:I36) -> #DIV/0! | J32: =AVERAGE(J33:J36) -> #DIV/0! | K32: =AVERAGE(K33:K36) -> #DIV/0! | L32: =AVERAGE(L33:L36) -> #DIV/0! | M32: =AVERAGE(M33:M36) -> #DIV/0! | N32: =SUM(N33:N36)/IF(N36=0,3,4) -> 0 | O32: =SUM(O33:O36)/IF($N36=0,3,4) -> 0 | P32: =SUM(P33:P36)/IF($N36=0,3,4) -> 0 | Q32: =SUM(Q33:Q36)/IF($N36=0,3,4) -> 0 | R32: =SUM(R33:R36)/IF($N36=0,3,4) -> 0 | S32: =SUM(S33:S36)/IF($N36=0,3,4) -> 0 | T32: =SUM(T33:T36)/IF($N36=0,3,4) -> 0 | U32: =SUM(U33:U36)/IF(N36=0,3,4) -> 0 | V32: =N32-U32 -> 0 | X32: =IF(V32=0,0,IF(ISERROR(RANK(V32,V:V)),"",RANK(Y32,Y:Y))) -> 0 | Y32: =IFERROR(V32+F32/100000+J32/10000000+G32/1000000000,0) -> 0
E33: J1 | N33: =SUM(F33:M33) -> 0 | U33: =SUM(O33:T33) -> 0
E34: J2 | N34: =SUM(F34:M34) -> 0 | U34: =SUM(O34:T34) -> 0 | X34: =IF(ISERROR(RANK(#REF!,#REF!)),"",RANK(#REF!,#REF!))
E35: J3 | N35: =SUM(F35:M35) -> 0 | U35: =SUM(O35:T35) -> 0 | W35: =IF(V35>=150,"Si","No") -> No
E36: J4 | N36: =SUM(F36:M36) -> 0 | U36: =SUM(O36:T36) -> 0 | X36: =IF(ISERROR(RANK(#REF!,#REF!)),"",RANK(#REF!,#REF!))
A37: 7 | B37: =INDEX('List of Competitors'!U$27:U$46,MATCH($A37,'List of Competitors'!$S$27:$S$46,0)) -> 0 | C37: =INDEX('List of Competitors'!V$27:V$46,MATCH($A37,'List of Competitors'!$S$27:$S$46,0)) -> 0 | D37: =INDEX('List of Competitors'!W$27:W$46,MATCH($A37,'List of Competitors'!$S$27:$S$46,0)) -> 0 | E37: Average | F37: =AVERAGE(F38:F41) -> #DIV/0! | G37: =AVERAGE(G38:G41) -> #DIV/0! | H37: =AVERAGE(H38:H41) -> #DIV/0! | I37: =AVERAGE(I38:I41) -> #DIV/0! | J37: =AVERAGE(J38:J41) -> #DIV/0! | K37: =AVERAGE(K38:K41) -> #DIV/0! | L37: =AVERAGE(L38:L41) -> #DIV/0! | M37: =AVERAGE(M38:M41) -> #DIV/0! | N37: =SUM(N38:N41)/IF(N41=0,3,4) -> 0 | O37: =SUM(O38:O41)/IF($N41=0,3,4) -> 0 | P37: =SUM(P38:P41)/IF($N41=0,3,4) -> 0 | Q37: =SUM(Q38:Q41)/IF($N41=0,3,4) -> 0 | R37: =SUM(R38:R41)/IF($N41=0,3,4) -> 0 | S37: =SUM(S38:S41)/IF($N41=0,3,4) -> 0 | T37: =SUM(T38:T41)/IF($N41=0,3,4) -> 0 | U37: =SUM(U38:U41)/IF(N41=0,3,4) -> 0 | V37: =N37-U37 -> 0 | X37: =IF(V37=0,0,IF(ISERROR(RANK(V37,V:V)),"",RANK(Y37,Y:Y))) -> 0 | Y37: =IFERROR(V37+F37/100000+J37/10000000+G37/1000000000,0) -> 0
E38: J1 | N38: =SUM(F38:M38) -> 0 | U38: =SUM(O38:T38) -> 0
E39: J2 | N39: =SUM(F39:M39) -> 0 | U39: =SUM(O39:T39) -> 0 | W39: =IF(V39>=150,"Si","No") -> No | X39: =IF(ISERROR(RANK(#REF!,#REF!)),"",RANK(#REF!,#REF!))
E40: J3 | N40: =SUM(F40:M40) -> 0 | U40: =SUM(O40:T40) -> 0
E41: J4 | N41: =SUM(F41:M41) -> 0 | U41: =SUM(O41:T41) -> 0 | X41: =IF(ISERROR(RANK(#REF!,#REF!)),"",RANK(#REF!,#REF!))
...

Sheet FS 2
B1: FS 2 | E1: ='List of Competitors'!B2 -> NARNI(TR)
E2: ='List of Competitors'!C2 -> 18 Luglio 2026
A4: # | B4: Nome | C4: Cognome | D4: Cane | E4: Judge | F4: Team work | G4: Dinamicità | H4: Progetto | I4: Coreografia | J4: Fluidità | K4: Esecuzione | L4: Contenuto | M4: Difficoltà | N4: Punit | O4: Detrazioni di punti | V4: Totale | W4: punto di passaggio | X4: Posizionamento | Y4: Korr Punkte Teamwork, Fluss
O5: Abbaio e vocalizzazioni | P5: Salute del cane | Q5: costume / Oggetti di scena | R5: Lunghezze musicali errate | S5: Trattamento improprio del cane | T5: Contatto attivo | U5: Totale
F6: max. 25 | G6: max. 25 | H6: max. 25 | I6: max. 25 | J6: max. 25 | K6: max. 25 | L6: max. 25 | M6: max. 25 | O6: max. 20 | P6: max. 20 | Q6: max. 20 | R6: 1 Punkt / sec | S6: max. 20 | T6: max. 20
A7: 1 | B7: =INDEX('List of Competitors'!O$27:O$46,MATCH($A7,'List of Competitors'!$M$27:$M$46,0)) -> BARBARA | C7: =INDEX('List of Competitors'!P$27:P$46,MATCH($A7,'List of Competitors'!$M$27:$M$46,0)) -> GERMANI | D7: =INDEX('List of Competitors'!Q$27:Q$46,MATCH($A7,'List of Competitors'!$M$27:$M$46,0)) -> ZERO | E7: Average | F7: =AVERAGE(F8:F10) -> 18 | G7: =AVERAGE(G8:G10) -> 18.5 | H7: =AVERAGE(H8:H10) -> 20.5 | I7: =AVERAGE(I8:I10) -> 20.5 | J7: =AVERAGE(J8:J10) -> 17.5 | K7: =AVERAGE(K8:K10) -> 17.5 | L7: =AVERAGE(L8:L10) -> 19 | M7: =AVERAGE(M8:M10) -> 19 | N7: =SUM(N8:N10)/IF(N10=0,2,3) -> 150.5 | O7: =SUM(O8:O10)/IF($N10=0,2,3) -> 0 | P7: =SUM(P8:P10)/IF($N10=0,2,3) -> 0 | Q7: =SUM(Q8:Q10)/IF($N10=0,2,3) -> 0 | R7: =SUM(R8:R10)/IF($N10=0,2,3) -> 0 | S7: =SUM(S8:S10)/IF($N10=0,2,3) -> 0 | T7: =SUM(T8:T10)/IF($N10=0,2,3) -> 0 | U7: =SUM(U8:U10)/IF(N10=0,2,3) -> 0 | V7: =N7-U7 -> 150.5 | W7: =IF(V7>=150,"Si","No") -> Si | X7: =IF(V7=0,0,IF(ISERROR(RANK(V7,V:V)),"",RANK(Y7,Y:Y))) -> 1 | Y7: =IFERROR(V7+F7/100000+J7/10000000+G7/1000000000,0) -> 150.50018
E8: J1 | F8: 18 | G8: 19 | H8: 19 | I8: 19 | J8: 17 | K8: 17 | L8: 18 | M8: 18 | N8: =SUM(F8:M8) -> 145 | U8: =SUM(O8:T8) -> 0
E9: J2 | F9: 18 | G9: 18 | H9: 22 | I9: 22 | J9: 18 | K9: 18 | L9: 20 | M9: 20 | N9: =SUM(F9:M9) -> 156 | U9: =SUM(O9:T9) -> 0 | X9: =IF(ISERROR(RANK(#REF!,#REF!)),"",RANK(#REF!,#REF!))
E10: J3 | N10: =SUM(F10:M10) -> 0 | U10: =SUM(O10:T10) -> 0 | X10: =IF(ISERROR(RANK(#REF!,#REF!)),"",RANK(#REF!,#REF!))
A11: 2 | B11: =INDEX('List of Competitors'!O$27:O$46,MATCH($A11,'List of Competitors'!$M$27:$M$46,0)) -> 0 | C11: =INDEX('List of Competitors'!P$27:P$46,MATCH($A11,'List of Competitors'!$M$27:$M$46,0)) -> 0 | D11: =INDEX('List of Competitors'!Q$27:Q$46,MATCH($A11,'List of Competitors'!$M$27:$M$46,0)) -> 0 | E11: Average | F11: =AVERAGE(F12:F14) -> #DIV/0! | G11: =AVERAGE(G12:G14) -> #DIV/0! | H11: =AVERAGE(H12:H14) -> #DIV/0! | I11: =AVERAGE(I12:I14) -> #DIV/0! | J11: =AVERAGE(J12:J14) -> #DIV/0! | K11: =AVERAGE(K12:K14) -> #DIV/0! | L11: =AVERAGE(L12:L14) -> #DIV/0! | M11: =AVERAGE(M12:M14) -> #DIV/0! | N11: =SUM(N12:N14)/IF(N14=0,2,3) -> 0 | O11: =SUM(O12:O14)/IF($N14=0,2,3) -> 0 | P11: =SUM(P12:P14)/IF($N14=0,2,3) -> 0 | Q11: =SUM(Q12:Q14)/IF($N14=0,2,3) -> 0 | R11: =SUM(R12:R14)/IF($N14=0,2,3) -> 0 | S11: =SUM(S12:S14)/IF($N14=0,2,3) -> 0 | T11: =SUM(T12:T14)/IF($N14=0,2,3) -> 0 | U11: =SUM(U12:U14)/IF(N14=0,2,3) -> 0 | V11: =N11-U11 -> 0 | W11: =IF(V11>=150,"Si","No") -> No | X11: =IF(V11=0,0,IF(ISERROR(RANK(V11,V:V)),"",RANK(Y11,Y:Y))) -> 0 | Y11: =IFERROR(V11+F11/100000+J11/10000000+G11/1000000000,0) -> 0
E12: J1 | N12: =SUM(F12:M12) -> 0 | U12: =SUM(O12:T12) -> 0
E13: J2 | N13: =SUM(F13:M13) -> 0 | U13: =SUM(O13:T13) -> 0 | X13: =IF(ISERROR(RANK(#REF!,#REF!)),"",RANK(#REF!,#REF!))
E14: J3 | N14: =SUM(F14:M14) -> 0 | U14: =SUM(O14:T14) -> 0 | X14: =IF(ISERROR(RANK(#REF!,#REF!)),"",RANK(#REF!,#REF!))
A15: 3 | B15: =INDEX('List of Competitors'!O$27:O$46,MATCH($A15,'List of Competitors'!$M$27:$M$46,0)) -> 0 | C15: =INDEX('List of Competitors'!P$27:P$46,MATCH($A15,'List of Competitors'!$M$27:$M$46,0)) -> 0 | D15: =INDEX('List of Competitors'!Q$27:Q$46,MATCH($A15,'List of Competitors'!$M$27:$M$46,0)) -> 0 | E15: Average | F15: =AVERAGE(F16:F18) -> #DIV/0! | G15: =AVERAGE(G16:G18) -> #DIV/0! | H15: =AVERAGE(H16:H18) -> #DIV/0! | I15: =AVERAGE(I16:I18) -> #DIV/0! | J15: =AVERAGE(J16:J18) -> #DIV/0! | K15: =AVERAGE(K16:K18) -> #DIV/0! | L15: =AVERAGE(L16:L18) -> #DIV/0! | M15: =AVERAGE(M16:M18) -> #DIV/0! | N15: =SUM(N16:N18)/IF(N18=0,2,3) -> 0 | O15: =SUM(O16:O18)/IF($N18=0,2,3) -> 0 | P15: =SUM(P16:P18)/IF($N18=0,2,3) -> 0 | Q15: =SUM(Q16:Q18)/IF($N18=0,2,3) -> 0 | R15: =SUM(R16:R18)/IF($N18=0,2,3) -> 0 | S15: =SUM(S16:S18)/IF($N18=0,2,3) -> 0 | T15: =SUM(T16:T18)/IF($N18=0,2,3) -> 0 | U15: =SUM(U16:U18)/IF(N18=0,2,3) -> 0 | V15: =N15-U15 -> 0 | W15: =IF(V15>=150,"Si","No") -> No | X15: =IF(V15=0,0,IF(ISERROR(RANK(V15,V:V)),"",RANK(Y15,Y:Y))) -> 0 | Y15: =IFERROR(V15+F15/100000+J15/10000000+G15/1000000000,0) -> 0
E16: J1 | N16: =SUM(F16:M16) -> 0 | U16: =SUM(O16:T16) -> 0
E17: J2 | N17: =SUM(F17:M17) -> 0 | U17: =SUM(O17:T17) -> 0 | X17: =IF(ISERROR(RANK(#REF!,#REF!)),"",RANK(#REF!,#REF!))
E18: J3 | N18: =SUM(F18:M18) -> 0 | U18: =SUM(O18:T18) -> 0 | X18: =IF(ISERROR(RANK(#REF!,#REF!)),"",RANK(#REF!,#REF!))
A19: 4 | B19: =INDEX('List of Competitors'!O$27:O$46,MATCH($A19,'List of Competitors'!$M$27:$M$46,0)) -> 0 | C19: =INDEX('List of Competitors'!P$27:P$46,MATCH($A19,'List of Competitors'!$M$27:$M$46,0)) -> 0 | D19: =INDEX('List of Competitors'!Q$27:Q$46,MATCH($A19,'List of Competitors'!$M$27:$M$46,0)) -> 0 | E19: Average | F19: =AVERAGE(F20:F22) -> #DIV/0! | G19: =AVERAGE(G20:G22) -> #DIV/0! | H19: =AVERAGE(H20:H22) -> #DIV/0! | I19: =AVERAGE(I20:I22) -> #DIV/0! | J19: =AVERAGE(J20:J22) -> #DIV/0! | K19: =AVERAGE(K20:K22) -> #DIV/0! | L19: =AVERAGE(L20:L22) -> #DIV/0! | M19: =AVERAGE(M20:M22) -> #DIV/0! | N19: =SUM(N20:N22)/IF(N22=0,2,3) -> 0 | O19: =SUM(O20:O22)/IF($N22=0,2,3) -> 0 | P19: =SUM(P20:P22)/IF($N22=0,2,3) -> 0 | Q19: =SUM(Q20:Q22)/IF($N22=0,2,3) -> 0 | R19: =SUM(R20:R22)/IF($N22=0,2,3) -> 0 | S19: =SUM(S20:S22)/IF($N22=0,2,3) -> 0 | T19: =SUM(T20:T22)/IF($N22=0,2,3) -> 0 | U19: =SUM(U20:U22)/IF(N22=0,2,3) -> 0 | V19: =N19-U19 -> 0 | W19: =IF(V19>=150,"Si","No") -> No | X19: =IF(V19=0,0,IF(ISERROR(RANK(V19,V:V)),"",RANK(Y19,Y:Y))) -> 0 | Y19: =IFERROR(V19+F19/100000+J19/10000000+G19/1000000000,0) -> 0
E20: J1 | N20: =SUM(F20:M20) -> 0 | U20: =SUM(O20:T20) -> 0
E21: J2 | N21: =SUM(F21:M21) -> 0 | U21: =SUM(O21:T21) -> 0 | X21: =IF(ISERROR(RANK(#REF!,#REF!)),"",RANK(#REF!,#REF!))
E22: J3 | N22: =SUM(F22:M22) -> 0 | U22: =SUM(O22:T22) -> 0 | X22: =IF(ISERROR(RANK(#REF!,#REF!)),"",RANK(#REF!,#REF!))
A23: 5 | B23: =INDEX('List of Competitors'!O$27:O$46,MATCH($A23,'List of Competitors'!$M$27:$M$46,0)) -> 0 | C23: =INDEX('List of Competitors'!P$27:P$46,MATCH($A23,'List of Competitors'!$M$27:$M$46,0)) -> 0 | D23: =INDEX('List of Competitors'!Q$27:Q$46,MATCH($A23,'List of Competitors'!$M$27:$M$46,0)) -> 0 | E23: Average | F23: =AVERAGE(F24:F26) -> #DIV/0! | G23: =AVERAGE(G24:G26) -> #DIV/0! | H23: =AVERAGE(H24:H26) -> #DIV/0! | I23: =AVERAGE(I24:I26) -> #DIV/0! | J23: =AVERAGE(J24:J26) -> #DIV/0! | K23: =AVERAGE(K24:K26) -> #DIV/0! | L23: =AVERAGE(L24:L26) -> #DIV/0! | M23: =AVERAGE(M24:M26) -> #DIV/0! | N23: =SUM(N24:N26)/IF(N26=0,2,3) -> 0 | O23: =SUM(O24:O26)/IF($N26=0,2,3) -> 0 | P23: =SUM(P24:P26)/IF($N26=0,2,3) -> 0 | Q23: =SUM(Q24:Q26)/IF($N26=0,2,3) -> 0 | R23: =SUM(R24:R26)/IF($N26=0,2,3) -> 0 | S23: =SUM(S24:S26)/IF($N26=0,2,3) -> 0 | T23: =SUM(T24:T26)/IF($N26=0,2,3) -> 0 | U23: =SUM(U24:U26)/IF(N26=0,2,3) -> 0 | V23: =N23-U23 -> 0 | W23: =IF(V23>=150,"Si","No") -> No | X23: =IF(V23=0,0,IF(ISERROR(RANK(V23,V:V)),"",RANK(Y23,Y:Y))) -> 0 | Y23: =IFERROR(V23+F23/100000+J23/10000000+G23/1000000000,0) -> 0
E24: J1 | N24: =SUM(F24:M24) -> 0 | U24: =SUM(O24:T24) -> 0
E25: J2 | N25: =SUM(F25:M25) -> 0 | U25: =SUM(O25:T25) -> 0 | X25: =IF(ISERROR(RANK(#REF!,#REF!)),"",RANK(#REF!,#REF!))
E26: J3 | N26: =SUM(F26:M26) -> 0 | U26: =SUM(O26:T26) -> 0 | X26: =IF(ISERROR(RANK(#REF!,#REF!)),"",RANK(#REF!,#REF!))
A27: 6 | B27: =INDEX('List of Competitors'!O$27:O$46,MATCH($A27,'List of Competitors'!$M$27:$M$46,0)) -> 0 | C27: =INDEX('List of Competitors'!P$27:P$46,MATCH($A27,'List of Competitors'!$M$27:$M$46,0)) -> 0 | D27: =INDEX('List of Competitors'!Q$27:Q$46,MATCH($A27,'List of Competitors'!$M$27:$M$46,0)) -> 0 | E27: Average | F27: =AVERAGE(F28:F30) -> #DIV/0! | G27: =AVERAGE(G28:G30) -> #DIV/0! | H27: =AVERAGE(H28:H30) -> #DIV/0! | I27: =AVERAGE(I28:I30) -> #DIV/0! | J27: =AVERAGE(J28:J30) -> #DIV/0! | K27: =AVERAGE(K28:K30) -> #DIV/0! | L27: =AVERAGE(L28:L30) -> #DIV/0! | M27: =AVERAGE(M28:M30) -> #DIV/0! | N27: =SUM(N28:N30)/IF(N30=0,2,3) -> 0 | O27: =SUM(O28:O30)/IF($N30=0,2,3) -> 0 | P27: =SUM(P28:P30)/IF($N30=0,2,3) -> 0 | Q27: =SUM(Q28:Q30)/IF($N30=0,2,3) -> 0 | R27: =SUM(R28:R30)/IF($N30=0,2,3) -> 0 | S27: =SUM(S28:S30)/IF($N30=0,2,3) -> 0 | T27: =SUM(T28:T30)/IF($N30=0,2,3) -> 0 | U27: =SUM(U28:U30)/IF(N30=0,2,3) -> 0 | V27: =N27-U27 -> 0 | W27: =IF(V27>=150,"Si","No") -> No | X27: =IF(V27=0,0,IF(ISERROR(RANK(V27,V:V)),"",RANK(Y27,Y:Y))) -> 0 | Y27: =IFERROR(V27+F27/100000+J27/10000000+G27/1000000000,0) -> 0
E28: J1 | N28: =SUM(F28:M28) -> 0 | U28: =SUM(O28:T28) -> 0
E29: J2 | N29: =SUM(F29:M29) -> 0 | U29: =SUM(O29:T29) -> 0 | X29: =IF(ISERROR(RANK(#REF!,#REF!)),"",RANK(#REF!,#REF!))
E30: J3 | N30: =SUM(F30:M30) -> 0 | U30: =SUM(O30:T30) -> 0 | X30: =IF(ISERROR(RANK(#REF!,#REF!)),"",RANK(#REF!,#REF!))
A31: 7 | B31: =INDEX('List of Competitors'!O$27:O$46,MATCH($A31,'List of Competitors'!$M$27:$M$46,0)) -> 0 | C31: =INDEX('List of Competitors'!P$27:P$46,MATCH($A31,'List of Competitors'!$M$27:$M$46,0)) -> 0 | D31: =INDEX('List of Competitors'!Q$27:Q$46,MATCH($A31,'List of Competitors'!$M$27:$M$46,0)) -> 0 | E31: Average | F31: =AVERAGE(F32:F34) -> #DIV/0! | G31: =AVERAGE(G32:G34) -> #DIV/0! | H31: =AVERAGE(H32:H34) -> #DIV/0! | I31: =AVERAGE(I32:I34) -> #DIV/0! | J31: =AVERAGE(J32:J34) -> #DIV/0! | K31: =AVERAGE(K32:K34) -> #DIV/0! | L31: =AVERAGE(L32:L34) -> #DIV/0! | M31: =AVERAGE(M32:M34) -> #DIV/0! | N31: =SUM(N32:N34)/IF(N34=0,2,3) -> 0 | O31: =SUM(O32:O34)/IF($N34=0,2,3) -> 0 | P31: =SUM(P32:P34)/IF($N34=0,2,3) -> 0 | Q31: =SUM(Q32:Q34)/IF($N34=0,2,3) -> 0 | R31: =SUM(R32:R34)/IF($N34=0,2,3) -> 0 | S31: =SUM(S32:S34)/IF($N34=0,2,3) -> 0 | T31: =SUM(T32:T34)/IF($N34=0,2,3) -> 0 | U31: =SUM(U32:U34)/IF(N34=0,2,3) -> 0 | V31: =N31-U31 -> 0 | W31: =IF(V31>=150,"Si","No") -> No | X31: =IF(V31=0,0,IF(ISERROR(RANK(V31,V:V)),"",RANK(Y31,Y:Y))) -> 0 | Y31: =IFERROR(V31+F31/100000+J31/10000000+G31/1000000000,0) -> 0
E32: J1 | N32: =SUM(F32:M32) -> 0 | U32: =SUM(O32:T32) -> 0
E33: J2 | N33: =SUM(F33:M33) -> 0 | U33: =SUM(O33:T33) -> 0 | X33: =IF(ISERROR(RANK(#REF!,#REF!)),"",RANK(#REF!,#REF!))
E34: J3 | N34: =SUM(F34:M34) -> 0 | U34: =SUM(O34:T34) -> 0 | X34: =IF(ISERROR(RANK(#REF!,#REF!)),"",RANK(#REF!,#REF!))
A35: 8 | B35: =INDEX('List of Competitors'!O$27:O$46,MATCH($A35,'List of Competitors'!$M$27:$M$46,0)) -> 0 | C35: =INDEX('List of Competitors'!P$27:P$46,MATCH($A35,'List of Competitors'!$M$27:$M$46,0)) -> 0 | D35: =INDEX('List of Competitors'!Q$27:Q$46,MATCH($A35,'List of Competitors'!$M$27:$M$46,0)) -> 0 | E35: Average | F35: =AVERAGE(F36:F38) -> #DIV/0! | G35: =AVERAGE(G36:G38) -> #DIV/0! | H35: =AVERAGE(H36:H38) -> #DIV/0! | I35: =AVERAGE(I36:I38) -> #DIV/0! | J35: =AVERAGE(J36:J38) -> #DIV/0! | K35: =AVERAGE(K36:K38) -> #DIV/0! | L35: =AVERAGE(L36:L38) -> #DIV/0! | M35: =AVERAGE(M36:M38) -> #DIV/0! | N35: =SUM(N36:N38)/IF(N38=0,2,3) -> 0 | O35: =SUM(O36:O38)/IF($N38=0,2,3) -> 0 | P35: =SUM(P36:P38)/IF($N38=0,2,3) -> 0 | Q35: =SUM(Q36:Q38)/IF($N38=0,2,3) -> 0 | R35: =SUM(R36:R38)/IF($N38=0,2,3) -> 0 | S35: =SUM(S36:S38)/IF($N38=0,2,3) -> 0 | T35: =SUM(T36:T38)/IF($N38=0,2,3) -> 0 | U35: =SUM(U36:U38)/IF(N38=0,2,3) -> 0 | V35: =N35-U35 -> 0 | W35: =IF(V35>=150,"Si","No") -> No | X35: =IF(V35=0,0,IF(ISERROR(RANK(V35,V:V)),"",RANK(Y35,Y:Y))) -> 0 | Y35: =IFERROR(V35+F35/100000+J35/10000000+G35/1000000000,0) -> 0
E36: J1 | N36: =SUM(F36:M36) -> 0 | U36: =SUM(O36:T36) -> 0
E37: J2 | N37: =SUM(F37:M37) -> 0 | U37: =SUM(O37:T37) -> 0 | X37: =IF(ISERROR(RANK(#REF!,#REF!)),"",RANK(#REF!,#REF!))
E38: J3 | N38: =SUM(F38:M38) -> 0 | U38: =SUM(O38:T38) -> 0 | X38: =IF(ISERROR(RANK(#REF!,#REF!)),"",RANK(#REF!,#REF!))
A39: 9 | B39: =INDEX('List of Competitors'!O$27:O$46,MATCH($A39,'List of Competitors'!$M$27:$M$46,0)) -> 0 | C39: =INDEX('List of Competitors'!P$27:P$46,MATCH($A39,'List of Competitors'!$M$27:$M$46,0)) -> 0 | D39: =INDEX('List of Competitors'!Q$27:Q$46,MATCH($A39,'List of Competitors'!$M$27:$M$46,0)) -> 0 | E39: Average | F39: =AVERAGE(F40:F42) -> #DIV/0! | G39: =AVERAGE(G40:G42) -> #DIV/0! | H39: =AVERAGE(H40:H42) -> #DIV/0! | I39: =AVERAGE(I40:I42) -> #DIV/0! | J39: =AVERAGE(J40:J42) -> #DIV/0! | K39: =AVERAGE(K40:K42) -> #DIV/0! | L39: =AVERAGE(L40:L42) -> #DIV/0! | M39: =AVERAGE(M40:M42) -> #DIV/0! | N39: =SUM(N40:N42)/IF(N42=0,2,3) -> 0 | O39: =SUM(O40:O42)/IF($N42=0,2,3) -> 0 | P39: =SUM(P40:P42)/IF($N42=0,2,3) -> 0 | Q39: =SUM(Q40:Q42)/IF($N42=0,2,3) -> 0 | R39: =SUM(R40:R42)/IF($N42=0,2,3) -> 0 | S39: =SUM(S40:S42)/IF($N42=0,2,3) -> 0 | T39: =SUM(T40:T42)/IF($N42=0,2,3) -> 0 | U39: =SUM(U40:U42)/IF(N42=0,2,3) -> 0 | V39: =N39-U39 -> 0 | W39: =IF(V39>=150,"Si","No") -> No | X39: =IF(V39=0,0,IF(ISERROR(RANK(V39,V:V)),"",RANK(Y39,Y:Y))) -> 0 | Y39: =IFERROR(V39+F39/100000+J39/10000000+G39/1000000000,0) -> 0
E40: J1 | N40: =SUM(F40:M40) -> 0 | U40: =SUM(O40:T40) -> 0
E41: J2 | N41: =SUM(F41:M41) -> 0 | U41: =SUM(O41:T41) -> 0 | X41: =IF(ISERROR(RANK(#REF!,#REF!)),"",RANK(#REF!,#REF!))
...

Sheet HTM 1
B1: HTM 1 | E1: ='List of Competitors'!B2 -> NARNI(TR)
E2: ='List of Competitors'!C2 -> 18 Luglio 2026
A4: # | B4: Nome | C4: Cognome | D4: Cane | E4: Judge | F4: Team work | G4: Dinamicità | H4: Progetto | I4: Coreografia | J4: Fluidità | K4: Esecuzione | L4: Contenuto | M4: Difficoltà | N4: Punit | O4: Detrazioni di punti | W4: Totale | X4: punto di passaggio | Y4: Posizionamento | Z4: Korr Punkte Teamwork, Fluss
O5: Abbaio e vocalizzazioni | P5: Salute del cane | Q5: costume / Oggetti di scena | R5: Lunghezze musicali errate | S5: Trattamento improprio del cane | T5: Contatto attivo | U5: % HTM | V5: Totale
F6: max. 25 | G6: max. 25 | H6: max. 25 | I6: max. 25 | J6: max. 25 | K6: max. 25 | L6: max. 25 | M6: max. 25 | O6: max. 20 | P6: max. 20 | Q6: max. 20 | R6: 1 Punkt / sec | S6: max. 20 | T6: max. 20 | U6: [X]
A7: 1 | B7: =INDEX('List of Competitors'!I$5:I$24,MATCH($A7,'List of Competitors'!$G$5:$G$24,0)) -> CRISTINA | C7: =INDEX('List of Competitors'!J$5:J$24,MATCH($A7,'List of Competitors'!$G$5:$G$24,0)) -> VENTURI | D7: =INDEX('List of Competitors'!K$5:K$24,MATCH($A7,'List of Competitors'!$G$5:$G$24,0)) -> SLASH | E7: Average | F7: =AVERAGE(F8:F10) -> 17.5 | G7: =AVERAGE(G8:G10) -> 18.5 | H7: =AVERAGE(H8:H10) -> 21.5 | I7: =AVERAGE(I8:I10) -> 21.5 | J7: =AVERAGE(J8:J10) -> 17 | K7: =AVERAGE(K8:K10) -> 18.5 | L7: =AVERAGE(L8:L10) -> 21 | M7: =AVERAGE(M8:M10) -> 21 | N7: =SUM(N8:N10)/IF(N10=0,2,3) -> 156.5 | O7: =SUM(O8:O10)/IF($N10=0,2,3) -> 0.2 | P7: =SUM(P8:P10)/IF($N10=0,2,3) -> 0 | Q7: =SUM(Q8:Q10)/IF($N10=0,2,3) -> 0 | R7: =SUM(R8:R10)/IF($N10=0,2,3) -> 0 | S7: =SUM(S8:S10)/IF($N10=0,2,3) -> 0 | T7: =SUM(T8:T10)/IF($N10=0,2,3) -> 0 | V7: =SUM(V8:V10)/IF(N10=0,2,3) -> 0.2 | W7: =N7-V7 -> 156.3 | X7: =IF(W7>=150,"Si","No") -> Si | Y7: =IF(W7=0,0,IF(ISERROR(RANK(W7,W:W)),"",RANK(Z7,Z:Z))) -> 2 | Z7: =IFERROR(W7+F7/100000+J7/10000000+G7/1000000000,0) -> 156.30018
E8: J1 | F8: 18 | G8: 19 | H8: 21 | I8: 21 | J8: 18 | K8: 19 | L8: 22 | M8: 21 | N8: =SUM(F8:M8) -> 159 | O8: 0.2 | V8: =SUM(O8:T8) -> 0.2
E9: J2 | F9: 17 | G9: 18 | H9: 22 | I9: 22 | J9: 16 | K9: 18 | L9: 20 | M9: 21 | N9: =SUM(F9:M9) -> 154 | O9: 0.2 | V9: =SUM(O9:T9) -> 0.2 | Y9: =IF(ISERROR(RANK(#REF!,#REF!)),"",RANK(#REF!,#REF!))
E10: J3 | N10: =SUM(F10:M10) -> 0 | V10: =SUM(O10:T10) -> 0 | Y10: =IF(ISERROR(RANK(#REF!,#REF!)),"",RANK(#REF!,#REF!))
A11: 2 | B11: =INDEX('List of Competitors'!I$5:I$24,MATCH($A11,'List of Competitors'!$G$5:$G$24,0)) -> BARBARA | C11: =INDEX('List of Competitors'!J$5:J$24,MATCH($A11,'List of Competitors'!$G$5:$G$24,0)) -> GERMANI | D11: =INDEX('List of Competitors'!K$5:K$24,MATCH($A11,'List of Competitors'!$G$5:$G$24,0)) -> ZERO | E11: Average | F11: =AVERAGE(F12:F14) -> #DIV/0! | G11: =AVERAGE(G12:G14) -> #DIV/0! | H11: =AVERAGE(H12:H14) -> #DIV/0! | I11: =AVERAGE(I12:I14) -> #DIV/0! | J11: =AVERAGE(J12:J14) -> #DIV/0! | K11: =AVERAGE(K12:K14) -> #DIV/0! | L11: =AVERAGE(L12:L14) -> #DIV/0! | M11: =AVERAGE(M12:M14) -> #DIV/0! | N11: =SUM(N12:N14)/IF(N14=0,2,3) -> 0 | O11: =SUM(O12:O14)/IF($N14=0,2,3) -> 0 | P11: =SUM(P12:P14)/IF($N14=0,2,3) -> 0 | Q11: =SUM(Q12:Q14)/IF($N14=0,2,3) -> 0 | R11: =SUM(R12:R14)/IF($N14=0,2,3) -> 0 | S11: =SUM(S12:S14)/IF($N14=0,2,3) -> 0 | T11: =SUM(T12:T14)/IF($N14=0,2,3) -> 0 | V11: =SUM(V12:V14)/IF(N14=0,2,3) -> 0 | W11: =N11-V11 -> 0 | X11: =IF(W11>=150,"Si","No") -> No | Y11: =IF(W11=0,0,IF(ISERROR(RANK(W11,W:W)),"",RANK(Z11,Z:Z))) -> 0 | Z11: =IFERROR(W11+F11/100000+J11/10000000+G11/1000000000,0) -> 0
E12: J1 | N12: =SUM(F12:M12) -> 0 | V12: =SUM(O12:T12) -> 0
E13: J2 | N13: =SUM(F13:M13) -> 0 | V13: =SUM(O13:T13) -> 0 | Y13: =IF(ISERROR(RANK(#REF!,#REF!)),"",RANK(#REF!,#REF!))
E14: J3 | N14: =SUM(F14:M14) -> 0 | V14: =SUM(O14:T14) -> 0 | Y14: =IF(ISERROR(RANK(#REF!,#REF!)),"",RANK(#REF!,#REF!))
A15: 3 | B15: =INDEX('List of Competitors'!I$5:I$24,MATCH($A15,'List of Competitors'!$G$5:$G$24,0)) -> RACHELE | C15: =INDEX('List of Competitors'!J$5:J$24,MATCH($A15,'List of Competitors'!$G$5:$G$24,0)) -> TULLI | D15: =INDEX('List of Competitors'!K$5:K$24,MATCH($A15,'List of Competitors'!$G$5:$G$24,0)) -> MELODY | E15: Average | F15: =AVERAGE(F16:F18) -> 22.5 | G15: =AVERAGE(G16:G18) -> 22 | H15: =AVERAGE(H16:H18) -> 21.5 | I15: =AVERAGE(I16:I18) -> 22 | J15: =AVERAGE(J16:J18) -> 20 | K15: =AVERAGE(K16:K18) -> 20.5 | L15: =AVERAGE(L16:L18) -> 20.5 | M15: =AVERAGE(M16:M18) -> 20.5 | N15: =SUM(N16:N18)/IF(N18=0,2,3) -> 169.5 | O15: =SUM(O16:O18)/IF($N18=0,2,3) -> 0 | P15: =SUM(P16:P18)/IF($N18=0,2,3) -> 0 | Q15: =SUM(Q16:Q18)/IF($N18=0,2,3) -> 0 | R15: =SUM(R16:R18)/IF($N18=0,2,3) -> 0 | S15: =SUM(S16:S18)/IF($N18=0,2,3) -> 0 | T15: =SUM(T16:T18)/IF($N18=0,2,3) -> 0 | V15: =SUM(V16:V18)/IF(N18=0,2,3) -> 0 | W15: =N15-V15 -> 169.5 | X15: =IF(W15>=150,"Si","No") -> Si | Y15: =IF(W15=0,0,IF(ISERROR(RANK(W15,W:W)),"",RANK(Z15,Z:Z))) -> 1 | Z15: =IFERROR(W15+F15/100000+J15/10000000+G15/1000000000,0) -> 169.50023
E16: J1 | F16: 22 | G16: 22 | H16: 21 | I16: 21 | J16: 19 | K16: 20 | L16: 21 | M16: 21 | N16: =SUM(F16:M16) -> 167 | V16: =SUM(O16:T16) -> 0
E17: J2 | F17: 23 | G17: 22 | H17: 22 | I17: 23 | J17: 21 | K17: 21 | L17: 20 | M17: 20 | N17: =SUM(F17:M17) -> 172 | V17: =SUM(O17:T17) -> 0 | Y17: =IF(ISERROR(RANK(#REF!,#REF!)),"",RANK(#REF!,#REF!))
E18: J3 | N18: =SUM(F18:M18) -> 0 | V18: =SUM(O18:T18) -> 0 | Y18: =IF(ISERROR(RANK(#REF!,#REF!)),"",RANK(#REF!,#REF!))
A19: 4 | B19: =INDEX('List of Competitors'!I$5:I$24,MATCH($A19,'List of Competitors'!$G$5:$G$24,0)) -> 0 | C19: =INDEX('List of Competitors'!J$5:J$24,MATCH($A19,'List of Competitors'!$G$5:$G$24,0)) -> 0 | D19: =INDEX('List of Competitors'!K$5:K$24,MATCH($A19,'List of Competitors'!$G$5:$G$24,0)) -> 0 | E19: Average | F19: =AVERAGE(F20:F22) -> #DIV/0! | G19: =AVERAGE(G20:G22) -> #DIV/0! | H19: =AVERAGE(H20:H22) -> #DIV/0! | I19: =AVERAGE(I20:I22) -> #DIV/0! | J19: =AVERAGE(J20:J22) -> #DIV/0! | K19: =AVERAGE(K20:K22) -> #DIV/0! | L19: =AVERAGE(L20:L22) -> #DIV/0! | M19: =AVERAGE(M20:M22) -> #DIV/0! | N19: =SUM(N20:N22)/IF(N22=0,2,3) -> 0 | O19: =SUM(O20:O22)/IF($N22=0,2,3) -> 0 | P19: =SUM(P20:P22)/IF($N22=0,2,3) -> 0 | Q19: =SUM(Q20:Q22)/IF($N22=0,2,3) -> 0 | R19: =SUM(R20:R22)/IF($N22=0,2,3) -> 0 | S19: =SUM(S20:S22)/IF($N22=0,2,3) -> 0 | T19: =SUM(T20:T22)/IF($N22=0,2,3) -> 0 | V19: =SUM(V20:V22)/IF(N22=0,2,3) -> 0 | W19: =N19-V19 -> 0 | X19: =IF(W19>=150,"Si","No") -> No | Y19: =IF(W19=0,0,IF(ISERROR(RANK(W19,W:W)),"",RANK(Z19,Z:Z))) -> 0 | Z19: =IFERROR(W19+F19/100000+J19/10000000+G19/1000000000,0) -> 0
E20: J1 | N20: =SUM(F20:M20) -> 0 | V20: =SUM(O20:T20) -> 0
E21: J2 | N21: =SUM(F21:M21) -> 0 | V21: =SUM(O21:T21) -> 0 | Y21: =IF(ISERROR(RANK(#REF!,#REF!)),"",RANK(#REF!,#REF!))
E22: J3 | N22: =SUM(F22:M22) -> 0 | V22: =SUM(O22:T22) -> 0 | Y22: =IF(ISERROR(RANK(#REF!,#REF!)),"",RANK(#REF!,#REF!))
A23: 5 | B23: =INDEX('List of Competitors'!I$5:I$24,MATCH($A23,'List of Competitors'!$G$5:$G$24,0)) -> 0 | C23: =INDEX('List of Competitors'!J$5:J$24,MATCH($A23,'List of Competitors'!$G$5:$G$24,0)) -> 0 | D23: =INDEX('List of Competitors'!K$5:K$24,MATCH($A23,'List of Competitors'!$G$5:$G$24,0)) -> 0 | E23: Average | F23: =AVERAGE(F24:F26) -> #DIV/0! | G23: =AVERAGE(G24:G26) -> #DIV/0! | H23: =AVERAGE(H24:H26) -> #DIV/0! | I23: =AVERAGE(I24:I26) -> #DIV/0! | J23: =AVERAGE(J24:J26) -> #DIV/0! | K23: =AVERAGE(K24:K26) -> #DIV/0! | L23: =AVERAGE(L24:L26) -> #DIV/0! | M23: =AVERAGE(M24:M26) -> #DIV/0! | N23: =SUM(N24:N26)/IF(N26=0,2,3) -> 0 | O23: =SUM(O24:O26)/IF($N26=0,2,3) -> 0 | P23: =SUM(P24:P26)/IF($N26=0,2,3) -> 0 | Q23: =SUM(Q24:Q26)/IF($N26=0,2,3) -> 0 | R23: =SUM(R24:R26)/IF($N26=0,2,3) -> 0 | S23: =SUM(S24:S26)/IF($N26=0,2,3) -> 0 | T23: =SUM(T24:T26)/IF($N26=0,2,3) -> 0 | V23: =SUM(V24:V26)/IF(N26=0,2,3) -> 0 | W23: =N23-V23 -> 0 | X23: =IF(W23>=150,"Si","No") -> No | Y23: =IF(W23=0,0,IF(ISERROR(RANK(W23,W:W)),"",RANK(Z23,Z:Z))) -> 0 | Z23: =IFERROR(W23+F23/100000+J23/10000000+G23/1000000000,0) -> 0
E24: J1 | N24: =SUM(F24:M24) -> 0 | V24: =SUM(O24:T24) -> 0
E25: J2 | N25: =SUM(F25:M25) -> 0 | V25: =SUM(O25:T25) -> 0 | Y25: =IF(ISERROR(RANK(#REF!,#REF!)),"",RANK(#REF!,#REF!))
E26: J3 | N26: =SUM(F26:M26) -> 0 | V26: =SUM(O26:T26) -> 0 | Y26: =IF(ISERROR(RANK(#REF!,#REF!)),"",RANK(#REF!,#REF!))
A27: 6 | B27: =INDEX('List of Competitors'!I$5:I$24,MATCH($A27,'List of Competitors'!$G$5:$G$24,0)) -> 0 | C27: =INDEX('List of Competitors'!J$5:J$24,MATCH($A27,'List of Competitors'!$G$5:$G$24,0)) -> 0 | D27: =INDEX('List of Competitors'!K$5:K$24,MATCH($A27,'List of Competitors'!$G$5:$G$24,0)) -> 0 | E27: Average | F27: =AVERAGE(F28:F30) -> #DIV/0! | G27: =AVERAGE(G28:G30) -> #DIV/0! | H27: =AVERAGE(H28:H30) -> #DIV/0! | I27: =AVERAGE(I28:I30) -> #DIV/0! | J27: =AVERAGE(J28:J30) -> #DIV/0! | K27: =AVERAGE(K28:K30) -> #DIV/0! | L27: =AVERAGE(L28:L30) -> #DIV/0! | M27: =AVERAGE(M28:M30) -> #DIV/0! | N27: =SUM(N28:N30)/IF(N30=0,2,3) -> 0 | O27: =SUM(O28:O30)/IF($N30=0,2,3) -> 0 | P27: =SUM(P28:P30)/IF($N30=0,2,3) -> 0 | Q27: =SUM(Q28:Q30)/IF($N30=0,2,3) -> 0 | R27: =SUM(R28:R30)/IF($N30=0,2,3) -> 0 | S27: =SUM(S28:S30)/IF($N30=0,2,3) -> 0 | T27: =SUM(T28:T30)/IF($N30=0,2,3) -> 0 | V27: =SUM(V28:V30)/IF(N30=0,2,3) -> 0 | W27: =N27-V27 -> 0 | X27: =IF(W27>=150,"Si","No") -> No | Y27: =IF(W27=0,0,IF(ISERROR(RANK(W27,W:W)),"",RANK(Z27,Z:Z))) -> 0 | Z27: =IFERROR(W27+F27/100000+J27/10000000+G27/1000000000,0) -> 0
E28: J1 | N28: =SUM(F28:M28) -> 0 | V28: =SUM(O28:T28) -> 0
E29: J2 | N29: =SUM(F29:M29) -> 0 | V29: =SUM(O29:T29) -> 0 | Y29: =IF(ISERROR(RANK(#REF!,#REF!)),"",RANK(#REF!,#REF!))
E30: J3 | N30: =SUM(F30:M30) -> 0 | V30: =SUM(O30:T30) -> 0 | Y30: =IF(ISERROR(RANK(#REF!,#REF!)),"",RANK(#REF!,#REF!))
A31: 7 | B31: =INDEX('List of Competitors'!I$5:I$24,MATCH($A31,'List of Competitors'!$G$5:$G$24,0)) -> 0 | C31: =INDEX('List of Competitors'!J$5:J$24,MATCH($A31,'List of Competitors'!$G$5:$G$24,0)) -> 0 | D31: =INDEX('List of Competitors'!K$5:K$24,MATCH($A31,'List of Competitors'!$G$5:$G$24,0)) -> 0 | E31: Average | F31: =AVERAGE(F32:F34) -> #DIV/0! | G31: =AVERAGE(G32:G34) -> #DIV/0! | H31: =AVERAGE(H32:H34) -> #DIV/0! | I31: =AVERAGE(I32:I34) -> #DIV/0! | J31: =AVERAGE(J32:J34) -> #DIV/0! | K31: =AVERAGE(K32:K34) -> #DIV/0! | L31: =AVERAGE(L32:L34) -> #DIV/0! | M31: =AVERAGE(M32:M34) -> #DIV/0! | N31: =SUM(N32:N34)/IF(N34=0,2,3) -> 0 | O31: =SUM(O32:O34)/IF($N34=0,2,3) -> 0 | P31: =SUM(P32:P34)/IF($N34=0,2,3) -> 0 | Q31: =SUM(Q32:Q34)/IF($N34=0,2,3) -> 0 | R31: =SUM(R32:R34)/IF($N34=0,2,3) -> 0 | S31: =SUM(S32:S34)/IF($N34=0,2,3) -> 0 | T31: =SUM(T32:T34)/IF($N34=0,2,3) -> 0 | V31: =SUM(V32:V34)/IF(N34=0,2,3) -> 0 | W31: =N31-V31 -> 0 | X31: =IF(W31>=150,"Si","No") -> No | Y31: =IF(W31=0,0,IF(ISERROR(RANK(W31,W:W)),"",RANK(Z31,Z:Z))) -> 0 | Z31: =IFERROR(W31+F31/100000+J31/10000000+G31/1000000000,0) -> 0
